{"text_format":"1","workbook":"xlsx","n_sheets":24,"sheets":["Simpli_PreAngulo_Rge","Simpli_PreAngulo_Paulista","PreAngulo_Rge","PreAngulo_Paulista","Plan3","Geral","Neutro","Secundaria","Primaria","Pre_Geral","PreAngulo_Geral","Calculo_Esforco_Poste_Geral","Completo_Esforço_CPFL_Paulista","Simplif_Esforço_CPPL_Paulista","Completo_Esforço_CPFL_Rge","Simplif_Esforço_CPFL_RGE","WEB Cálculos Normas Técnicas ","Simpli_Pre_Pta_Pir_Sta_Jag","Pre_Pta_Pir_Sta_Jag","Simpli_Pre_Rge","Pre_Rge","Folha2","Folha3","Folha4"],"not_rendered":{"charts":5,"images":0,"macros":1,"external_links":1,"defined_names":9,"comments":0,"pivot_tables":0},"unopened":[],"bounds":{"document_bytes":16777216,"sheet_cells":100000,"rows_first":2000,"rows_last":500,"rows_between":2000,"halvings":0,"cell_chars":16384,"cell_head_chars":4096},"cells_cut":0,"cells_raw":0,"read":"whole","date_system":"1900"}

{"sheet":"Simpli_PreAngulo_Rge","index":0,"n_rows":11,"n_cols":4,"rows_kept":11,"cut":false,"hidden":true,"merged":[]}
[{"$f":"Simpli_Pre_Rge!Y41","v":-696.17834317378049},null,{"$f":"A1*A1","v":484664.28550419008}]
[{"$f":"Simpli_Pre_Rge!AA41","v":736.16760188139278},null,{"$f":"A2*A2","v":541942.73805980082}]
[{"$f":"Simpli_Pre_Rge!Z41","v":239.32917196950882},null,{"$f":"A3*A3","v":57278.452555610726}]
[]
[null,null,{"$f":"C1+C2-C3","v":969328.57100838015}]
[null,null,{"$f":"(2*A1*A2)","v":-1025007.8827520065}]
[null,null,{"$f":"C5/C6","v":-0.94567913800415371}]
[null,null,{"$f":"-(C7)","v":0.94567913800415371}]
[null,null,{"$f":"COSH(C7)*360/PI()","v":169.7660746507149}]
[null,null,{"$f":"ACOS(C7)*180/PI()","v":161.02827717036851},{"$f":"360+C11","v":198.97172282963149}]
[null,null,{"$f":"ACOS(C7)*-180/PI()","v":-161.02827717036851},{"$f":"180-C11","v":341.02827717036848}]

{"sheet":"Simpli_PreAngulo_Paulista","index":1,"n_rows":11,"n_cols":4,"rows_kept":11,"cut":false,"hidden":true,"merged":[]}
[{"$f":"Simpli_Pre_Pta_Pir_Sta_Jag!Y41","v":-723.02557521885933},null,{"$f":"A1*A1","v":522765.98242056242}]
[{"$f":"Simpli_Pre_Pta_Pir_Sta_Jag!AA41","v":771.69704525907878},null,{"$f":"A2*A2","v":595516.32966159272}]
[{"$f":"Simpli_Pre_Pta_Pir_Sta_Jag!Z41","v":269.7227228859856},null,{"$f":"A3*A3","v":72750.347241030177}]
[]
[null,null,{"$f":"C1+C2-C3","v":1045531.964841125}]
[null,null,{"$f":"(2*A1*A2)","v":-1115913.400086279}]
[null,null,{"$f":"C5/C6","v":-0.93692930361826254}]
[null,null,{"$f":"-(C7)","v":0.93692930361826254}]
[null,null,{"$f":"COSH(C7)*360/PI()","v":168.67658205897618}]
[null,null,{"$f":"ACOS(C7)*180/PI()","v":159.54210665632507},{"$f":"360+C11","v":200.45789334367493}]
[null,null,{"$f":"ACOS(C7)*-180/PI()","v":-159.54210665632507},{"$f":"180-C11","v":339.54210665632507}]

{"sheet":"PreAngulo_Rge","index":2,"n_rows":11,"n_cols":4,"rows_kept":11,"cut":false,"hidden":true,"merged":[]}
[{"$f":"Pre_Rge!Y41","v":-696.17834317378049},null,{"$f":"A1*A1","v":484664.28550419008}]
[{"$f":"Pre_Rge!AA41","v":736.16760188139278},null,{"$f":"A2*A2","v":541942.73805980082}]
[{"$f":"Pre_Rge!Z41","v":239.32917196950882},null,{"$f":"A3*A3","v":57278.452555610726}]
[]
[null,null,{"$f":"C1+C2-C3","v":969328.57100838015}]
[null,null,{"$f":"(2*A1*A2)","v":-1025007.8827520065}]
[null,null,{"$f":"C5/C6","v":-0.94567913800415371}]
[null,null,{"$f":"-(C7)","v":0.94567913800415371}]
[null,null,{"$f":"COSH(C7)*360/PI()","v":169.7660746507149}]
[null,null,{"$f":"ACOS(C7)*180/PI()","v":161.02827717036851},{"$f":"360+C11","v":198.97172282963149}]
[null,null,{"$f":"ACOS(C7)*-180/PI()","v":-161.02827717036851},{"$f":"180-C11","v":341.02827717036848}]

{"sheet":"PreAngulo_Paulista","index":3,"n_rows":11,"n_cols":4,"rows_kept":11,"cut":false,"hidden":true,"merged":[]}
[{"$f":"Pre_Pta_Pir_Sta_Jag!Y41","v":-723.02557521885933},null,{"$f":"A1*A1","v":522765.98242056242}]
[{"$f":"Pre_Pta_Pir_Sta_Jag!AA41","v":771.69704525907878},null,{"$f":"A2*A2","v":595516.32966159272}]
[{"$f":"Pre_Pta_Pir_Sta_Jag!Z41","v":269.7227228859856},null,{"$f":"A3*A3","v":72750.347241030177}]
[]
[null,null,{"$f":"C1+C2-C3","v":1045531.964841125}]
[null,null,{"$f":"(2*A1*A2)","v":-1115913.400086279}]
[null,null,{"$f":"C5/C6","v":-0.93692930361826254}]
[null,null,{"$f":"-(C7)","v":0.93692930361826254}]
[null,null,{"$f":"COSH(C7)*360/PI()","v":168.67658205897618}]
[null,null,{"$f":"ACOS(C7)*180/PI()","v":159.54210665632507},{"$f":"360+C11","v":200.45789334367493}]
[null,null,{"$f":"ACOS(C7)*-180/PI()","v":-159.54210665632507},{"$f":"180-C11","v":339.54210665632507}]

{"sheet":"Plan3","index":4,"n_rows":44,"n_cols":8,"rows_kept":44,"cut":false,"hidden":true,"merged":[]}
[{"$f":"Completo_Esforço_CPFL_Paulista!D28","v":12},null,{"$f":"A1*A1","v":144},3790,3790,{"$f":"D1*D1","v":14364100}]
[{"$f":"Completo_Esforço_CPFL_Paulista!D29","v":15},null,{"$f":"A2*A2","v":225},3790,3790,{"$f":"D2*D2","v":14364100}]
[{"$f":"Completo_Esforço_CPFL_Paulista!D30","v":10},null,{"$f":"A3*A3","v":100},924,924,{"$f":"D3*D3","v":853776}]
[]
[null,null,{"$f":"C1+C2-C3","v":269},null,null,{"$f":"F1+F2-F3","v":27874424}]
[null,null,{"$f":"(2*A1*A2)","v":360},null,null,{"$f":"(2*D1*D2)","v":28728200}]
[null,null,{"$f":"C5/C6","v":0.74722222222222223},null,null,{"$f":"F5/F6","v":0.97028090865421435}]
[null,null,{"$f":"-(C7)","v":-0.74722222222222223},null,null,{"$f":"-(F7)","v":-0.97028090865421435}]
[null,null,{"$f":"COSH(C7)*360/PI()","v":148.09859653031828},null,null,{"$f":"ACOS(F7)","v":0.24440733736794829}]
[null,null,{"$f":"ACOS(C7)*180/PI()","v":41.649672273866805},null,null,{"$f":"ACOS(F7)*180/PI()","v":14.003508913213491}]
[null,null,{"$f":"ACOS(C7)*-180/PI()","v":-41.649672273866805},null,null,{"$f":"ACOS(F7)*-180/PI()","v":-14.003508913213491}]
[null,null,{"$f":"RADIANS(C5)","v":4.6949356878647466},null,null,{"$f":"RADIANS(F5)","v":486500.47589692788}]
[null,null,{"$f":"RADIANS(C6)","v":6.2831853071795862},null,null,{"$f":"RADIANS(F6)","v":501401.67817143496}]
[null,null,{"$f":"RADIANS(C7)","v":1.3041488021846518E-2},null,null,{"$f":"RADIANS(F7)","v":1.6934596525258382E-2}]
[]
[]
[]
[]
[]
[null,null,null,"Coord. X",{"$f":"Completo_Esforço_CPFL_Paulista!C35","v":29829000},null,"Coord. Y",{"$f":"Completo_Esforço_CPFL_Paulista!D35","v":745407001}]
[null,null,null,"Coord. X",{"$f":"Completo_Esforço_CPFL_Paulista!C36","v":29229000},null,"Coord. Y",{"$f":"Completo_Esforço_CPFL_Paulista!D36","v":745406001}]
[null,null,null,"Resultante X",{"$f":"E20-E21","v":600000},null,"Resultante Y",{"$f":"H20-H21","v":1000}]
[null,null,null,null,{"$f":"E22*E22","v":360000000000},null,null,{"$f":"H22*H22","v":1000000}]
[null,null,null,null,null,{"$f":"E23+H23","v":360001000000}]
[]
[null,null,null,"Distância",{"$f":"SQRT(F24)","v":600000.83333275467}]
[]
[null,null,null,null,{"$f":"ATAN(E22/H22)","v":1.5691296616714372}]
[null,null,null,"Ângulo",{"$f":"DEGREES(E28)","v":89.904507122564127}]
[]
[]
[]
[]
[]
[null,null,null,"Coord. X",{"$f":"Completo_Esforço_CPFL_Paulista!C42","v":29229000},null,"Coord. Y",{"$f":"Completo_Esforço_CPFL_Paulista!D42","v":745406001}]
[null,null,null,"Coord. X",{"$f":"Completo_Esforço_CPFL_Paulista!C43","v":29279000},null,"Coord. Y",{"$f":"Completo_Esforço_CPFL_Paulista!D43","v":748406001}]
[null,null,null,"Resultante X",{"$f":"E35-E36","v":-50000},null,"Resultante Y",{"$f":"H35-H36","v":-3000000}]
[null,null,null,null,{"$f":"E37*E37","v":2500000000},null,null,{"$f":"H37*H37","v":9000000000000}]
[null,null,null,null,null,{"$f":"E38+H38","v":9002500000000}]
[]
[null,null,null,"Distância",{"$f":"SQRT(F39)","v":3000416.6377354995}]
[]
[null,null,null,null,{"$f":"ATAN(E37/H37)","v":1.6665123713940747E-2}]
[null,null,null,"Ângulo",{"$f":"DEGREES(E43)","v":0.95484125387218866}]

{"sheet":"Geral","index":5,"n_rows":500,"n_cols":6,"rows_kept":500,"cut":false,"hidden":true,"merged":[]}
[{"$f":"IF( [1]GeralMinuta!A1 <>\"\", [1]GeralMinuta!A1,\"\")","v":""},{"$f":"IF(Completo_Esforço_CPFL_Paulista!$L$31=1,IF( [1]GeralMinuta!B1 <>\"\", [1]GeralMinuta!B1,0),0)","v":0},null,null,null,{"$f":" [1]NeutroMinutaCpfl!A1","v":""}]
[{"$f":"IF( [1]GeralMinuta!A2 <>\"\", [1]GeralMinuta!A2,\"\")","v":"3 E 70 mm² Vão 35m "},{"$f":"IF(Completo_Esforço_CPFL_Paulista!$L$31=1,IF( [1]GeralMinuta!B2 <>\"\", [1]GeralMinuta!B2,0),0)","v":373}]
[{"$f":"IF( [1]GeralMinuta!A3 <>\"\", [1]GeralMinuta!A3,\"\")","v":"3 E 185 mm² Vão 35m "},{"$f":"IF(Completo_Esforço_CPFL_Paulista!$L$31=1,IF( [1]GeralMinuta!B3 <>\"\", [1]GeralMinuta!B3,0),0)","v":648}]
[{"$f":"IF( [1]GeralMinuta!A4 <>\"\", [1]GeralMinuta!A4,\"\")","v":""},{"$f":"IF(Completo_Esforço_CPFL_Paulista!$L$31=1,IF( [1]GeralMinuta!B4 <>\"\", [1]GeralMinuta!B4,0),0)","v":0}]
[{"$f":"IF( [1]GeralMinuta!A5 <>\"\", [1]GeralMinuta!A5,\"\")","v":"3 E 70 mm² Vão 35m RGE"},{"$f":"IF(Completo_Esforço_CPFL_Paulista!$L$31=1,IF( [1]GeralMinuta!B5 <>\"\", [1]GeralMinuta!B5,0),0)","v":373}]
[{"$f":"IF( [1]GeralMinuta!A6 <>\"\", [1]GeralMinuta!A6,\"\")","v":"3 E 185 mm² Vão 35m RGE"},{"$f":"IF(Completo_Esforço_CPFL_Paulista!$L$31=1,IF( [1]GeralMinuta!B6 <>\"\", [1]GeralMinuta!B6,0),0)","v":632}]
[{"$f":"IF( [1]GeralMinuta!A7 <>\"\", [1]GeralMinuta!A7,\"\")","v":""},{"$f":"IF(Completo_Esforço_CPFL_Paulista!$L$31=1,IF( [1]GeralMinuta!B7 <>\"\", [1]GeralMinuta!B7,0),0)","v":0}]
[{"$f":"IF( [1]GeralMinuta!A8 <>\"\", [1]GeralMinuta!A8,\"\")","v":"3 E 70 mm² Vão 80m "},{"$f":"IF(Completo_Esforço_CPFL_Paulista!$L$31=1,IF( [1]GeralMinuta!B8 <>\"\", [1]GeralMinuta!B8,0),0)","v":549}]
[{"$f":"IF( [1]GeralMinuta!A9 <>\"\", [1]GeralMinuta!A9,\"\")","v":"3 E 185 mm² Vão 80m "},{"$f":"IF(Completo_Esforço_CPFL_Paulista!$L$31=1,IF( [1]GeralMinuta!B9 <>\"\", [1]GeralMinuta!B9,0),0)","v":837}]
[{"$f":"IF( [1]GeralMinuta!A10 <>\"\", [1]GeralMinuta!A10,\"\")","v":""},{"$f":"IF(Completo_Esforço_CPFL_Paulista!$L$31=1,IF( [1]GeralMinuta!B10 <>\"\", [1]GeralMinuta!B10,0),0)","v":0}]
[{"$f":"IF( [1]GeralMinuta!A11 <>\"\", [1]GeralMinuta!A11,\"\")","v":"3 E 70 mm² Vão 80m RGE"},{"$f":"IF(Completo_Esforço_CPFL_Paulista!$L$31=1,IF( [1]GeralMinuta!B11 <>\"\", [1]GeralMinuta!B11,0),0)","v":549}]
[{"$f":"IF( [1]GeralMinuta!A12 <>\"\", [1]GeralMinuta!A12,\"\")","v":"3 E 185 mm² Vão 80m RGE"},{"$f":"IF(Completo_Esforço_CPFL_Paulista!$L$31=1,IF( [1]GeralMinuta!B12 <>\"\", [1]GeralMinuta!B12,0),0)","v":837}]
[{"$f":"IF( [1]GeralMinuta!A13 <>\"\", [1]GeralMinuta!A13,\"\")","v":""},{"$f":"IF(Completo_Esforço_CPFL_Paulista!$L$31=1,IF( [1]GeralMinuta!B13 <>\"\", [1]GeralMinuta!B13,0),0)","v":0}]
[{"$f":"IF( [1]GeralMinuta!A14 <>\"\", [1]GeralMinuta!A14,\"\")","v":"3 P 16 mm² Vão 35m "},{"$f":"IF(Completo_Esforço_CPFL_Paulista!$L$31=1,IF( [1]GeralMinuta!B14 <>\"\", [1]GeralMinuta!B14,0),0)","v":70}]
[{"$f":"IF( [1]GeralMinuta!A15 <>\"\", [1]GeralMinuta!A15,\"\")","v":"3 P 25 mm² Vão 35m "},{"$f":"IF(Completo_Esforço_CPFL_Paulista!$L$31=1,IF( [1]GeralMinuta!B15 <>\"\", [1]GeralMinuta!B15,0),0)","v":96}]
[{"$f":"IF( [1]GeralMinuta!A16 <>\"\", [1]GeralMinuta!A16,\"\")","v":"3 P 35 mm² Vão 35m "},{"$f":"IF(Completo_Esforço_CPFL_Paulista!$L$31=1,IF( [1]GeralMinuta!B16 <>\"\", [1]GeralMinuta!B16,0),0)","v":126}]
[{"$f":"IF( [1]GeralMinuta!A17 <>\"\", [1]GeralMinuta!A17,\"\")","v":"3 P 50 mm² Vão 35m "},{"$f":"IF(Completo_Esforço_CPFL_Paulista!$L$31=1,IF( [1]GeralMinuta!B17 <>\"\", [1]GeralMinuta!B17,0),0)","v":156}]
[{"$f":"IF( [1]GeralMinuta!A18 <>\"\", [1]GeralMinuta!A18,\"\")","v":"3 P 70 mm² Vão 35m "},{"$f":"IF(Completo_Esforço_CPFL_Paulista!$L$31=1,IF( [1]GeralMinuta!B18 <>\"\", [1]GeralMinuta!B18,0),0)","v":216}]
[{"$f":"IF( [1]GeralMinuta!A19 <>\"\", [1]GeralMinuta!A19,\"\")","v":"3 P 120 mm² Vão 35m "},{"$f":"IF(Completo_Esforço_CPFL_Paulista!$L$31=1,IF( [1]GeralMinuta!B19 <>\"\", [1]GeralMinuta!B19,0),0)","v":336}]
[{"$f":"IF( [1]GeralMinuta!A20 <>\"\", [1]GeralMinuta!A20,\"\")","v":""},{"$f":"IF(Completo_Esforço_CPFL_Paulista!$L$31=1,IF( [1]GeralMinuta!B20 <>\"\", [1]GeralMinuta!B20,0),0)","v":0}]
[{"$f":"IF( [1]GeralMinuta!A21 <>\"\", [1]GeralMinuta!A21,\"\")","v":"3 P 16 mm² Vão 35m RGE"},{"$f":"IF(Completo_Esforço_CPFL_Paulista!$L$31=1,IF( [1]GeralMinuta!B21 <>\"\", [1]GeralMinuta!B21,0),0)","v":70}]
[{"$f":"IF( [1]GeralMinuta!A22 <>\"\", [1]GeralMinuta!A22,\"\")","v":"3 P 25 mm² Vão 35m RGE"},{"$f":"IF(Completo_Esforço_CPFL_Paulista!$L$31=1,IF( [1]GeralMinuta!B22 <>\"\", [1]GeralMinuta!B22,0),0)","v":96}]
[{"$f":"IF( [1]GeralMinuta!A23 <>\"\", [1]GeralMinuta!A23,\"\")","v":"3 P 35 mm² Vão 35m RGE"},{"$f":"IF(Completo_Esforço_CPFL_Paulista!$L$31=1,IF( [1]GeralMinuta!B23 <>\"\", [1]GeralMinuta!B23,0),0)","v":126}]
[{"$f":"IF( [1]GeralMinuta!A24 <>\"\", [1]GeralMinuta!A24,\"\")","v":"3 P 50 mm² Vão 35m RGE"},{"$f":"IF(Completo_Esforço_CPFL_Paulista!$L$31=1,IF( [1]GeralMinuta!B24 <>\"\", [1]GeralMinuta!B24,0),0)","v":162}]
[{"$f":"IF( [1]GeralMinuta!A25 <>\"\", [1]GeralMinuta!A25,\"\")","v":"3 P 70 mm² Vão 35m RGE"},{"$f":"IF(Completo_Esforço_CPFL_Paulista!$L$31=1,IF( [1]GeralMinuta!B25 <>\"\", [1]GeralMinuta!B25,0),0)","v":226}]
[{"$f":"IF( [1]GeralMinuta!A26 <>\"\", [1]GeralMinuta!A26,\"\")","v":"3 P 120 mm² Vão 35m RGE"},{"$f":"IF(Completo_Esforço_CPFL_Paulista!$L$31=1,IF( [1]GeralMinuta!B26 <>\"\", [1]GeralMinuta!B26,0),0)","v":352}]
[{"$f":"IF( [1]GeralMinuta!A27 <>\"\", [1]GeralMinuta!A27,\"\")","v":""},{"$f":"IF(Completo_Esforço_CPFL_Paulista!$L$31=1,IF( [1]GeralMinuta!B27 <>\"\", [1]GeralMinuta!B27,0),0)","v":0}]
[{"$f":"IF( [1]GeralMinuta!A28 <>\"\", [1]GeralMinuta!A28,\"\")","v":"3 CA 02 AWG Vão 35m "},{"$f":"IF(Completo_Esforço_CPFL_Paulista!$L$31=1,IF( [1]GeralMinuta!B28 <>\"\", [1]GeralMinuta!B28,0),0)","v":180}]
[{"$f":"IF( [1]GeralMinuta!A29 <>\"\", [1]GeralMinuta!A29,\"\")","v":"3 CA 1/0 AWG Vão 35m "},{"$f":"IF(Completo_Esforço_CPFL_Paulista!$L$31=1,IF( [1]GeralMinuta!B29 <>\"\", [1]GeralMinuta!B29,0),0)","v":288}]
[{"$f":"IF( [1]GeralMinuta!A30 <>\"\", [1]GeralMinuta!A30,\"\")","v":"3 CA 2/0 AWG Vão 35m "},{"$f":"IF(Completo_Esforço_CPFL_Paulista!$L$31=1,IF( [1]GeralMinuta!B30 <>\"\", [1]GeralMinuta!B30,0),0)","v":363}]
[{"$f":"IF( [1]GeralMinuta!A31 <>\"\", [1]GeralMinuta!A31,\"\")","v":"3 CA 4/0 AWG Vão 35m "},{"$f":"IF(Completo_Esforço_CPFL_Paulista!$L$31=1,IF( [1]GeralMinuta!B31 <>\"\", [1]GeralMinuta!B31,0),0)","v":582}]
[{"$f":"IF( [1]GeralMinuta!A32 <>\"\", [1]GeralMinuta!A32,\"\")","v":"3 CA 336,4 MCM Vão 35m "},{"$f":"IF(Completo_Esforço_CPFL_Paulista!$L$31=1,IF( [1]GeralMinuta!B32 <>\"\", [1]GeralMinuta!B32,0),0)","v":924}]
[{"$f":"IF( [1]GeralMinuta!A33 <>\"\", [1]GeralMinuta!A33,\"\")","v":"3 CA 477 MCM Vão 35m "},{"$f":"IF(Completo_Esforço_CPFL_Paulista!$L$31=1,IF( [1]GeralMinuta!B33 <>\"\", [1]GeralMinuta!B33,0),0)","v":1305}]
[{"$f":"IF( [1]GeralMinuta!A34 <>\"\", [1]GeralMinuta!A34,\"\")","v":""},{"$f":"IF(Completo_Esforço_CPFL_Paulista!$L$31=1,IF( [1]GeralMinuta!B34 <>\"\", [1]GeralMinuta!B34,0),0)","v":0}]
[{"$f":"IF( [1]GeralMinuta!A35 <>\"\", [1]GeralMinuta!A35,\"\")","v":"3 CA 02 AWG Vão 35m RGE"},{"$f":"IF(Completo_Esforço_CPFL_Paulista!$L$31=1,IF( [1]GeralMinuta!B35 <>\"\", [1]GeralMinuta!B35,0),0)","v":225}]
[{"$f":"IF( [1]GeralMinuta!A36 <>\"\", [1]GeralMinuta!A36,\"\")","v":"3 CA 1/0 AWG Vão 35m RGE"},{"$f":"IF(Completo_Esforço_CPFL_Paulista!$L$31=1,IF( [1]GeralMinuta!B36 <>\"\", [1]GeralMinuta!B36,0),0)","v":2319}]
[{"$f":"IF( [1]GeralMinuta!A37 <>\"\", [1]GeralMinuta!A37,\"\")","v":"3 CA 2/0 AWG Vão 35m RGE"},{"$f":"IF(Completo_Esforço_CPFL_Paulista!$L$31=1,IF( [1]GeralMinuta!B37 <>\"\", [1]GeralMinuta!B37,0),0)","v":450}]
[{"$f":"IF( [1]GeralMinuta!A38 <>\"\", [1]GeralMinuta!A38,\"\")","v":"3 CA 4/0 AWG Vão 35m RGE"},{"$f":"IF(Completo_Esforço_CPFL_Paulista!$L$31=1,IF( [1]GeralMinuta!B38 <>\"\", [1]GeralMinuta!B38,0),0)","v":720}]
[{"$f":"IF( [1]GeralMinuta!A39 <>\"\", [1]GeralMinuta!A39,\"\")","v":"3 CA 336,4 MCM Vão 35m RGE"},{"$f":"IF(Completo_Esforço_CPFL_Paulista!$L$31=1,IF( [1]GeralMinuta!B39 <>\"\", [1]GeralMinuta!B39,0),0)","v":1143}]
[{"$f":"IF( [1]GeralMinuta!A40 <>\"\", [1]GeralMinuta!A40,\"\")","v":"3 CA 477 MCM Vão 35m RGE"},{"$f":"IF(Completo_Esforço_CPFL_Paulista!$L$31=1,IF( [1]GeralMinuta!B40 <>\"\", [1]GeralMinuta!B40,0),0)","v":1617}]
[{"$f":"IF( [1]GeralMinuta!A41 <>\"\", [1]GeralMinuta!A41,\"\")","v":""},{"$f":"IF(Completo_Esforço_CPFL_Paulista!$L$31=1,IF( [1]GeralMinuta!B41 <>\"\", [1]GeralMinuta!B41,0),0)","v":0}]
[{"$f":"IF( [1]GeralMinuta!A42 <>\"\", [1]GeralMinuta!A42,\"\")","v":"3 CA 02 AWG Vão 80m "},{"$f":"IF(Completo_Esforço_CPFL_Paulista!$L$31=1,IF( [1]GeralMinuta!B42 <>\"\", [1]GeralMinuta!B42,0),0)","v":399}]
[{"$f":"IF( [1]GeralMinuta!A43 <>\"\", [1]GeralMinuta!A43,\"\")","v":"3 CA 1/0 AWG Vão 80m "},{"$f":"IF(Completo_Esforço_CPFL_Paulista!$L$31=1,IF( [1]GeralMinuta!B43 <>\"\", [1]GeralMinuta!B43,0),0)","v":558}]
[{"$f":"IF( [1]GeralMinuta!A44 <>\"\", [1]GeralMinuta!A44,\"\")","v":"3 CA 2/0 AWG Vão 80m "},{"$f":"IF(Completo_Esforço_CPFL_Paulista!$L$31=1,IF( [1]GeralMinuta!B44 <>\"\", [1]GeralMinuta!B44,0),0)","v":660}]
[{"$f":"IF( [1]GeralMinuta!A45 <>\"\", [1]GeralMinuta!A45,\"\")","v":"3 CA 4/0 AWG Vão 80m "},{"$f":"IF(Completo_Esforço_CPFL_Paulista!$L$31=1,IF( [1]GeralMinuta!B45 <>\"\", [1]GeralMinuta!B45,0),0)","v":945}]
[{"$f":"IF( [1]GeralMinuta!A46 <>\"\", [1]GeralMinuta!A46,\"\")","v":"3 CA 336,4 MCM Vão 80m "},{"$f":"IF(Completo_Esforço_CPFL_Paulista!$L$31=1,IF( [1]GeralMinuta!B46 <>\"\", [1]GeralMinuta!B46,0),0)","v":1449}]
[{"$f":"IF( [1]GeralMinuta!A47 <>\"\", [1]GeralMinuta!A47,\"\")","v":"3 CA 477 MCM Vão 80m "},{"$f":"IF(Completo_Esforço_CPFL_Paulista!$L$31=1,IF( [1]GeralMinuta!B47 <>\"\", [1]GeralMinuta!B47,0),0)","v":2049}]
[{"$f":"IF( [1]GeralMinuta!A48 <>\"\", [1]GeralMinuta!A48,\"\")","v":""},{"$f":"IF(Completo_Esforço_CPFL_Paulista!$L$31=1,IF( [1]GeralMinuta!B48 <>\"\", [1]GeralMinuta!B48,0),0)","v":0}]
[{"$f":"IF( [1]GeralMinuta!A49 <>\"\", [1]GeralMinuta!A49,\"\")","v":"3 CA 02 AWG Vão 80m RGE"},{"$f":"IF(Completo_Esforço_CPFL_Paulista!$L$31=1,IF( [1]GeralMinuta!B49 <>\"\", [1]GeralMinuta!B49,0),0)","v":399}]
[{"$f":"IF( [1]GeralMinuta!A50 <>\"\", [1]GeralMinuta!A50,\"\")","v":"3 CA 1/0 AWG Vão 80m RGE"},{"$f":"IF(Completo_Esforço_CPFL_Paulista!$L$31=1,IF( [1]GeralMinuta!B50 <>\"\", [1]GeralMinuta!B50,0),0)","v":558}]
[{"$f":"IF( [1]GeralMinuta!A51 <>\"\", [1]GeralMinuta!A51,\"\")","v":"3 CA 2/0 AWG Vão 80m RGE"},{"$f":"IF(Completo_Esforço_CPFL_Paulista!$L$31=1,IF( [1]GeralMinuta!B51 <>\"\", [1]GeralMinuta!B51,0),0)","v":660}]
[{"$f":"IF( [1]GeralMinuta!A52 <>\"\", [1]GeralMinuta!A52,\"\")","v":"3 CA 4/0 AWG Vão 80m RGE"},{"$f":"IF(Completo_Esforço_CPFL_Paulista!$L$31=1,IF( [1]GeralMinuta!B52 <>\"\", [1]GeralMinuta!B52,0),0)","v":1029}]
[{"$f":"IF( [1]GeralMinuta!A53 <>\"\", [1]GeralMinuta!A53,\"\")","v":"3 CA 336,4 MCM Vão 80m RGE"},{"$f":"IF(Completo_Esforço_CPFL_Paulista!$L$31=1,IF( [1]GeralMinuta!B53 <>\"\", [1]GeralMinuta!B53,0),0)","v":1632}]
[{"$f":"IF( [1]GeralMinuta!A54 <>\"\", [1]GeralMinuta!A54,\"\")","v":"3 CA 477 MCM Vão 80m RGE"},{"$f":"IF(Completo_Esforço_CPFL_Paulista!$L$31=1,IF( [1]GeralMinuta!B54 <>\"\", [1]GeralMinuta!B54,0),0)","v":2310}]
[{"$f":"IF( [1]GeralMinuta!A55 <>\"\", [1]GeralMinuta!A55,\"\")","v":""},{"$f":"IF(Completo_Esforço_CPFL_Paulista!$L$31=1,IF( [1]GeralMinuta!B55 <>\"\", [1]GeralMinuta!B55,0),0)","v":0}]
[{"$f":"IF( [1]GeralMinuta!A56 <>\"\", [1]GeralMinuta!A56,\"\")","v":"3 CAA 04 AWG Vão 40m "},{"$f":"IF(Completo_Esforço_CPFL_Paulista!$L$31=1,IF( [1]GeralMinuta!B56 <>\"\", [1]GeralMinuta!B56,0),0)","v":189}]
[{"$f":"IF( [1]GeralMinuta!A57 <>\"\", [1]GeralMinuta!A57,\"\")","v":"3 CAA 02 AWG Vão 40m "},{"$f":"IF(Completo_Esforço_CPFL_Paulista!$L$31=1,IF( [1]GeralMinuta!B57 <>\"\", [1]GeralMinuta!B57,0),0)","v":300}]
[{"$f":"IF( [1]GeralMinuta!A58 <>\"\", [1]GeralMinuta!A58,\"\")","v":"3 CAA 1/0 AWG Vão 40m "},{"$f":"IF(Completo_Esforço_CPFL_Paulista!$L$31=1,IF( [1]GeralMinuta!B58 <>\"\", [1]GeralMinuta!B58,0),0)","v":480}]
[{"$f":"IF( [1]GeralMinuta!A59 <>\"\", [1]GeralMinuta!A59,\"\")","v":"3 CAA 2/0 AWG Vão 40m "},{"$f":"IF(Completo_Esforço_CPFL_Paulista!$L$31=1,IF( [1]GeralMinuta!B59 <>\"\", [1]GeralMinuta!B59,0),0)","v":603}]
[{"$f":"IF( [1]GeralMinuta!A60 <>\"\", [1]GeralMinuta!A60,\"\")","v":"3 CAA 4/0 AWG Vão 40m "},{"$f":"IF(Completo_Esforço_CPFL_Paulista!$L$31=1,IF( [1]GeralMinuta!B60 <>\"\", [1]GeralMinuta!B60,0),0)","v":960}]
[{"$f":"IF( [1]GeralMinuta!A61 <>\"\", [1]GeralMinuta!A61,\"\")","v":""},{"$f":"IF(Completo_Esforço_CPFL_Paulista!$L$31=1,IF( [1]GeralMinuta!B61 <>\"\", [1]GeralMinuta!B61,0),0)","v":0}]
[{"$f":"IF( [1]GeralMinuta!A62 <>\"\", [1]GeralMinuta!A62,\"\")","v":"3 CAA 04 AWG Vão 40m RGE"},{"$f":"IF(Completo_Esforço_CPFL_Paulista!$L$31=1,IF( [1]GeralMinuta!B62 <>\"\", [1]GeralMinuta!B62,0),0)","v":225}]
[{"$f":"IF( [1]GeralMinuta!A63 <>\"\", [1]GeralMinuta!A63,\"\")","v":"3 CAA 02 AWG Vão 40m RGE"},{"$f":"IF(Completo_Esforço_CPFL_Paulista!$L$31=1,IF( [1]GeralMinuta!B63 <>\"\", [1]GeralMinuta!B63,0),0)","v":357}]
[{"$f":"IF( [1]GeralMinuta!A64 <>\"\", [1]GeralMinuta!A64,\"\")","v":"3 CAA 1/0 AWG Vão 40m RGE"},{"$f":"IF(Completo_Esforço_CPFL_Paulista!$L$31=1,IF( [1]GeralMinuta!B64 <>\"\", [1]GeralMinuta!B64,0),0)","v":570}]
[{"$f":"IF( [1]GeralMinuta!A65 <>\"\", [1]GeralMinuta!A65,\"\")","v":"3 CAA 2/0 AWG Vão 40m RGE"},{"$f":"IF(Completo_Esforço_CPFL_Paulista!$L$31=1,IF( [1]GeralMinuta!B65 <>\"\", [1]GeralMinuta!B65,0),0)","v":720}]
[{"$f":"IF( [1]GeralMinuta!A66 <>\"\", [1]GeralMinuta!A66,\"\")","v":"3 CAA 4/0 AWG Vão 40m RGE"},{"$f":"IF(Completo_Esforço_CPFL_Paulista!$L$31=1,IF( [1]GeralMinuta!B66 <>\"\", [1]GeralMinuta!B66,0),0)","v":1143}]
[{"$f":"IF( [1]GeralMinuta!A67 <>\"\", [1]GeralMinuta!A67,\"\")","v":""},{"$f":"IF(Completo_Esforço_CPFL_Paulista!$L$31=1,IF( [1]GeralMinuta!B67 <>\"\", [1]GeralMinuta!B67,0),0)","v":0}]
[{"$f":"IF( [1]GeralMinuta!A68 <>\"\", [1]GeralMinuta!A68,\"\")","v":"3 CAA 04 AWG Vão 80m "},{"$f":"IF(Completo_Esforço_CPFL_Paulista!$L$31=1,IF( [1]GeralMinuta!B68 <>\"\", [1]GeralMinuta!B68,0),0)","v":405}]
[{"$f":"IF( [1]GeralMinuta!A69 <>\"\", [1]GeralMinuta!A69,\"\")","v":"3 CAA 02 AWG Vão 80m "},{"$f":"IF(Completo_Esforço_CPFL_Paulista!$L$31=1,IF( [1]GeralMinuta!B69 <>\"\", [1]GeralMinuta!B69,0),0)","v":573}]
[{"$f":"IF( [1]GeralMinuta!A70 <>\"\", [1]GeralMinuta!A70,\"\")","v":"3 CAA 1/0 AWG Vão 80m "},{"$f":"IF(Completo_Esforço_CPFL_Paulista!$L$31=1,IF( [1]GeralMinuta!B70 <>\"\", [1]GeralMinuta!B70,0),0)","v":825}]
[{"$f":"IF( [1]GeralMinuta!A71 <>\"\", [1]GeralMinuta!A71,\"\")","v":"3 CAA 2/0 AWG Vão 80m "},{"$f":"IF(Completo_Esforço_CPFL_Paulista!$L$31=1,IF( [1]GeralMinuta!B71 <>\"\", [1]GeralMinuta!B71,0),0)","v":1038}]
[{"$f":"IF( [1]GeralMinuta!A72 <>\"\", [1]GeralMinuta!A72,\"\")","v":"3 CAA 4/0 AWG Vão 80m "},{"$f":"IF(Completo_Esforço_CPFL_Paulista!$L$31=1,IF( [1]GeralMinuta!B72 <>\"\", [1]GeralMinuta!B72,0),0)","v":1653}]
[{"$f":"IF( [1]GeralMinuta!A73 <>\"\", [1]GeralMinuta!A73,\"\")","v":"3 CAA 336,4 MCM Vão 80m "},{"$f":"IF(Completo_Esforço_CPFL_Paulista!$L$31=1,IF( [1]GeralMinuta!B73 <>\"\", [1]GeralMinuta!B73,0),0)","v":2628}]
[{"$f":"IF( [1]GeralMinuta!A74 <>\"\", [1]GeralMinuta!A74,\"\")","v":""},{"$f":"IF(Completo_Esforço_CPFL_Paulista!$L$31=1,IF( [1]GeralMinuta!B74 <>\"\", [1]GeralMinuta!B74,0),0)","v":0}]
[{"$f":"IF( [1]GeralMinuta!A75 <>\"\", [1]GeralMinuta!A75,\"\")","v":"3 CAA 04 AWG Vão 80m RGE"},{"$f":"IF(Completo_Esforço_CPFL_Paulista!$L$31=1,IF( [1]GeralMinuta!B75 <>\"\", [1]GeralMinuta!B75,0),0)","v":405}]
[{"$f":"IF( [1]GeralMinuta!A76 <>\"\", [1]GeralMinuta!A76,\"\")","v":"3 CAA 02 AWG Vão 80m RGE"},{"$f":"IF(Completo_Esforço_CPFL_Paulista!$L$31=1,IF( [1]GeralMinuta!B76 <>\"\", [1]GeralMinuta!B76,0),0)","v":576}]
[{"$f":"IF( [1]GeralMinuta!A77 <>\"\", [1]GeralMinuta!A77,\"\")","v":"3 CAA 1/0 AWG Vão 80m RGE"},{"$f":"IF(Completo_Esforço_CPFL_Paulista!$L$31=1,IF( [1]GeralMinuta!B77 <>\"\", [1]GeralMinuta!B77,0),0)","v":915}]
[{"$f":"IF( [1]GeralMinuta!A78 <>\"\", [1]GeralMinuta!A78,\"\")","v":"3 CAA 2/0 AWG Vão 80m RGE"},{"$f":"IF(Completo_Esforço_CPFL_Paulista!$L$31=1,IF( [1]GeralMinuta!B78 <>\"\", [1]GeralMinuta!B78,0),0)","v":1152}]
[{"$f":"IF( [1]GeralMinuta!A79 <>\"\", [1]GeralMinuta!A79,\"\")","v":"3 CAA 4/0 AWG Vão 80m RGE"},{"$f":"IF(Completo_Esforço_CPFL_Paulista!$L$31=1,IF( [1]GeralMinuta!B79 <>\"\", [1]GeralMinuta!B79,0),0)","v":1833}]
[{"$f":"IF( [1]GeralMinuta!A80 <>\"\", [1]GeralMinuta!A80,\"\")","v":"3 CAA 336,4 MCM Vão 80m RGE"},{"$f":"IF(Completo_Esforço_CPFL_Paulista!$L$31=1,IF( [1]GeralMinuta!B80 <>\"\", [1]GeralMinuta!B80,0),0)","v":2916}]
[{"$f":"IF( [1]GeralMinuta!A81 <>\"\", [1]GeralMinuta!A81,\"\")","v":""},{"$f":"IF(Completo_Esforço_CPFL_Paulista!$L$31=1,IF( [1]GeralMinuta!B81 <>\"\", [1]GeralMinuta!B81,0),0)","v":0}]
[{"$f":"IF( [1]GeralMinuta!A82 <>\"\", [1]GeralMinuta!A82,\"\")","v":"3 CAA 04 AWG Vão 120m "},{"$f":"IF(Completo_Esforço_CPFL_Paulista!$L$31=1,IF( [1]GeralMinuta!B82 <>\"\", [1]GeralMinuta!B82,0),0)","v":525}]
[{"$f":"IF( [1]GeralMinuta!A83 <>\"\", [1]GeralMinuta!A83,\"\")","v":"3 CAA 02 AWG Vão 120m "},{"$f":"IF(Completo_Esforço_CPFL_Paulista!$L$31=1,IF( [1]GeralMinuta!B83 <>\"\", [1]GeralMinuta!B83,0),0)","v":741}]
[{"$f":"IF( [1]GeralMinuta!A84 <>\"\", [1]GeralMinuta!A84,\"\")","v":"3 CAA 1/0 AWG Vão 120m "},{"$f":"IF(Completo_Esforço_CPFL_Paulista!$L$31=1,IF( [1]GeralMinuta!B84 <>\"\", [1]GeralMinuta!B84,0),0)","v":1065}]
[{"$f":"IF( [1]GeralMinuta!A85 <>\"\", [1]GeralMinuta!A85,\"\")","v":"3 CAA 2/0 AWG Vão 120m "},{"$f":"IF(Completo_Esforço_CPFL_Paulista!$L$31=1,IF( [1]GeralMinuta!B85 <>\"\", [1]GeralMinuta!B85,0),0)","v":1284}]
[{"$f":"IF( [1]GeralMinuta!A86 <>\"\", [1]GeralMinuta!A86,\"\")","v":"3 CAA 4/0 AWG Vão 120m "},{"$f":"IF(Completo_Esforço_CPFL_Paulista!$L$31=1,IF( [1]GeralMinuta!B86 <>\"\", [1]GeralMinuta!B86,0),0)","v":1956}]
[{"$f":"IF( [1]GeralMinuta!A87 <>\"\", [1]GeralMinuta!A87,\"\")","v":"3 CAA 336,4 MCM Vão 120m "},{"$f":"IF(Completo_Esforço_CPFL_Paulista!$L$31=1,IF( [1]GeralMinuta!B87 <>\"\", [1]GeralMinuta!B87,0),0)","v":3105}]
[{"$f":"IF( [1]GeralMinuta!A88 <>\"\", [1]GeralMinuta!A88,\"\")","v":""},{"$f":"IF(Completo_Esforço_CPFL_Paulista!$L$31=1,IF( [1]GeralMinuta!B88 <>\"\", [1]GeralMinuta!B88,0),0)","v":0}]
[{"$f":"IF( [1]GeralMinuta!A89 <>\"\", [1]GeralMinuta!A89,\"\")","v":"3 CAA 04 AWG Vão 120m RGE"},{"$f":"IF(Completo_Esforço_CPFL_Paulista!$L$31=1,IF( [1]GeralMinuta!B89 <>\"\", [1]GeralMinuta!B89,0),0)","v":525}]
[{"$f":"IF( [1]GeralMinuta!A90 <>\"\", [1]GeralMinuta!A90,\"\")","v":"3 CAA 02 AWG Vão 120m RGE"},{"$f":"IF(Completo_Esforço_CPFL_Paulista!$L$31=1,IF( [1]GeralMinuta!B90 <>\"\", [1]GeralMinuta!B90,0),0)","v":741}]
[{"$f":"IF( [1]GeralMinuta!A91 <>\"\", [1]GeralMinuta!A91,\"\")","v":"3 CAA 1/0 AWG Vão 120m RGE"},{"$f":"IF(Completo_Esforço_CPFL_Paulista!$L$31=1,IF( [1]GeralMinuta!B91 <>\"\", [1]GeralMinuta!B91,0),0)","v":1065}]
[{"$f":"IF( [1]GeralMinuta!A92 <>\"\", [1]GeralMinuta!A92,\"\")","v":"3 CAA 2/0 AWG Vão 120m RGE"},{"$f":"IF(Completo_Esforço_CPFL_Paulista!$L$31=1,IF( [1]GeralMinuta!B92 <>\"\", [1]GeralMinuta!B92,0),0)","v":1329}]
[{"$f":"IF( [1]GeralMinuta!A93 <>\"\", [1]GeralMinuta!A93,\"\")","v":"3 CAA 4/0 AWG Vão 120m RGE"},{"$f":"IF(Completo_Esforço_CPFL_Paulista!$L$31=1,IF( [1]GeralMinuta!B93 <>\"\", [1]GeralMinuta!B93,0),0)","v":2115}]
[{"$f":"IF( [1]GeralMinuta!A94 <>\"\", [1]GeralMinuta!A94,\"\")","v":"3 CAA 336,4 MCM Vão 120m RGE"},{"$f":"IF(Completo_Esforço_CPFL_Paulista!$L$31=1,IF( [1]GeralMinuta!B94 <>\"\", [1]GeralMinuta!B94,0),0)","v":3360}]
[{"$f":"IF( [1]GeralMinuta!A95 <>\"\", [1]GeralMinuta!A95,\"\")","v":""},{"$f":"IF(Completo_Esforço_CPFL_Paulista!$L$31=1,IF( [1]GeralMinuta!B95 <>\"\", [1]GeralMinuta!B95,0),0)","v":0}]
[{"$f":"IF( [1]GeralMinuta!A96 <>\"\", [1]GeralMinuta!A96,\"\")","v":"3 15kv 240 mm² Vão 35m  "},{"$f":"IF(Completo_Esforço_CPFL_Paulista!$L$31=1,IF( [1]GeralMinuta!B96 <>\"\", [1]GeralMinuta!B96,0),0)","v":723}]
[{"$f":"IF( [1]GeralMinuta!A97 <>\"\", [1]GeralMinuta!A97,\"\")","v":"3 25kv 240 mm² Vão 35m  "},{"$f":"IF(Completo_Esforço_CPFL_Paulista!$L$31=1,IF( [1]GeralMinuta!B97 <>\"\", [1]GeralMinuta!B97,0),0)","v":825}]
[{"$f":"IF( [1]GeralMinuta!A98 <>\"\", [1]GeralMinuta!A98,\"\")","v":"3 35kv 240 mm² Vão 35m  "},{"$f":"IF(Completo_Esforço_CPFL_Paulista!$L$31=1,IF( [1]GeralMinuta!B98 <>\"\", [1]GeralMinuta!B98,0),0)","v":966}]
[{"$f":"IF( [1]GeralMinuta!A99 <>\"\", [1]GeralMinuta!A99,\"\")","v":""},{"$f":"IF(Completo_Esforço_CPFL_Paulista!$L$31=1,IF( [1]GeralMinuta!B99 <>\"\", [1]GeralMinuta!B99,0),0)","v":0}]
[{"$f":"IF( [1]GeralMinuta!A100 <>\"\", [1]GeralMinuta!A100,\"\")","v":"3 15kv 240 mm² Vão 35m  RGE"},{"$f":"IF(Completo_Esforço_CPFL_Paulista!$L$31=1,IF( [1]GeralMinuta!B100 <>\"\", [1]GeralMinuta!B100,0),0)","v":743}]
[{"$f":"IF( [1]GeralMinuta!A101 <>\"\", [1]GeralMinuta!A101,\"\")","v":"3 25kv 240 mm² Vão 35m  RGE"},{"$f":"IF(Completo_Esforço_CPFL_Paulista!$L$31=1,IF( [1]GeralMinuta!B101 <>\"\", [1]GeralMinuta!B101,0),0)","v":849}]
[{"$f":"IF( [1]GeralMinuta!A102 <>\"\", [1]GeralMinuta!A102,\"\")","v":"3 35kv 240 mm² Vão 35m  RGE"},{"$f":"IF(Completo_Esforço_CPFL_Paulista!$L$31=1,IF( [1]GeralMinuta!B102 <>\"\", [1]GeralMinuta!B102,0),0)","v":993}]
[{"$f":"IF( [1]GeralMinuta!A103 <>\"\", [1]GeralMinuta!A103,\"\")","v":""},{"$f":"IF(Completo_Esforço_CPFL_Paulista!$L$31=1,IF( [1]GeralMinuta!B103 <>\"\", [1]GeralMinuta!B103,0),0)","v":0}]
[{"$f":"IF( [1]GeralMinuta!A104 <>\"\", [1]GeralMinuta!A104,\"\")","v":"3 CU 06 AWG Vão 35m  "},{"$f":"IF(Completo_Esforço_CPFL_Paulista!$L$31=1,IF( [1]GeralMinuta!B104 <>\"\", [1]GeralMinuta!B104,0),0)","v":168}]
[{"$f":"IF( [1]GeralMinuta!A105 <>\"\", [1]GeralMinuta!A105,\"\")","v":"3 CU 02 AWG Vão 35m  "},{"$f":"IF(Completo_Esforço_CPFL_Paulista!$L$31=1,IF( [1]GeralMinuta!B105 <>\"\", [1]GeralMinuta!B105,0),0)","v":423}]
[{"$f":"IF( [1]GeralMinuta!A106 <>\"\", [1]GeralMinuta!A106,\"\")","v":"3 CU 1/0 AWG Vão 35m  "},{"$f":"IF(Completo_Esforço_CPFL_Paulista!$L$31=1,IF( [1]GeralMinuta!B106 <>\"\", [1]GeralMinuta!B106,0),0)","v":624}]
[{"$f":"IF( [1]GeralMinuta!A107 <>\"\", [1]GeralMinuta!A107,\"\")","v":"3 CU 2/0 AWG Vão 35m  "},{"$f":"IF(Completo_Esforço_CPFL_Paulista!$L$31=1,IF( [1]GeralMinuta!B107 <>\"\", [1]GeralMinuta!B107,0),0)","v":771}]
[{"$f":"IF( [1]GeralMinuta!A108 <>\"\", [1]GeralMinuta!A108,\"\")","v":"3 CU 4/0 AWG Vão 35m  "},{"$f":"IF(Completo_Esforço_CPFL_Paulista!$L$31=1,IF( [1]GeralMinuta!B108 <>\"\", [1]GeralMinuta!B108,0),0)","v":1188}]
[{"$f":"IF( [1]GeralMinuta!A109 <>\"\", [1]GeralMinuta!A109,\"\")","v":""},{"$f":"IF(Completo_Esforço_CPFL_Paulista!$L$31=1,IF( [1]GeralMinuta!B109 <>\"\", [1]GeralMinuta!B109,0),0)","v":0}]
[{"$f":"IF( [1]GeralMinuta!A110 <>\"\", [1]GeralMinuta!A110,\"\")","v":"3 CU 06 AWG Vão 35m  RGE"},{"$f":"IF(Completo_Esforço_CPFL_Paulista!$L$31=1,IF( [1]GeralMinuta!B110 <>\"\", [1]GeralMinuta!B110,0),0)","v":168}]
[{"$f":"IF( [1]GeralMinuta!A111 <>\"\", [1]GeralMinuta!A111,\"\")","v":"3 CU 02 AWG Vão 35m  RGE"},{"$f":"IF(Completo_Esforço_CPFL_Paulista!$L$31=1,IF( [1]GeralMinuta!B111 <>\"\", [1]GeralMinuta!B111,0),0)","v":423}]
[{"$f":"IF( [1]GeralMinuta!A112 <>\"\", [1]GeralMinuta!A112,\"\")","v":"3 CU 1/0 AWG Vão 35m  RGE"},{"$f":"IF(Completo_Esforço_CPFL_Paulista!$L$31=1,IF( [1]GeralMinuta!B112 <>\"\", [1]GeralMinuta!B112,0),0)","v":624}]
[{"$f":"IF( [1]GeralMinuta!A113 <>\"\", [1]GeralMinuta!A113,\"\")","v":"3 CU 2/0 AWG Vão 35m  RGE"},{"$f":"IF(Completo_Esforço_CPFL_Paulista!$L$31=1,IF( [1]GeralMinuta!B113 <>\"\", [1]GeralMinuta!B113,0),0)","v":771}]
[{"$f":"IF( [1]GeralMinuta!A114 <>\"\", [1]GeralMinuta!A114,\"\")","v":"3 CU 4/0 AWG Vão 35m  RGE"},{"$f":"IF(Completo_Esforço_CPFL_Paulista!$L$31=1,IF( [1]GeralMinuta!B114 <>\"\", [1]GeralMinuta!B114,0),0)","v":1188}]
[{"$f":"IF( [1]GeralMinuta!A115 <>\"\", [1]GeralMinuta!A115,\"\")","v":""},{"$f":"IF(Completo_Esforço_CPFL_Paulista!$L$31=1,IF( [1]GeralMinuta!B115 <>\"\", [1]GeralMinuta!B115,0),0)","v":0}]
[{"$f":"IF( [1]GeralMinuta!A116 <>\"\", [1]GeralMinuta!A116,\"\")","v":"2 CA 02 AWG Vão 35m "},{"$f":"IF(Completo_Esforço_CPFL_Paulista!$L$31=1,IF( [1]GeralMinuta!B116 <>\"\", [1]GeralMinuta!B116,0),0)","v":120}]
[{"$f":"IF( [1]GeralMinuta!A117 <>\"\", [1]GeralMinuta!A117,\"\")","v":"2 CA 1/0 AWG Vão 35m "},{"$f":"IF(Completo_Esforço_CPFL_Paulista!$L$31=1,IF( [1]GeralMinuta!B117 <>\"\", [1]GeralMinuta!B117,0),0)","v":192}]
[{"$f":"IF( [1]GeralMinuta!A118 <>\"\", [1]GeralMinuta!A118,\"\")","v":"2 CA 2/0 AWG Vão 35m "},{"$f":"IF(Completo_Esforço_CPFL_Paulista!$L$31=1,IF( [1]GeralMinuta!B118 <>\"\", [1]GeralMinuta!B118,0),0)","v":242}]
[{"$f":"IF( [1]GeralMinuta!A119 <>\"\", [1]GeralMinuta!A119,\"\")","v":"2 CA 4/0 AWG Vão 35m "},{"$f":"IF(Completo_Esforço_CPFL_Paulista!$L$31=1,IF( [1]GeralMinuta!B119 <>\"\", [1]GeralMinuta!B119,0),0)","v":388}]
[{"$f":"IF( [1]GeralMinuta!A120 <>\"\", [1]GeralMinuta!A120,\"\")","v":"2 CA 336,4 MCM Vão 35m "},{"$f":"IF(Completo_Esforço_CPFL_Paulista!$L$31=1,IF( [1]GeralMinuta!B120 <>\"\", [1]GeralMinuta!B120,0),0)","v":616}]
[{"$f":"IF( [1]GeralMinuta!A121 <>\"\", [1]GeralMinuta!A121,\"\")","v":"2 CA 477 MCM Vão 35m "},{"$f":"IF(Completo_Esforço_CPFL_Paulista!$L$31=1,IF( [1]GeralMinuta!B121 <>\"\", [1]GeralMinuta!B121,0),0)","v":870}]
[{"$f":"IF( [1]GeralMinuta!A122 <>\"\", [1]GeralMinuta!A122,\"\")","v":""},{"$f":"IF(Completo_Esforço_CPFL_Paulista!$L$31=1,IF( [1]GeralMinuta!B122 <>\"\", [1]GeralMinuta!B122,0),0)","v":0}]
[{"$f":"IF( [1]GeralMinuta!A123 <>\"\", [1]GeralMinuta!A123,\"\")","v":"2 CA 02 AWG Vão 35m RGE"},{"$f":"IF(Completo_Esforço_CPFL_Paulista!$L$31=1,IF( [1]GeralMinuta!B123 <>\"\", [1]GeralMinuta!B123,0),0)","v":150}]
[{"$f":"IF( [1]GeralMinuta!A124 <>\"\", [1]GeralMinuta!A124,\"\")","v":"2 CA 1/0 AWG Vão 35m RGE"},{"$f":"IF(Completo_Esforço_CPFL_Paulista!$L$31=1,IF( [1]GeralMinuta!B124 <>\"\", [1]GeralMinuta!B124,0),0)","v":1546}]
[{"$f":"IF( [1]GeralMinuta!A125 <>\"\", [1]GeralMinuta!A125,\"\")","v":"2 CA 2/0 AWG Vão 35m RGE"},{"$f":"IF(Completo_Esforço_CPFL_Paulista!$L$31=1,IF( [1]GeralMinuta!B125 <>\"\", [1]GeralMinuta!B125,0),0)","v":300}]
[{"$f":"IF( [1]GeralMinuta!A126 <>\"\", [1]GeralMinuta!A126,\"\")","v":"2 CA 4/0 AWG Vão 35m RGE"},{"$f":"IF(Completo_Esforço_CPFL_Paulista!$L$31=1,IF( [1]GeralMinuta!B126 <>\"\", [1]GeralMinuta!B126,0),0)","v":480}]
[{"$f":"IF( [1]GeralMinuta!A127 <>\"\", [1]GeralMinuta!A127,\"\")","v":"2 CA 336,4 MCM Vão 35m RGE"},{"$f":"IF(Completo_Esforço_CPFL_Paulista!$L$31=1,IF( [1]GeralMinuta!B127 <>\"\", [1]GeralMinuta!B127,0),0)","v":762}]
[{"$f":"IF( [1]GeralMinuta!A128 <>\"\", [1]GeralMinuta!A128,\"\")","v":"2 CA 477 MCM Vão 35m RGE"},{"$f":"IF(Completo_Esforço_CPFL_Paulista!$L$31=1,IF( [1]GeralMinuta!B128 <>\"\", [1]GeralMinuta!B128,0),0)","v":1078}]
[{"$f":"IF( [1]GeralMinuta!A129 <>\"\", [1]GeralMinuta!A129,\"\")","v":""},{"$f":"IF(Completo_Esforço_CPFL_Paulista!$L$31=1,IF( [1]GeralMinuta!B129 <>\"\", [1]GeralMinuta!B129,0),0)","v":0}]
[{"$f":"IF( [1]GeralMinuta!A130 <>\"\", [1]GeralMinuta!A130,\"\")","v":"2 CA 02 AWG Vão 80m "},{"$f":"IF(Completo_Esforço_CPFL_Paulista!$L$31=1,IF( [1]GeralMinuta!B130 <>\"\", [1]GeralMinuta!B130,0),0)","v":266}]
[{"$f":"IF( [1]GeralMinuta!A131 <>\"\", [1]GeralMinuta!A131,\"\")","v":"2 CA 1/0 AWG Vão 80m "},{"$f":"IF(Completo_Esforço_CPFL_Paulista!$L$31=1,IF( [1]GeralMinuta!B131 <>\"\", [1]GeralMinuta!B131,0),0)","v":372}]
[{"$f":"IF( [1]GeralMinuta!A132 <>\"\", [1]GeralMinuta!A132,\"\")","v":"2 CA 2/0 AWG Vão 80m "},{"$f":"IF(Completo_Esforço_CPFL_Paulista!$L$31=1,IF( [1]GeralMinuta!B132 <>\"\", [1]GeralMinuta!B132,0),0)","v":440}]
[{"$f":"IF( [1]GeralMinuta!A133 <>\"\", [1]GeralMinuta!A133,\"\")","v":"2 CA 4/0 AWG Vão 80m "},{"$f":"IF(Completo_Esforço_CPFL_Paulista!$L$31=1,IF( [1]GeralMinuta!B133 <>\"\", [1]GeralMinuta!B133,0),0)","v":630}]
[{"$f":"IF( [1]GeralMinuta!A134 <>\"\", [1]GeralMinuta!A134,\"\")","v":"2 CA 336,4 MCM Vão 80m "},{"$f":"IF(Completo_Esforço_CPFL_Paulista!$L$31=1,IF( [1]GeralMinuta!B134 <>\"\", [1]GeralMinuta!B134,0),0)","v":966}]
[{"$f":"IF( [1]GeralMinuta!A135 <>\"\", [1]GeralMinuta!A135,\"\")","v":"2 CA 477 MCM Vão 80m "},{"$f":"IF(Completo_Esforço_CPFL_Paulista!$L$31=1,IF( [1]GeralMinuta!B135 <>\"\", [1]GeralMinuta!B135,0),0)","v":1366}]
[{"$f":"IF( [1]GeralMinuta!A136 <>\"\", [1]GeralMinuta!A136,\"\")","v":""},{"$f":"IF(Completo_Esforço_CPFL_Paulista!$L$31=1,IF( [1]GeralMinuta!B136 <>\"\", [1]GeralMinuta!B136,0),0)","v":0}]
[{"$f":"IF( [1]GeralMinuta!A137 <>\"\", [1]GeralMinuta!A137,\"\")","v":"2 CA 02 AWG Vão 80m RGE"},{"$f":"IF(Completo_Esforço_CPFL_Paulista!$L$31=1,IF( [1]GeralMinuta!B137 <>\"\", [1]GeralMinuta!B137,0),0)","v":266}]
[{"$f":"IF( [1]GeralMinuta!A138 <>\"\", [1]GeralMinuta!A138,\"\")","v":"2 CA 1/0 AWG Vão 80m RGE"},{"$f":"IF(Completo_Esforço_CPFL_Paulista!$L$31=1,IF( [1]GeralMinuta!B138 <>\"\", [1]GeralMinuta!B138,0),0)","v":372}]
[{"$f":"IF( [1]GeralMinuta!A139 <>\"\", [1]GeralMinuta!A139,\"\")","v":"2 CA 2/0 AWG Vão 80m RGE"},{"$f":"IF(Completo_Esforço_CPFL_Paulista!$L$31=1,IF( [1]GeralMinuta!B139 <>\"\", [1]GeralMinuta!B139,0),0)","v":440}]
[{"$f":"IF( [1]GeralMinuta!A140 <>\"\", [1]GeralMinuta!A140,\"\")","v":"2 CA 4/0 AWG Vão 80m RGE"},{"$f":"IF(Completo_Esforço_CPFL_Paulista!$L$31=1,IF( [1]GeralMinuta!B140 <>\"\", [1]GeralMinuta!B140,0),0)","v":686}]
[{"$f":"IF( [1]GeralMinuta!A141 <>\"\", [1]GeralMinuta!A141,\"\")","v":"2 CA 336,4 MCM Vão 80m RGE"},{"$f":"IF(Completo_Esforço_CPFL_Paulista!$L$31=1,IF( [1]GeralMinuta!B141 <>\"\", [1]GeralMinuta!B141,0),0)","v":1088}]
[{"$f":"IF( [1]GeralMinuta!A142 <>\"\", [1]GeralMinuta!A142,\"\")","v":"2 CA 477 MCM Vão 80m RGE"},{"$f":"IF(Completo_Esforço_CPFL_Paulista!$L$31=1,IF( [1]GeralMinuta!B142 <>\"\", [1]GeralMinuta!B142,0),0)","v":1540}]
[{"$f":"IF( [1]GeralMinuta!A143 <>\"\", [1]GeralMinuta!A143,\"\")","v":""},{"$f":"IF(Completo_Esforço_CPFL_Paulista!$L$31=1,IF( [1]GeralMinuta!B143 <>\"\", [1]GeralMinuta!B143,0),0)","v":0}]
[{"$f":"IF( [1]GeralMinuta!A144 <>\"\", [1]GeralMinuta!A144,\"\")","v":"2 CA 04 AWG Vão 40m "},{"$f":"IF(Completo_Esforço_CPFL_Paulista!$L$31=1,IF( [1]GeralMinuta!B144 <>\"\", [1]GeralMinuta!B144,0),0)","v":126}]
[{"$f":"IF( [1]GeralMinuta!A145 <>\"\", [1]GeralMinuta!A145,\"\")","v":"2 CA 02 AWG Vão 40m "},{"$f":"IF(Completo_Esforço_CPFL_Paulista!$L$31=1,IF( [1]GeralMinuta!B145 <>\"\", [1]GeralMinuta!B145,0),0)","v":200}]
[{"$f":"IF( [1]GeralMinuta!A146 <>\"\", [1]GeralMinuta!A146,\"\")","v":"2 CA 1/0 AWG Vão 40m "},{"$f":"IF(Completo_Esforço_CPFL_Paulista!$L$31=1,IF( [1]GeralMinuta!B146 <>\"\", [1]GeralMinuta!B146,0),0)","v":320}]
[{"$f":"IF( [1]GeralMinuta!A147 <>\"\", [1]GeralMinuta!A147,\"\")","v":"2 CA 2/0 AWG Vão 40m "},{"$f":"IF(Completo_Esforço_CPFL_Paulista!$L$31=1,IF( [1]GeralMinuta!B147 <>\"\", [1]GeralMinuta!B147,0),0)","v":402}]
[{"$f":"IF( [1]GeralMinuta!A148 <>\"\", [1]GeralMinuta!A148,\"\")","v":"2 CA 4/0 AWG Vão 40m "},{"$f":"IF(Completo_Esforço_CPFL_Paulista!$L$31=1,IF( [1]GeralMinuta!B148 <>\"\", [1]GeralMinuta!B148,0),0)","v":640}]
[{"$f":"IF( [1]GeralMinuta!A149 <>\"\", [1]GeralMinuta!A149,\"\")","v":""},{"$f":"IF(Completo_Esforço_CPFL_Paulista!$L$31=1,IF( [1]GeralMinuta!B149 <>\"\", [1]GeralMinuta!B149,0),0)","v":0}]
[{"$f":"IF( [1]GeralMinuta!A150 <>\"\", [1]GeralMinuta!A150,\"\")","v":"2 CAA 04 AWG Vão 40m RGE"},{"$f":"IF(Completo_Esforço_CPFL_Paulista!$L$31=1,IF( [1]GeralMinuta!B150 <>\"\", [1]GeralMinuta!B150,0),0)","v":150}]
[{"$f":"IF( [1]GeralMinuta!A151 <>\"\", [1]GeralMinuta!A151,\"\")","v":"2 CAA 02 AWG Vão 40m RGE"},{"$f":"IF(Completo_Esforço_CPFL_Paulista!$L$31=1,IF( [1]GeralMinuta!B151 <>\"\", [1]GeralMinuta!B151,0),0)","v":238}]
[{"$f":"IF( [1]GeralMinuta!A152 <>\"\", [1]GeralMinuta!A152,\"\")","v":"2 CAA 1/0 AWG Vão 40m RGE"},{"$f":"IF(Completo_Esforço_CPFL_Paulista!$L$31=1,IF( [1]GeralMinuta!B152 <>\"\", [1]GeralMinuta!B152,0),0)","v":380}]
[{"$f":"IF( [1]GeralMinuta!A153 <>\"\", [1]GeralMinuta!A153,\"\")","v":"2 CAA 2/0 AWG Vão 40m RGE"},{"$f":"IF(Completo_Esforço_CPFL_Paulista!$L$31=1,IF( [1]GeralMinuta!B153 <>\"\", [1]GeralMinuta!B153,0),0)","v":480}]
[{"$f":"IF( [1]GeralMinuta!A154 <>\"\", [1]GeralMinuta!A154,\"\")","v":"2 CAA 4/0 AWG Vão 40m RGE"},{"$f":"IF(Completo_Esforço_CPFL_Paulista!$L$31=1,IF( [1]GeralMinuta!B154 <>\"\", [1]GeralMinuta!B154,0),0)","v":762}]
[{"$f":"IF( [1]GeralMinuta!A155 <>\"\", [1]GeralMinuta!A155,\"\")","v":""},{"$f":"IF(Completo_Esforço_CPFL_Paulista!$L$31=1,IF( [1]GeralMinuta!B155 <>\"\", [1]GeralMinuta!B155,0),0)","v":0}]
[{"$f":"IF( [1]GeralMinuta!A156 <>\"\", [1]GeralMinuta!A156,\"\")","v":"2 CAA 04 AWG Vão 80m "},{"$f":"IF(Completo_Esforço_CPFL_Paulista!$L$31=1,IF( [1]GeralMinuta!B156 <>\"\", [1]GeralMinuta!B156,0),0)","v":270}]
[{"$f":"IF( [1]GeralMinuta!A157 <>\"\", [1]GeralMinuta!A157,\"\")","v":"2 CAA 02 AWG Vão 80m "},{"$f":"IF(Completo_Esforço_CPFL_Paulista!$L$31=1,IF( [1]GeralMinuta!B157 <>\"\", [1]GeralMinuta!B157,0),0)","v":382}]
[{"$f":"IF( [1]GeralMinuta!A158 <>\"\", [1]GeralMinuta!A158,\"\")","v":"2 CAA 1/0 AWG Vão 80m "},{"$f":"IF(Completo_Esforço_CPFL_Paulista!$L$31=1,IF( [1]GeralMinuta!B158 <>\"\", [1]GeralMinuta!B158,0),0)","v":550}]
[{"$f":"IF( [1]GeralMinuta!A159 <>\"\", [1]GeralMinuta!A159,\"\")","v":"2 CAA 2/0 AWG Vão 80m "},{"$f":"IF(Completo_Esforço_CPFL_Paulista!$L$31=1,IF( [1]GeralMinuta!B159 <>\"\", [1]GeralMinuta!B159,0),0)","v":692}]
[{"$f":"IF( [1]GeralMinuta!A160 <>\"\", [1]GeralMinuta!A160,\"\")","v":"2 CAA 4/0 AWG Vão 80m "},{"$f":"IF(Completo_Esforço_CPFL_Paulista!$L$31=1,IF( [1]GeralMinuta!B160 <>\"\", [1]GeralMinuta!B160,0),0)","v":1102}]
[{"$f":"IF( [1]GeralMinuta!A161 <>\"\", [1]GeralMinuta!A161,\"\")","v":"2 CAA 336,4 MCM Vão 80m "},{"$f":"IF(Completo_Esforço_CPFL_Paulista!$L$31=1,IF( [1]GeralMinuta!B161 <>\"\", [1]GeralMinuta!B161,0),0)","v":1752}]
[{"$f":"IF( [1]GeralMinuta!A162 <>\"\", [1]GeralMinuta!A162,\"\")","v":""},{"$f":"IF(Completo_Esforço_CPFL_Paulista!$L$31=1,IF( [1]GeralMinuta!B162 <>\"\", [1]GeralMinuta!B162,0),0)","v":0}]
[{"$f":"IF( [1]GeralMinuta!A163 <>\"\", [1]GeralMinuta!A163,\"\")","v":"2 CAA 04 AWG Vão 80m RGE"},{"$f":"IF(Completo_Esforço_CPFL_Paulista!$L$31=1,IF( [1]GeralMinuta!B163 <>\"\", [1]GeralMinuta!B163,0),0)","v":270}]
[{"$f":"IF( [1]GeralMinuta!A164 <>\"\", [1]GeralMinuta!A164,\"\")","v":"2 CAA 02 AWG Vão 80m RGE"},{"$f":"IF(Completo_Esforço_CPFL_Paulista!$L$31=1,IF( [1]GeralMinuta!B164 <>\"\", [1]GeralMinuta!B164,0),0)","v":384}]
[{"$f":"IF( [1]GeralMinuta!A165 <>\"\", [1]GeralMinuta!A165,\"\")","v":"2 CAA 1/0 AWG Vão 80m RGE"},{"$f":"IF(Completo_Esforço_CPFL_Paulista!$L$31=1,IF( [1]GeralMinuta!B165 <>\"\", [1]GeralMinuta!B165,0),0)","v":610}]
[{"$f":"IF( [1]GeralMinuta!A166 <>\"\", [1]GeralMinuta!A166,\"\")","v":"2 CAA 2/0 AWG Vão 80m RGE"},{"$f":"IF(Completo_Esforço_CPFL_Paulista!$L$31=1,IF( [1]GeralMinuta!B166 <>\"\", [1]GeralMinuta!B166,0),0)","v":768}]
[{"$f":"IF( [1]GeralMinuta!A167 <>\"\", [1]GeralMinuta!A167,\"\")","v":"2 CAA 4/0 AWG Vão 80m RGE"},{"$f":"IF(Completo_Esforço_CPFL_Paulista!$L$31=1,IF( [1]GeralMinuta!B167 <>\"\", [1]GeralMinuta!B167,0),0)","v":1222}]
[{"$f":"IF( [1]GeralMinuta!A168 <>\"\", [1]GeralMinuta!A168,\"\")","v":"2 CAA 336,4 MCM Vão 80m RGE"},{"$f":"IF(Completo_Esforço_CPFL_Paulista!$L$31=1,IF( [1]GeralMinuta!B168 <>\"\", [1]GeralMinuta!B168,0),0)","v":1944}]
[{"$f":"IF( [1]GeralMinuta!A169 <>\"\", [1]GeralMinuta!A169,\"\")","v":""},{"$f":"IF(Completo_Esforço_CPFL_Paulista!$L$31=1,IF( [1]GeralMinuta!B169 <>\"\", [1]GeralMinuta!B169,0),0)","v":0}]
[{"$f":"IF( [1]GeralMinuta!A170 <>\"\", [1]GeralMinuta!A170,\"\")","v":"2 CAA 04 AWG Vão 120m "},{"$f":"IF(Completo_Esforço_CPFL_Paulista!$L$31=1,IF( [1]GeralMinuta!B170 <>\"\", [1]GeralMinuta!B170,0),0)","v":350}]
[{"$f":"IF( [1]GeralMinuta!A171 <>\"\", [1]GeralMinuta!A171,\"\")","v":"2 CAA 02 AWG Vão 120m "},{"$f":"IF(Completo_Esforço_CPFL_Paulista!$L$31=1,IF( [1]GeralMinuta!B171 <>\"\", [1]GeralMinuta!B171,0),0)","v":494}]
[{"$f":"IF( [1]GeralMinuta!A172 <>\"\", [1]GeralMinuta!A172,\"\")","v":"2 CAA 1/0 AWG Vão 120m "},{"$f":"IF(Completo_Esforço_CPFL_Paulista!$L$31=1,IF( [1]GeralMinuta!B172 <>\"\", [1]GeralMinuta!B172,0),0)","v":710}]
[{"$f":"IF( [1]GeralMinuta!A173 <>\"\", [1]GeralMinuta!A173,\"\")","v":"2 CAA 2/0 AWG Vão 120m "},{"$f":"IF(Completo_Esforço_CPFL_Paulista!$L$31=1,IF( [1]GeralMinuta!B173 <>\"\", [1]GeralMinuta!B173,0),0)","v":856}]
[{"$f":"IF( [1]GeralMinuta!A174 <>\"\", [1]GeralMinuta!A174,\"\")","v":"2 CAA 4/0 AWG Vão 120m "},{"$f":"IF(Completo_Esforço_CPFL_Paulista!$L$31=1,IF( [1]GeralMinuta!B174 <>\"\", [1]GeralMinuta!B174,0),0)","v":1304}]
[{"$f":"IF( [1]GeralMinuta!A175 <>\"\", [1]GeralMinuta!A175,\"\")","v":"2 CAA 336,4 MCM Vão 120m "},{"$f":"IF(Completo_Esforço_CPFL_Paulista!$L$31=1,IF( [1]GeralMinuta!B175 <>\"\", [1]GeralMinuta!B175,0),0)","v":2070}]
[{"$f":"IF( [1]GeralMinuta!A176 <>\"\", [1]GeralMinuta!A176,\"\")","v":""},{"$f":"IF(Completo_Esforço_CPFL_Paulista!$L$31=1,IF( [1]GeralMinuta!B176 <>\"\", [1]GeralMinuta!B176,0),0)","v":0}]
[{"$f":"IF( [1]GeralMinuta!A177 <>\"\", [1]GeralMinuta!A177,\"\")","v":"2 CAA 04 AWG Vão 120m RGE"},{"$f":"IF(Completo_Esforço_CPFL_Paulista!$L$31=1,IF( [1]GeralMinuta!B177 <>\"\", [1]GeralMinuta!B177,0),0)","v":350}]
[{"$f":"IF( [1]GeralMinuta!A178 <>\"\", [1]GeralMinuta!A178,\"\")","v":"2 CAA 02 AWG Vão 120m RGE"},{"$f":"IF(Completo_Esforço_CPFL_Paulista!$L$31=1,IF( [1]GeralMinuta!B178 <>\"\", [1]GeralMinuta!B178,0),0)","v":494}]
[{"$f":"IF( [1]GeralMinuta!A179 <>\"\", [1]GeralMinuta!A179,\"\")","v":"2 CAA 1/0 AWG Vão 120m RGE"},{"$f":"IF(Completo_Esforço_CPFL_Paulista!$L$31=1,IF( [1]GeralMinuta!B179 <>\"\", [1]GeralMinuta!B179,0),0)","v":710}]
[{"$f":"IF( [1]GeralMinuta!A180 <>\"\", [1]GeralMinuta!A180,\"\")","v":"2 CAA 2/0 AWG Vão 120m RGE"},{"$f":"IF(Completo_Esforço_CPFL_Paulista!$L$31=1,IF( [1]GeralMinuta!B180 <>\"\", [1]GeralMinuta!B180,0),0)","v":886}]
[{"$f":"IF( [1]GeralMinuta!A181 <>\"\", [1]GeralMinuta!A181,\"\")","v":"2 CAA 4/0 AWG Vão 120m RGE"},{"$f":"IF(Completo_Esforço_CPFL_Paulista!$L$31=1,IF( [1]GeralMinuta!B181 <>\"\", [1]GeralMinuta!B181,0),0)","v":1410}]
[{"$f":"IF( [1]GeralMinuta!A182 <>\"\", [1]GeralMinuta!A182,\"\")","v":"2 CAA 336,4 MCM Vão 120m RGE"},{"$f":"IF(Completo_Esforço_CPFL_Paulista!$L$31=1,IF( [1]GeralMinuta!B182 <>\"\", [1]GeralMinuta!B182,0),0)","v":2240}]
[{"$f":"IF( [1]GeralMinuta!A183 <>\"\", [1]GeralMinuta!A183,\"\")","v":""},{"$f":"IF(Completo_Esforço_CPFL_Paulista!$L$31=1,IF( [1]GeralMinuta!B183 <>\"\", [1]GeralMinuta!B183,0),0)","v":0}]
[{"$f":"IF( [1]GeralMinuta!A184 <>\"\", [1]GeralMinuta!A184,\"\")","v":"2 CU 06 AWG Vão 35m  "},{"$f":"IF(Completo_Esforço_CPFL_Paulista!$L$31=1,IF( [1]GeralMinuta!B184 <>\"\", [1]GeralMinuta!B184,0),0)","v":112}]
[{"$f":"IF( [1]GeralMinuta!A185 <>\"\", [1]GeralMinuta!A185,\"\")","v":"2 CU 02 AWG Vão 35m  "},{"$f":"IF(Completo_Esforço_CPFL_Paulista!$L$31=1,IF( [1]GeralMinuta!B185 <>\"\", [1]GeralMinuta!B185,0),0)","v":282}]
[{"$f":"IF( [1]GeralMinuta!A186 <>\"\", [1]GeralMinuta!A186,\"\")","v":"2 CU 1/0 AWG Vão 35m  "},{"$f":"IF(Completo_Esforço_CPFL_Paulista!$L$31=1,IF( [1]GeralMinuta!B186 <>\"\", [1]GeralMinuta!B186,0),0)","v":416}]
[{"$f":"IF( [1]GeralMinuta!A187 <>\"\", [1]GeralMinuta!A187,\"\")","v":"2 CU 2/0 AWG Vão 35m  "},{"$f":"IF(Completo_Esforço_CPFL_Paulista!$L$31=1,IF( [1]GeralMinuta!B187 <>\"\", [1]GeralMinuta!B187,0),0)","v":514}]
[{"$f":"IF( [1]GeralMinuta!A188 <>\"\", [1]GeralMinuta!A188,\"\")","v":"2 CU 4/0 AWG Vão 35m  "},{"$f":"IF(Completo_Esforço_CPFL_Paulista!$L$31=1,IF( [1]GeralMinuta!B188 <>\"\", [1]GeralMinuta!B188,0),0)","v":792}]
[{"$f":"IF( [1]GeralMinuta!A189 <>\"\", [1]GeralMinuta!A189,\"\")","v":""},{"$f":"IF(Completo_Esforço_CPFL_Paulista!$L$31=1,IF( [1]GeralMinuta!B189 <>\"\", [1]GeralMinuta!B189,0),0)","v":0}]
[{"$f":"IF( [1]GeralMinuta!A190 <>\"\", [1]GeralMinuta!A190,\"\")","v":"1 CU 06 AWG Vão 35m  RGE"},{"$f":"IF(Completo_Esforço_CPFL_Paulista!$L$31=1,IF( [1]GeralMinuta!B190 <>\"\", [1]GeralMinuta!B190,0),0)","v":56}]
[{"$f":"IF( [1]GeralMinuta!A191 <>\"\", [1]GeralMinuta!A191,\"\")","v":"1 CU 02 AWG Vão 35m  RGE"},{"$f":"IF(Completo_Esforço_CPFL_Paulista!$L$31=1,IF( [1]GeralMinuta!B191 <>\"\", [1]GeralMinuta!B191,0),0)","v":141}]
[{"$f":"IF( [1]GeralMinuta!A192 <>\"\", [1]GeralMinuta!A192,\"\")","v":"1 CU 1/0 AWG Vão 35m  RGE"},{"$f":"IF(Completo_Esforço_CPFL_Paulista!$L$31=1,IF( [1]GeralMinuta!B192 <>\"\", [1]GeralMinuta!B192,0),0)","v":208}]
[{"$f":"IF( [1]GeralMinuta!A193 <>\"\", [1]GeralMinuta!A193,\"\")","v":"1 CU 2/0 AWG Vão 35m  RGE"},{"$f":"IF(Completo_Esforço_CPFL_Paulista!$L$31=1,IF( [1]GeralMinuta!B193 <>\"\", [1]GeralMinuta!B193,0),0)","v":257}]
[{"$f":"IF( [1]GeralMinuta!A194 <>\"\", [1]GeralMinuta!A194,\"\")","v":"1 CU 4/0 AWG Vão 35m  RGE"},{"$f":"IF(Completo_Esforço_CPFL_Paulista!$L$31=1,IF( [1]GeralMinuta!B194 <>\"\", [1]GeralMinuta!B194,0),0)","v":396}]
[{"$f":"IF( [1]GeralMinuta!A195 <>\"\", [1]GeralMinuta!A195,\"\")","v":""},{"$f":"IF(Completo_Esforço_CPFL_Paulista!$L$31=1,IF( [1]GeralMinuta!B195 <>\"\", [1]GeralMinuta!B195,0),0)","v":0}]
[{"$f":"IF( [1]GeralMinuta!A196 <>\"\", [1]GeralMinuta!A196,\"\")","v":"1 CA 02 AWG Vão 35m "},{"$f":"IF(Completo_Esforço_CPFL_Paulista!$L$31=1,IF( [1]GeralMinuta!B196 <>\"\", [1]GeralMinuta!B196,0),0)","v":60}]
[{"$f":"IF( [1]GeralMinuta!A197 <>\"\", [1]GeralMinuta!A197,\"\")","v":"1 CA 1/0 AWG Vão 35m "},{"$f":"IF(Completo_Esforço_CPFL_Paulista!$L$31=1,IF( [1]GeralMinuta!B197 <>\"\", [1]GeralMinuta!B197,0),0)","v":96}]
[{"$f":"IF( [1]GeralMinuta!A198 <>\"\", [1]GeralMinuta!A198,\"\")","v":"1 CA 2/0 AWG Vão 35m "},{"$f":"IF(Completo_Esforço_CPFL_Paulista!$L$31=1,IF( [1]GeralMinuta!B198 <>\"\", [1]GeralMinuta!B198,0),0)","v":121}]
[{"$f":"IF( [1]GeralMinuta!A199 <>\"\", [1]GeralMinuta!A199,\"\")","v":"1 CA 4/0 AWG Vão 35m "},{"$f":"IF(Completo_Esforço_CPFL_Paulista!$L$31=1,IF( [1]GeralMinuta!B199 <>\"\", [1]GeralMinuta!B199,0),0)","v":194}]
[{"$f":"IF( [1]GeralMinuta!A200 <>\"\", [1]GeralMinuta!A200,\"\")","v":"1 CA 336,4 MCM Vão 35m "},{"$f":"IF(Completo_Esforço_CPFL_Paulista!$L$31=1,IF( [1]GeralMinuta!B200 <>\"\", [1]GeralMinuta!B200,0),0)","v":308}]
[{"$f":"IF( [1]GeralMinuta!A201 <>\"\", [1]GeralMinuta!A201,\"\")","v":"1 CA 477 MCM Vão 35m "},{"$f":"IF(Completo_Esforço_CPFL_Paulista!$L$31=1,IF( [1]GeralMinuta!B201 <>\"\", [1]GeralMinuta!B201,0),0)","v":435}]
[{"$f":"IF( [1]GeralMinuta!A202 <>\"\", [1]GeralMinuta!A202,\"\")","v":""},{"$f":"IF(Completo_Esforço_CPFL_Paulista!$L$31=1,IF( [1]GeralMinuta!B202 <>\"\", [1]GeralMinuta!B202,0),0)","v":0}]
[{"$f":"IF( [1]GeralMinuta!A203 <>\"\", [1]GeralMinuta!A203,\"\")","v":"1 CA 02 AWG Vão 35m RGE"},{"$f":"IF(Completo_Esforço_CPFL_Paulista!$L$31=1,IF( [1]GeralMinuta!B203 <>\"\", [1]GeralMinuta!B203,0),0)","v":75}]
[{"$f":"IF( [1]GeralMinuta!A204 <>\"\", [1]GeralMinuta!A204,\"\")","v":"1 CA 1/0 AWG Vão 35m RGE"},{"$f":"IF(Completo_Esforço_CPFL_Paulista!$L$31=1,IF( [1]GeralMinuta!B204 <>\"\", [1]GeralMinuta!B204,0),0)","v":119}]
[{"$f":"IF( [1]GeralMinuta!A205 <>\"\", [1]GeralMinuta!A205,\"\")","v":"1 CA 2/0 AWG Vão 35m RGE"},{"$f":"IF(Completo_Esforço_CPFL_Paulista!$L$31=1,IF( [1]GeralMinuta!B205 <>\"\", [1]GeralMinuta!B205,0),0)","v":150}]
[{"$f":"IF( [1]GeralMinuta!A206 <>\"\", [1]GeralMinuta!A206,\"\")","v":"1 CA 4/0 AWG Vão 35m RGE"},{"$f":"IF(Completo_Esforço_CPFL_Paulista!$L$31=1,IF( [1]GeralMinuta!B206 <>\"\", [1]GeralMinuta!B206,0),0)","v":240}]
[{"$f":"IF( [1]GeralMinuta!A207 <>\"\", [1]GeralMinuta!A207,\"\")","v":"1 CA 336,4 MCM Vão 35m RGE"},{"$f":"IF(Completo_Esforço_CPFL_Paulista!$L$31=1,IF( [1]GeralMinuta!B207 <>\"\", [1]GeralMinuta!B207,0),0)","v":381}]
[{"$f":"IF( [1]GeralMinuta!A208 <>\"\", [1]GeralMinuta!A208,\"\")","v":"1 CA 477 MCM Vão 35m RGE"},{"$f":"IF(Completo_Esforço_CPFL_Paulista!$L$31=1,IF( [1]GeralMinuta!B208 <>\"\", [1]GeralMinuta!B208,0),0)","v":539}]
[{"$f":"IF( [1]GeralMinuta!A209 <>\"\", [1]GeralMinuta!A209,\"\")","v":""},{"$f":"IF(Completo_Esforço_CPFL_Paulista!$L$31=1,IF( [1]GeralMinuta!B209 <>\"\", [1]GeralMinuta!B209,0),0)","v":0}]
[{"$f":"IF( [1]GeralMinuta!A210 <>\"\", [1]GeralMinuta!A210,\"\")","v":"1 CA 02 AWG Vão 80m "},{"$f":"IF(Completo_Esforço_CPFL_Paulista!$L$31=1,IF( [1]GeralMinuta!B210 <>\"\", [1]GeralMinuta!B210,0),0)","v":133}]
[{"$f":"IF( [1]GeralMinuta!A211 <>\"\", [1]GeralMinuta!A211,\"\")","v":"1 CA 1/0 AWG Vão 80m "},{"$f":"IF(Completo_Esforço_CPFL_Paulista!$L$31=1,IF( [1]GeralMinuta!B211 <>\"\", [1]GeralMinuta!B211,0),0)","v":186}]
[{"$f":"IF( [1]GeralMinuta!A212 <>\"\", [1]GeralMinuta!A212,\"\")","v":"1 CA 2/0 AWG Vão 80m "},{"$f":"IF(Completo_Esforço_CPFL_Paulista!$L$31=1,IF( [1]GeralMinuta!B212 <>\"\", [1]GeralMinuta!B212,0),0)","v":220}]
[{"$f":"IF( [1]GeralMinuta!A213 <>\"\", [1]GeralMinuta!A213,\"\")","v":"1 CA 4/0 AWG Vão 80m "},{"$f":"IF(Completo_Esforço_CPFL_Paulista!$L$31=1,IF( [1]GeralMinuta!B213 <>\"\", [1]GeralMinuta!B213,0),0)","v":315}]
[{"$f":"IF( [1]GeralMinuta!A214 <>\"\", [1]GeralMinuta!A214,\"\")","v":"1 CA 336,4 MCM Vão 80m "},{"$f":"IF(Completo_Esforço_CPFL_Paulista!$L$31=1,IF( [1]GeralMinuta!B214 <>\"\", [1]GeralMinuta!B214,0),0)","v":483}]
[{"$f":"IF( [1]GeralMinuta!A215 <>\"\", [1]GeralMinuta!A215,\"\")","v":"1 CA 477 MCM Vão 80m "},{"$f":"IF(Completo_Esforço_CPFL_Paulista!$L$31=1,IF( [1]GeralMinuta!B215 <>\"\", [1]GeralMinuta!B215,0),0)","v":683}]
[{"$f":"IF( [1]GeralMinuta!A216 <>\"\", [1]GeralMinuta!A216,\"\")","v":""},{"$f":"IF(Completo_Esforço_CPFL_Paulista!$L$31=1,IF( [1]GeralMinuta!B216 <>\"\", [1]GeralMinuta!B216,0),0)","v":0}]
[{"$f":"IF( [1]GeralMinuta!A217 <>\"\", [1]GeralMinuta!A217,\"\")","v":"1 CA 02 AWG Vão 80m RGE"},{"$f":"IF(Completo_Esforço_CPFL_Paulista!$L$31=1,IF( [1]GeralMinuta!B217 <>\"\", [1]GeralMinuta!B217,0),0)","v":133}]
[{"$f":"IF( [1]GeralMinuta!A218 <>\"\", [1]GeralMinuta!A218,\"\")","v":"1 CA 1/0 AWG Vão 80m RGE"},{"$f":"IF(Completo_Esforço_CPFL_Paulista!$L$31=1,IF( [1]GeralMinuta!B218 <>\"\", [1]GeralMinuta!B218,0),0)","v":186}]
[{"$f":"IF( [1]GeralMinuta!A219 <>\"\", [1]GeralMinuta!A219,\"\")","v":"1 CA 2/0 AWG Vão 80m RGE"},{"$f":"IF(Completo_Esforço_CPFL_Paulista!$L$31=1,IF( [1]GeralMinuta!B219 <>\"\", [1]GeralMinuta!B219,0),0)","v":220}]
[{"$f":"IF( [1]GeralMinuta!A220 <>\"\", [1]GeralMinuta!A220,\"\")","v":"1 CA 4/0 AWG Vão 80m RGE"},{"$f":"IF(Completo_Esforço_CPFL_Paulista!$L$31=1,IF( [1]GeralMinuta!B220 <>\"\", [1]GeralMinuta!B220,0),0)","v":343}]
[{"$f":"IF( [1]GeralMinuta!A221 <>\"\", [1]GeralMinuta!A221,\"\")","v":"1 CA 336,4 MCM Vão 80m RGE"},{"$f":"IF(Completo_Esforço_CPFL_Paulista!$L$31=1,IF( [1]GeralMinuta!B221 <>\"\", [1]GeralMinuta!B221,0),0)","v":544}]
[{"$f":"IF( [1]GeralMinuta!A222 <>\"\", [1]GeralMinuta!A222,\"\")","v":"1 CA 477 MCM Vão 80m RGE"},{"$f":"IF(Completo_Esforço_CPFL_Paulista!$L$31=1,IF( [1]GeralMinuta!B222 <>\"\", [1]GeralMinuta!B222,0),0)","v":770}]
[{"$f":"IF( [1]GeralMinuta!A223 <>\"\", [1]GeralMinuta!A223,\"\")","v":""},{"$f":"IF(Completo_Esforço_CPFL_Paulista!$L$31=1,IF( [1]GeralMinuta!B223 <>\"\", [1]GeralMinuta!B223,0),0)","v":0}]
[{"$f":"IF( [1]GeralMinuta!A224 <>\"\", [1]GeralMinuta!A224,\"\")","v":"1 CAA 04 AWG Vão 40m "},{"$f":"IF(Completo_Esforço_CPFL_Paulista!$L$31=1,IF( [1]GeralMinuta!B224 <>\"\", [1]GeralMinuta!B224,0),0)","v":63}]
[{"$f":"IF( [1]GeralMinuta!A225 <>\"\", [1]GeralMinuta!A225,\"\")","v":"1 CAA 02 AWG Vão 40m "},{"$f":"IF(Completo_Esforço_CPFL_Paulista!$L$31=1,IF( [1]GeralMinuta!B225 <>\"\", [1]GeralMinuta!B225,0),0)","v":100}]
[{"$f":"IF( [1]GeralMinuta!A226 <>\"\", [1]GeralMinuta!A226,\"\")","v":"1 CAA 1/0 AWG Vão 40m "},{"$f":"IF(Completo_Esforço_CPFL_Paulista!$L$31=1,IF( [1]GeralMinuta!B226 <>\"\", [1]GeralMinuta!B226,0),0)","v":160}]
[{"$f":"IF( [1]GeralMinuta!A227 <>\"\", [1]GeralMinuta!A227,\"\")","v":"1 CAA 2/0 AWG Vão 40m "},{"$f":"IF(Completo_Esforço_CPFL_Paulista!$L$31=1,IF( [1]GeralMinuta!B227 <>\"\", [1]GeralMinuta!B227,0),0)","v":201}]
[{"$f":"IF( [1]GeralMinuta!A228 <>\"\", [1]GeralMinuta!A228,\"\")","v":"1 CAA 4/0 AWG Vão 40m "},{"$f":"IF(Completo_Esforço_CPFL_Paulista!$L$31=1,IF( [1]GeralMinuta!B228 <>\"\", [1]GeralMinuta!B228,0),0)","v":320}]
[{"$f":"IF( [1]GeralMinuta!A229 <>\"\", [1]GeralMinuta!A229,\"\")","v":""},{"$f":"IF(Completo_Esforço_CPFL_Paulista!$L$31=1,IF( [1]GeralMinuta!B229 <>\"\", [1]GeralMinuta!B229,0),0)","v":0}]
[{"$f":"IF( [1]GeralMinuta!A230 <>\"\", [1]GeralMinuta!A230,\"\")","v":"1 CAA 04 AWG Vão 40m RGE"},{"$f":"IF(Completo_Esforço_CPFL_Paulista!$L$31=1,IF( [1]GeralMinuta!B230 <>\"\", [1]GeralMinuta!B230,0),0)","v":75}]
[{"$f":"IF( [1]GeralMinuta!A231 <>\"\", [1]GeralMinuta!A231,\"\")","v":"1 CAA 02 AWG Vão 40m RGE"},{"$f":"IF(Completo_Esforço_CPFL_Paulista!$L$31=1,IF( [1]GeralMinuta!B231 <>\"\", [1]GeralMinuta!B231,0),0)","v":119}]
[{"$f":"IF( [1]GeralMinuta!A232 <>\"\", [1]GeralMinuta!A232,\"\")","v":"1 CAA 1/0 AWG Vão 40m RGE"},{"$f":"IF(Completo_Esforço_CPFL_Paulista!$L$31=1,IF( [1]GeralMinuta!B232 <>\"\", [1]GeralMinuta!B232,0),0)","v":190}]
[{"$f":"IF( [1]GeralMinuta!A233 <>\"\", [1]GeralMinuta!A233,\"\")","v":"1 CAA 2/0 AWG Vão 40m RGE"},{"$f":"IF(Completo_Esforço_CPFL_Paulista!$L$31=1,IF( [1]GeralMinuta!B233 <>\"\", [1]GeralMinuta!B233,0),0)","v":240}]
[{"$f":"IF( [1]GeralMinuta!A234 <>\"\", [1]GeralMinuta!A234,\"\")","v":"1 CAA 4/0 AWG Vão 40m RGE"},{"$f":"IF(Completo_Esforço_CPFL_Paulista!$L$31=1,IF( [1]GeralMinuta!B234 <>\"\", [1]GeralMinuta!B234,0),0)","v":381}]
[{"$f":"IF( [1]GeralMinuta!A235 <>\"\", [1]GeralMinuta!A235,\"\")","v":""},{"$f":"IF(Completo_Esforço_CPFL_Paulista!$L$31=1,IF( [1]GeralMinuta!B235 <>\"\", [1]GeralMinuta!B235,0),0)","v":0}]
[{"$f":"IF( [1]GeralMinuta!A236 <>\"\", [1]GeralMinuta!A236,\"\")","v":"1 CAA 04 AWG Vão 80m "},{"$f":"IF(Completo_Esforço_CPFL_Paulista!$L$31=1,IF( [1]GeralMinuta!B236 <>\"\", [1]GeralMinuta!B236,0),0)","v":135}]
[{"$f":"IF( [1]GeralMinuta!A237 <>\"\", [1]GeralMinuta!A237,\"\")","v":"1 CAA 02 AWG Vão 80m "},{"$f":"IF(Completo_Esforço_CPFL_Paulista!$L$31=1,IF( [1]GeralMinuta!B237 <>\"\", [1]GeralMinuta!B237,0),0)","v":191}]
[{"$f":"IF( [1]GeralMinuta!A238 <>\"\", [1]GeralMinuta!A238,\"\")","v":"1 CAA 1/0 AWG Vão 80m "},{"$f":"IF(Completo_Esforço_CPFL_Paulista!$L$31=1,IF( [1]GeralMinuta!B238 <>\"\", [1]GeralMinuta!B238,0),0)","v":275}]
[{"$f":"IF( [1]GeralMinuta!A239 <>\"\", [1]GeralMinuta!A239,\"\")","v":"1 CAA 2/0 AWG Vão 80m "},{"$f":"IF(Completo_Esforço_CPFL_Paulista!$L$31=1,IF( [1]GeralMinuta!B239 <>\"\", [1]GeralMinuta!B239,0),0)","v":346}]
[{"$f":"IF( [1]GeralMinuta!A240 <>\"\", [1]GeralMinuta!A240,\"\")","v":"1 CAA 4/0 AWG Vão 80m "},{"$f":"IF(Completo_Esforço_CPFL_Paulista!$L$31=1,IF( [1]GeralMinuta!B240 <>\"\", [1]GeralMinuta!B240,0),0)","v":551}]
[{"$f":"IF( [1]GeralMinuta!A241 <>\"\", [1]GeralMinuta!A241,\"\")","v":"1 CAA 336,4 MCM Vão 80m "},{"$f":"IF(Completo_Esforço_CPFL_Paulista!$L$31=1,IF( [1]GeralMinuta!B241 <>\"\", [1]GeralMinuta!B241,0),0)","v":876}]
[{"$f":"IF( [1]GeralMinuta!A242 <>\"\", [1]GeralMinuta!A242,\"\")","v":""},{"$f":"IF(Completo_Esforço_CPFL_Paulista!$L$31=1,IF( [1]GeralMinuta!B242 <>\"\", [1]GeralMinuta!B242,0),0)","v":0}]
[{"$f":"IF( [1]GeralMinuta!A243 <>\"\", [1]GeralMinuta!A243,\"\")","v":"1 CAA 04 AWG Vão 80m RGE"},{"$f":"IF(Completo_Esforço_CPFL_Paulista!$L$31=1,IF( [1]GeralMinuta!B243 <>\"\", [1]GeralMinuta!B243,0),0)","v":135}]
[{"$f":"IF( [1]GeralMinuta!A244 <>\"\", [1]GeralMinuta!A244,\"\")","v":"1 CAA 02 AWG Vão 80m RGE"},{"$f":"IF(Completo_Esforço_CPFL_Paulista!$L$31=1,IF( [1]GeralMinuta!B244 <>\"\", [1]GeralMinuta!B244,0),0)","v":192}]
[{"$f":"IF( [1]GeralMinuta!A245 <>\"\", [1]GeralMinuta!A245,\"\")","v":"1 CAA 1/0 AWG Vão 80m RGE"},{"$f":"IF(Completo_Esforço_CPFL_Paulista!$L$31=1,IF( [1]GeralMinuta!B245 <>\"\", [1]GeralMinuta!B245,0),0)","v":305}]
[{"$f":"IF( [1]GeralMinuta!A246 <>\"\", [1]GeralMinuta!A246,\"\")","v":"1 CAA 2/0 AWG Vão 80m RGE"},{"$f":"IF(Completo_Esforço_CPFL_Paulista!$L$31=1,IF( [1]GeralMinuta!B246 <>\"\", [1]GeralMinuta!B246,0),0)","v":384}]
[{"$f":"IF( [1]GeralMinuta!A247 <>\"\", [1]GeralMinuta!A247,\"\")","v":"1 CAA 4/0 AWG Vão 80m RGE"},{"$f":"IF(Completo_Esforço_CPFL_Paulista!$L$31=1,IF( [1]GeralMinuta!B247 <>\"\", [1]GeralMinuta!B247,0),0)","v":611}]
[{"$f":"IF( [1]GeralMinuta!A248 <>\"\", [1]GeralMinuta!A248,\"\")","v":"1 CAA 336,4 MCM Vão 80m RGE"},{"$f":"IF(Completo_Esforço_CPFL_Paulista!$L$31=1,IF( [1]GeralMinuta!B248 <>\"\", [1]GeralMinuta!B248,0),0)","v":972}]
[{"$f":"IF( [1]GeralMinuta!A249 <>\"\", [1]GeralMinuta!A249,\"\")","v":""},{"$f":"IF(Completo_Esforço_CPFL_Paulista!$L$31=1,IF( [1]GeralMinuta!B249 <>\"\", [1]GeralMinuta!B249,0),0)","v":0}]
[{"$f":"IF( [1]GeralMinuta!A250 <>\"\", [1]GeralMinuta!A250,\"\")","v":"1 CAA 04 AWG Vão 120m "},{"$f":"IF(Completo_Esforço_CPFL_Paulista!$L$31=1,IF( [1]GeralMinuta!B250 <>\"\", [1]GeralMinuta!B250,0),0)","v":175}]
[{"$f":"IF( [1]GeralMinuta!A251 <>\"\", [1]GeralMinuta!A251,\"\")","v":"1 CAA 02 AWG Vão 120m "},{"$f":"IF(Completo_Esforço_CPFL_Paulista!$L$31=1,IF( [1]GeralMinuta!B251 <>\"\", [1]GeralMinuta!B251,0),0)","v":247}]
[{"$f":"IF( [1]GeralMinuta!A252 <>\"\", [1]GeralMinuta!A252,\"\")","v":"1 CAA 1/0 AWG Vão 120m "},{"$f":"IF(Completo_Esforço_CPFL_Paulista!$L$31=1,IF( [1]GeralMinuta!B252 <>\"\", [1]GeralMinuta!B252,0),0)","v":355}]
[{"$f":"IF( [1]GeralMinuta!A253 <>\"\", [1]GeralMinuta!A253,\"\")","v":"1 CAA 2/0 AWG Vão 120m "},{"$f":"IF(Completo_Esforço_CPFL_Paulista!$L$31=1,IF( [1]GeralMinuta!B253 <>\"\", [1]GeralMinuta!B253,0),0)","v":428}]
[{"$f":"IF( [1]GeralMinuta!A254 <>\"\", [1]GeralMinuta!A254,\"\")","v":"1 CAA 4/0 AWG Vão 120m "},{"$f":"IF(Completo_Esforço_CPFL_Paulista!$L$31=1,IF( [1]GeralMinuta!B254 <>\"\", [1]GeralMinuta!B254,0),0)","v":652}]
[{"$f":"IF( [1]GeralMinuta!A255 <>\"\", [1]GeralMinuta!A255,\"\")","v":"1 CAA 336,4 MCM Vão 120m "},{"$f":"IF(Completo_Esforço_CPFL_Paulista!$L$31=1,IF( [1]GeralMinuta!B255 <>\"\", [1]GeralMinuta!B255,0),0)","v":1035}]
[{"$f":"IF( [1]GeralMinuta!A256 <>\"\", [1]GeralMinuta!A256,\"\")","v":""},{"$f":"IF(Completo_Esforço_CPFL_Paulista!$L$31=1,IF( [1]GeralMinuta!B256 <>\"\", [1]GeralMinuta!B256,0),0)","v":0}]
[{"$f":"IF( [1]GeralMinuta!A257 <>\"\", [1]GeralMinuta!A257,\"\")","v":"1 CAA 04 AWG Vão 120m RGE"},{"$f":"IF(Completo_Esforço_CPFL_Paulista!$L$31=1,IF( [1]GeralMinuta!B257 <>\"\", [1]GeralMinuta!B257,0),0)","v":175}]
[{"$f":"IF( [1]GeralMinuta!A258 <>\"\", [1]GeralMinuta!A258,\"\")","v":"1 CAA 02 AWG Vão 120m RGE"},{"$f":"IF(Completo_Esforço_CPFL_Paulista!$L$31=1,IF( [1]GeralMinuta!B258 <>\"\", [1]GeralMinuta!B258,0),0)","v":247}]
[{"$f":"IF( [1]GeralMinuta!A259 <>\"\", [1]GeralMinuta!A259,\"\")","v":"1 CAA 1/0 AWG Vão 120m RGE"},{"$f":"IF(Completo_Esforço_CPFL_Paulista!$L$31=1,IF( [1]GeralMinuta!B259 <>\"\", [1]GeralMinuta!B259,0),0)","v":355}]
[{"$f":"IF( [1]GeralMinuta!A260 <>\"\", [1]GeralMinuta!A260,\"\")","v":"1 CAA 2/0 AWG Vão 120m RGE"},{"$f":"IF(Completo_Esforço_CPFL_Paulista!$L$31=1,IF( [1]GeralMinuta!B260 <>\"\", [1]GeralMinuta!B260,0),0)","v":443}]
[{"$f":"IF( [1]GeralMinuta!A261 <>\"\", [1]GeralMinuta!A261,\"\")","v":"1 CAA 4/0 AWG Vão 120m RGE"},{"$f":"IF(Completo_Esforço_CPFL_Paulista!$L$31=1,IF( [1]GeralMinuta!B261 <>\"\", [1]GeralMinuta!B261,0),0)","v":705}]
[{"$f":"IF( [1]GeralMinuta!A262 <>\"\", [1]GeralMinuta!A262,\"\")","v":"1 CAA 336,4 MCM Vão 120m RGE"},{"$f":"IF(Completo_Esforço_CPFL_Paulista!$L$31=1,IF( [1]GeralMinuta!B262 <>\"\", [1]GeralMinuta!B262,0),0)","v":1120}]
[{"$f":"IF( [1]GeralMinuta!A263 <>\"\", [1]GeralMinuta!A263,\"\")","v":""},{"$f":"IF(Completo_Esforço_CPFL_Paulista!$L$31=1,IF( [1]GeralMinuta!B263 <>\"\", [1]GeralMinuta!B263,0),0)","v":0}]
[{"$f":"IF( [1]GeralMinuta!A264 <>\"\", [1]GeralMinuta!A264,\"\")","v":"1 CU 06 AWG Vão 35m  "},{"$f":"IF(Completo_Esforço_CPFL_Paulista!$L$31=1,IF( [1]GeralMinuta!B264 <>\"\", [1]GeralMinuta!B264,0),0)","v":56}]
[{"$f":"IF( [1]GeralMinuta!A265 <>\"\", [1]GeralMinuta!A265,\"\")","v":"1 CU 02 AWG Vão 35m  "},{"$f":"IF(Completo_Esforço_CPFL_Paulista!$L$31=1,IF( [1]GeralMinuta!B265 <>\"\", [1]GeralMinuta!B265,0),0)","v":141}]
[{"$f":"IF( [1]GeralMinuta!A266 <>\"\", [1]GeralMinuta!A266,\"\")","v":"1 CU 1/0 AWG Vão 35m  "},{"$f":"IF(Completo_Esforço_CPFL_Paulista!$L$31=1,IF( [1]GeralMinuta!B266 <>\"\", [1]GeralMinuta!B266,0),0)","v":208}]
[{"$f":"IF( [1]GeralMinuta!A267 <>\"\", [1]GeralMinuta!A267,\"\")","v":"1 CU 2/0 AWG Vão 35m  "},{"$f":"IF(Completo_Esforço_CPFL_Paulista!$L$31=1,IF( [1]GeralMinuta!B267 <>\"\", [1]GeralMinuta!B267,0),0)","v":257}]
[{"$f":"IF( [1]GeralMinuta!A268 <>\"\", [1]GeralMinuta!A268,\"\")","v":"1 CU 4/0 AWG Vão 35m  "},{"$f":"IF(Completo_Esforço_CPFL_Paulista!$L$31=1,IF( [1]GeralMinuta!B268 <>\"\", [1]GeralMinuta!B268,0),0)","v":396}]
[{"$f":"IF( [1]GeralMinuta!A269 <>\"\", [1]GeralMinuta!A269,\"\")","v":""},{"$f":"IF(Completo_Esforço_CPFL_Paulista!$L$31=1,IF( [1]GeralMinuta!B269 <>\"\", [1]GeralMinuta!B269,0),0)","v":0}]
[{"$f":"IF( [1]GeralMinuta!A270 <>\"\", [1]GeralMinuta!A270,\"\")","v":""},{"$f":"IF(Completo_Esforço_CPFL_Paulista!$L$31=1,IF( [1]GeralMinuta!B270 <>\"\", [1]GeralMinuta!B270,0),0)","v":0}]
[{"$f":"IF( [1]GeralMinuta!A271 <>\"\", [1]GeralMinuta!A271,\"\")","v":""},{"$f":"IF(Completo_Esforço_CPFL_Paulista!$L$31=1,IF( [1]GeralMinuta!B271 <>\"\", [1]GeralMinuta!B271,0),0)","v":0}]
[{"$f":"IF( [1]GeralMinuta!A272 <>\"\", [1]GeralMinuta!A272,\"\")","v":""},{"$f":"IF(Completo_Esforço_CPFL_Paulista!$L$31=1,IF( [1]GeralMinuta!B272 <>\"\", [1]GeralMinuta!B272,0),0)","v":0}]
[{"$f":"IF( [1]GeralMinuta!A273 <>\"\", [1]GeralMinuta!A273,\"\")","v":""},{"$f":"IF(Completo_Esforço_CPFL_Paulista!$L$31=1,IF( [1]GeralMinuta!B273 <>\"\", [1]GeralMinuta!B273,0),0)","v":0}]
[{"$f":"IF( [1]GeralMinuta!A274 <>\"\", [1]GeralMinuta!A274,\"\")","v":""},{"$f":"IF(Completo_Esforço_CPFL_Paulista!$L$31=1,IF( [1]GeralMinuta!B274 <>\"\", [1]GeralMinuta!B274,0),0)","v":0}]
[{"$f":"IF( [1]GeralMinuta!A275 <>\"\", [1]GeralMinuta!A275,\"\")","v":""},{"$f":"IF(Completo_Esforço_CPFL_Paulista!$L$31=1,IF( [1]GeralMinuta!B275 <>\"\", [1]GeralMinuta!B275,0),0)","v":0}]
[{"$f":"IF( [1]GeralMinuta!A276 <>\"\", [1]GeralMinuta!A276,\"\")","v":""},{"$f":"IF(Completo_Esforço_CPFL_Paulista!$L$31=1,IF( [1]GeralMinuta!B276 <>\"\", [1]GeralMinuta!B276,0),0)","v":0}]
[{"$f":"IF( [1]GeralMinuta!A277 <>\"\", [1]GeralMinuta!A277,\"\")","v":""},{"$f":"IF(Completo_Esforço_CPFL_Paulista!$L$31=1,IF( [1]GeralMinuta!B277 <>\"\", [1]GeralMinuta!B277,0),0)","v":0}]
[{"$f":"IF( [1]GeralMinuta!A278 <>\"\", [1]GeralMinuta!A278,\"\")","v":""},{"$f":"IF(Completo_Esforço_CPFL_Paulista!$L$31=1,IF( [1]GeralMinuta!B278 <>\"\", [1]GeralMinuta!B278,0),0)","v":0}]
[{"$f":"IF( [1]GeralMinuta!A279 <>\"\", [1]GeralMinuta!A279,\"\")","v":""},{"$f":"IF(Completo_Esforço_CPFL_Paulista!$L$31=1,IF( [1]GeralMinuta!B279 <>\"\", [1]GeralMinuta!B279,0),0)","v":0}]
[{"$f":"IF( [1]GeralMinuta!A280 <>\"\", [1]GeralMinuta!A280,\"\")","v":""},{"$f":"IF(Completo_Esforço_CPFL_Paulista!$L$31=1,IF( [1]GeralMinuta!B280 <>\"\", [1]GeralMinuta!B280,0),0)","v":0}]
[{"$f":"IF( [1]GeralMinuta!A281 <>\"\", [1]GeralMinuta!A281,\"\")","v":""},{"$f":"IF(Completo_Esforço_CPFL_Paulista!$L$31=1,IF( [1]GeralMinuta!B281 <>\"\", [1]GeralMinuta!B281,0),0)","v":0}]
[{"$f":"IF( [1]GeralMinuta!A282 <>\"\", [1]GeralMinuta!A282,\"\")","v":""},{"$f":"IF(Completo_Esforço_CPFL_Paulista!$L$31=1,IF( [1]GeralMinuta!B282 <>\"\", [1]GeralMinuta!B282,0),0)","v":0}]
[{"$f":"IF( [1]GeralMinuta!A283 <>\"\", [1]GeralMinuta!A283,\"\")","v":""},{"$f":"IF(Completo_Esforço_CPFL_Paulista!$L$31=1,IF( [1]GeralMinuta!B283 <>\"\", [1]GeralMinuta!B283,0),0)","v":0}]
[{"$f":"IF( [1]GeralMinuta!A284 <>\"\", [1]GeralMinuta!A284,\"\")","v":""},{"$f":"IF(Completo_Esforço_CPFL_Paulista!$L$31=1,IF( [1]GeralMinuta!B284 <>\"\", [1]GeralMinuta!B284,0),0)","v":0}]
[{"$f":"IF( [1]GeralMinuta!A285 <>\"\", [1]GeralMinuta!A285,\"\")","v":""},{"$f":"IF(Completo_Esforço_CPFL_Paulista!$L$31=1,IF( [1]GeralMinuta!B285 <>\"\", [1]GeralMinuta!B285,0),0)","v":0}]
[{"$f":"IF( [1]GeralMinuta!A286 <>\"\", [1]GeralMinuta!A286,\"\")","v":""},{"$f":"IF(Completo_Esforço_CPFL_Paulista!$L$31=1,IF( [1]GeralMinuta!B286 <>\"\", [1]GeralMinuta!B286,0),0)","v":0}]
[{"$f":"IF( [1]GeralMinuta!A287 <>\"\", [1]GeralMinuta!A287,\"\")","v":""},{"$f":"IF(Completo_Esforço_CPFL_Paulista!$L$31=1,IF( [1]GeralMinuta!B287 <>\"\", [1]GeralMinuta!B287,0),0)","v":0}]
[{"$f":"IF( [1]GeralMinuta!A288 <>\"\", [1]GeralMinuta!A288,\"\")","v":""},{"$f":"IF(Completo_Esforço_CPFL_Paulista!$L$31=1,IF( [1]GeralMinuta!B288 <>\"\", [1]GeralMinuta!B288,0),0)","v":0}]
[{"$f":"IF( [1]GeralMinuta!A289 <>\"\", [1]GeralMinuta!A289,\"\")","v":""},{"$f":"IF(Completo_Esforço_CPFL_Paulista!$L$31=1,IF( [1]GeralMinuta!B289 <>\"\", [1]GeralMinuta!B289,0),0)","v":0}]
[{"$f":"IF( [1]GeralMinuta!A290 <>\"\", [1]GeralMinuta!A290,\"\")","v":""},{"$f":"IF(Completo_Esforço_CPFL_Paulista!$L$31=1,IF( [1]GeralMinuta!B290 <>\"\", [1]GeralMinuta!B290,0),0)","v":0}]
[{"$f":"IF( [1]GeralMinuta!A291 <>\"\", [1]GeralMinuta!A291,\"\")","v":""},{"$f":"IF(Completo_Esforço_CPFL_Paulista!$L$31=1,IF( [1]GeralMinuta!B291 <>\"\", [1]GeralMinuta!B291,0),0)","v":0}]
[{"$f":"IF( [1]GeralMinuta!A292 <>\"\", [1]GeralMinuta!A292,\"\")","v":""},{"$f":"IF(Completo_Esforço_CPFL_Paulista!$L$31=1,IF( [1]GeralMinuta!B292 <>\"\", [1]GeralMinuta!B292,0),0)","v":0}]
[{"$f":"IF( [1]GeralMinuta!A293 <>\"\", [1]GeralMinuta!A293,\"\")","v":""},{"$f":"IF(Completo_Esforço_CPFL_Paulista!$L$31=1,IF( [1]GeralMinuta!B293 <>\"\", [1]GeralMinuta!B293,0),0)","v":0}]
[{"$f":"IF( [1]GeralMinuta!A294 <>\"\", [1]GeralMinuta!A294,\"\")","v":""},{"$f":"IF(Completo_Esforço_CPFL_Paulista!$L$31=1,IF( [1]GeralMinuta!B294 <>\"\", [1]GeralMinuta!B294,0),0)","v":0}]
[{"$f":"IF( [1]GeralMinuta!A295 <>\"\", [1]GeralMinuta!A295,\"\")","v":""},{"$f":"IF(Completo_Esforço_CPFL_Paulista!$L$31=1,IF( [1]GeralMinuta!B295 <>\"\", [1]GeralMinuta!B295,0),0)","v":0}]
[{"$f":"IF( [1]GeralMinuta!A296 <>\"\", [1]GeralMinuta!A296,\"\")","v":""},{"$f":"IF(Completo_Esforço_CPFL_Paulista!$L$31=1,IF( [1]GeralMinuta!B296 <>\"\", [1]GeralMinuta!B296,0),0)","v":0}]
[{"$f":"IF( [1]GeralMinuta!A297 <>\"\", [1]GeralMinuta!A297,\"\")","v":""},{"$f":"IF(Completo_Esforço_CPFL_Paulista!$L$31=1,IF( [1]GeralMinuta!B297 <>\"\", [1]GeralMinuta!B297,0),0)","v":0}]
[{"$f":"IF( [1]GeralMinuta!A298 <>\"\", [1]GeralMinuta!A298,\"\")","v":""},{"$f":"IF(Completo_Esforço_CPFL_Paulista!$L$31=1,IF( [1]GeralMinuta!B298 <>\"\", [1]GeralMinuta!B298,0),0)","v":0}]
[{"$f":"IF( [1]GeralMinuta!A299 <>\"\", [1]GeralMinuta!A299,\"\")","v":""},{"$f":"IF(Completo_Esforço_CPFL_Paulista!$L$31=1,IF( [1]GeralMinuta!B299 <>\"\", [1]GeralMinuta!B299,0),0)","v":0}]
[{"$f":"IF( [1]GeralMinuta!A300 <>\"\", [1]GeralMinuta!A300,\"\")","v":""},{"$f":"IF(Completo_Esforço_CPFL_Paulista!$L$31=1,IF( [1]GeralMinuta!B300 <>\"\", [1]GeralMinuta!B300,0),0)","v":0}]
[{"$f":"IF( [1]GeralMinuta!A301 <>\"\", [1]GeralMinuta!A301,\"\")","v":""},{"$f":"IF(Completo_Esforço_CPFL_Paulista!$L$31=1,IF( [1]GeralMinuta!B301 <>\"\", [1]GeralMinuta!B301,0),0)","v":0}]
[{"$f":"IF( [1]GeralMinuta!A302 <>\"\", [1]GeralMinuta!A302,\"\")","v":""},{"$f":"IF(Completo_Esforço_CPFL_Paulista!$L$31=1,IF( [1]GeralMinuta!B302 <>\"\", [1]GeralMinuta!B302,0),0)","v":0}]
[{"$f":"IF( [1]GeralMinuta!A303 <>\"\", [1]GeralMinuta!A303,\"\")","v":""},{"$f":"IF(Completo_Esforço_CPFL_Paulista!$L$31=1,IF( [1]GeralMinuta!B303 <>\"\", [1]GeralMinuta!B303,0),0)","v":0}]
[{"$f":"IF( [1]GeralMinuta!A304 <>\"\", [1]GeralMinuta!A304,\"\")","v":""},{"$f":"IF(Completo_Esforço_CPFL_Paulista!$L$31=1,IF( [1]GeralMinuta!B304 <>\"\", [1]GeralMinuta!B304,0),0)","v":0}]
[{"$f":"IF( [1]GeralMinuta!A305 <>\"\", [1]GeralMinuta!A305,\"\")","v":""},{"$f":"IF(Completo_Esforço_CPFL_Paulista!$L$31=1,IF( [1]GeralMinuta!B305 <>\"\", [1]GeralMinuta!B305,0),0)","v":0}]
[{"$f":"IF( [1]GeralMinuta!A306 <>\"\", [1]GeralMinuta!A306,\"\")","v":""},{"$f":"IF(Completo_Esforço_CPFL_Paulista!$L$31=1,IF( [1]GeralMinuta!B306 <>\"\", [1]GeralMinuta!B306,0),0)","v":0}]
[{"$f":"IF( [1]GeralMinuta!A307 <>\"\", [1]GeralMinuta!A307,\"\")","v":""},{"$f":"IF(Completo_Esforço_CPFL_Paulista!$L$31=1,IF( [1]GeralMinuta!B307 <>\"\", [1]GeralMinuta!B307,0),0)","v":0}]
[{"$f":"IF( [1]GeralMinuta!A308 <>\"\", [1]GeralMinuta!A308,\"\")","v":""},{"$f":"IF(Completo_Esforço_CPFL_Paulista!$L$31=1,IF( [1]GeralMinuta!B308 <>\"\", [1]GeralMinuta!B308,0),0)","v":0}]
[{"$f":"IF( [1]GeralMinuta!A309 <>\"\", [1]GeralMinuta!A309,\"\")","v":""},{"$f":"IF(Completo_Esforço_CPFL_Paulista!$L$31=1,IF( [1]GeralMinuta!B309 <>\"\", [1]GeralMinuta!B309,0),0)","v":0}]
[{"$f":"IF( [1]GeralMinuta!A310 <>\"\", [1]GeralMinuta!A310,\"\")","v":""},{"$f":"IF(Completo_Esforço_CPFL_Paulista!$L$31=1,IF( [1]GeralMinuta!B310 <>\"\", [1]GeralMinuta!B310,0),0)","v":0}]
[{"$f":"IF( [1]GeralMinuta!A311 <>\"\", [1]GeralMinuta!A311,\"\")","v":""},{"$f":"IF(Completo_Esforço_CPFL_Paulista!$L$31=1,IF( [1]GeralMinuta!B311 <>\"\", [1]GeralMinuta!B311,0),0)","v":0}]
[{"$f":"IF( [1]GeralMinuta!A312 <>\"\", [1]GeralMinuta!A312,\"\")","v":""},{"$f":"IF(Completo_Esforço_CPFL_Paulista!$L$31=1,IF( [1]GeralMinuta!B312 <>\"\", [1]GeralMinuta!B312,0),0)","v":0}]
[{"$f":"IF( [1]GeralMinuta!A313 <>\"\", [1]GeralMinuta!A313,\"\")","v":""},{"$f":"IF(Completo_Esforço_CPFL_Paulista!$L$31=1,IF( [1]GeralMinuta!B313 <>\"\", [1]GeralMinuta!B313,0),0)","v":0}]
[{"$f":"IF( [1]GeralMinuta!A314 <>\"\", [1]GeralMinuta!A314,\"\")","v":""},{"$f":"IF(Completo_Esforço_CPFL_Paulista!$L$31=1,IF( [1]GeralMinuta!B314 <>\"\", [1]GeralMinuta!B314,0),0)","v":0}]
[{"$f":"IF( [1]GeralMinuta!A315 <>\"\", [1]GeralMinuta!A315,\"\")","v":""},{"$f":"IF(Completo_Esforço_CPFL_Paulista!$L$31=1,IF( [1]GeralMinuta!B315 <>\"\", [1]GeralMinuta!B315,0),0)","v":0}]
[{"$f":"IF( [1]GeralMinuta!A316 <>\"\", [1]GeralMinuta!A316,\"\")","v":""},{"$f":"IF(Completo_Esforço_CPFL_Paulista!$L$31=1,IF( [1]GeralMinuta!B316 <>\"\", [1]GeralMinuta!B316,0),0)","v":0}]
[{"$f":"IF( [1]GeralMinuta!A317 <>\"\", [1]GeralMinuta!A317,\"\")","v":""},{"$f":"IF(Completo_Esforço_CPFL_Paulista!$L$31=1,IF( [1]GeralMinuta!B317 <>\"\", [1]GeralMinuta!B317,0),0)","v":0}]
[{"$f":"IF( [1]GeralMinuta!A318 <>\"\", [1]GeralMinuta!A318,\"\")","v":""},{"$f":"IF(Completo_Esforço_CPFL_Paulista!$L$31=1,IF( [1]GeralMinuta!B318 <>\"\", [1]GeralMinuta!B318,0),0)","v":0}]
[{"$f":"IF( [1]GeralMinuta!A319 <>\"\", [1]GeralMinuta!A319,\"\")","v":""},{"$f":"IF(Completo_Esforço_CPFL_Paulista!$L$31=1,IF( [1]GeralMinuta!B319 <>\"\", [1]GeralMinuta!B319,0),0)","v":0}]
[{"$f":"IF( [1]GeralMinuta!A320 <>\"\", [1]GeralMinuta!A320,\"\")","v":""},{"$f":"IF(Completo_Esforço_CPFL_Paulista!$L$31=1,IF( [1]GeralMinuta!B320 <>\"\", [1]GeralMinuta!B320,0),0)","v":0}]
[{"$f":"IF( [1]GeralMinuta!A321 <>\"\", [1]GeralMinuta!A321,\"\")","v":""},{"$f":"IF(Completo_Esforço_CPFL_Paulista!$L$31=1,IF( [1]GeralMinuta!B321 <>\"\", [1]GeralMinuta!B321,0),0)","v":0}]
[{"$f":"IF( [1]GeralMinuta!A322 <>\"\", [1]GeralMinuta!A322,\"\")","v":""},{"$f":"IF(Completo_Esforço_CPFL_Paulista!$L$31=1,IF( [1]GeralMinuta!B322 <>\"\", [1]GeralMinuta!B322,0),0)","v":0}]
[{"$f":"IF( [1]GeralMinuta!A323 <>\"\", [1]GeralMinuta!A323,\"\")","v":""},{"$f":"IF(Completo_Esforço_CPFL_Paulista!$L$31=1,IF( [1]GeralMinuta!B323 <>\"\", [1]GeralMinuta!B323,0),0)","v":0}]
[{"$f":"IF( [1]GeralMinuta!A324 <>\"\", [1]GeralMinuta!A324,\"\")","v":""},{"$f":"IF(Completo_Esforço_CPFL_Paulista!$L$31=1,IF( [1]GeralMinuta!B324 <>\"\", [1]GeralMinuta!B324,0),0)","v":0}]
[{"$f":"IF( [1]GeralMinuta!A325 <>\"\", [1]GeralMinuta!A325,\"\")","v":""},{"$f":"IF(Completo_Esforço_CPFL_Paulista!$L$31=1,IF( [1]GeralMinuta!B325 <>\"\", [1]GeralMinuta!B325,0),0)","v":0}]
[{"$f":"IF( [1]GeralMinuta!A326 <>\"\", [1]GeralMinuta!A326,\"\")","v":""},{"$f":"IF(Completo_Esforço_CPFL_Paulista!$L$31=1,IF( [1]GeralMinuta!B326 <>\"\", [1]GeralMinuta!B326,0),0)","v":0}]
[{"$f":"IF( [1]GeralMinuta!A327 <>\"\", [1]GeralMinuta!A327,\"\")","v":""},{"$f":"IF(Completo_Esforço_CPFL_Paulista!$L$31=1,IF( [1]GeralMinuta!B327 <>\"\", [1]GeralMinuta!B327,0),0)","v":0}]
[{"$f":"IF( [1]GeralMinuta!A328 <>\"\", [1]GeralMinuta!A328,\"\")","v":""},{"$f":"IF(Completo_Esforço_CPFL_Paulista!$L$31=1,IF( [1]GeralMinuta!B328 <>\"\", [1]GeralMinuta!B328,0),0)","v":0}]
[{"$f":"IF( [1]GeralMinuta!A329 <>\"\", [1]GeralMinuta!A329,\"\")","v":""},{"$f":"IF(Completo_Esforço_CPFL_Paulista!$L$31=1,IF( [1]GeralMinuta!B329 <>\"\", [1]GeralMinuta!B329,0),0)","v":0}]
[{"$f":"IF( [1]GeralMinuta!A330 <>\"\", [1]GeralMinuta!A330,\"\")","v":""},{"$f":"IF(Completo_Esforço_CPFL_Paulista!$L$31=1,IF( [1]GeralMinuta!B330 <>\"\", [1]GeralMinuta!B330,0),0)","v":0}]
[{"$f":"IF( [1]GeralMinuta!A331 <>\"\", [1]GeralMinuta!A331,\"\")","v":""},{"$f":"IF(Completo_Esforço_CPFL_Paulista!$L$31=1,IF( [1]GeralMinuta!B331 <>\"\", [1]GeralMinuta!B331,0),0)","v":0}]
[{"$f":"IF( [1]GeralMinuta!A332 <>\"\", [1]GeralMinuta!A332,\"\")","v":""},{"$f":"IF(Completo_Esforço_CPFL_Paulista!$L$31=1,IF( [1]GeralMinuta!B332 <>\"\", [1]GeralMinuta!B332,0),0)","v":0}]
[{"$f":"IF( [1]GeralMinuta!A333 <>\"\", [1]GeralMinuta!A333,\"\")","v":""},{"$f":"IF(Completo_Esforço_CPFL_Paulista!$L$31=1,IF( [1]GeralMinuta!B333 <>\"\", [1]GeralMinuta!B333,0),0)","v":0}]
[{"$f":"IF( [1]GeralMinuta!A334 <>\"\", [1]GeralMinuta!A334,\"\")","v":""},{"$f":"IF(Completo_Esforço_CPFL_Paulista!$L$31=1,IF( [1]GeralMinuta!B334 <>\"\", [1]GeralMinuta!B334,0),0)","v":0}]
[{"$f":"IF( [1]GeralMinuta!A335 <>\"\", [1]GeralMinuta!A335,\"\")","v":""},{"$f":"IF(Completo_Esforço_CPFL_Paulista!$L$31=1,IF( [1]GeralMinuta!B335 <>\"\", [1]GeralMinuta!B335,0),0)","v":0}]
[{"$f":"IF( [1]GeralMinuta!A336 <>\"\", [1]GeralMinuta!A336,\"\")","v":""},{"$f":"IF(Completo_Esforço_CPFL_Paulista!$L$31=1,IF( [1]GeralMinuta!B336 <>\"\", [1]GeralMinuta!B336,0),0)","v":0}]
[{"$f":"IF( [1]GeralMinuta!A337 <>\"\", [1]GeralMinuta!A337,\"\")","v":""},{"$f":"IF(Completo_Esforço_CPFL_Paulista!$L$31=1,IF( [1]GeralMinuta!B337 <>\"\", [1]GeralMinuta!B337,0),0)","v":0}]
[{"$f":"IF( [1]GeralMinuta!A338 <>\"\", [1]GeralMinuta!A338,\"\")","v":""},{"$f":"IF(Completo_Esforço_CPFL_Paulista!$L$31=1,IF( [1]GeralMinuta!B338 <>\"\", [1]GeralMinuta!B338,0),0)","v":0}]
[{"$f":"IF( [1]GeralMinuta!A339 <>\"\", [1]GeralMinuta!A339,\"\")","v":""},{"$f":"IF(Completo_Esforço_CPFL_Paulista!$L$31=1,IF( [1]GeralMinuta!B339 <>\"\", [1]GeralMinuta!B339,0),0)","v":0}]
[{"$f":"IF( [1]GeralMinuta!A340 <>\"\", [1]GeralMinuta!A340,\"\")","v":""},{"$f":"IF(Completo_Esforço_CPFL_Paulista!$L$31=1,IF( [1]GeralMinuta!B340 <>\"\", [1]GeralMinuta!B340,0),0)","v":0}]
[{"$f":"IF( [1]GeralMinuta!A341 <>\"\", [1]GeralMinuta!A341,\"\")","v":""},{"$f":"IF(Completo_Esforço_CPFL_Paulista!$L$31=1,IF( [1]GeralMinuta!B341 <>\"\", [1]GeralMinuta!B341,0),0)","v":0}]
[{"$f":"IF( [1]GeralMinuta!A342 <>\"\", [1]GeralMinuta!A342,\"\")","v":""},{"$f":"IF(Completo_Esforço_CPFL_Paulista!$L$31=1,IF( [1]GeralMinuta!B342 <>\"\", [1]GeralMinuta!B342,0),0)","v":0}]
[{"$f":"IF( [1]GeralMinuta!A343 <>\"\", [1]GeralMinuta!A343,\"\")","v":""},{"$f":"IF(Completo_Esforço_CPFL_Paulista!$L$31=1,IF( [1]GeralMinuta!B343 <>\"\", [1]GeralMinuta!B343,0),0)","v":0}]
[{"$f":"IF( [1]GeralMinuta!A344 <>\"\", [1]GeralMinuta!A344,\"\")","v":""},{"$f":"IF(Completo_Esforço_CPFL_Paulista!$L$31=1,IF( [1]GeralMinuta!B344 <>\"\", [1]GeralMinuta!B344,0),0)","v":0}]
[{"$f":"IF( [1]GeralMinuta!A345 <>\"\", [1]GeralMinuta!A345,\"\")","v":""},{"$f":"IF(Completo_Esforço_CPFL_Paulista!$L$31=1,IF( [1]GeralMinuta!B345 <>\"\", [1]GeralMinuta!B345,0),0)","v":0}]
[{"$f":"IF( [1]GeralMinuta!A346 <>\"\", [1]GeralMinuta!A346,\"\")","v":""},{"$f":"IF(Completo_Esforço_CPFL_Paulista!$L$31=1,IF( [1]GeralMinuta!B346 <>\"\", [1]GeralMinuta!B346,0),0)","v":0}]
[{"$f":"IF( [1]GeralMinuta!A347 <>\"\", [1]GeralMinuta!A347,\"\")","v":""},{"$f":"IF(Completo_Esforço_CPFL_Paulista!$L$31=1,IF( [1]GeralMinuta!B347 <>\"\", [1]GeralMinuta!B347,0),0)","v":0}]
[{"$f":"IF( [1]GeralMinuta!A348 <>\"\", [1]GeralMinuta!A348,\"\")","v":""},{"$f":"IF(Completo_Esforço_CPFL_Paulista!$L$31=1,IF( [1]GeralMinuta!B348 <>\"\", [1]GeralMinuta!B348,0),0)","v":0}]
[{"$f":"IF( [1]GeralMinuta!A349 <>\"\", [1]GeralMinuta!A349,\"\")","v":""},{"$f":"IF(Completo_Esforço_CPFL_Paulista!$L$31=1,IF( [1]GeralMinuta!B349 <>\"\", [1]GeralMinuta!B349,0),0)","v":0}]
[{"$f":"IF( [1]GeralMinuta!A350 <>\"\", [1]GeralMinuta!A350,\"\")","v":""},{"$f":"IF(Completo_Esforço_CPFL_Paulista!$L$31=1,IF( [1]GeralMinuta!B350 <>\"\", [1]GeralMinuta!B350,0),0)","v":0}]
[{"$f":"IF( [1]GeralMinuta!A351 <>\"\", [1]GeralMinuta!A351,\"\")","v":""},{"$f":"IF(Completo_Esforço_CPFL_Paulista!$L$31=1,IF( [1]GeralMinuta!B351 <>\"\", [1]GeralMinuta!B351,0),0)","v":0}]
[{"$f":"IF( [1]GeralMinuta!A352 <>\"\", [1]GeralMinuta!A352,\"\")","v":""},{"$f":"IF(Completo_Esforço_CPFL_Paulista!$L$31=1,IF( [1]GeralMinuta!B352 <>\"\", [1]GeralMinuta!B352,0),0)","v":0}]
[{"$f":"IF( [1]GeralMinuta!A353 <>\"\", [1]GeralMinuta!A353,\"\")","v":""},{"$f":"IF(Completo_Esforço_CPFL_Paulista!$L$31=1,IF( [1]GeralMinuta!B353 <>\"\", [1]GeralMinuta!B353,0),0)","v":0}]
[{"$f":"IF( [1]GeralMinuta!A354 <>\"\", [1]GeralMinuta!A354,\"\")","v":""},{"$f":"IF(Completo_Esforço_CPFL_Paulista!$L$31=1,IF( [1]GeralMinuta!B354 <>\"\", [1]GeralMinuta!B354,0),0)","v":0}]
[{"$f":"IF( [1]GeralMinuta!A355 <>\"\", [1]GeralMinuta!A355,\"\")","v":""},{"$f":"IF(Completo_Esforço_CPFL_Paulista!$L$31=1,IF( [1]GeralMinuta!B355 <>\"\", [1]GeralMinuta!B355,0),0)","v":0}]
[{"$f":"IF( [1]GeralMinuta!A356 <>\"\", [1]GeralMinuta!A356,\"\")","v":""},{"$f":"IF(Completo_Esforço_CPFL_Paulista!$L$31=1,IF( [1]GeralMinuta!B356 <>\"\", [1]GeralMinuta!B356,0),0)","v":0}]
[{"$f":"IF( [1]GeralMinuta!A357 <>\"\", [1]GeralMinuta!A357,\"\")","v":""},{"$f":"IF(Completo_Esforço_CPFL_Paulista!$L$31=1,IF( [1]GeralMinuta!B357 <>\"\", [1]GeralMinuta!B357,0),0)","v":0}]
[{"$f":"IF( [1]GeralMinuta!A358 <>\"\", [1]GeralMinuta!A358,\"\")","v":""},{"$f":"IF(Completo_Esforço_CPFL_Paulista!$L$31=1,IF( [1]GeralMinuta!B358 <>\"\", [1]GeralMinuta!B358,0),0)","v":0}]
[{"$f":"IF( [1]GeralMinuta!A359 <>\"\", [1]GeralMinuta!A359,\"\")","v":""},{"$f":"IF(Completo_Esforço_CPFL_Paulista!$L$31=1,IF( [1]GeralMinuta!B359 <>\"\", [1]GeralMinuta!B359,0),0)","v":0}]
[{"$f":"IF( [1]GeralMinuta!A360 <>\"\", [1]GeralMinuta!A360,\"\")","v":""},{"$f":"IF(Completo_Esforço_CPFL_Paulista!$L$31=1,IF( [1]GeralMinuta!B360 <>\"\", [1]GeralMinuta!B360,0),0)","v":0}]
[{"$f":"IF( [1]GeralMinuta!A361 <>\"\", [1]GeralMinuta!A361,\"\")","v":""},{"$f":"IF(Completo_Esforço_CPFL_Paulista!$L$31=1,IF( [1]GeralMinuta!B361 <>\"\", [1]GeralMinuta!B361,0),0)","v":0}]
[{"$f":"IF( [1]GeralMinuta!A362 <>\"\", [1]GeralMinuta!A362,\"\")","v":""},{"$f":"IF(Completo_Esforço_CPFL_Paulista!$L$31=1,IF( [1]GeralMinuta!B362 <>\"\", [1]GeralMinuta!B362,0),0)","v":0}]
[{"$f":"IF( [1]GeralMinuta!A363 <>\"\", [1]GeralMinuta!A363,\"\")","v":""},{"$f":"IF(Completo_Esforço_CPFL_Paulista!$L$31=1,IF( [1]GeralMinuta!B363 <>\"\", [1]GeralMinuta!B363,0),0)","v":0}]
[{"$f":"IF( [1]GeralMinuta!A364 <>\"\", [1]GeralMinuta!A364,\"\")","v":""},{"$f":"IF(Completo_Esforço_CPFL_Paulista!$L$31=1,IF( [1]GeralMinuta!B364 <>\"\", [1]GeralMinuta!B364,0),0)","v":0}]
[{"$f":"IF( [1]GeralMinuta!A365 <>\"\", [1]GeralMinuta!A365,\"\")","v":""},{"$f":"IF(Completo_Esforço_CPFL_Paulista!$L$31=1,IF( [1]GeralMinuta!B365 <>\"\", [1]GeralMinuta!B365,0),0)","v":0}]
[{"$f":"IF( [1]GeralMinuta!A366 <>\"\", [1]GeralMinuta!A366,\"\")","v":""},{"$f":"IF(Completo_Esforço_CPFL_Paulista!$L$31=1,IF( [1]GeralMinuta!B366 <>\"\", [1]GeralMinuta!B366,0),0)","v":0}]
[{"$f":"IF( [1]GeralMinuta!A367 <>\"\", [1]GeralMinuta!A367,\"\")","v":""},{"$f":"IF(Completo_Esforço_CPFL_Paulista!$L$31=1,IF( [1]GeralMinuta!B367 <>\"\", [1]GeralMinuta!B367,0),0)","v":0}]
[{"$f":"IF( [1]GeralMinuta!A368 <>\"\", [1]GeralMinuta!A368,\"\")","v":""},{"$f":"IF(Completo_Esforço_CPFL_Paulista!$L$31=1,IF( [1]GeralMinuta!B368 <>\"\", [1]GeralMinuta!B368,0),0)","v":0}]
[{"$f":"IF( [1]GeralMinuta!A369 <>\"\", [1]GeralMinuta!A369,\"\")","v":""},{"$f":"IF(Completo_Esforço_CPFL_Paulista!$L$31=1,IF( [1]GeralMinuta!B369 <>\"\", [1]GeralMinuta!B369,0),0)","v":0}]
[{"$f":"IF( [1]GeralMinuta!A370 <>\"\", [1]GeralMinuta!A370,\"\")","v":""},{"$f":"IF(Completo_Esforço_CPFL_Paulista!$L$31=1,IF( [1]GeralMinuta!B370 <>\"\", [1]GeralMinuta!B370,0),0)","v":0}]
[{"$f":"IF( [1]GeralMinuta!A371 <>\"\", [1]GeralMinuta!A371,\"\")","v":""},{"$f":"IF(Completo_Esforço_CPFL_Paulista!$L$31=1,IF( [1]GeralMinuta!B371 <>\"\", [1]GeralMinuta!B371,0),0)","v":0}]
[{"$f":"IF( [1]GeralMinuta!A372 <>\"\", [1]GeralMinuta!A372,\"\")","v":""},{"$f":"IF(Completo_Esforço_CPFL_Paulista!$L$31=1,IF( [1]GeralMinuta!B372 <>\"\", [1]GeralMinuta!B372,0),0)","v":0}]
[{"$f":"IF( [1]GeralMinuta!A373 <>\"\", [1]GeralMinuta!A373,\"\")","v":""},{"$f":"IF(Completo_Esforço_CPFL_Paulista!$L$31=1,IF( [1]GeralMinuta!B373 <>\"\", [1]GeralMinuta!B373,0),0)","v":0}]
[{"$f":"IF( [1]GeralMinuta!A374 <>\"\", [1]GeralMinuta!A374,\"\")","v":""},{"$f":"IF(Completo_Esforço_CPFL_Paulista!$L$31=1,IF( [1]GeralMinuta!B374 <>\"\", [1]GeralMinuta!B374,0),0)","v":0}]
[{"$f":"IF( [1]GeralMinuta!A375 <>\"\", [1]GeralMinuta!A375,\"\")","v":""},{"$f":"IF(Completo_Esforço_CPFL_Paulista!$L$31=1,IF( [1]GeralMinuta!B375 <>\"\", [1]GeralMinuta!B375,0),0)","v":0}]
[{"$f":"IF( [1]GeralMinuta!A376 <>\"\", [1]GeralMinuta!A376,\"\")","v":""},{"$f":"IF(Completo_Esforço_CPFL_Paulista!$L$31=1,IF( [1]GeralMinuta!B376 <>\"\", [1]GeralMinuta!B376,0),0)","v":0}]
[{"$f":"IF( [1]GeralMinuta!A377 <>\"\", [1]GeralMinuta!A377,\"\")","v":""},{"$f":"IF(Completo_Esforço_CPFL_Paulista!$L$31=1,IF( [1]GeralMinuta!B377 <>\"\", [1]GeralMinuta!B377,0),0)","v":0}]
[{"$f":"IF( [1]GeralMinuta!A378 <>\"\", [1]GeralMinuta!A378,\"\")","v":""},{"$f":"IF(Completo_Esforço_CPFL_Paulista!$L$31=1,IF( [1]GeralMinuta!B378 <>\"\", [1]GeralMinuta!B378,0),0)","v":0}]
[{"$f":"IF( [1]GeralMinuta!A379 <>\"\", [1]GeralMinuta!A379,\"\")","v":""},{"$f":"IF(Completo_Esforço_CPFL_Paulista!$L$31=1,IF( [1]GeralMinuta!B379 <>\"\", [1]GeralMinuta!B379,0),0)","v":0}]
[{"$f":"IF( [1]GeralMinuta!A380 <>\"\", [1]GeralMinuta!A380,\"\")","v":""},{"$f":"IF(Completo_Esforço_CPFL_Paulista!$L$31=1,IF( [1]GeralMinuta!B380 <>\"\", [1]GeralMinuta!B380,0),0)","v":0}]
[{"$f":"IF( [1]GeralMinuta!A381 <>\"\", [1]GeralMinuta!A381,\"\")","v":""},{"$f":"IF(Completo_Esforço_CPFL_Paulista!$L$31=1,IF( [1]GeralMinuta!B381 <>\"\", [1]GeralMinuta!B381,0),0)","v":0}]
[{"$f":"IF( [1]GeralMinuta!A382 <>\"\", [1]GeralMinuta!A382,\"\")","v":""},{"$f":"IF(Completo_Esforço_CPFL_Paulista!$L$31=1,IF( [1]GeralMinuta!B382 <>\"\", [1]GeralMinuta!B382,0),0)","v":0}]
[{"$f":"IF( [1]GeralMinuta!A383 <>\"\", [1]GeralMinuta!A383,\"\")","v":""},{"$f":"IF(Completo_Esforço_CPFL_Paulista!$L$31=1,IF( [1]GeralMinuta!B383 <>\"\", [1]GeralMinuta!B383,0),0)","v":0}]
[{"$f":"IF( [1]GeralMinuta!A384 <>\"\", [1]GeralMinuta!A384,\"\")","v":""},{"$f":"IF(Completo_Esforço_CPFL_Paulista!$L$31=1,IF( [1]GeralMinuta!B384 <>\"\", [1]GeralMinuta!B384,0),0)","v":0}]
[{"$f":"IF( [1]GeralMinuta!A385 <>\"\", [1]GeralMinuta!A385,\"\")","v":""},{"$f":"IF(Completo_Esforço_CPFL_Paulista!$L$31=1,IF( [1]GeralMinuta!B385 <>\"\", [1]GeralMinuta!B385,0),0)","v":0}]
[{"$f":"IF( [1]GeralMinuta!A386 <>\"\", [1]GeralMinuta!A386,\"\")","v":""},{"$f":"IF(Completo_Esforço_CPFL_Paulista!$L$31=1,IF( [1]GeralMinuta!B386 <>\"\", [1]GeralMinuta!B386,0),0)","v":0}]
[{"$f":"IF( [1]GeralMinuta!A387 <>\"\", [1]GeralMinuta!A387,\"\")","v":""},{"$f":"IF(Completo_Esforço_CPFL_Paulista!$L$31=1,IF( [1]GeralMinuta!B387 <>\"\", [1]GeralMinuta!B387,0),0)","v":0}]
[{"$f":"IF( [1]GeralMinuta!A388 <>\"\", [1]GeralMinuta!A388,\"\")","v":""},{"$f":"IF(Completo_Esforço_CPFL_Paulista!$L$31=1,IF( [1]GeralMinuta!B388 <>\"\", [1]GeralMinuta!B388,0),0)","v":0}]
[{"$f":"IF( [1]GeralMinuta!A389 <>\"\", [1]GeralMinuta!A389,\"\")","v":""},{"$f":"IF(Completo_Esforço_CPFL_Paulista!$L$31=1,IF( [1]GeralMinuta!B389 <>\"\", [1]GeralMinuta!B389,0),0)","v":0}]
[{"$f":"IF( [1]GeralMinuta!A390 <>\"\", [1]GeralMinuta!A390,\"\")","v":""},{"$f":"IF(Completo_Esforço_CPFL_Paulista!$L$31=1,IF( [1]GeralMinuta!B390 <>\"\", [1]GeralMinuta!B390,0),0)","v":0}]
[{"$f":"IF( [1]GeralMinuta!A391 <>\"\", [1]GeralMinuta!A391,\"\")","v":""},{"$f":"IF(Completo_Esforço_CPFL_Paulista!$L$31=1,IF( [1]GeralMinuta!B391 <>\"\", [1]GeralMinuta!B391,0),0)","v":0}]
[{"$f":"IF( [1]GeralMinuta!A392 <>\"\", [1]GeralMinuta!A392,\"\")","v":""},{"$f":"IF(Completo_Esforço_CPFL_Paulista!$L$31=1,IF( [1]GeralMinuta!B392 <>\"\", [1]GeralMinuta!B392,0),0)","v":0}]
[{"$f":"IF( [1]GeralMinuta!A393 <>\"\", [1]GeralMinuta!A393,\"\")","v":""},{"$f":"IF(Completo_Esforço_CPFL_Paulista!$L$31=1,IF( [1]GeralMinuta!B393 <>\"\", [1]GeralMinuta!B393,0),0)","v":0}]
[{"$f":"IF( [1]GeralMinuta!A394 <>\"\", [1]GeralMinuta!A394,\"\")","v":""},{"$f":"IF(Completo_Esforço_CPFL_Paulista!$L$31=1,IF( [1]GeralMinuta!B394 <>\"\", [1]GeralMinuta!B394,0),0)","v":0}]
[{"$f":"IF( [1]GeralMinuta!A395 <>\"\", [1]GeralMinuta!A395,\"\")","v":""},{"$f":"IF(Completo_Esforço_CPFL_Paulista!$L$31=1,IF( [1]GeralMinuta!B395 <>\"\", [1]GeralMinuta!B395,0),0)","v":0}]
[{"$f":"IF( [1]GeralMinuta!A396 <>\"\", [1]GeralMinuta!A396,\"\")","v":""},{"$f":"IF(Completo_Esforço_CPFL_Paulista!$L$31=1,IF( [1]GeralMinuta!B396 <>\"\", [1]GeralMinuta!B396,0),0)","v":0}]
[{"$f":"IF( [1]GeralMinuta!A397 <>\"\", [1]GeralMinuta!A397,\"\")","v":""},{"$f":"IF(Completo_Esforço_CPFL_Paulista!$L$31=1,IF( [1]GeralMinuta!B397 <>\"\", [1]GeralMinuta!B397,0),0)","v":0}]
[{"$f":"IF( [1]GeralMinuta!A398 <>\"\", [1]GeralMinuta!A398,\"\")","v":""},{"$f":"IF(Completo_Esforço_CPFL_Paulista!$L$31=1,IF( [1]GeralMinuta!B398 <>\"\", [1]GeralMinuta!B398,0),0)","v":0}]
[{"$f":"IF( [1]GeralMinuta!A399 <>\"\", [1]GeralMinuta!A399,\"\")","v":""},{"$f":"IF(Completo_Esforço_CPFL_Paulista!$L$31=1,IF( [1]GeralMinuta!B399 <>\"\", [1]GeralMinuta!B399,0),0)","v":0}]
[{"$f":"IF( [1]GeralMinuta!A400 <>\"\", [1]GeralMinuta!A400,\"\")","v":""},{"$f":"IF(Completo_Esforço_CPFL_Paulista!$L$31=1,IF( [1]GeralMinuta!B400 <>\"\", [1]GeralMinuta!B400,0),0)","v":0}]
[{"$f":"IF( [1]GeralMinuta!A401 <>\"\", [1]GeralMinuta!A401,\"\")","v":""},{"$f":"IF(Completo_Esforço_CPFL_Paulista!$L$31=1,IF( [1]GeralMinuta!B401 <>\"\", [1]GeralMinuta!B401,0),0)","v":0}]
[{"$f":"IF( [1]GeralMinuta!A402 <>\"\", [1]GeralMinuta!A402,\"\")","v":""},{"$f":"IF(Completo_Esforço_CPFL_Paulista!$L$31=1,IF( [1]GeralMinuta!B402 <>\"\", [1]GeralMinuta!B402,0),0)","v":0}]
[{"$f":"IF( [1]GeralMinuta!A403 <>\"\", [1]GeralMinuta!A403,\"\")","v":""},{"$f":"IF(Completo_Esforço_CPFL_Paulista!$L$31=1,IF( [1]GeralMinuta!B403 <>\"\", [1]GeralMinuta!B403,0),0)","v":0}]
[{"$f":"IF( [1]GeralMinuta!A404 <>\"\", [1]GeralMinuta!A404,\"\")","v":""},{"$f":"IF(Completo_Esforço_CPFL_Paulista!$L$31=1,IF( [1]GeralMinuta!B404 <>\"\", [1]GeralMinuta!B404,0),0)","v":0}]
[{"$f":"IF( [1]GeralMinuta!A405 <>\"\", [1]GeralMinuta!A405,\"\")","v":""},{"$f":"IF(Completo_Esforço_CPFL_Paulista!$L$31=1,IF( [1]GeralMinuta!B405 <>\"\", [1]GeralMinuta!B405,0),0)","v":0}]
[{"$f":"IF( [1]GeralMinuta!A406 <>\"\", [1]GeralMinuta!A406,\"\")","v":""},{"$f":"IF(Completo_Esforço_CPFL_Paulista!$L$31=1,IF( [1]GeralMinuta!B406 <>\"\", [1]GeralMinuta!B406,0),0)","v":0}]
[{"$f":"IF( [1]GeralMinuta!A407 <>\"\", [1]GeralMinuta!A407,\"\")","v":""},{"$f":"IF(Completo_Esforço_CPFL_Paulista!$L$31=1,IF( [1]GeralMinuta!B407 <>\"\", [1]GeralMinuta!B407,0),0)","v":0}]
[{"$f":"IF( [1]GeralMinuta!A408 <>\"\", [1]GeralMinuta!A408,\"\")","v":""},{"$f":"IF(Completo_Esforço_CPFL_Paulista!$L$31=1,IF( [1]GeralMinuta!B408 <>\"\", [1]GeralMinuta!B408,0),0)","v":0}]
[{"$f":"IF( [1]GeralMinuta!A409 <>\"\", [1]GeralMinuta!A409,\"\")","v":""},{"$f":"IF(Completo_Esforço_CPFL_Paulista!$L$31=1,IF( [1]GeralMinuta!B409 <>\"\", [1]GeralMinuta!B409,0),0)","v":0}]
[{"$f":"IF( [1]GeralMinuta!A410 <>\"\", [1]GeralMinuta!A410,\"\")","v":""},{"$f":"IF(Completo_Esforço_CPFL_Paulista!$L$31=1,IF( [1]GeralMinuta!B410 <>\"\", [1]GeralMinuta!B410,0),0)","v":0}]
[{"$f":"IF( [1]GeralMinuta!A411 <>\"\", [1]GeralMinuta!A411,\"\")","v":""},{"$f":"IF(Completo_Esforço_CPFL_Paulista!$L$31=1,IF( [1]GeralMinuta!B411 <>\"\", [1]GeralMinuta!B411,0),0)","v":0}]
[{"$f":"IF( [1]GeralMinuta!A412 <>\"\", [1]GeralMinuta!A412,\"\")","v":""},{"$f":"IF(Completo_Esforço_CPFL_Paulista!$L$31=1,IF( [1]GeralMinuta!B412 <>\"\", [1]GeralMinuta!B412,0),0)","v":0}]
[{"$f":"IF( [1]GeralMinuta!A413 <>\"\", [1]GeralMinuta!A413,\"\")","v":""},{"$f":"IF(Completo_Esforço_CPFL_Paulista!$L$31=1,IF( [1]GeralMinuta!B413 <>\"\", [1]GeralMinuta!B413,0),0)","v":0}]
[{"$f":"IF( [1]GeralMinuta!A414 <>\"\", [1]GeralMinuta!A414,\"\")","v":""},{"$f":"IF(Completo_Esforço_CPFL_Paulista!$L$31=1,IF( [1]GeralMinuta!B414 <>\"\", [1]GeralMinuta!B414,0),0)","v":0}]
[{"$f":"IF( [1]GeralMinuta!A415 <>\"\", [1]GeralMinuta!A415,\"\")","v":""},{"$f":"IF(Completo_Esforço_CPFL_Paulista!$L$31=1,IF( [1]GeralMinuta!B415 <>\"\", [1]GeralMinuta!B415,0),0)","v":0}]
[{"$f":"IF( [1]GeralMinuta!A416 <>\"\", [1]GeralMinuta!A416,\"\")","v":""},{"$f":"IF(Completo_Esforço_CPFL_Paulista!$L$31=1,IF( [1]GeralMinuta!B416 <>\"\", [1]GeralMinuta!B416,0),0)","v":0}]
[{"$f":"IF( [1]GeralMinuta!A417 <>\"\", [1]GeralMinuta!A417,\"\")","v":""},{"$f":"IF(Completo_Esforço_CPFL_Paulista!$L$31=1,IF( [1]GeralMinuta!B417 <>\"\", [1]GeralMinuta!B417,0),0)","v":0}]
[{"$f":"IF( [1]GeralMinuta!A418 <>\"\", [1]GeralMinuta!A418,\"\")","v":""},{"$f":"IF(Completo_Esforço_CPFL_Paulista!$L$31=1,IF( [1]GeralMinuta!B418 <>\"\", [1]GeralMinuta!B418,0),0)","v":0}]
[{"$f":"IF( [1]GeralMinuta!A419 <>\"\", [1]GeralMinuta!A419,\"\")","v":""},{"$f":"IF(Completo_Esforço_CPFL_Paulista!$L$31=1,IF( [1]GeralMinuta!B419 <>\"\", [1]GeralMinuta!B419,0),0)","v":0}]
[{"$f":"IF( [1]GeralMinuta!A420 <>\"\", [1]GeralMinuta!A420,\"\")","v":""},{"$f":"IF(Completo_Esforço_CPFL_Paulista!$L$31=1,IF( [1]GeralMinuta!B420 <>\"\", [1]GeralMinuta!B420,0),0)","v":0}]
[{"$f":"IF( [1]GeralMinuta!A421 <>\"\", [1]GeralMinuta!A421,\"\")","v":""},{"$f":"IF(Completo_Esforço_CPFL_Paulista!$L$31=1,IF( [1]GeralMinuta!B421 <>\"\", [1]GeralMinuta!B421,0),0)","v":0}]
[{"$f":"IF( [1]GeralMinuta!A422 <>\"\", [1]GeralMinuta!A422,\"\")","v":""},{"$f":"IF(Completo_Esforço_CPFL_Paulista!$L$31=1,IF( [1]GeralMinuta!B422 <>\"\", [1]GeralMinuta!B422,0),0)","v":0}]
[{"$f":"IF( [1]GeralMinuta!A423 <>\"\", [1]GeralMinuta!A423,\"\")","v":""},{"$f":"IF(Completo_Esforço_CPFL_Paulista!$L$31=1,IF( [1]GeralMinuta!B423 <>\"\", [1]GeralMinuta!B423,0),0)","v":0}]
[{"$f":"IF( [1]GeralMinuta!A424 <>\"\", [1]GeralMinuta!A424,\"\")","v":""},{"$f":"IF(Completo_Esforço_CPFL_Paulista!$L$31=1,IF( [1]GeralMinuta!B424 <>\"\", [1]GeralMinuta!B424,0),0)","v":0}]
[{"$f":"IF( [1]GeralMinuta!A425 <>\"\", [1]GeralMinuta!A425,\"\")","v":""},{"$f":"IF(Completo_Esforço_CPFL_Paulista!$L$31=1,IF( [1]GeralMinuta!B425 <>\"\", [1]GeralMinuta!B425,0),0)","v":0}]
[{"$f":"IF( [1]GeralMinuta!A426 <>\"\", [1]GeralMinuta!A426,\"\")","v":""},{"$f":"IF(Completo_Esforço_CPFL_Paulista!$L$31=1,IF( [1]GeralMinuta!B426 <>\"\", [1]GeralMinuta!B426,0),0)","v":0}]
[{"$f":"IF( [1]GeralMinuta!A427 <>\"\", [1]GeralMinuta!A427,\"\")","v":""},{"$f":"IF(Completo_Esforço_CPFL_Paulista!$L$31=1,IF( [1]GeralMinuta!B427 <>\"\", [1]GeralMinuta!B427,0),0)","v":0}]
[{"$f":"IF( [1]GeralMinuta!A428 <>\"\", [1]GeralMinuta!A428,\"\")","v":""},{"$f":"IF(Completo_Esforço_CPFL_Paulista!$L$31=1,IF( [1]GeralMinuta!B428 <>\"\", [1]GeralMinuta!B428,0),0)","v":0}]
[{"$f":"IF( [1]GeralMinuta!A429 <>\"\", [1]GeralMinuta!A429,\"\")","v":""},{"$f":"IF(Completo_Esforço_CPFL_Paulista!$L$31=1,IF( [1]GeralMinuta!B429 <>\"\", [1]GeralMinuta!B429,0),0)","v":0}]
[{"$f":"IF( [1]GeralMinuta!A430 <>\"\", [1]GeralMinuta!A430,\"\")","v":""},{"$f":"IF(Completo_Esforço_CPFL_Paulista!$L$31=1,IF( [1]GeralMinuta!B430 <>\"\", [1]GeralMinuta!B430,0),0)","v":0}]
[{"$f":"IF( [1]GeralMinuta!A431 <>\"\", [1]GeralMinuta!A431,\"\")","v":""},{"$f":"IF(Completo_Esforço_CPFL_Paulista!$L$31=1,IF( [1]GeralMinuta!B431 <>\"\", [1]GeralMinuta!B431,0),0)","v":0}]
[{"$f":"IF( [1]GeralMinuta!A432 <>\"\", [1]GeralMinuta!A432,\"\")","v":""},{"$f":"IF(Completo_Esforço_CPFL_Paulista!$L$31=1,IF( [1]GeralMinuta!B432 <>\"\", [1]GeralMinuta!B432,0),0)","v":0}]
[{"$f":"IF( [1]GeralMinuta!A433 <>\"\", [1]GeralMinuta!A433,\"\")","v":""},{"$f":"IF(Completo_Esforço_CPFL_Paulista!$L$31=1,IF( [1]GeralMinuta!B433 <>\"\", [1]GeralMinuta!B433,0),0)","v":0}]
[{"$f":"IF( [1]GeralMinuta!A434 <>\"\", [1]GeralMinuta!A434,\"\")","v":""},{"$f":"IF(Completo_Esforço_CPFL_Paulista!$L$31=1,IF( [1]GeralMinuta!B434 <>\"\", [1]GeralMinuta!B434,0),0)","v":0}]
[{"$f":"IF( [1]GeralMinuta!A435 <>\"\", [1]GeralMinuta!A435,\"\")","v":""},{"$f":"IF(Completo_Esforço_CPFL_Paulista!$L$31=1,IF( [1]GeralMinuta!B435 <>\"\", [1]GeralMinuta!B435,0),0)","v":0}]
[{"$f":"IF( [1]GeralMinuta!A436 <>\"\", [1]GeralMinuta!A436,\"\")","v":""},{"$f":"IF(Completo_Esforço_CPFL_Paulista!$L$31=1,IF( [1]GeralMinuta!B436 <>\"\", [1]GeralMinuta!B436,0),0)","v":0}]
[{"$f":"IF( [1]GeralMinuta!A437 <>\"\", [1]GeralMinuta!A437,\"\")","v":""},{"$f":"IF(Completo_Esforço_CPFL_Paulista!$L$31=1,IF( [1]GeralMinuta!B437 <>\"\", [1]GeralMinuta!B437,0),0)","v":0}]
[{"$f":"IF( [1]GeralMinuta!A438 <>\"\", [1]GeralMinuta!A438,\"\")","v":""},{"$f":"IF(Completo_Esforço_CPFL_Paulista!$L$31=1,IF( [1]GeralMinuta!B438 <>\"\", [1]GeralMinuta!B438,0),0)","v":0}]
[{"$f":"IF( [1]GeralMinuta!A439 <>\"\", [1]GeralMinuta!A439,\"\")","v":""},{"$f":"IF(Completo_Esforço_CPFL_Paulista!$L$31=1,IF( [1]GeralMinuta!B439 <>\"\", [1]GeralMinuta!B439,0),0)","v":0}]
[{"$f":"IF( [1]GeralMinuta!A440 <>\"\", [1]GeralMinuta!A440,\"\")","v":""},{"$f":"IF(Completo_Esforço_CPFL_Paulista!$L$31=1,IF( [1]GeralMinuta!B440 <>\"\", [1]GeralMinuta!B440,0),0)","v":0}]
[{"$f":"IF( [1]GeralMinuta!A441 <>\"\", [1]GeralMinuta!A441,\"\")","v":""},{"$f":"IF(Completo_Esforço_CPFL_Paulista!$L$31=1,IF( [1]GeralMinuta!B441 <>\"\", [1]GeralMinuta!B441,0),0)","v":0}]
[{"$f":"IF( [1]GeralMinuta!A442 <>\"\", [1]GeralMinuta!A442,\"\")","v":""},{"$f":"IF(Completo_Esforço_CPFL_Paulista!$L$31=1,IF( [1]GeralMinuta!B442 <>\"\", [1]GeralMinuta!B442,0),0)","v":0}]
[{"$f":"IF( [1]GeralMinuta!A443 <>\"\", [1]GeralMinuta!A443,\"\")","v":""},{"$f":"IF(Completo_Esforço_CPFL_Paulista!$L$31=1,IF( [1]GeralMinuta!B443 <>\"\", [1]GeralMinuta!B443,0),0)","v":0}]
[{"$f":"IF( [1]GeralMinuta!A444 <>\"\", [1]GeralMinuta!A444,\"\")","v":""},{"$f":"IF(Completo_Esforço_CPFL_Paulista!$L$31=1,IF( [1]GeralMinuta!B444 <>\"\", [1]GeralMinuta!B444,0),0)","v":0}]
[{"$f":"IF( [1]GeralMinuta!A445 <>\"\", [1]GeralMinuta!A445,\"\")","v":""},{"$f":"IF(Completo_Esforço_CPFL_Paulista!$L$31=1,IF( [1]GeralMinuta!B445 <>\"\", [1]GeralMinuta!B445,0),0)","v":0}]
[{"$f":"IF( [1]GeralMinuta!A446 <>\"\", [1]GeralMinuta!A446,\"\")","v":""},{"$f":"IF(Completo_Esforço_CPFL_Paulista!$L$31=1,IF( [1]GeralMinuta!B446 <>\"\", [1]GeralMinuta!B446,0),0)","v":0}]
[{"$f":"IF( [1]GeralMinuta!A447 <>\"\", [1]GeralMinuta!A447,\"\")","v":""},{"$f":"IF(Completo_Esforço_CPFL_Paulista!$L$31=1,IF( [1]GeralMinuta!B447 <>\"\", [1]GeralMinuta!B447,0),0)","v":0}]
[{"$f":"IF( [1]GeralMinuta!A448 <>\"\", [1]GeralMinuta!A448,\"\")","v":""},{"$f":"IF(Completo_Esforço_CPFL_Paulista!$L$31=1,IF( [1]GeralMinuta!B448 <>\"\", [1]GeralMinuta!B448,0),0)","v":0}]
[{"$f":"IF( [1]GeralMinuta!A449 <>\"\", [1]GeralMinuta!A449,\"\")","v":""},{"$f":"IF(Completo_Esforço_CPFL_Paulista!$L$31=1,IF( [1]GeralMinuta!B449 <>\"\", [1]GeralMinuta!B449,0),0)","v":0}]
[{"$f":"IF( [1]GeralMinuta!A450 <>\"\", [1]GeralMinuta!A450,\"\")","v":""},{"$f":"IF(Completo_Esforço_CPFL_Paulista!$L$31=1,IF( [1]GeralMinuta!B450 <>\"\", [1]GeralMinuta!B450,0),0)","v":0}]
[{"$f":"IF( [1]GeralMinuta!A451 <>\"\", [1]GeralMinuta!A451,\"\")","v":""},{"$f":"IF(Completo_Esforço_CPFL_Paulista!$L$31=1,IF( [1]GeralMinuta!B451 <>\"\", [1]GeralMinuta!B451,0),0)","v":0}]
[{"$f":"IF( [1]GeralMinuta!A452 <>\"\", [1]GeralMinuta!A452,\"\")","v":""},{"$f":"IF(Completo_Esforço_CPFL_Paulista!$L$31=1,IF( [1]GeralMinuta!B452 <>\"\", [1]GeralMinuta!B452,0),0)","v":0}]
[{"$f":"IF( [1]GeralMinuta!A453 <>\"\", [1]GeralMinuta!A453,\"\")","v":""},{"$f":"IF(Completo_Esforço_CPFL_Paulista!$L$31=1,IF( [1]GeralMinuta!B453 <>\"\", [1]GeralMinuta!B453,0),0)","v":0}]
[{"$f":"IF( [1]GeralMinuta!A454 <>\"\", [1]GeralMinuta!A454,\"\")","v":""},{"$f":"IF(Completo_Esforço_CPFL_Paulista!$L$31=1,IF( [1]GeralMinuta!B454 <>\"\", [1]GeralMinuta!B454,0),0)","v":0}]
[{"$f":"IF( [1]GeralMinuta!A455 <>\"\", [1]GeralMinuta!A455,\"\")","v":""},{"$f":"IF(Completo_Esforço_CPFL_Paulista!$L$31=1,IF( [1]GeralMinuta!B455 <>\"\", [1]GeralMinuta!B455,0),0)","v":0}]
[{"$f":"IF( [1]GeralMinuta!A456 <>\"\", [1]GeralMinuta!A456,\"\")","v":""},{"$f":"IF(Completo_Esforço_CPFL_Paulista!$L$31=1,IF( [1]GeralMinuta!B456 <>\"\", [1]GeralMinuta!B456,0),0)","v":0}]
[{"$f":"IF( [1]GeralMinuta!A457 <>\"\", [1]GeralMinuta!A457,\"\")","v":""},{"$f":"IF(Completo_Esforço_CPFL_Paulista!$L$31=1,IF( [1]GeralMinuta!B457 <>\"\", [1]GeralMinuta!B457,0),0)","v":0}]
[{"$f":"IF( [1]GeralMinuta!A458 <>\"\", [1]GeralMinuta!A458,\"\")","v":""},{"$f":"IF(Completo_Esforço_CPFL_Paulista!$L$31=1,IF( [1]GeralMinuta!B458 <>\"\", [1]GeralMinuta!B458,0),0)","v":0}]
[{"$f":"IF( [1]GeralMinuta!A459 <>\"\", [1]GeralMinuta!A459,\"\")","v":""},{"$f":"IF(Completo_Esforço_CPFL_Paulista!$L$31=1,IF( [1]GeralMinuta!B459 <>\"\", [1]GeralMinuta!B459,0),0)","v":0}]
[{"$f":"IF( [1]GeralMinuta!A460 <>\"\", [1]GeralMinuta!A460,\"\")","v":""},{"$f":"IF(Completo_Esforço_CPFL_Paulista!$L$31=1,IF( [1]GeralMinuta!B460 <>\"\", [1]GeralMinuta!B460,0),0)","v":0}]
[{"$f":"IF( [1]GeralMinuta!A461 <>\"\", [1]GeralMinuta!A461,\"\")","v":""},{"$f":"IF(Completo_Esforço_CPFL_Paulista!$L$31=1,IF( [1]GeralMinuta!B461 <>\"\", [1]GeralMinuta!B461,0),0)","v":0}]
[{"$f":"IF( [1]GeralMinuta!A462 <>\"\", [1]GeralMinuta!A462,\"\")","v":""},{"$f":"IF(Completo_Esforço_CPFL_Paulista!$L$31=1,IF( [1]GeralMinuta!B462 <>\"\", [1]GeralMinuta!B462,0),0)","v":0}]
[{"$f":"IF( [1]GeralMinuta!A463 <>\"\", [1]GeralMinuta!A463,\"\")","v":""},{"$f":"IF(Completo_Esforço_CPFL_Paulista!$L$31=1,IF( [1]GeralMinuta!B463 <>\"\", [1]GeralMinuta!B463,0),0)","v":0}]
[{"$f":"IF( [1]GeralMinuta!A464 <>\"\", [1]GeralMinuta!A464,\"\")","v":""},{"$f":"IF(Completo_Esforço_CPFL_Paulista!$L$31=1,IF( [1]GeralMinuta!B464 <>\"\", [1]GeralMinuta!B464,0),0)","v":0}]
[{"$f":"IF( [1]GeralMinuta!A465 <>\"\", [1]GeralMinuta!A465,\"\")","v":""},{"$f":"IF(Completo_Esforço_CPFL_Paulista!$L$31=1,IF( [1]GeralMinuta!B465 <>\"\", [1]GeralMinuta!B465,0),0)","v":0}]
[{"$f":"IF( [1]GeralMinuta!A466 <>\"\", [1]GeralMinuta!A466,\"\")","v":""},{"$f":"IF(Completo_Esforço_CPFL_Paulista!$L$31=1,IF( [1]GeralMinuta!B466 <>\"\", [1]GeralMinuta!B466,0),0)","v":0}]
[{"$f":"IF( [1]GeralMinuta!A467 <>\"\", [1]GeralMinuta!A467,\"\")","v":""},{"$f":"IF(Completo_Esforço_CPFL_Paulista!$L$31=1,IF( [1]GeralMinuta!B467 <>\"\", [1]GeralMinuta!B467,0),0)","v":0}]
[{"$f":"IF( [1]GeralMinuta!A468 <>\"\", [1]GeralMinuta!A468,\"\")","v":""},{"$f":"IF(Completo_Esforço_CPFL_Paulista!$L$31=1,IF( [1]GeralMinuta!B468 <>\"\", [1]GeralMinuta!B468,0),0)","v":0}]
[{"$f":"IF( [1]GeralMinuta!A469 <>\"\", [1]GeralMinuta!A469,\"\")","v":""},{"$f":"IF(Completo_Esforço_CPFL_Paulista!$L$31=1,IF( [1]GeralMinuta!B469 <>\"\", [1]GeralMinuta!B469,0),0)","v":0}]
[{"$f":"IF( [1]GeralMinuta!A470 <>\"\", [1]GeralMinuta!A470,\"\")","v":""},{"$f":"IF(Completo_Esforço_CPFL_Paulista!$L$31=1,IF( [1]GeralMinuta!B470 <>\"\", [1]GeralMinuta!B470,0),0)","v":0}]
[{"$f":"IF( [1]GeralMinuta!A471 <>\"\", [1]GeralMinuta!A471,\"\")","v":""},{"$f":"IF(Completo_Esforço_CPFL_Paulista!$L$31=1,IF( [1]GeralMinuta!B471 <>\"\", [1]GeralMinuta!B471,0),0)","v":0}]
[{"$f":"IF( [1]GeralMinuta!A472 <>\"\", [1]GeralMinuta!A472,\"\")","v":""},{"$f":"IF(Completo_Esforço_CPFL_Paulista!$L$31=1,IF( [1]GeralMinuta!B472 <>\"\", [1]GeralMinuta!B472,0),0)","v":0}]
[{"$f":"IF( [1]GeralMinuta!A473 <>\"\", [1]GeralMinuta!A473,\"\")","v":""},{"$f":"IF(Completo_Esforço_CPFL_Paulista!$L$31=1,IF( [1]GeralMinuta!B473 <>\"\", [1]GeralMinuta!B473,0),0)","v":0}]
[{"$f":"IF( [1]GeralMinuta!A474 <>\"\", [1]GeralMinuta!A474,\"\")","v":""},{"$f":"IF(Completo_Esforço_CPFL_Paulista!$L$31=1,IF( [1]GeralMinuta!B474 <>\"\", [1]GeralMinuta!B474,0),0)","v":0}]
[{"$f":"IF( [1]GeralMinuta!A475 <>\"\", [1]GeralMinuta!A475,\"\")","v":""},{"$f":"IF(Completo_Esforço_CPFL_Paulista!$L$31=1,IF( [1]GeralMinuta!B475 <>\"\", [1]GeralMinuta!B475,0),0)","v":0}]
[{"$f":"IF( [1]GeralMinuta!A476 <>\"\", [1]GeralMinuta!A476,\"\")","v":""},{"$f":"IF(Completo_Esforço_CPFL_Paulista!$L$31=1,IF( [1]GeralMinuta!B476 <>\"\", [1]GeralMinuta!B476,0),0)","v":0}]
[{"$f":"IF( [1]GeralMinuta!A477 <>\"\", [1]GeralMinuta!A477,\"\")","v":""},{"$f":"IF(Completo_Esforço_CPFL_Paulista!$L$31=1,IF( [1]GeralMinuta!B477 <>\"\", [1]GeralMinuta!B477,0),0)","v":0}]
[{"$f":"IF( [1]GeralMinuta!A478 <>\"\", [1]GeralMinuta!A478,\"\")","v":""},{"$f":"IF(Completo_Esforço_CPFL_Paulista!$L$31=1,IF( [1]GeralMinuta!B478 <>\"\", [1]GeralMinuta!B478,0),0)","v":0}]
[{"$f":"IF( [1]GeralMinuta!A479 <>\"\", [1]GeralMinuta!A479,\"\")","v":""},{"$f":"IF(Completo_Esforço_CPFL_Paulista!$L$31=1,IF( [1]GeralMinuta!B479 <>\"\", [1]GeralMinuta!B479,0),0)","v":0}]
[{"$f":"IF( [1]GeralMinuta!A480 <>\"\", [1]GeralMinuta!A480,\"\")","v":""},{"$f":"IF(Completo_Esforço_CPFL_Paulista!$L$31=1,IF( [1]GeralMinuta!B480 <>\"\", [1]GeralMinuta!B480,0),0)","v":0}]
[{"$f":"IF( [1]GeralMinuta!A481 <>\"\", [1]GeralMinuta!A481,\"\")","v":""},{"$f":"IF(Completo_Esforço_CPFL_Paulista!$L$31=1,IF( [1]GeralMinuta!B481 <>\"\", [1]GeralMinuta!B481,0),0)","v":0}]
[{"$f":"IF( [1]GeralMinuta!A482 <>\"\", [1]GeralMinuta!A482,\"\")","v":""},{"$f":"IF(Completo_Esforço_CPFL_Paulista!$L$31=1,IF( [1]GeralMinuta!B482 <>\"\", [1]GeralMinuta!B482,0),0)","v":0}]
[{"$f":"IF( [1]GeralMinuta!A483 <>\"\", [1]GeralMinuta!A483,\"\")","v":""},{"$f":"IF(Completo_Esforço_CPFL_Paulista!$L$31=1,IF( [1]GeralMinuta!B483 <>\"\", [1]GeralMinuta!B483,0),0)","v":0}]
[{"$f":"IF( [1]GeralMinuta!A484 <>\"\", [1]GeralMinuta!A484,\"\")","v":""},{"$f":"IF(Completo_Esforço_CPFL_Paulista!$L$31=1,IF( [1]GeralMinuta!B484 <>\"\", [1]GeralMinuta!B484,0),0)","v":0}]
[{"$f":"IF( [1]GeralMinuta!A485 <>\"\", [1]GeralMinuta!A485,\"\")","v":""},{"$f":"IF(Completo_Esforço_CPFL_Paulista!$L$31=1,IF( [1]GeralMinuta!B485 <>\"\", [1]GeralMinuta!B485,0),0)","v":0}]
[{"$f":"IF( [1]GeralMinuta!A486 <>\"\", [1]GeralMinuta!A486,\"\")","v":""},{"$f":"IF(Completo_Esforço_CPFL_Paulista!$L$31=1,IF( [1]GeralMinuta!B486 <>\"\", [1]GeralMinuta!B486,0),0)","v":0}]
[{"$f":"IF( [1]GeralMinuta!A487 <>\"\", [1]GeralMinuta!A487,\"\")","v":""},{"$f":"IF(Completo_Esforço_CPFL_Paulista!$L$31=1,IF( [1]GeralMinuta!B487 <>\"\", [1]GeralMinuta!B487,0),0)","v":0}]
[{"$f":"IF( [1]GeralMinuta!A488 <>\"\", [1]GeralMinuta!A488,\"\")","v":""},{"$f":"IF(Completo_Esforço_CPFL_Paulista!$L$31=1,IF( [1]GeralMinuta!B488 <>\"\", [1]GeralMinuta!B488,0),0)","v":0}]
[{"$f":"IF( [1]GeralMinuta!A489 <>\"\", [1]GeralMinuta!A489,\"\")","v":""},{"$f":"IF(Completo_Esforço_CPFL_Paulista!$L$31=1,IF( [1]GeralMinuta!B489 <>\"\", [1]GeralMinuta!B489,0),0)","v":0}]
[{"$f":"IF( [1]GeralMinuta!A490 <>\"\", [1]GeralMinuta!A490,\"\")","v":""},{"$f":"IF(Completo_Esforço_CPFL_Paulista!$L$31=1,IF( [1]GeralMinuta!B490 <>\"\", [1]GeralMinuta!B490,0),0)","v":0}]
[{"$f":"IF( [1]GeralMinuta!A491 <>\"\", [1]GeralMinuta!A491,\"\")","v":""},{"$f":"IF(Completo_Esforço_CPFL_Paulista!$L$31=1,IF( [1]GeralMinuta!B491 <>\"\", [1]GeralMinuta!B491,0),0)","v":0}]
[{"$f":"IF( [1]GeralMinuta!A492 <>\"\", [1]GeralMinuta!A492,\"\")","v":""},{"$f":"IF(Completo_Esforço_CPFL_Paulista!$L$31=1,IF( [1]GeralMinuta!B492 <>\"\", [1]GeralMinuta!B492,0),0)","v":0}]
[{"$f":"IF( [1]GeralMinuta!A493 <>\"\", [1]GeralMinuta!A493,\"\")","v":""},{"$f":"IF(Completo_Esforço_CPFL_Paulista!$L$31=1,IF( [1]GeralMinuta!B493 <>\"\", [1]GeralMinuta!B493,0),0)","v":0}]
[{"$f":"IF( [1]GeralMinuta!A494 <>\"\", [1]GeralMinuta!A494,\"\")","v":""},{"$f":"IF(Completo_Esforço_CPFL_Paulista!$L$31=1,IF( [1]GeralMinuta!B494 <>\"\", [1]GeralMinuta!B494,0),0)","v":0}]
[{"$f":"IF( [1]GeralMinuta!A495 <>\"\", [1]GeralMinuta!A495,\"\")","v":""},{"$f":"IF(Completo_Esforço_CPFL_Paulista!$L$31=1,IF( [1]GeralMinuta!B495 <>\"\", [1]GeralMinuta!B495,0),0)","v":0}]
[{"$f":"IF( [1]GeralMinuta!A496 <>\"\", [1]GeralMinuta!A496,\"\")","v":""},{"$f":"IF(Completo_Esforço_CPFL_Paulista!$L$31=1,IF( [1]GeralMinuta!B496 <>\"\", [1]GeralMinuta!B496,0),0)","v":0}]
[{"$f":"IF( [1]GeralMinuta!A497 <>\"\", [1]GeralMinuta!A497,\"\")","v":""},{"$f":"IF(Completo_Esforço_CPFL_Paulista!$L$31=1,IF( [1]GeralMinuta!B497 <>\"\", [1]GeralMinuta!B497,0),0)","v":0}]
[{"$f":"IF( [1]GeralMinuta!A498 <>\"\", [1]GeralMinuta!A498,\"\")","v":""},{"$f":"IF(Completo_Esforço_CPFL_Paulista!$L$31=1,IF( [1]GeralMinuta!B498 <>\"\", [1]GeralMinuta!B498,0),0)","v":0}]
[{"$f":"IF( [1]GeralMinuta!A499 <>\"\", [1]GeralMinuta!A499,\"\")","v":""},{"$f":"IF(Completo_Esforço_CPFL_Paulista!$L$31=1,IF( [1]GeralMinuta!B499 <>\"\", [1]GeralMinuta!B499,0),0)","v":0}]
[{"$f":"IF( [1]GeralMinuta!A500 <>\"\", [1]GeralMinuta!A500,\"\")","v":""},{"$f":"IF(Completo_Esforço_CPFL_Paulista!$L$31=1,IF( [1]GeralMinuta!B500 <>\"\", [1]GeralMinuta!B500,0),0)","v":0}]

{"sheet":"Neutro","index":6,"n_rows":500,"n_cols":6,"rows_kept":500,"cut":false,"hidden":true,"merged":[]}
[{"$f":"IF( [1]GeralMinuta!A1 <>\"\", [1]GeralMinuta!A1,\"\")","v":""},{"$f":"IF( [1]GeralMinuta!B1 <>\"\", [1]GeralMinuta!B1,\"\")","v":""},null,null,null,{"$f":" [1]NeutroMinutaCpfl!A1","v":""}]
[{"$f":"IF( [1]GeralMinuta!A2 <>\"\", [1]GeralMinuta!A2,\"\")","v":"3 E 70 mm² Vão 35m "},{"$f":"IF( [1]GeralMinuta!B2 <>\"\", [1]GeralMinuta!B2,\"\")","v":373}]
[{"$f":"IF( [1]GeralMinuta!A3 <>\"\", [1]GeralMinuta!A3,\"\")","v":"3 E 185 mm² Vão 35m "},{"$f":"IF( [1]GeralMinuta!B3 <>\"\", [1]GeralMinuta!B3,\"\")","v":648}]
[{"$f":"IF( [1]GeralMinuta!A4 <>\"\", [1]GeralMinuta!A4,\"\")","v":""},{"$f":"IF( [1]GeralMinuta!B4 <>\"\", [1]GeralMinuta!B4,\"\")","v":""}]
[{"$f":"IF( [1]GeralMinuta!A5 <>\"\", [1]GeralMinuta!A5,\"\")","v":"3 E 70 mm² Vão 35m RGE"},{"$f":"IF( [1]GeralMinuta!B5 <>\"\", [1]GeralMinuta!B5,\"\")","v":373}]
[{"$f":"IF( [1]GeralMinuta!A6 <>\"\", [1]GeralMinuta!A6,\"\")","v":"3 E 185 mm² Vão 35m RGE"},{"$f":"IF( [1]GeralMinuta!B6 <>\"\", [1]GeralMinuta!B6,\"\")","v":632}]
[{"$f":"IF( [1]GeralMinuta!A7 <>\"\", [1]GeralMinuta!A7,\"\")","v":""},{"$f":"IF( [1]GeralMinuta!B7 <>\"\", [1]GeralMinuta!B7,\"\")","v":""}]
[{"$f":"IF( [1]GeralMinuta!A8 <>\"\", [1]GeralMinuta!A8,\"\")","v":"3 E 70 mm² Vão 80m "},{"$f":"IF( [1]GeralMinuta!B8 <>\"\", [1]GeralMinuta!B8,\"\")","v":549}]
[{"$f":"IF( [1]GeralMinuta!A9 <>\"\", [1]GeralMinuta!A9,\"\")","v":"3 E 185 mm² Vão 80m "},{"$f":"IF( [1]GeralMinuta!B9 <>\"\", [1]GeralMinuta!B9,\"\")","v":837}]
[{"$f":"IF( [1]GeralMinuta!A10 <>\"\", [1]GeralMinuta!A10,\"\")","v":""},{"$f":"IF( [1]GeralMinuta!B10 <>\"\", [1]GeralMinuta!B10,\"\")","v":""}]
[{"$f":"IF( [1]GeralMinuta!A11 <>\"\", [1]GeralMinuta!A11,\"\")","v":"3 E 70 mm² Vão 80m RGE"},{"$f":"IF( [1]GeralMinuta!B11 <>\"\", [1]GeralMinuta!B11,\"\")","v":549}]
[{"$f":"IF( [1]GeralMinuta!A12 <>\"\", [1]GeralMinuta!A12,\"\")","v":"3 E 185 mm² Vão 80m RGE"},{"$f":"IF( [1]GeralMinuta!B12 <>\"\", [1]GeralMinuta!B12,\"\")","v":837}]
[{"$f":"IF( [1]GeralMinuta!A13 <>\"\", [1]GeralMinuta!A13,\"\")","v":""},{"$f":"IF( [1]GeralMinuta!B13 <>\"\", [1]GeralMinuta!B13,\"\")","v":""}]
[{"$f":"IF( [1]GeralMinuta!A14 <>\"\", [1]GeralMinuta!A14,\"\")","v":"3 P 16 mm² Vão 35m "},{"$f":"IF( [1]GeralMinuta!B14 <>\"\", [1]GeralMinuta!B14,\"\")","v":70}]
[{"$f":"IF( [1]GeralMinuta!A15 <>\"\", [1]GeralMinuta!A15,\"\")","v":"3 P 25 mm² Vão 35m "},{"$f":"IF( [1]GeralMinuta!B15 <>\"\", [1]GeralMinuta!B15,\"\")","v":96}]
[{"$f":"IF( [1]GeralMinuta!A16 <>\"\", [1]GeralMinuta!A16,\"\")","v":"3 P 35 mm² Vão 35m "},{"$f":"IF( [1]GeralMinuta!B16 <>\"\", [1]GeralMinuta!B16,\"\")","v":126}]
[{"$f":"IF( [1]GeralMinuta!A17 <>\"\", [1]GeralMinuta!A17,\"\")","v":"3 P 50 mm² Vão 35m "},{"$f":"IF( [1]GeralMinuta!B17 <>\"\", [1]GeralMinuta!B17,\"\")","v":156}]
[{"$f":"IF( [1]GeralMinuta!A18 <>\"\", [1]GeralMinuta!A18,\"\")","v":"3 P 70 mm² Vão 35m "},{"$f":"IF( [1]GeralMinuta!B18 <>\"\", [1]GeralMinuta!B18,\"\")","v":216}]
[{"$f":"IF( [1]GeralMinuta!A19 <>\"\", [1]GeralMinuta!A19,\"\")","v":"3 P 120 mm² Vão 35m "},{"$f":"IF( [1]GeralMinuta!B19 <>\"\", [1]GeralMinuta!B19,\"\")","v":336}]
[{"$f":"IF( [1]GeralMinuta!A20 <>\"\", [1]GeralMinuta!A20,\"\")","v":""},{"$f":"IF( [1]GeralMinuta!B20 <>\"\", [1]GeralMinuta!B20,\"\")","v":""}]
[{"$f":"IF( [1]GeralMinuta!A21 <>\"\", [1]GeralMinuta!A21,\"\")","v":"3 P 16 mm² Vão 35m RGE"},{"$f":"IF( [1]GeralMinuta!B21 <>\"\", [1]GeralMinuta!B21,\"\")","v":70}]
[{"$f":"IF( [1]GeralMinuta!A22 <>\"\", [1]GeralMinuta!A22,\"\")","v":"3 P 25 mm² Vão 35m RGE"},{"$f":"IF( [1]GeralMinuta!B22 <>\"\", [1]GeralMinuta!B22,\"\")","v":96}]
[{"$f":"IF( [1]GeralMinuta!A23 <>\"\", [1]GeralMinuta!A23,\"\")","v":"3 P 35 mm² Vão 35m RGE"},{"$f":"IF( [1]GeralMinuta!B23 <>\"\", [1]GeralMinuta!B23,\"\")","v":126}]
[{"$f":"IF( [1]GeralMinuta!A24 <>\"\", [1]GeralMinuta!A24,\"\")","v":"3 P 50 mm² Vão 35m RGE"},{"$f":"IF( [1]GeralMinuta!B24 <>\"\", [1]GeralMinuta!B24,\"\")","v":162}]
[{"$f":"IF( [1]GeralMinuta!A25 <>\"\", [1]GeralMinuta!A25,\"\")","v":"3 P 70 mm² Vão 35m RGE"},{"$f":"IF( [1]GeralMinuta!B25 <>\"\", [1]GeralMinuta!B25,\"\")","v":226}]
[{"$f":"IF( [1]GeralMinuta!A26 <>\"\", [1]GeralMinuta!A26,\"\")","v":"3 P 120 mm² Vão 35m RGE"},{"$f":"IF( [1]GeralMinuta!B26 <>\"\", [1]GeralMinuta!B26,\"\")","v":352}]
[{"$f":"IF( [1]GeralMinuta!A27 <>\"\", [1]GeralMinuta!A27,\"\")","v":""},{"$f":"IF( [1]GeralMinuta!B27 <>\"\", [1]GeralMinuta!B27,\"\")","v":""}]
[{"$f":"IF( [1]GeralMinuta!A28 <>\"\", [1]GeralMinuta!A28,\"\")","v":"3 CA 02 AWG Vão 35m "},{"$f":"IF( [1]GeralMinuta!B28 <>\"\", [1]GeralMinuta!B28,\"\")","v":180}]
[{"$f":"IF( [1]GeralMinuta!A29 <>\"\", [1]GeralMinuta!A29,\"\")","v":"3 CA 1/0 AWG Vão 35m "},{"$f":"IF( [1]GeralMinuta!B29 <>\"\", [1]GeralMinuta!B29,\"\")","v":288}]
[{"$f":"IF( [1]GeralMinuta!A30 <>\"\", [1]GeralMinuta!A30,\"\")","v":"3 CA 2/0 AWG Vão 35m "},{"$f":"IF( [1]GeralMinuta!B30 <>\"\", [1]GeralMinuta!B30,\"\")","v":363}]
[{"$f":"IF( [1]GeralMinuta!A31 <>\"\", [1]GeralMinuta!A31,\"\")","v":"3 CA 4/0 AWG Vão 35m "},{"$f":"IF( [1]GeralMinuta!B31 <>\"\", [1]GeralMinuta!B31,\"\")","v":582}]
[{"$f":"IF( [1]GeralMinuta!A32 <>\"\", [1]GeralMinuta!A32,\"\")","v":"3 CA 336,4 MCM Vão 35m "},{"$f":"IF( [1]GeralMinuta!B32 <>\"\", [1]GeralMinuta!B32,\"\")","v":924}]
[{"$f":"IF( [1]GeralMinuta!A33 <>\"\", [1]GeralMinuta!A33,\"\")","v":"3 CA 477 MCM Vão 35m "},{"$f":"IF( [1]GeralMinuta!B33 <>\"\", [1]GeralMinuta!B33,\"\")","v":1305}]
[{"$f":"IF( [1]GeralMinuta!A34 <>\"\", [1]GeralMinuta!A34,\"\")","v":""},{"$f":"IF( [1]GeralMinuta!B34 <>\"\", [1]GeralMinuta!B34,\"\")","v":""}]
[{"$f":"IF( [1]GeralMinuta!A35 <>\"\", [1]GeralMinuta!A35,\"\")","v":"3 CA 02 AWG Vão 35m RGE"},{"$f":"IF( [1]GeralMinuta!B35 <>\"\", [1]GeralMinuta!B35,\"\")","v":225}]
[{"$f":"IF( [1]GeralMinuta!A36 <>\"\", [1]GeralMinuta!A36,\"\")","v":"3 CA 1/0 AWG Vão 35m RGE"},{"$f":"IF( [1]GeralMinuta!B36 <>\"\", [1]GeralMinuta!B36,\"\")","v":2319}]
[{"$f":"IF( [1]GeralMinuta!A37 <>\"\", [1]GeralMinuta!A37,\"\")","v":"3 CA 2/0 AWG Vão 35m RGE"},{"$f":"IF( [1]GeralMinuta!B37 <>\"\", [1]GeralMinuta!B37,\"\")","v":450}]
[{"$f":"IF( [1]GeralMinuta!A38 <>\"\", [1]GeralMinuta!A38,\"\")","v":"3 CA 4/0 AWG Vão 35m RGE"},{"$f":"IF( [1]GeralMinuta!B38 <>\"\", [1]GeralMinuta!B38,\"\")","v":720}]
[{"$f":"IF( [1]GeralMinuta!A39 <>\"\", [1]GeralMinuta!A39,\"\")","v":"3 CA 336,4 MCM Vão 35m RGE"},{"$f":"IF( [1]GeralMinuta!B39 <>\"\", [1]GeralMinuta!B39,\"\")","v":1143}]
[{"$f":"IF( [1]GeralMinuta!A40 <>\"\", [1]GeralMinuta!A40,\"\")","v":"3 CA 477 MCM Vão 35m RGE"},{"$f":"IF( [1]GeralMinuta!B40 <>\"\", [1]GeralMinuta!B40,\"\")","v":1617}]
[{"$f":"IF( [1]GeralMinuta!A41 <>\"\", [1]GeralMinuta!A41,\"\")","v":""},{"$f":"IF( [1]GeralMinuta!B41 <>\"\", [1]GeralMinuta!B41,\"\")","v":""}]
[{"$f":"IF( [1]GeralMinuta!A42 <>\"\", [1]GeralMinuta!A42,\"\")","v":"3 CA 02 AWG Vão 80m "},{"$f":"IF( [1]GeralMinuta!B42 <>\"\", [1]GeralMinuta!B42,\"\")","v":399}]
[{"$f":"IF( [1]GeralMinuta!A43 <>\"\", [1]GeralMinuta!A43,\"\")","v":"3 CA 1/0 AWG Vão 80m "},{"$f":"IF( [1]GeralMinuta!B43 <>\"\", [1]GeralMinuta!B43,\"\")","v":558}]
[{"$f":"IF( [1]GeralMinuta!A44 <>\"\", [1]GeralMinuta!A44,\"\")","v":"3 CA 2/0 AWG Vão 80m "},{"$f":"IF( [1]GeralMinuta!B44 <>\"\", [1]GeralMinuta!B44,\"\")","v":660}]
[{"$f":"IF( [1]GeralMinuta!A45 <>\"\", [1]GeralMinuta!A45,\"\")","v":"3 CA 4/0 AWG Vão 80m "},{"$f":"IF( [1]GeralMinuta!B45 <>\"\", [1]GeralMinuta!B45,\"\")","v":945}]
[{"$f":"IF( [1]GeralMinuta!A46 <>\"\", [1]GeralMinuta!A46,\"\")","v":"3 CA 336,4 MCM Vão 80m "},{"$f":"IF( [1]GeralMinuta!B46 <>\"\", [1]GeralMinuta!B46,\"\")","v":1449}]
[{"$f":"IF( [1]GeralMinuta!A47 <>\"\", [1]GeralMinuta!A47,\"\")","v":"3 CA 477 MCM Vão 80m "},{"$f":"IF( [1]GeralMinuta!B47 <>\"\", [1]GeralMinuta!B47,\"\")","v":2049}]
[{"$f":"IF( [1]GeralMinuta!A48 <>\"\", [1]GeralMinuta!A48,\"\")","v":""},{"$f":"IF( [1]GeralMinuta!B48 <>\"\", [1]GeralMinuta!B48,\"\")","v":""}]
[{"$f":"IF( [1]GeralMinuta!A49 <>\"\", [1]GeralMinuta!A49,\"\")","v":"3 CA 02 AWG Vão 80m RGE"},{"$f":"IF( [1]GeralMinuta!B49 <>\"\", [1]GeralMinuta!B49,\"\")","v":399}]
[{"$f":"IF( [1]GeralMinuta!A50 <>\"\", [1]GeralMinuta!A50,\"\")","v":"3 CA 1/0 AWG Vão 80m RGE"},{"$f":"IF( [1]GeralMinuta!B50 <>\"\", [1]GeralMinuta!B50,\"\")","v":558}]
[{"$f":"IF( [1]GeralMinuta!A51 <>\"\", [1]GeralMinuta!A51,\"\")","v":"3 CA 2/0 AWG Vão 80m RGE"},{"$f":"IF( [1]GeralMinuta!B51 <>\"\", [1]GeralMinuta!B51,\"\")","v":660}]
[{"$f":"IF( [1]GeralMinuta!A52 <>\"\", [1]GeralMinuta!A52,\"\")","v":"3 CA 4/0 AWG Vão 80m RGE"},{"$f":"IF( [1]GeralMinuta!B52 <>\"\", [1]GeralMinuta!B52,\"\")","v":1029}]
[{"$f":"IF( [1]GeralMinuta!A53 <>\"\", [1]GeralMinuta!A53,\"\")","v":"3 CA 336,4 MCM Vão 80m RGE"},{"$f":"IF( [1]GeralMinuta!B53 <>\"\", [1]GeralMinuta!B53,\"\")","v":1632}]
[{"$f":"IF( [1]GeralMinuta!A54 <>\"\", [1]GeralMinuta!A54,\"\")","v":"3 CA 477 MCM Vão 80m RGE"},{"$f":"IF( [1]GeralMinuta!B54 <>\"\", [1]GeralMinuta!B54,\"\")","v":2310}]
[{"$f":"IF( [1]GeralMinuta!A55 <>\"\", [1]GeralMinuta!A55,\"\")","v":""},{"$f":"IF( [1]GeralMinuta!B55 <>\"\", [1]GeralMinuta!B55,\"\")","v":""}]
[{"$f":"IF( [1]GeralMinuta!A56 <>\"\", [1]GeralMinuta!A56,\"\")","v":"3 CAA 04 AWG Vão 40m "},{"$f":"IF( [1]GeralMinuta!B56 <>\"\", [1]GeralMinuta!B56,\"\")","v":189}]
[{"$f":"IF( [1]GeralMinuta!A57 <>\"\", [1]GeralMinuta!A57,\"\")","v":"3 CAA 02 AWG Vão 40m "},{"$f":"IF( [1]GeralMinuta!B57 <>\"\", [1]GeralMinuta!B57,\"\")","v":300}]
[{"$f":"IF( [1]GeralMinuta!A58 <>\"\", [1]GeralMinuta!A58,\"\")","v":"3 CAA 1/0 AWG Vão 40m "},{"$f":"IF( [1]GeralMinuta!B58 <>\"\", [1]GeralMinuta!B58,\"\")","v":480}]
[{"$f":"IF( [1]GeralMinuta!A59 <>\"\", [1]GeralMinuta!A59,\"\")","v":"3 CAA 2/0 AWG Vão 40m "},{"$f":"IF( [1]GeralMinuta!B59 <>\"\", [1]GeralMinuta!B59,\"\")","v":603}]
[{"$f":"IF( [1]GeralMinuta!A60 <>\"\", [1]GeralMinuta!A60,\"\")","v":"3 CAA 4/0 AWG Vão 40m "},{"$f":"IF( [1]GeralMinuta!B60 <>\"\", [1]GeralMinuta!B60,\"\")","v":960}]
[{"$f":"IF( [1]GeralMinuta!A61 <>\"\", [1]GeralMinuta!A61,\"\")","v":""},{"$f":"IF( [1]GeralMinuta!B61 <>\"\", [1]GeralMinuta!B61,\"\")","v":""}]
[{"$f":"IF( [1]GeralMinuta!A62 <>\"\", [1]GeralMinuta!A62,\"\")","v":"3 CAA 04 AWG Vão 40m RGE"},{"$f":"IF( [1]GeralMinuta!B62 <>\"\", [1]GeralMinuta!B62,\"\")","v":225}]
[{"$f":"IF( [1]GeralMinuta!A63 <>\"\", [1]GeralMinuta!A63,\"\")","v":"3 CAA 02 AWG Vão 40m RGE"},{"$f":"IF( [1]GeralMinuta!B63 <>\"\", [1]GeralMinuta!B63,\"\")","v":357}]
[{"$f":"IF( [1]GeralMinuta!A64 <>\"\", [1]GeralMinuta!A64,\"\")","v":"3 CAA 1/0 AWG Vão 40m RGE"},{"$f":"IF( [1]GeralMinuta!B64 <>\"\", [1]GeralMinuta!B64,\"\")","v":570}]
[{"$f":"IF( [1]GeralMinuta!A65 <>\"\", [1]GeralMinuta!A65,\"\")","v":"3 CAA 2/0 AWG Vão 40m RGE"},{"$f":"IF( [1]GeralMinuta!B65 <>\"\", [1]GeralMinuta!B65,\"\")","v":720}]
[{"$f":"IF( [1]GeralMinuta!A66 <>\"\", [1]GeralMinuta!A66,\"\")","v":"3 CAA 4/0 AWG Vão 40m RGE"},{"$f":"IF( [1]GeralMinuta!B66 <>\"\", [1]GeralMinuta!B66,\"\")","v":1143}]
[{"$f":"IF( [1]GeralMinuta!A67 <>\"\", [1]GeralMinuta!A67,\"\")","v":""},{"$f":"IF( [1]GeralMinuta!B67 <>\"\", [1]GeralMinuta!B67,\"\")","v":""}]
[{"$f":"IF( [1]GeralMinuta!A68 <>\"\", [1]GeralMinuta!A68,\"\")","v":"3 CAA 04 AWG Vão 80m "},{"$f":"IF( [1]GeralMinuta!B68 <>\"\", [1]GeralMinuta!B68,\"\")","v":405}]
[{"$f":"IF( [1]GeralMinuta!A69 <>\"\", [1]GeralMinuta!A69,\"\")","v":"3 CAA 02 AWG Vão 80m "},{"$f":"IF( [1]GeralMinuta!B69 <>\"\", [1]GeralMinuta!B69,\"\")","v":573}]
[{"$f":"IF( [1]GeralMinuta!A70 <>\"\", [1]GeralMinuta!A70,\"\")","v":"3 CAA 1/0 AWG Vão 80m "},{"$f":"IF( [1]GeralMinuta!B70 <>\"\", [1]GeralMinuta!B70,\"\")","v":825}]
[{"$f":"IF( [1]GeralMinuta!A71 <>\"\", [1]GeralMinuta!A71,\"\")","v":"3 CAA 2/0 AWG Vão 80m "},{"$f":"IF( [1]GeralMinuta!B71 <>\"\", [1]GeralMinuta!B71,\"\")","v":1038}]
[{"$f":"IF( [1]GeralMinuta!A72 <>\"\", [1]GeralMinuta!A72,\"\")","v":"3 CAA 4/0 AWG Vão 80m "},{"$f":"IF( [1]GeralMinuta!B72 <>\"\", [1]GeralMinuta!B72,\"\")","v":1653}]
[{"$f":"IF( [1]GeralMinuta!A73 <>\"\", [1]GeralMinuta!A73,\"\")","v":"3 CAA 336,4 MCM Vão 80m "},{"$f":"IF( [1]GeralMinuta!B73 <>\"\", [1]GeralMinuta!B73,\"\")","v":2628}]
[{"$f":"IF( [1]GeralMinuta!A74 <>\"\", [1]GeralMinuta!A74,\"\")","v":""},{"$f":"IF( [1]GeralMinuta!B74 <>\"\", [1]GeralMinuta!B74,\"\")","v":""}]
[{"$f":"IF( [1]GeralMinuta!A75 <>\"\", [1]GeralMinuta!A75,\"\")","v":"3 CAA 04 AWG Vão 80m RGE"},{"$f":"IF( [1]GeralMinuta!B75 <>\"\", [1]GeralMinuta!B75,\"\")","v":405}]
[{"$f":"IF( [1]GeralMinuta!A76 <>\"\", [1]GeralMinuta!A76,\"\")","v":"3 CAA 02 AWG Vão 80m RGE"},{"$f":"IF( [1]GeralMinuta!B76 <>\"\", [1]GeralMinuta!B76,\"\")","v":576}]
[{"$f":"IF( [1]GeralMinuta!A77 <>\"\", [1]GeralMinuta!A77,\"\")","v":"3 CAA 1/0 AWG Vão 80m RGE"},{"$f":"IF( [1]GeralMinuta!B77 <>\"\", [1]GeralMinuta!B77,\"\")","v":915}]
[{"$f":"IF( [1]GeralMinuta!A78 <>\"\", [1]GeralMinuta!A78,\"\")","v":"3 CAA 2/0 AWG Vão 80m RGE"},{"$f":"IF( [1]GeralMinuta!B78 <>\"\", [1]GeralMinuta!B78,\"\")","v":1152}]
[{"$f":"IF( [1]GeralMinuta!A79 <>\"\", [1]GeralMinuta!A79,\"\")","v":"3 CAA 4/0 AWG Vão 80m RGE"},{"$f":"IF( [1]GeralMinuta!B79 <>\"\", [1]GeralMinuta!B79,\"\")","v":1833}]
[{"$f":"IF( [1]GeralMinuta!A80 <>\"\", [1]GeralMinuta!A80,\"\")","v":"3 CAA 336,4 MCM Vão 80m RGE"},{"$f":"IF( [1]GeralMinuta!B80 <>\"\", [1]GeralMinuta!B80,\"\")","v":2916}]
[{"$f":"IF( [1]GeralMinuta!A81 <>\"\", [1]GeralMinuta!A81,\"\")","v":""},{"$f":"IF( [1]GeralMinuta!B81 <>\"\", [1]GeralMinuta!B81,\"\")","v":""}]
[{"$f":"IF( [1]GeralMinuta!A82 <>\"\", [1]GeralMinuta!A82,\"\")","v":"3 CAA 04 AWG Vão 120m "},{"$f":"IF( [1]GeralMinuta!B82 <>\"\", [1]GeralMinuta!B82,\"\")","v":525}]
[{"$f":"IF( [1]GeralMinuta!A83 <>\"\", [1]GeralMinuta!A83,\"\")","v":"3 CAA 02 AWG Vão 120m "},{"$f":"IF( [1]GeralMinuta!B83 <>\"\", [1]GeralMinuta!B83,\"\")","v":741}]
[{"$f":"IF( [1]GeralMinuta!A84 <>\"\", [1]GeralMinuta!A84,\"\")","v":"3 CAA 1/0 AWG Vão 120m "},{"$f":"IF( [1]GeralMinuta!B84 <>\"\", [1]GeralMinuta!B84,\"\")","v":1065}]
[{"$f":"IF( [1]GeralMinuta!A85 <>\"\", [1]GeralMinuta!A85,\"\")","v":"3 CAA 2/0 AWG Vão 120m "},{"$f":"IF( [1]GeralMinuta!B85 <>\"\", [1]GeralMinuta!B85,\"\")","v":1284}]
[{"$f":"IF( [1]GeralMinuta!A86 <>\"\", [1]GeralMinuta!A86,\"\")","v":"3 CAA 4/0 AWG Vão 120m "},{"$f":"IF( [1]GeralMinuta!B86 <>\"\", [1]GeralMinuta!B86,\"\")","v":1956}]
[{"$f":"IF( [1]GeralMinuta!A87 <>\"\", [1]GeralMinuta!A87,\"\")","v":"3 CAA 336,4 MCM Vão 120m "},{"$f":"IF( [1]GeralMinuta!B87 <>\"\", [1]GeralMinuta!B87,\"\")","v":3105}]
[{"$f":"IF( [1]GeralMinuta!A88 <>\"\", [1]GeralMinuta!A88,\"\")","v":""},{"$f":"IF( [1]GeralMinuta!B88 <>\"\", [1]GeralMinuta!B88,\"\")","v":""}]
[{"$f":"IF( [1]GeralMinuta!A89 <>\"\", [1]GeralMinuta!A89,\"\")","v":"3 CAA 04 AWG Vão 120m RGE"},{"$f":"IF( [1]GeralMinuta!B89 <>\"\", [1]GeralMinuta!B89,\"\")","v":525}]
[{"$f":"IF( [1]GeralMinuta!A90 <>\"\", [1]GeralMinuta!A90,\"\")","v":"3 CAA 02 AWG Vão 120m RGE"},{"$f":"IF( [1]GeralMinuta!B90 <>\"\", [1]GeralMinuta!B90,\"\")","v":741}]
[{"$f":"IF( [1]GeralMinuta!A91 <>\"\", [1]GeralMinuta!A91,\"\")","v":"3 CAA 1/0 AWG Vão 120m RGE"},{"$f":"IF( [1]GeralMinuta!B91 <>\"\", [1]GeralMinuta!B91,\"\")","v":1065}]
[{"$f":"IF( [1]GeralMinuta!A92 <>\"\", [1]GeralMinuta!A92,\"\")","v":"3 CAA 2/0 AWG Vão 120m RGE"},{"$f":"IF( [1]GeralMinuta!B92 <>\"\", [1]GeralMinuta!B92,\"\")","v":1329}]
[{"$f":"IF( [1]GeralMinuta!A93 <>\"\", [1]GeralMinuta!A93,\"\")","v":"3 CAA 4/0 AWG Vão 120m RGE"},{"$f":"IF( [1]GeralMinuta!B93 <>\"\", [1]GeralMinuta!B93,\"\")","v":2115}]
[{"$f":"IF( [1]GeralMinuta!A94 <>\"\", [1]GeralMinuta!A94,\"\")","v":"3 CAA 336,4 MCM Vão 120m RGE"},{"$f":"IF( [1]GeralMinuta!B94 <>\"\", [1]GeralMinuta!B94,\"\")","v":3360}]
[{"$f":"IF( [1]GeralMinuta!A95 <>\"\", [1]GeralMinuta!A95,\"\")","v":""},{"$f":"IF( [1]GeralMinuta!B95 <>\"\", [1]GeralMinuta!B95,\"\")","v":""}]
[{"$f":"IF( [1]GeralMinuta!A96 <>\"\", [1]GeralMinuta!A96,\"\")","v":"3 15kv 240 mm² Vão 35m  "},{"$f":"IF( [1]GeralMinuta!B96 <>\"\", [1]GeralMinuta!B96,\"\")","v":723}]
[{"$f":"IF( [1]GeralMinuta!A97 <>\"\", [1]GeralMinuta!A97,\"\")","v":"3 25kv 240 mm² Vão 35m  "},{"$f":"IF( [1]GeralMinuta!B97 <>\"\", [1]GeralMinuta!B97,\"\")","v":825}]
[{"$f":"IF( [1]GeralMinuta!A98 <>\"\", [1]GeralMinuta!A98,\"\")","v":"3 35kv 240 mm² Vão 35m  "},{"$f":"IF( [1]GeralMinuta!B98 <>\"\", [1]GeralMinuta!B98,\"\")","v":966}]
[{"$f":"IF( [1]GeralMinuta!A99 <>\"\", [1]GeralMinuta!A99,\"\")","v":""},{"$f":"IF( [1]GeralMinuta!B99 <>\"\", [1]GeralMinuta!B99,\"\")","v":""}]
[{"$f":"IF( [1]GeralMinuta!A100 <>\"\", [1]GeralMinuta!A100,\"\")","v":"3 15kv 240 mm² Vão 35m  RGE"},{"$f":"IF( [1]GeralMinuta!B100 <>\"\", [1]GeralMinuta!B100,\"\")","v":743}]
[{"$f":"IF( [1]GeralMinuta!A101 <>\"\", [1]GeralMinuta!A101,\"\")","v":"3 25kv 240 mm² Vão 35m  RGE"},{"$f":"IF( [1]GeralMinuta!B101 <>\"\", [1]GeralMinuta!B101,\"\")","v":849}]
[{"$f":"IF( [1]GeralMinuta!A102 <>\"\", [1]GeralMinuta!A102,\"\")","v":"3 35kv 240 mm² Vão 35m  RGE"},{"$f":"IF( [1]GeralMinuta!B102 <>\"\", [1]GeralMinuta!B102,\"\")","v":993}]
[{"$f":"IF( [1]GeralMinuta!A103 <>\"\", [1]GeralMinuta!A103,\"\")","v":""},{"$f":"IF( [1]GeralMinuta!B103 <>\"\", [1]GeralMinuta!B103,\"\")","v":""}]
[{"$f":"IF( [1]GeralMinuta!A104 <>\"\", [1]GeralMinuta!A104,\"\")","v":"3 CU 06 AWG Vão 35m  "},{"$f":"IF( [1]GeralMinuta!B104 <>\"\", [1]GeralMinuta!B104,\"\")","v":168}]
[{"$f":"IF( [1]GeralMinuta!A105 <>\"\", [1]GeralMinuta!A105,\"\")","v":"3 CU 02 AWG Vão 35m  "},{"$f":"IF( [1]GeralMinuta!B105 <>\"\", [1]GeralMinuta!B105,\"\")","v":423}]
[{"$f":"IF( [1]GeralMinuta!A106 <>\"\", [1]GeralMinuta!A106,\"\")","v":"3 CU 1/0 AWG Vão 35m  "},{"$f":"IF( [1]GeralMinuta!B106 <>\"\", [1]GeralMinuta!B106,\"\")","v":624}]
[{"$f":"IF( [1]GeralMinuta!A107 <>\"\", [1]GeralMinuta!A107,\"\")","v":"3 CU 2/0 AWG Vão 35m  "},{"$f":"IF( [1]GeralMinuta!B107 <>\"\", [1]GeralMinuta!B107,\"\")","v":771}]
[{"$f":"IF( [1]GeralMinuta!A108 <>\"\", [1]GeralMinuta!A108,\"\")","v":"3 CU 4/0 AWG Vão 35m  "},{"$f":"IF( [1]GeralMinuta!B108 <>\"\", [1]GeralMinuta!B108,\"\")","v":1188}]
[{"$f":"IF( [1]GeralMinuta!A109 <>\"\", [1]GeralMinuta!A109,\"\")","v":""},{"$f":"IF( [1]GeralMinuta!B109 <>\"\", [1]GeralMinuta!B109,\"\")","v":""}]
[{"$f":"IF( [1]GeralMinuta!A110 <>\"\", [1]GeralMinuta!A110,\"\")","v":"3 CU 06 AWG Vão 35m  RGE"},{"$f":"IF( [1]GeralMinuta!B110 <>\"\", [1]GeralMinuta!B110,\"\")","v":168}]
[{"$f":"IF( [1]GeralMinuta!A111 <>\"\", [1]GeralMinuta!A111,\"\")","v":"3 CU 02 AWG Vão 35m  RGE"},{"$f":"IF( [1]GeralMinuta!B111 <>\"\", [1]GeralMinuta!B111,\"\")","v":423}]
[{"$f":"IF( [1]GeralMinuta!A112 <>\"\", [1]GeralMinuta!A112,\"\")","v":"3 CU 1/0 AWG Vão 35m  RGE"},{"$f":"IF( [1]GeralMinuta!B112 <>\"\", [1]GeralMinuta!B112,\"\")","v":624}]
[{"$f":"IF( [1]GeralMinuta!A113 <>\"\", [1]GeralMinuta!A113,\"\")","v":"3 CU 2/0 AWG Vão 35m  RGE"},{"$f":"IF( [1]GeralMinuta!B113 <>\"\", [1]GeralMinuta!B113,\"\")","v":771}]
[{"$f":"IF( [1]GeralMinuta!A114 <>\"\", [1]GeralMinuta!A114,\"\")","v":"3 CU 4/0 AWG Vão 35m  RGE"},{"$f":"IF( [1]GeralMinuta!B114 <>\"\", [1]GeralMinuta!B114,\"\")","v":1188}]
[{"$f":"IF( [1]GeralMinuta!A115 <>\"\", [1]GeralMinuta!A115,\"\")","v":""},{"$f":"IF( [1]GeralMinuta!B115 <>\"\", [1]GeralMinuta!B115,\"\")","v":""}]
[{"$f":"IF( [1]GeralMinuta!A116 <>\"\", [1]GeralMinuta!A116,\"\")","v":"2 CA 02 AWG Vão 35m "},{"$f":"IF( [1]GeralMinuta!B116 <>\"\", [1]GeralMinuta!B116,\"\")","v":120}]
[{"$f":"IF( [1]GeralMinuta!A117 <>\"\", [1]GeralMinuta!A117,\"\")","v":"2 CA 1/0 AWG Vão 35m "},{"$f":"IF( [1]GeralMinuta!B117 <>\"\", [1]GeralMinuta!B117,\"\")","v":192}]
[{"$f":"IF( [1]GeralMinuta!A118 <>\"\", [1]GeralMinuta!A118,\"\")","v":"2 CA 2/0 AWG Vão 35m "},{"$f":"IF( [1]GeralMinuta!B118 <>\"\", [1]GeralMinuta!B118,\"\")","v":242}]
[{"$f":"IF( [1]GeralMinuta!A119 <>\"\", [1]GeralMinuta!A119,\"\")","v":"2 CA 4/0 AWG Vão 35m "},{"$f":"IF( [1]GeralMinuta!B119 <>\"\", [1]GeralMinuta!B119,\"\")","v":388}]
[{"$f":"IF( [1]GeralMinuta!A120 <>\"\", [1]GeralMinuta!A120,\"\")","v":"2 CA 336,4 MCM Vão 35m "},{"$f":"IF( [1]GeralMinuta!B120 <>\"\", [1]GeralMinuta!B120,\"\")","v":616}]
[{"$f":"IF( [1]GeralMinuta!A121 <>\"\", [1]GeralMinuta!A121,\"\")","v":"2 CA 477 MCM Vão 35m "},{"$f":"IF( [1]GeralMinuta!B121 <>\"\", [1]GeralMinuta!B121,\"\")","v":870}]
[{"$f":"IF( [1]GeralMinuta!A122 <>\"\", [1]GeralMinuta!A122,\"\")","v":""},{"$f":"IF( [1]GeralMinuta!B122 <>\"\", [1]GeralMinuta!B122,\"\")","v":""}]
[{"$f":"IF( [1]GeralMinuta!A123 <>\"\", [1]GeralMinuta!A123,\"\")","v":"2 CA 02 AWG Vão 35m RGE"},{"$f":"IF( [1]GeralMinuta!B123 <>\"\", [1]GeralMinuta!B123,\"\")","v":150}]
[{"$f":"IF( [1]GeralMinuta!A124 <>\"\", [1]GeralMinuta!A124,\"\")","v":"2 CA 1/0 AWG Vão 35m RGE"},{"$f":"IF( [1]GeralMinuta!B124 <>\"\", [1]GeralMinuta!B124,\"\")","v":1546}]
[{"$f":"IF( [1]GeralMinuta!A125 <>\"\", [1]GeralMinuta!A125,\"\")","v":"2 CA 2/0 AWG Vão 35m RGE"},{"$f":"IF( [1]GeralMinuta!B125 <>\"\", [1]GeralMinuta!B125,\"\")","v":300}]
[{"$f":"IF( [1]GeralMinuta!A126 <>\"\", [1]GeralMinuta!A126,\"\")","v":"2 CA 4/0 AWG Vão 35m RGE"},{"$f":"IF( [1]GeralMinuta!B126 <>\"\", [1]GeralMinuta!B126,\"\")","v":480}]
[{"$f":"IF( [1]GeralMinuta!A127 <>\"\", [1]GeralMinuta!A127,\"\")","v":"2 CA 336,4 MCM Vão 35m RGE"},{"$f":"IF( [1]GeralMinuta!B127 <>\"\", [1]GeralMinuta!B127,\"\")","v":762}]
[{"$f":"IF( [1]GeralMinuta!A128 <>\"\", [1]GeralMinuta!A128,\"\")","v":"2 CA 477 MCM Vão 35m RGE"},{"$f":"IF( [1]GeralMinuta!B128 <>\"\", [1]GeralMinuta!B128,\"\")","v":1078}]
[{"$f":"IF( [1]GeralMinuta!A129 <>\"\", [1]GeralMinuta!A129,\"\")","v":""},{"$f":"IF( [1]GeralMinuta!B129 <>\"\", [1]GeralMinuta!B129,\"\")","v":""}]
[{"$f":"IF( [1]GeralMinuta!A130 <>\"\", [1]GeralMinuta!A130,\"\")","v":"2 CA 02 AWG Vão 80m "},{"$f":"IF( [1]GeralMinuta!B130 <>\"\", [1]GeralMinuta!B130,\"\")","v":266}]
[{"$f":"IF( [1]GeralMinuta!A131 <>\"\", [1]GeralMinuta!A131,\"\")","v":"2 CA 1/0 AWG Vão 80m "},{"$f":"IF( [1]GeralMinuta!B131 <>\"\", [1]GeralMinuta!B131,\"\")","v":372}]
[{"$f":"IF( [1]GeralMinuta!A132 <>\"\", [1]GeralMinuta!A132,\"\")","v":"2 CA 2/0 AWG Vão 80m "},{"$f":"IF( [1]GeralMinuta!B132 <>\"\", [1]GeralMinuta!B132,\"\")","v":440}]
[{"$f":"IF( [1]GeralMinuta!A133 <>\"\", [1]GeralMinuta!A133,\"\")","v":"2 CA 4/0 AWG Vão 80m "},{"$f":"IF( [1]GeralMinuta!B133 <>\"\", [1]GeralMinuta!B133,\"\")","v":630}]
[{"$f":"IF( [1]GeralMinuta!A134 <>\"\", [1]GeralMinuta!A134,\"\")","v":"2 CA 336,4 MCM Vão 80m "},{"$f":"IF( [1]GeralMinuta!B134 <>\"\", [1]GeralMinuta!B134,\"\")","v":966}]
[{"$f":"IF( [1]GeralMinuta!A135 <>\"\", [1]GeralMinuta!A135,\"\")","v":"2 CA 477 MCM Vão 80m "},{"$f":"IF( [1]GeralMinuta!B135 <>\"\", [1]GeralMinuta!B135,\"\")","v":1366}]
[{"$f":"IF( [1]GeralMinuta!A136 <>\"\", [1]GeralMinuta!A136,\"\")","v":""},{"$f":"IF( [1]GeralMinuta!B136 <>\"\", [1]GeralMinuta!B136,\"\")","v":""}]
[{"$f":"IF( [1]GeralMinuta!A137 <>\"\", [1]GeralMinuta!A137,\"\")","v":"2 CA 02 AWG Vão 80m RGE"},{"$f":"IF( [1]GeralMinuta!B137 <>\"\", [1]GeralMinuta!B137,\"\")","v":266}]
[{"$f":"IF( [1]GeralMinuta!A138 <>\"\", [1]GeralMinuta!A138,\"\")","v":"2 CA 1/0 AWG Vão 80m RGE"},{"$f":"IF( [1]GeralMinuta!B138 <>\"\", [1]GeralMinuta!B138,\"\")","v":372}]
[{"$f":"IF( [1]GeralMinuta!A139 <>\"\", [1]GeralMinuta!A139,\"\")","v":"2 CA 2/0 AWG Vão 80m RGE"},{"$f":"IF( [1]GeralMinuta!B139 <>\"\", [1]GeralMinuta!B139,\"\")","v":440}]
[{"$f":"IF( [1]GeralMinuta!A140 <>\"\", [1]GeralMinuta!A140,\"\")","v":"2 CA 4/0 AWG Vão 80m RGE"},{"$f":"IF( [1]GeralMinuta!B140 <>\"\", [1]GeralMinuta!B140,\"\")","v":686}]
[{"$f":"IF( [1]GeralMinuta!A141 <>\"\", [1]GeralMinuta!A141,\"\")","v":"2 CA 336,4 MCM Vão 80m RGE"},{"$f":"IF( [1]GeralMinuta!B141 <>\"\", [1]GeralMinuta!B141,\"\")","v":1088}]
[{"$f":"IF( [1]GeralMinuta!A142 <>\"\", [1]GeralMinuta!A142,\"\")","v":"2 CA 477 MCM Vão 80m RGE"},{"$f":"IF( [1]GeralMinuta!B142 <>\"\", [1]GeralMinuta!B142,\"\")","v":1540}]
[{"$f":"IF( [1]GeralMinuta!A143 <>\"\", [1]GeralMinuta!A143,\"\")","v":""},{"$f":"IF( [1]GeralMinuta!B143 <>\"\", [1]GeralMinuta!B143,\"\")","v":""}]
[{"$f":"IF( [1]GeralMinuta!A144 <>\"\", [1]GeralMinuta!A144,\"\")","v":"2 CA 04 AWG Vão 40m "},{"$f":"IF( [1]GeralMinuta!B144 <>\"\", [1]GeralMinuta!B144,\"\")","v":126}]
[{"$f":"IF( [1]GeralMinuta!A145 <>\"\", [1]GeralMinuta!A145,\"\")","v":"2 CA 02 AWG Vão 40m "},{"$f":"IF( [1]GeralMinuta!B145 <>\"\", [1]GeralMinuta!B145,\"\")","v":200}]
[{"$f":"IF( [1]GeralMinuta!A146 <>\"\", [1]GeralMinuta!A146,\"\")","v":"2 CA 1/0 AWG Vão 40m "},{"$f":"IF( [1]GeralMinuta!B146 <>\"\", [1]GeralMinuta!B146,\"\")","v":320}]
[{"$f":"IF( [1]GeralMinuta!A147 <>\"\", [1]GeralMinuta!A147,\"\")","v":"2 CA 2/0 AWG Vão 40m "},{"$f":"IF( [1]GeralMinuta!B147 <>\"\", [1]GeralMinuta!B147,\"\")","v":402}]
[{"$f":"IF( [1]GeralMinuta!A148 <>\"\", [1]GeralMinuta!A148,\"\")","v":"2 CA 4/0 AWG Vão 40m "},{"$f":"IF( [1]GeralMinuta!B148 <>\"\", [1]GeralMinuta!B148,\"\")","v":640}]
[{"$f":"IF( [1]GeralMinuta!A149 <>\"\", [1]GeralMinuta!A149,\"\")","v":""},{"$f":"IF( [1]GeralMinuta!B149 <>\"\", [1]GeralMinuta!B149,\"\")","v":""}]
[{"$f":"IF( [1]GeralMinuta!A150 <>\"\", [1]GeralMinuta!A150,\"\")","v":"2 CAA 04 AWG Vão 40m RGE"},{"$f":"IF( [1]GeralMinuta!B150 <>\"\", [1]GeralMinuta!B150,\"\")","v":150}]
[{"$f":"IF( [1]GeralMinuta!A151 <>\"\", [1]GeralMinuta!A151,\"\")","v":"2 CAA 02 AWG Vão 40m RGE"},{"$f":"IF( [1]GeralMinuta!B151 <>\"\", [1]GeralMinuta!B151,\"\")","v":238}]
[{"$f":"IF( [1]GeralMinuta!A152 <>\"\", [1]GeralMinuta!A152,\"\")","v":"2 CAA 1/0 AWG Vão 40m RGE"},{"$f":"IF( [1]GeralMinuta!B152 <>\"\", [1]GeralMinuta!B152,\"\")","v":380}]
[{"$f":"IF( [1]GeralMinuta!A153 <>\"\", [1]GeralMinuta!A153,\"\")","v":"2 CAA 2/0 AWG Vão 40m RGE"},{"$f":"IF( [1]GeralMinuta!B153 <>\"\", [1]GeralMinuta!B153,\"\")","v":480}]
[{"$f":"IF( [1]GeralMinuta!A154 <>\"\", [1]GeralMinuta!A154,\"\")","v":"2 CAA 4/0 AWG Vão 40m RGE"},{"$f":"IF( [1]GeralMinuta!B154 <>\"\", [1]GeralMinuta!B154,\"\")","v":762}]
[{"$f":"IF( [1]GeralMinuta!A155 <>\"\", [1]GeralMinuta!A155,\"\")","v":""},{"$f":"IF( [1]GeralMinuta!B155 <>\"\", [1]GeralMinuta!B155,\"\")","v":""}]
[{"$f":"IF( [1]GeralMinuta!A156 <>\"\", [1]GeralMinuta!A156,\"\")","v":"2 CAA 04 AWG Vão 80m "},{"$f":"IF( [1]GeralMinuta!B156 <>\"\", [1]GeralMinuta!B156,\"\")","v":270}]
[{"$f":"IF( [1]GeralMinuta!A157 <>\"\", [1]GeralMinuta!A157,\"\")","v":"2 CAA 02 AWG Vão 80m "},{"$f":"IF( [1]GeralMinuta!B157 <>\"\", [1]GeralMinuta!B157,\"\")","v":382}]
[{"$f":"IF( [1]GeralMinuta!A158 <>\"\", [1]GeralMinuta!A158,\"\")","v":"2 CAA 1/0 AWG Vão 80m "},{"$f":"IF( [1]GeralMinuta!B158 <>\"\", [1]GeralMinuta!B158,\"\")","v":550}]
[{"$f":"IF( [1]GeralMinuta!A159 <>\"\", [1]GeralMinuta!A159,\"\")","v":"2 CAA 2/0 AWG Vão 80m "},{"$f":"IF( [1]GeralMinuta!B159 <>\"\", [1]GeralMinuta!B159,\"\")","v":692}]
[{"$f":"IF( [1]GeralMinuta!A160 <>\"\", [1]GeralMinuta!A160,\"\")","v":"2 CAA 4/0 AWG Vão 80m "},{"$f":"IF( [1]GeralMinuta!B160 <>\"\", [1]GeralMinuta!B160,\"\")","v":1102}]
[{"$f":"IF( [1]GeralMinuta!A161 <>\"\", [1]GeralMinuta!A161,\"\")","v":"2 CAA 336,4 MCM Vão 80m "},{"$f":"IF( [1]GeralMinuta!B161 <>\"\", [1]GeralMinuta!B161,\"\")","v":1752}]
[{"$f":"IF( [1]GeralMinuta!A162 <>\"\", [1]GeralMinuta!A162,\"\")","v":""},{"$f":"IF( [1]GeralMinuta!B162 <>\"\", [1]GeralMinuta!B162,\"\")","v":""}]
[{"$f":"IF( [1]GeralMinuta!A163 <>\"\", [1]GeralMinuta!A163,\"\")","v":"2 CAA 04 AWG Vão 80m RGE"},{"$f":"IF( [1]GeralMinuta!B163 <>\"\", [1]GeralMinuta!B163,\"\")","v":270}]
[{"$f":"IF( [1]GeralMinuta!A164 <>\"\", [1]GeralMinuta!A164,\"\")","v":"2 CAA 02 AWG Vão 80m RGE"},{"$f":"IF( [1]GeralMinuta!B164 <>\"\", [1]GeralMinuta!B164,\"\")","v":384}]
[{"$f":"IF( [1]GeralMinuta!A165 <>\"\", [1]GeralMinuta!A165,\"\")","v":"2 CAA 1/0 AWG Vão 80m RGE"},{"$f":"IF( [1]GeralMinuta!B165 <>\"\", [1]GeralMinuta!B165,\"\")","v":610}]
[{"$f":"IF( [1]GeralMinuta!A166 <>\"\", [1]GeralMinuta!A166,\"\")","v":"2 CAA 2/0 AWG Vão 80m RGE"},{"$f":"IF( [1]GeralMinuta!B166 <>\"\", [1]GeralMinuta!B166,\"\")","v":768}]
[{"$f":"IF( [1]GeralMinuta!A167 <>\"\", [1]GeralMinuta!A167,\"\")","v":"2 CAA 4/0 AWG Vão 80m RGE"},{"$f":"IF( [1]GeralMinuta!B167 <>\"\", [1]GeralMinuta!B167,\"\")","v":1222}]
[{"$f":"IF( [1]GeralMinuta!A168 <>\"\", [1]GeralMinuta!A168,\"\")","v":"2 CAA 336,4 MCM Vão 80m RGE"},{"$f":"IF( [1]GeralMinuta!B168 <>\"\", [1]GeralMinuta!B168,\"\")","v":1944}]
[{"$f":"IF( [1]GeralMinuta!A169 <>\"\", [1]GeralMinuta!A169,\"\")","v":""},{"$f":"IF( [1]GeralMinuta!B169 <>\"\", [1]GeralMinuta!B169,\"\")","v":""}]
[{"$f":"IF( [1]GeralMinuta!A170 <>\"\", [1]GeralMinuta!A170,\"\")","v":"2 CAA 04 AWG Vão 120m "},{"$f":"IF( [1]GeralMinuta!B170 <>\"\", [1]GeralMinuta!B170,\"\")","v":350}]
[{"$f":"IF( [1]GeralMinuta!A171 <>\"\", [1]GeralMinuta!A171,\"\")","v":"2 CAA 02 AWG Vão 120m "},{"$f":"IF( [1]GeralMinuta!B171 <>\"\", [1]GeralMinuta!B171,\"\")","v":494}]
[{"$f":"IF( [1]GeralMinuta!A172 <>\"\", [1]GeralMinuta!A172,\"\")","v":"2 CAA 1/0 AWG Vão 120m "},{"$f":"IF( [1]GeralMinuta!B172 <>\"\", [1]GeralMinuta!B172,\"\")","v":710}]
[{"$f":"IF( [1]GeralMinuta!A173 <>\"\", [1]GeralMinuta!A173,\"\")","v":"2 CAA 2/0 AWG Vão 120m "},{"$f":"IF( [1]GeralMinuta!B173 <>\"\", [1]GeralMinuta!B173,\"\")","v":856}]
[{"$f":"IF( [1]GeralMinuta!A174 <>\"\", [1]GeralMinuta!A174,\"\")","v":"2 CAA 4/0 AWG Vão 120m "},{"$f":"IF( [1]GeralMinuta!B174 <>\"\", [1]GeralMinuta!B174,\"\")","v":1304}]
[{"$f":"IF( [1]GeralMinuta!A175 <>\"\", [1]GeralMinuta!A175,\"\")","v":"2 CAA 336,4 MCM Vão 120m "},{"$f":"IF( [1]GeralMinuta!B175 <>\"\", [1]GeralMinuta!B175,\"\")","v":2070}]
[{"$f":"IF( [1]GeralMinuta!A176 <>\"\", [1]GeralMinuta!A176,\"\")","v":""},{"$f":"IF( [1]GeralMinuta!B176 <>\"\", [1]GeralMinuta!B176,\"\")","v":""}]
[{"$f":"IF( [1]GeralMinuta!A177 <>\"\", [1]GeralMinuta!A177,\"\")","v":"2 CAA 04 AWG Vão 120m RGE"},{"$f":"IF( [1]GeralMinuta!B177 <>\"\", [1]GeralMinuta!B177,\"\")","v":350}]
[{"$f":"IF( [1]GeralMinuta!A178 <>\"\", [1]GeralMinuta!A178,\"\")","v":"2 CAA 02 AWG Vão 120m RGE"},{"$f":"IF( [1]GeralMinuta!B178 <>\"\", [1]GeralMinuta!B178,\"\")","v":494}]
[{"$f":"IF( [1]GeralMinuta!A179 <>\"\", [1]GeralMinuta!A179,\"\")","v":"2 CAA 1/0 AWG Vão 120m RGE"},{"$f":"IF( [1]GeralMinuta!B179 <>\"\", [1]GeralMinuta!B179,\"\")","v":710}]
[{"$f":"IF( [1]GeralMinuta!A180 <>\"\", [1]GeralMinuta!A180,\"\")","v":"2 CAA 2/0 AWG Vão 120m RGE"},{"$f":"IF( [1]GeralMinuta!B180 <>\"\", [1]GeralMinuta!B180,\"\")","v":886}]
[{"$f":"IF( [1]GeralMinuta!A181 <>\"\", [1]GeralMinuta!A181,\"\")","v":"2 CAA 4/0 AWG Vão 120m RGE"},{"$f":"IF( [1]GeralMinuta!B181 <>\"\", [1]GeralMinuta!B181,\"\")","v":1410}]
[{"$f":"IF( [1]GeralMinuta!A182 <>\"\", [1]GeralMinuta!A182,\"\")","v":"2 CAA 336,4 MCM Vão 120m RGE"},{"$f":"IF( [1]GeralMinuta!B182 <>\"\", [1]GeralMinuta!B182,\"\")","v":2240}]
[{"$f":"IF( [1]GeralMinuta!A183 <>\"\", [1]GeralMinuta!A183,\"\")","v":""},{"$f":"IF( [1]GeralMinuta!B183 <>\"\", [1]GeralMinuta!B183,\"\")","v":""}]
[{"$f":"IF( [1]GeralMinuta!A184 <>\"\", [1]GeralMinuta!A184,\"\")","v":"2 CU 06 AWG Vão 35m  "},{"$f":"IF( [1]GeralMinuta!B184 <>\"\", [1]GeralMinuta!B184,\"\")","v":112}]
[{"$f":"IF( [1]GeralMinuta!A185 <>\"\", [1]GeralMinuta!A185,\"\")","v":"2 CU 02 AWG Vão 35m  "},{"$f":"IF( [1]GeralMinuta!B185 <>\"\", [1]GeralMinuta!B185,\"\")","v":282}]
[{"$f":"IF( [1]GeralMinuta!A186 <>\"\", [1]GeralMinuta!A186,\"\")","v":"2 CU 1/0 AWG Vão 35m  "},{"$f":"IF( [1]GeralMinuta!B186 <>\"\", [1]GeralMinuta!B186,\"\")","v":416}]
[{"$f":"IF( [1]GeralMinuta!A187 <>\"\", [1]GeralMinuta!A187,\"\")","v":"2 CU 2/0 AWG Vão 35m  "},{"$f":"IF( [1]GeralMinuta!B187 <>\"\", [1]GeralMinuta!B187,\"\")","v":514}]
[{"$f":"IF( [1]GeralMinuta!A188 <>\"\", [1]GeralMinuta!A188,\"\")","v":"2 CU 4/0 AWG Vão 35m  "},{"$f":"IF( [1]GeralMinuta!B188 <>\"\", [1]GeralMinuta!B188,\"\")","v":792}]
[{"$f":"IF( [1]GeralMinuta!A189 <>\"\", [1]GeralMinuta!A189,\"\")","v":""},{"$f":"IF( [1]GeralMinuta!B189 <>\"\", [1]GeralMinuta!B189,\"\")","v":""}]
[{"$f":"IF( [1]GeralMinuta!A190 <>\"\", [1]GeralMinuta!A190,\"\")","v":"1 CU 06 AWG Vão 35m  RGE"},{"$f":"IF( [1]GeralMinuta!B190 <>\"\", [1]GeralMinuta!B190,\"\")","v":56}]
[{"$f":"IF( [1]GeralMinuta!A191 <>\"\", [1]GeralMinuta!A191,\"\")","v":"1 CU 02 AWG Vão 35m  RGE"},{"$f":"IF( [1]GeralMinuta!B191 <>\"\", [1]GeralMinuta!B191,\"\")","v":141}]
[{"$f":"IF( [1]GeralMinuta!A192 <>\"\", [1]GeralMinuta!A192,\"\")","v":"1 CU 1/0 AWG Vão 35m  RGE"},{"$f":"IF( [1]GeralMinuta!B192 <>\"\", [1]GeralMinuta!B192,\"\")","v":208}]
[{"$f":"IF( [1]GeralMinuta!A193 <>\"\", [1]GeralMinuta!A193,\"\")","v":"1 CU 2/0 AWG Vão 35m  RGE"},{"$f":"IF( [1]GeralMinuta!B193 <>\"\", [1]GeralMinuta!B193,\"\")","v":257}]
[{"$f":"IF( [1]GeralMinuta!A194 <>\"\", [1]GeralMinuta!A194,\"\")","v":"1 CU 4/0 AWG Vão 35m  RGE"},{"$f":"IF( [1]GeralMinuta!B194 <>\"\", [1]GeralMinuta!B194,\"\")","v":396}]
[{"$f":"IF( [1]GeralMinuta!A195 <>\"\", [1]GeralMinuta!A195,\"\")","v":""},{"$f":"IF( [1]GeralMinuta!B195 <>\"\", [1]GeralMinuta!B195,\"\")","v":""}]
[{"$f":"IF( [1]GeralMinuta!A196 <>\"\", [1]GeralMinuta!A196,\"\")","v":"1 CA 02 AWG Vão 35m "},{"$f":"IF( [1]GeralMinuta!B196 <>\"\", [1]GeralMinuta!B196,\"\")","v":60}]
[{"$f":"IF( [1]GeralMinuta!A197 <>\"\", [1]GeralMinuta!A197,\"\")","v":"1 CA 1/0 AWG Vão 35m "},{"$f":"IF( [1]GeralMinuta!B197 <>\"\", [1]GeralMinuta!B197,\"\")","v":96}]
[{"$f":"IF( [1]GeralMinuta!A198 <>\"\", [1]GeralMinuta!A198,\"\")","v":"1 CA 2/0 AWG Vão 35m "},{"$f":"IF( [1]GeralMinuta!B198 <>\"\", [1]GeralMinuta!B198,\"\")","v":121}]
[{"$f":"IF( [1]GeralMinuta!A199 <>\"\", [1]GeralMinuta!A199,\"\")","v":"1 CA 4/0 AWG Vão 35m "},{"$f":"IF( [1]GeralMinuta!B199 <>\"\", [1]GeralMinuta!B199,\"\")","v":194}]
[{"$f":"IF( [1]GeralMinuta!A200 <>\"\", [1]GeralMinuta!A200,\"\")","v":"1 CA 336,4 MCM Vão 35m "},{"$f":"IF( [1]GeralMinuta!B200 <>\"\", [1]GeralMinuta!B200,\"\")","v":308}]
[{"$f":"IF( [1]GeralMinuta!A201 <>\"\", [1]GeralMinuta!A201,\"\")","v":"1 CA 477 MCM Vão 35m "},{"$f":"IF( [1]GeralMinuta!B201 <>\"\", [1]GeralMinuta!B201,\"\")","v":435}]
[{"$f":"IF( [1]GeralMinuta!A202 <>\"\", [1]GeralMinuta!A202,\"\")","v":""},{"$f":"IF( [1]GeralMinuta!B202 <>\"\", [1]GeralMinuta!B202,\"\")","v":""}]
[{"$f":"IF( [1]GeralMinuta!A203 <>\"\", [1]GeralMinuta!A203,\"\")","v":"1 CA 02 AWG Vão 35m RGE"},{"$f":"IF( [1]GeralMinuta!B203 <>\"\", [1]GeralMinuta!B203,\"\")","v":75}]
[{"$f":"IF( [1]GeralMinuta!A204 <>\"\", [1]GeralMinuta!A204,\"\")","v":"1 CA 1/0 AWG Vão 35m RGE"},{"$f":"IF( [1]GeralMinuta!B204 <>\"\", [1]GeralMinuta!B204,\"\")","v":119}]
[{"$f":"IF( [1]GeralMinuta!A205 <>\"\", [1]GeralMinuta!A205,\"\")","v":"1 CA 2/0 AWG Vão 35m RGE"},{"$f":"IF( [1]GeralMinuta!B205 <>\"\", [1]GeralMinuta!B205,\"\")","v":150}]
[{"$f":"IF( [1]GeralMinuta!A206 <>\"\", [1]GeralMinuta!A206,\"\")","v":"1 CA 4/0 AWG Vão 35m RGE"},{"$f":"IF( [1]GeralMinuta!B206 <>\"\", [1]GeralMinuta!B206,\"\")","v":240}]
[{"$f":"IF( [1]GeralMinuta!A207 <>\"\", [1]GeralMinuta!A207,\"\")","v":"1 CA 336,4 MCM Vão 35m RGE"},{"$f":"IF( [1]GeralMinuta!B207 <>\"\", [1]GeralMinuta!B207,\"\")","v":381}]
[{"$f":"IF( [1]GeralMinuta!A208 <>\"\", [1]GeralMinuta!A208,\"\")","v":"1 CA 477 MCM Vão 35m RGE"},{"$f":"IF( [1]GeralMinuta!B208 <>\"\", [1]GeralMinuta!B208,\"\")","v":539}]
[{"$f":"IF( [1]GeralMinuta!A209 <>\"\", [1]GeralMinuta!A209,\"\")","v":""},{"$f":"IF( [1]GeralMinuta!B209 <>\"\", [1]GeralMinuta!B209,\"\")","v":""}]
[{"$f":"IF( [1]GeralMinuta!A210 <>\"\", [1]GeralMinuta!A210,\"\")","v":"1 CA 02 AWG Vão 80m "},{"$f":"IF( [1]GeralMinuta!B210 <>\"\", [1]GeralMinuta!B210,\"\")","v":133}]
[{"$f":"IF( [1]GeralMinuta!A211 <>\"\", [1]GeralMinuta!A211,\"\")","v":"1 CA 1/0 AWG Vão 80m "},{"$f":"IF( [1]GeralMinuta!B211 <>\"\", [1]GeralMinuta!B211,\"\")","v":186}]
[{"$f":"IF( [1]GeralMinuta!A212 <>\"\", [1]GeralMinuta!A212,\"\")","v":"1 CA 2/0 AWG Vão 80m "},{"$f":"IF( [1]GeralMinuta!B212 <>\"\", [1]GeralMinuta!B212,\"\")","v":220}]
[{"$f":"IF( [1]GeralMinuta!A213 <>\"\", [1]GeralMinuta!A213,\"\")","v":"1 CA 4/0 AWG Vão 80m "},{"$f":"IF( [1]GeralMinuta!B213 <>\"\", [1]GeralMinuta!B213,\"\")","v":315}]
[{"$f":"IF( [1]GeralMinuta!A214 <>\"\", [1]GeralMinuta!A214,\"\")","v":"1 CA 336,4 MCM Vão 80m "},{"$f":"IF( [1]GeralMinuta!B214 <>\"\", [1]GeralMinuta!B214,\"\")","v":483}]
[{"$f":"IF( [1]GeralMinuta!A215 <>\"\", [1]GeralMinuta!A215,\"\")","v":"1 CA 477 MCM Vão 80m "},{"$f":"IF( [1]GeralMinuta!B215 <>\"\", [1]GeralMinuta!B215,\"\")","v":683}]
[{"$f":"IF( [1]GeralMinuta!A216 <>\"\", [1]GeralMinuta!A216,\"\")","v":""},{"$f":"IF( [1]GeralMinuta!B216 <>\"\", [1]GeralMinuta!B216,\"\")","v":""}]
[{"$f":"IF( [1]GeralMinuta!A217 <>\"\", [1]GeralMinuta!A217,\"\")","v":"1 CA 02 AWG Vão 80m RGE"},{"$f":"IF( [1]GeralMinuta!B217 <>\"\", [1]GeralMinuta!B217,\"\")","v":133}]
[{"$f":"IF( [1]GeralMinuta!A218 <>\"\", [1]GeralMinuta!A218,\"\")","v":"1 CA 1/0 AWG Vão 80m RGE"},{"$f":"IF( [1]GeralMinuta!B218 <>\"\", [1]GeralMinuta!B218,\"\")","v":186}]
[{"$f":"IF( [1]GeralMinuta!A219 <>\"\", [1]GeralMinuta!A219,\"\")","v":"1 CA 2/0 AWG Vão 80m RGE"},{"$f":"IF( [1]GeralMinuta!B219 <>\"\", [1]GeralMinuta!B219,\"\")","v":220}]
[{"$f":"IF( [1]GeralMinuta!A220 <>\"\", [1]GeralMinuta!A220,\"\")","v":"1 CA 4/0 AWG Vão 80m RGE"},{"$f":"IF( [1]GeralMinuta!B220 <>\"\", [1]GeralMinuta!B220,\"\")","v":343}]
[{"$f":"IF( [1]GeralMinuta!A221 <>\"\", [1]GeralMinuta!A221,\"\")","v":"1 CA 336,4 MCM Vão 80m RGE"},{"$f":"IF( [1]GeralMinuta!B221 <>\"\", [1]GeralMinuta!B221,\"\")","v":544}]
[{"$f":"IF( [1]GeralMinuta!A222 <>\"\", [1]GeralMinuta!A222,\"\")","v":"1 CA 477 MCM Vão 80m RGE"},{"$f":"IF( [1]GeralMinuta!B222 <>\"\", [1]GeralMinuta!B222,\"\")","v":770}]
[{"$f":"IF( [1]GeralMinuta!A223 <>\"\", [1]GeralMinuta!A223,\"\")","v":""},{"$f":"IF( [1]GeralMinuta!B223 <>\"\", [1]GeralMinuta!B223,\"\")","v":""}]
[{"$f":"IF( [1]GeralMinuta!A224 <>\"\", [1]GeralMinuta!A224,\"\")","v":"1 CAA 04 AWG Vão 40m "},{"$f":"IF( [1]GeralMinuta!B224 <>\"\", [1]GeralMinuta!B224,\"\")","v":63}]
[{"$f":"IF( [1]GeralMinuta!A225 <>\"\", [1]GeralMinuta!A225,\"\")","v":"1 CAA 02 AWG Vão 40m "},{"$f":"IF( [1]GeralMinuta!B225 <>\"\", [1]GeralMinuta!B225,\"\")","v":100}]
[{"$f":"IF( [1]GeralMinuta!A226 <>\"\", [1]GeralMinuta!A226,\"\")","v":"1 CAA 1/0 AWG Vão 40m "},{"$f":"IF( [1]GeralMinuta!B226 <>\"\", [1]GeralMinuta!B226,\"\")","v":160}]
[{"$f":"IF( [1]GeralMinuta!A227 <>\"\", [1]GeralMinuta!A227,\"\")","v":"1 CAA 2/0 AWG Vão 40m "},{"$f":"IF( [1]GeralMinuta!B227 <>\"\", [1]GeralMinuta!B227,\"\")","v":201}]
[{"$f":"IF( [1]GeralMinuta!A228 <>\"\", [1]GeralMinuta!A228,\"\")","v":"1 CAA 4/0 AWG Vão 40m "},{"$f":"IF( [1]GeralMinuta!B228 <>\"\", [1]GeralMinuta!B228,\"\")","v":320}]
[{"$f":"IF( [1]GeralMinuta!A229 <>\"\", [1]GeralMinuta!A229,\"\")","v":""},{"$f":"IF( [1]GeralMinuta!B229 <>\"\", [1]GeralMinuta!B229,\"\")","v":""}]
[{"$f":"IF( [1]GeralMinuta!A230 <>\"\", [1]GeralMinuta!A230,\"\")","v":"1 CAA 04 AWG Vão 40m RGE"},{"$f":"IF( [1]GeralMinuta!B230 <>\"\", [1]GeralMinuta!B230,\"\")","v":75}]
[{"$f":"IF( [1]GeralMinuta!A231 <>\"\", [1]GeralMinuta!A231,\"\")","v":"1 CAA 02 AWG Vão 40m RGE"},{"$f":"IF( [1]GeralMinuta!B231 <>\"\", [1]GeralMinuta!B231,\"\")","v":119}]
[{"$f":"IF( [1]GeralMinuta!A232 <>\"\", [1]GeralMinuta!A232,\"\")","v":"1 CAA 1/0 AWG Vão 40m RGE"},{"$f":"IF( [1]GeralMinuta!B232 <>\"\", [1]GeralMinuta!B232,\"\")","v":190}]
[{"$f":"IF( [1]GeralMinuta!A233 <>\"\", [1]GeralMinuta!A233,\"\")","v":"1 CAA 2/0 AWG Vão 40m RGE"},{"$f":"IF( [1]GeralMinuta!B233 <>\"\", [1]GeralMinuta!B233,\"\")","v":240}]
[{"$f":"IF( [1]GeralMinuta!A234 <>\"\", [1]GeralMinuta!A234,\"\")","v":"1 CAA 4/0 AWG Vão 40m RGE"},{"$f":"IF( [1]GeralMinuta!B234 <>\"\", [1]GeralMinuta!B234,\"\")","v":381}]
[{"$f":"IF( [1]GeralMinuta!A235 <>\"\", [1]GeralMinuta!A235,\"\")","v":""},{"$f":"IF( [1]GeralMinuta!B235 <>\"\", [1]GeralMinuta!B235,\"\")","v":""}]
[{"$f":"IF( [1]GeralMinuta!A236 <>\"\", [1]GeralMinuta!A236,\"\")","v":"1 CAA 04 AWG Vão 80m "},{"$f":"IF( [1]GeralMinuta!B236 <>\"\", [1]GeralMinuta!B236,\"\")","v":135}]
[{"$f":"IF( [1]GeralMinuta!A237 <>\"\", [1]GeralMinuta!A237,\"\")","v":"1 CAA 02 AWG Vão 80m "},{"$f":"IF( [1]GeralMinuta!B237 <>\"\", [1]GeralMinuta!B237,\"\")","v":191}]
[{"$f":"IF( [1]GeralMinuta!A238 <>\"\", [1]GeralMinuta!A238,\"\")","v":"1 CAA 1/0 AWG Vão 80m "},{"$f":"IF( [1]GeralMinuta!B238 <>\"\", [1]GeralMinuta!B238,\"\")","v":275}]
[{"$f":"IF( [1]GeralMinuta!A239 <>\"\", [1]GeralMinuta!A239,\"\")","v":"1 CAA 2/0 AWG Vão 80m "},{"$f":"IF( [1]GeralMinuta!B239 <>\"\", [1]GeralMinuta!B239,\"\")","v":346}]
[{"$f":"IF( [1]GeralMinuta!A240 <>\"\", [1]GeralMinuta!A240,\"\")","v":"1 CAA 4/0 AWG Vão 80m "},{"$f":"IF( [1]GeralMinuta!B240 <>\"\", [1]GeralMinuta!B240,\"\")","v":551}]
[{"$f":"IF( [1]GeralMinuta!A241 <>\"\", [1]GeralMinuta!A241,\"\")","v":"1 CAA 336,4 MCM Vão 80m "},{"$f":"IF( [1]GeralMinuta!B241 <>\"\", [1]GeralMinuta!B241,\"\")","v":876}]
[{"$f":"IF( [1]GeralMinuta!A242 <>\"\", [1]GeralMinuta!A242,\"\")","v":""},{"$f":"IF( [1]GeralMinuta!B242 <>\"\", [1]GeralMinuta!B242,\"\")","v":""}]
[{"$f":"IF( [1]GeralMinuta!A243 <>\"\", [1]GeralMinuta!A243,\"\")","v":"1 CAA 04 AWG Vão 80m RGE"},{"$f":"IF( [1]GeralMinuta!B243 <>\"\", [1]GeralMinuta!B243,\"\")","v":135}]
[{"$f":"IF( [1]GeralMinuta!A244 <>\"\", [1]GeralMinuta!A244,\"\")","v":"1 CAA 02 AWG Vão 80m RGE"},{"$f":"IF( [1]GeralMinuta!B244 <>\"\", [1]GeralMinuta!B244,\"\")","v":192}]
[{"$f":"IF( [1]GeralMinuta!A245 <>\"\", [1]GeralMinuta!A245,\"\")","v":"1 CAA 1/0 AWG Vão 80m RGE"},{"$f":"IF( [1]GeralMinuta!B245 <>\"\", [1]GeralMinuta!B245,\"\")","v":305}]
[{"$f":"IF( [1]GeralMinuta!A246 <>\"\", [1]GeralMinuta!A246,\"\")","v":"1 CAA 2/0 AWG Vão 80m RGE"},{"$f":"IF( [1]GeralMinuta!B246 <>\"\", [1]GeralMinuta!B246,\"\")","v":384}]
[{"$f":"IF( [1]GeralMinuta!A247 <>\"\", [1]GeralMinuta!A247,\"\")","v":"1 CAA 4/0 AWG Vão 80m RGE"},{"$f":"IF( [1]GeralMinuta!B247 <>\"\", [1]GeralMinuta!B247,\"\")","v":611}]
[{"$f":"IF( [1]GeralMinuta!A248 <>\"\", [1]GeralMinuta!A248,\"\")","v":"1 CAA 336,4 MCM Vão 80m RGE"},{"$f":"IF( [1]GeralMinuta!B248 <>\"\", [1]GeralMinuta!B248,\"\")","v":972}]
[{"$f":"IF( [1]GeralMinuta!A249 <>\"\", [1]GeralMinuta!A249,\"\")","v":""},{"$f":"IF( [1]GeralMinuta!B249 <>\"\", [1]GeralMinuta!B249,\"\")","v":""}]
[{"$f":"IF( [1]GeralMinuta!A250 <>\"\", [1]GeralMinuta!A250,\"\")","v":"1 CAA 04 AWG Vão 120m "},{"$f":"IF( [1]GeralMinuta!B250 <>\"\", [1]GeralMinuta!B250,\"\")","v":175}]
[{"$f":"IF( [1]GeralMinuta!A251 <>\"\", [1]GeralMinuta!A251,\"\")","v":"1 CAA 02 AWG Vão 120m "},{"$f":"IF( [1]GeralMinuta!B251 <>\"\", [1]GeralMinuta!B251,\"\")","v":247}]
[{"$f":"IF( [1]GeralMinuta!A252 <>\"\", [1]GeralMinuta!A252,\"\")","v":"1 CAA 1/0 AWG Vão 120m "},{"$f":"IF( [1]GeralMinuta!B252 <>\"\", [1]GeralMinuta!B252,\"\")","v":355}]
[{"$f":"IF( [1]GeralMinuta!A253 <>\"\", [1]GeralMinuta!A253,\"\")","v":"1 CAA 2/0 AWG Vão 120m "},{"$f":"IF( [1]GeralMinuta!B253 <>\"\", [1]GeralMinuta!B253,\"\")","v":428}]
[{"$f":"IF( [1]GeralMinuta!A254 <>\"\", [1]GeralMinuta!A254,\"\")","v":"1 CAA 4/0 AWG Vão 120m "},{"$f":"IF( [1]GeralMinuta!B254 <>\"\", [1]GeralMinuta!B254,\"\")","v":652}]
[{"$f":"IF( [1]GeralMinuta!A255 <>\"\", [1]GeralMinuta!A255,\"\")","v":"1 CAA 336,4 MCM Vão 120m "},{"$f":"IF( [1]GeralMinuta!B255 <>\"\", [1]GeralMinuta!B255,\"\")","v":1035}]
[{"$f":"IF( [1]GeralMinuta!A256 <>\"\", [1]GeralMinuta!A256,\"\")","v":""},{"$f":"IF( [1]GeralMinuta!B256 <>\"\", [1]GeralMinuta!B256,\"\")","v":""}]
[{"$f":"IF( [1]GeralMinuta!A257 <>\"\", [1]GeralMinuta!A257,\"\")","v":"1 CAA 04 AWG Vão 120m RGE"},{"$f":"IF( [1]GeralMinuta!B257 <>\"\", [1]GeralMinuta!B257,\"\")","v":175}]
[{"$f":"IF( [1]GeralMinuta!A258 <>\"\", [1]GeralMinuta!A258,\"\")","v":"1 CAA 02 AWG Vão 120m RGE"},{"$f":"IF( [1]GeralMinuta!B258 <>\"\", [1]GeralMinuta!B258,\"\")","v":247}]
[{"$f":"IF( [1]GeralMinuta!A259 <>\"\", [1]GeralMinuta!A259,\"\")","v":"1 CAA 1/0 AWG Vão 120m RGE"},{"$f":"IF( [1]GeralMinuta!B259 <>\"\", [1]GeralMinuta!B259,\"\")","v":355}]
[{"$f":"IF( [1]GeralMinuta!A260 <>\"\", [1]GeralMinuta!A260,\"\")","v":"1 CAA 2/0 AWG Vão 120m RGE"},{"$f":"IF( [1]GeralMinuta!B260 <>\"\", [1]GeralMinuta!B260,\"\")","v":443}]
[{"$f":"IF( [1]GeralMinuta!A261 <>\"\", [1]GeralMinuta!A261,\"\")","v":"1 CAA 4/0 AWG Vão 120m RGE"},{"$f":"IF( [1]GeralMinuta!B261 <>\"\", [1]GeralMinuta!B261,\"\")","v":705}]
[{"$f":"IF( [1]GeralMinuta!A262 <>\"\", [1]GeralMinuta!A262,\"\")","v":"1 CAA 336,4 MCM Vão 120m RGE"},{"$f":"IF( [1]GeralMinuta!B262 <>\"\", [1]GeralMinuta!B262,\"\")","v":1120}]
[{"$f":"IF( [1]GeralMinuta!A263 <>\"\", [1]GeralMinuta!A263,\"\")","v":""},{"$f":"IF( [1]GeralMinuta!B263 <>\"\", [1]GeralMinuta!B263,\"\")","v":""}]
[{"$f":"IF( [1]GeralMinuta!A264 <>\"\", [1]GeralMinuta!A264,\"\")","v":"1 CU 06 AWG Vão 35m  "},{"$f":"IF( [1]GeralMinuta!B264 <>\"\", [1]GeralMinuta!B264,\"\")","v":56}]
[{"$f":"IF( [1]GeralMinuta!A265 <>\"\", [1]GeralMinuta!A265,\"\")","v":"1 CU 02 AWG Vão 35m  "},{"$f":"IF( [1]GeralMinuta!B265 <>\"\", [1]GeralMinuta!B265,\"\")","v":141}]
[{"$f":"IF( [1]GeralMinuta!A266 <>\"\", [1]GeralMinuta!A266,\"\")","v":"1 CU 1/0 AWG Vão 35m  "},{"$f":"IF( [1]GeralMinuta!B266 <>\"\", [1]GeralMinuta!B266,\"\")","v":208}]
[{"$f":"IF( [1]GeralMinuta!A267 <>\"\", [1]GeralMinuta!A267,\"\")","v":"1 CU 2/0 AWG Vão 35m  "},{"$f":"IF( [1]GeralMinuta!B267 <>\"\", [1]GeralMinuta!B267,\"\")","v":257}]
[{"$f":"IF( [1]GeralMinuta!A268 <>\"\", [1]GeralMinuta!A268,\"\")","v":"1 CU 4/0 AWG Vão 35m  "},{"$f":"IF( [1]GeralMinuta!B268 <>\"\", [1]GeralMinuta!B268,\"\")","v":396}]
[{"$f":"IF( [1]GeralMinuta!A269 <>\"\", [1]GeralMinuta!A269,\"\")","v":""},{"$f":"IF( [1]GeralMinuta!B269 <>\"\", [1]GeralMinuta!B269,\"\")","v":""}]
[{"$f":"IF( [1]GeralMinuta!A270 <>\"\", [1]GeralMinuta!A270,\"\")","v":""},{"$f":"IF( [1]GeralMinuta!B270 <>\"\", [1]GeralMinuta!B270,\"\")","v":""}]
[{"$f":"IF( [1]GeralMinuta!A271 <>\"\", [1]GeralMinuta!A271,\"\")","v":""},{"$f":"IF( [1]GeralMinuta!B271 <>\"\", [1]GeralMinuta!B271,\"\")","v":""}]
[{"$f":"IF( [1]GeralMinuta!A272 <>\"\", [1]GeralMinuta!A272,\"\")","v":""},{"$f":"IF( [1]GeralMinuta!B272 <>\"\", [1]GeralMinuta!B272,\"\")","v":""}]
[{"$f":"IF( [1]GeralMinuta!A273 <>\"\", [1]GeralMinuta!A273,\"\")","v":""},{"$f":"IF( [1]GeralMinuta!B273 <>\"\", [1]GeralMinuta!B273,\"\")","v":""}]
[{"$f":"IF( [1]GeralMinuta!A274 <>\"\", [1]GeralMinuta!A274,\"\")","v":""},{"$f":"IF( [1]GeralMinuta!B274 <>\"\", [1]GeralMinuta!B274,\"\")","v":""}]
[{"$f":"IF( [1]GeralMinuta!A275 <>\"\", [1]GeralMinuta!A275,\"\")","v":""},{"$f":"IF( [1]GeralMinuta!B275 <>\"\", [1]GeralMinuta!B275,\"\")","v":""}]
[{"$f":"IF( [1]GeralMinuta!A276 <>\"\", [1]GeralMinuta!A276,\"\")","v":""},{"$f":"IF( [1]GeralMinuta!B276 <>\"\", [1]GeralMinuta!B276,\"\")","v":""}]
[{"$f":"IF( [1]GeralMinuta!A277 <>\"\", [1]GeralMinuta!A277,\"\")","v":""},{"$f":"IF( [1]GeralMinuta!B277 <>\"\", [1]GeralMinuta!B277,\"\")","v":""}]
[{"$f":"IF( [1]GeralMinuta!A278 <>\"\", [1]GeralMinuta!A278,\"\")","v":""},{"$f":"IF( [1]GeralMinuta!B278 <>\"\", [1]GeralMinuta!B278,\"\")","v":""}]
[{"$f":"IF( [1]GeralMinuta!A279 <>\"\", [1]GeralMinuta!A279,\"\")","v":""},{"$f":"IF( [1]GeralMinuta!B279 <>\"\", [1]GeralMinuta!B279,\"\")","v":""}]
[{"$f":"IF( [1]GeralMinuta!A280 <>\"\", [1]GeralMinuta!A280,\"\")","v":""},{"$f":"IF( [1]GeralMinuta!B280 <>\"\", [1]GeralMinuta!B280,\"\")","v":""}]
[{"$f":"IF( [1]GeralMinuta!A281 <>\"\", [1]GeralMinuta!A281,\"\")","v":""},{"$f":"IF( [1]GeralMinuta!B281 <>\"\", [1]GeralMinuta!B281,\"\")","v":""}]
[{"$f":"IF( [1]GeralMinuta!A282 <>\"\", [1]GeralMinuta!A282,\"\")","v":""},{"$f":"IF( [1]GeralMinuta!B282 <>\"\", [1]GeralMinuta!B282,\"\")","v":""}]
[{"$f":"IF( [1]GeralMinuta!A283 <>\"\", [1]GeralMinuta!A283,\"\")","v":""},{"$f":"IF( [1]GeralMinuta!B283 <>\"\", [1]GeralMinuta!B283,\"\")","v":""}]
[{"$f":"IF( [1]GeralMinuta!A284 <>\"\", [1]GeralMinuta!A284,\"\")","v":""},{"$f":"IF( [1]GeralMinuta!B284 <>\"\", [1]GeralMinuta!B284,\"\")","v":""}]
[{"$f":"IF( [1]GeralMinuta!A285 <>\"\", [1]GeralMinuta!A285,\"\")","v":""},{"$f":"IF( [1]GeralMinuta!B285 <>\"\", [1]GeralMinuta!B285,\"\")","v":""}]
[{"$f":"IF( [1]GeralMinuta!A286 <>\"\", [1]GeralMinuta!A286,\"\")","v":""},{"$f":"IF( [1]GeralMinuta!B286 <>\"\", [1]GeralMinuta!B286,\"\")","v":""}]
[{"$f":"IF( [1]GeralMinuta!A287 <>\"\", [1]GeralMinuta!A287,\"\")","v":""},{"$f":"IF( [1]GeralMinuta!B287 <>\"\", [1]GeralMinuta!B287,\"\")","v":""}]
[{"$f":"IF( [1]GeralMinuta!A288 <>\"\", [1]GeralMinuta!A288,\"\")","v":""},{"$f":"IF( [1]GeralMinuta!B288 <>\"\", [1]GeralMinuta!B288,\"\")","v":""}]
[{"$f":"IF( [1]GeralMinuta!A289 <>\"\", [1]GeralMinuta!A289,\"\")","v":""},{"$f":"IF( [1]GeralMinuta!B289 <>\"\", [1]GeralMinuta!B289,\"\")","v":""}]
[{"$f":"IF( [1]GeralMinuta!A290 <>\"\", [1]GeralMinuta!A290,\"\")","v":""},{"$f":"IF( [1]GeralMinuta!B290 <>\"\", [1]GeralMinuta!B290,\"\")","v":""}]
[{"$f":"IF( [1]GeralMinuta!A291 <>\"\", [1]GeralMinuta!A291,\"\")","v":""},{"$f":"IF( [1]GeralMinuta!B291 <>\"\", [1]GeralMinuta!B291,\"\")","v":""}]
[{"$f":"IF( [1]GeralMinuta!A292 <>\"\", [1]GeralMinuta!A292,\"\")","v":""},{"$f":"IF( [1]GeralMinuta!B292 <>\"\", [1]GeralMinuta!B292,\"\")","v":""}]
[{"$f":"IF( [1]GeralMinuta!A293 <>\"\", [1]GeralMinuta!A293,\"\")","v":""},{"$f":"IF( [1]GeralMinuta!B293 <>\"\", [1]GeralMinuta!B293,\"\")","v":""}]
[{"$f":"IF( [1]GeralMinuta!A294 <>\"\", [1]GeralMinuta!A294,\"\")","v":""},{"$f":"IF( [1]GeralMinuta!B294 <>\"\", [1]GeralMinuta!B294,\"\")","v":""}]
[{"$f":"IF( [1]GeralMinuta!A295 <>\"\", [1]GeralMinuta!A295,\"\")","v":""},{"$f":"IF( [1]GeralMinuta!B295 <>\"\", [1]GeralMinuta!B295,\"\")","v":""}]
[{"$f":"IF( [1]GeralMinuta!A296 <>\"\", [1]GeralMinuta!A296,\"\")","v":""},{"$f":"IF( [1]GeralMinuta!B296 <>\"\", [1]GeralMinuta!B296,\"\")","v":""}]
[{"$f":"IF( [1]GeralMinuta!A297 <>\"\", [1]GeralMinuta!A297,\"\")","v":""},{"$f":"IF( [1]GeralMinuta!B297 <>\"\", [1]GeralMinuta!B297,\"\")","v":""}]
[{"$f":"IF( [1]GeralMinuta!A298 <>\"\", [1]GeralMinuta!A298,\"\")","v":""},{"$f":"IF( [1]GeralMinuta!B298 <>\"\", [1]GeralMinuta!B298,\"\")","v":""}]
[{"$f":"IF( [1]GeralMinuta!A299 <>\"\", [1]GeralMinuta!A299,\"\")","v":""},{"$f":"IF( [1]GeralMinuta!B299 <>\"\", [1]GeralMinuta!B299,\"\")","v":""}]
[{"$f":"IF( [1]GeralMinuta!A300 <>\"\", [1]GeralMinuta!A300,\"\")","v":""},{"$f":"IF( [1]GeralMinuta!B300 <>\"\", [1]GeralMinuta!B300,\"\")","v":""}]
[{"$f":"IF( [1]GeralMinuta!A301 <>\"\", [1]GeralMinuta!A301,\"\")","v":""},{"$f":"IF( [1]GeralMinuta!B301 <>\"\", [1]GeralMinuta!B301,\"\")","v":""}]
[{"$f":"IF( [1]GeralMinuta!A302 <>\"\", [1]GeralMinuta!A302,\"\")","v":""},{"$f":"IF( [1]GeralMinuta!B302 <>\"\", [1]GeralMinuta!B302,\"\")","v":""}]
[{"$f":"IF( [1]GeralMinuta!A303 <>\"\", [1]GeralMinuta!A303,\"\")","v":""},{"$f":"IF( [1]GeralMinuta!B303 <>\"\", [1]GeralMinuta!B303,\"\")","v":""}]
[{"$f":"IF( [1]GeralMinuta!A304 <>\"\", [1]GeralMinuta!A304,\"\")","v":""},{"$f":"IF( [1]GeralMinuta!B304 <>\"\", [1]GeralMinuta!B304,\"\")","v":""}]
[{"$f":"IF( [1]GeralMinuta!A305 <>\"\", [1]GeralMinuta!A305,\"\")","v":""},{"$f":"IF( [1]GeralMinuta!B305 <>\"\", [1]GeralMinuta!B305,\"\")","v":""}]
[{"$f":"IF( [1]GeralMinuta!A306 <>\"\", [1]GeralMinuta!A306,\"\")","v":""},{"$f":"IF( [1]GeralMinuta!B306 <>\"\", [1]GeralMinuta!B306,\"\")","v":""}]
[{"$f":"IF( [1]GeralMinuta!A307 <>\"\", [1]GeralMinuta!A307,\"\")","v":""},{"$f":"IF( [1]GeralMinuta!B307 <>\"\", [1]GeralMinuta!B307,\"\")","v":""}]
[{"$f":"IF( [1]GeralMinuta!A308 <>\"\", [1]GeralMinuta!A308,\"\")","v":""},{"$f":"IF( [1]GeralMinuta!B308 <>\"\", [1]GeralMinuta!B308,\"\")","v":""}]
[{"$f":"IF( [1]GeralMinuta!A309 <>\"\", [1]GeralMinuta!A309,\"\")","v":""},{"$f":"IF( [1]GeralMinuta!B309 <>\"\", [1]GeralMinuta!B309,\"\")","v":""}]
[{"$f":"IF( [1]GeralMinuta!A310 <>\"\", [1]GeralMinuta!A310,\"\")","v":""},{"$f":"IF( [1]GeralMinuta!B310 <>\"\", [1]GeralMinuta!B310,\"\")","v":""}]
[{"$f":"IF( [1]GeralMinuta!A311 <>\"\", [1]GeralMinuta!A311,\"\")","v":""},{"$f":"IF( [1]GeralMinuta!B311 <>\"\", [1]GeralMinuta!B311,\"\")","v":""}]
[{"$f":"IF( [1]GeralMinuta!A312 <>\"\", [1]GeralMinuta!A312,\"\")","v":""},{"$f":"IF( [1]GeralMinuta!B312 <>\"\", [1]GeralMinuta!B312,\"\")","v":""}]
[{"$f":"IF( [1]GeralMinuta!A313 <>\"\", [1]GeralMinuta!A313,\"\")","v":""},{"$f":"IF( [1]GeralMinuta!B313 <>\"\", [1]GeralMinuta!B313,\"\")","v":""}]
[{"$f":"IF( [1]GeralMinuta!A314 <>\"\", [1]GeralMinuta!A314,\"\")","v":""},{"$f":"IF( [1]GeralMinuta!B314 <>\"\", [1]GeralMinuta!B314,\"\")","v":""}]
[{"$f":"IF( [1]GeralMinuta!A315 <>\"\", [1]GeralMinuta!A315,\"\")","v":""},{"$f":"IF( [1]GeralMinuta!B315 <>\"\", [1]GeralMinuta!B315,\"\")","v":""}]
[{"$f":"IF( [1]GeralMinuta!A316 <>\"\", [1]GeralMinuta!A316,\"\")","v":""},{"$f":"IF( [1]GeralMinuta!B316 <>\"\", [1]GeralMinuta!B316,\"\")","v":""}]
[{"$f":"IF( [1]GeralMinuta!A317 <>\"\", [1]GeralMinuta!A317,\"\")","v":""},{"$f":"IF( [1]GeralMinuta!B317 <>\"\", [1]GeralMinuta!B317,\"\")","v":""}]
[{"$f":"IF( [1]GeralMinuta!A318 <>\"\", [1]GeralMinuta!A318,\"\")","v":""},{"$f":"IF( [1]GeralMinuta!B318 <>\"\", [1]GeralMinuta!B318,\"\")","v":""}]
[{"$f":"IF( [1]GeralMinuta!A319 <>\"\", [1]GeralMinuta!A319,\"\")","v":""},{"$f":"IF( [1]GeralMinuta!B319 <>\"\", [1]GeralMinuta!B319,\"\")","v":""}]
[{"$f":"IF( [1]GeralMinuta!A320 <>\"\", [1]GeralMinuta!A320,\"\")","v":""},{"$f":"IF( [1]GeralMinuta!B320 <>\"\", [1]GeralMinuta!B320,\"\")","v":""}]
[{"$f":"IF( [1]GeralMinuta!A321 <>\"\", [1]GeralMinuta!A321,\"\")","v":""},{"$f":"IF( [1]GeralMinuta!B321 <>\"\", [1]GeralMinuta!B321,\"\")","v":""}]
[{"$f":"IF( [1]GeralMinuta!A322 <>\"\", [1]GeralMinuta!A322,\"\")","v":""},{"$f":"IF( [1]GeralMinuta!B322 <>\"\", [1]GeralMinuta!B322,\"\")","v":""}]
[{"$f":"IF( [1]GeralMinuta!A323 <>\"\", [1]GeralMinuta!A323,\"\")","v":""},{"$f":"IF( [1]GeralMinuta!B323 <>\"\", [1]GeralMinuta!B323,\"\")","v":""}]
[{"$f":"IF( [1]GeralMinuta!A324 <>\"\", [1]GeralMinuta!A324,\"\")","v":""},{"$f":"IF( [1]GeralMinuta!B324 <>\"\", [1]GeralMinuta!B324,\"\")","v":""}]
[{"$f":"IF( [1]GeralMinuta!A325 <>\"\", [1]GeralMinuta!A325,\"\")","v":""},{"$f":"IF( [1]GeralMinuta!B325 <>\"\", [1]GeralMinuta!B325,\"\")","v":""}]
[{"$f":"IF( [1]GeralMinuta!A326 <>\"\", [1]GeralMinuta!A326,\"\")","v":""},{"$f":"IF( [1]GeralMinuta!B326 <>\"\", [1]GeralMinuta!B326,\"\")","v":""}]
[{"$f":"IF( [1]GeralMinuta!A327 <>\"\", [1]GeralMinuta!A327,\"\")","v":""},{"$f":"IF( [1]GeralMinuta!B327 <>\"\", [1]GeralMinuta!B327,\"\")","v":""}]
[{"$f":"IF( [1]GeralMinuta!A328 <>\"\", [1]GeralMinuta!A328,\"\")","v":""},{"$f":"IF( [1]GeralMinuta!B328 <>\"\", [1]GeralMinuta!B328,\"\")","v":""}]
[{"$f":"IF( [1]GeralMinuta!A329 <>\"\", [1]GeralMinuta!A329,\"\")","v":""},{"$f":"IF( [1]GeralMinuta!B329 <>\"\", [1]GeralMinuta!B329,\"\")","v":""}]
[{"$f":"IF( [1]GeralMinuta!A330 <>\"\", [1]GeralMinuta!A330,\"\")","v":""},{"$f":"IF( [1]GeralMinuta!B330 <>\"\", [1]GeralMinuta!B330,\"\")","v":""}]
[{"$f":"IF( [1]GeralMinuta!A331 <>\"\", [1]GeralMinuta!A331,\"\")","v":""},{"$f":"IF( [1]GeralMinuta!B331 <>\"\", [1]GeralMinuta!B331,\"\")","v":""}]
[{"$f":"IF( [1]GeralMinuta!A332 <>\"\", [1]GeralMinuta!A332,\"\")","v":""},{"$f":"IF( [1]GeralMinuta!B332 <>\"\", [1]GeralMinuta!B332,\"\")","v":""}]
[{"$f":"IF( [1]GeralMinuta!A333 <>\"\", [1]GeralMinuta!A333,\"\")","v":""},{"$f":"IF( [1]GeralMinuta!B333 <>\"\", [1]GeralMinuta!B333,\"\")","v":""}]
[{"$f":"IF( [1]GeralMinuta!A334 <>\"\", [1]GeralMinuta!A334,\"\")","v":""},{"$f":"IF( [1]GeralMinuta!B334 <>\"\", [1]GeralMinuta!B334,\"\")","v":""}]
[{"$f":"IF( [1]GeralMinuta!A335 <>\"\", [1]GeralMinuta!A335,\"\")","v":""},{"$f":"IF( [1]GeralMinuta!B335 <>\"\", [1]GeralMinuta!B335,\"\")","v":""}]
[{"$f":"IF( [1]GeralMinuta!A336 <>\"\", [1]GeralMinuta!A336,\"\")","v":""},{"$f":"IF( [1]GeralMinuta!B336 <>\"\", [1]GeralMinuta!B336,\"\")","v":""}]
[{"$f":"IF( [1]GeralMinuta!A337 <>\"\", [1]GeralMinuta!A337,\"\")","v":""},{"$f":"IF( [1]GeralMinuta!B337 <>\"\", [1]GeralMinuta!B337,\"\")","v":""}]
[{"$f":"IF( [1]GeralMinuta!A338 <>\"\", [1]GeralMinuta!A338,\"\")","v":""},{"$f":"IF( [1]GeralMinuta!B338 <>\"\", [1]GeralMinuta!B338,\"\")","v":""}]
[{"$f":"IF( [1]GeralMinuta!A339 <>\"\", [1]GeralMinuta!A339,\"\")","v":""},{"$f":"IF( [1]GeralMinuta!B339 <>\"\", [1]GeralMinuta!B339,\"\")","v":""}]
[{"$f":"IF( [1]GeralMinuta!A340 <>\"\", [1]GeralMinuta!A340,\"\")","v":""},{"$f":"IF( [1]GeralMinuta!B340 <>\"\", [1]GeralMinuta!B340,\"\")","v":""}]
[{"$f":"IF( [1]GeralMinuta!A341 <>\"\", [1]GeralMinuta!A341,\"\")","v":""},{"$f":"IF( [1]GeralMinuta!B341 <>\"\", [1]GeralMinuta!B341,\"\")","v":""}]
[{"$f":"IF( [1]GeralMinuta!A342 <>\"\", [1]GeralMinuta!A342,\"\")","v":""},{"$f":"IF( [1]GeralMinuta!B342 <>\"\", [1]GeralMinuta!B342,\"\")","v":""}]
[{"$f":"IF( [1]GeralMinuta!A343 <>\"\", [1]GeralMinuta!A343,\"\")","v":""},{"$f":"IF( [1]GeralMinuta!B343 <>\"\", [1]GeralMinuta!B343,\"\")","v":""}]
[{"$f":"IF( [1]GeralMinuta!A344 <>\"\", [1]GeralMinuta!A344,\"\")","v":""},{"$f":"IF( [1]GeralMinuta!B344 <>\"\", [1]GeralMinuta!B344,\"\")","v":""}]
[{"$f":"IF( [1]GeralMinuta!A345 <>\"\", [1]GeralMinuta!A345,\"\")","v":""},{"$f":"IF( [1]GeralMinuta!B345 <>\"\", [1]GeralMinuta!B345,\"\")","v":""}]
[{"$f":"IF( [1]GeralMinuta!A346 <>\"\", [1]GeralMinuta!A346,\"\")","v":""},{"$f":"IF( [1]GeralMinuta!B346 <>\"\", [1]GeralMinuta!B346,\"\")","v":""}]
[{"$f":"IF( [1]GeralMinuta!A347 <>\"\", [1]GeralMinuta!A347,\"\")","v":""},{"$f":"IF( [1]GeralMinuta!B347 <>\"\", [1]GeralMinuta!B347,\"\")","v":""}]
[{"$f":"IF( [1]GeralMinuta!A348 <>\"\", [1]GeralMinuta!A348,\"\")","v":""},{"$f":"IF( [1]GeralMinuta!B348 <>\"\", [1]GeralMinuta!B348,\"\")","v":""}]
[{"$f":"IF( [1]GeralMinuta!A349 <>\"\", [1]GeralMinuta!A349,\"\")","v":""},{"$f":"IF( [1]GeralMinuta!B349 <>\"\", [1]GeralMinuta!B349,\"\")","v":""}]
[{"$f":"IF( [1]GeralMinuta!A350 <>\"\", [1]GeralMinuta!A350,\"\")","v":""},{"$f":"IF( [1]GeralMinuta!B350 <>\"\", [1]GeralMinuta!B350,\"\")","v":""}]
[{"$f":"IF( [1]GeralMinuta!A351 <>\"\", [1]GeralMinuta!A351,\"\")","v":""},{"$f":"IF( [1]GeralMinuta!B351 <>\"\", [1]GeralMinuta!B351,\"\")","v":""}]
[{"$f":"IF( [1]GeralMinuta!A352 <>\"\", [1]GeralMinuta!A352,\"\")","v":""},{"$f":"IF( [1]GeralMinuta!B352 <>\"\", [1]GeralMinuta!B352,\"\")","v":""}]
[{"$f":"IF( [1]GeralMinuta!A353 <>\"\", [1]GeralMinuta!A353,\"\")","v":""},{"$f":"IF( [1]GeralMinuta!B353 <>\"\", [1]GeralMinuta!B353,\"\")","v":""}]
[{"$f":"IF( [1]GeralMinuta!A354 <>\"\", [1]GeralMinuta!A354,\"\")","v":""},{"$f":"IF( [1]GeralMinuta!B354 <>\"\", [1]GeralMinuta!B354,\"\")","v":""}]
[{"$f":"IF( [1]GeralMinuta!A355 <>\"\", [1]GeralMinuta!A355,\"\")","v":""},{"$f":"IF( [1]GeralMinuta!B355 <>\"\", [1]GeralMinuta!B355,\"\")","v":""}]
[{"$f":"IF( [1]GeralMinuta!A356 <>\"\", [1]GeralMinuta!A356,\"\")","v":""},{"$f":"IF( [1]GeralMinuta!B356 <>\"\", [1]GeralMinuta!B356,\"\")","v":""}]
[{"$f":"IF( [1]GeralMinuta!A357 <>\"\", [1]GeralMinuta!A357,\"\")","v":""},{"$f":"IF( [1]GeralMinuta!B357 <>\"\", [1]GeralMinuta!B357,\"\")","v":""}]
[{"$f":"IF( [1]GeralMinuta!A358 <>\"\", [1]GeralMinuta!A358,\"\")","v":""},{"$f":"IF( [1]GeralMinuta!B358 <>\"\", [1]GeralMinuta!B358,\"\")","v":""}]
[{"$f":"IF( [1]GeralMinuta!A359 <>\"\", [1]GeralMinuta!A359,\"\")","v":""},{"$f":"IF( [1]GeralMinuta!B359 <>\"\", [1]GeralMinuta!B359,\"\")","v":""}]
[{"$f":"IF( [1]GeralMinuta!A360 <>\"\", [1]GeralMinuta!A360,\"\")","v":""},{"$f":"IF( [1]GeralMinuta!B360 <>\"\", [1]GeralMinuta!B360,\"\")","v":""}]
[{"$f":"IF( [1]GeralMinuta!A361 <>\"\", [1]GeralMinuta!A361,\"\")","v":""},{"$f":"IF( [1]GeralMinuta!B361 <>\"\", [1]GeralMinuta!B361,\"\")","v":""}]
[{"$f":"IF( [1]GeralMinuta!A362 <>\"\", [1]GeralMinuta!A362,\"\")","v":""},{"$f":"IF( [1]GeralMinuta!B362 <>\"\", [1]GeralMinuta!B362,\"\")","v":""}]
[{"$f":"IF( [1]GeralMinuta!A363 <>\"\", [1]GeralMinuta!A363,\"\")","v":""},{"$f":"IF( [1]GeralMinuta!B363 <>\"\", [1]GeralMinuta!B363,\"\")","v":""}]
[{"$f":"IF( [1]GeralMinuta!A364 <>\"\", [1]GeralMinuta!A364,\"\")","v":""},{"$f":"IF( [1]GeralMinuta!B364 <>\"\", [1]GeralMinuta!B364,\"\")","v":""}]
[{"$f":"IF( [1]GeralMinuta!A365 <>\"\", [1]GeralMinuta!A365,\"\")","v":""},{"$f":"IF( [1]GeralMinuta!B365 <>\"\", [1]GeralMinuta!B365,\"\")","v":""}]
[{"$f":"IF( [1]GeralMinuta!A366 <>\"\", [1]GeralMinuta!A366,\"\")","v":""},{"$f":"IF( [1]GeralMinuta!B366 <>\"\", [1]GeralMinuta!B366,\"\")","v":""}]
[{"$f":"IF( [1]GeralMinuta!A367 <>\"\", [1]GeralMinuta!A367,\"\")","v":""},{"$f":"IF( [1]GeralMinuta!B367 <>\"\", [1]GeralMinuta!B367,\"\")","v":""}]
[{"$f":"IF( [1]GeralMinuta!A368 <>\"\", [1]GeralMinuta!A368,\"\")","v":""},{"$f":"IF( [1]GeralMinuta!B368 <>\"\", [1]GeralMinuta!B368,\"\")","v":""}]
[{"$f":"IF( [1]GeralMinuta!A369 <>\"\", [1]GeralMinuta!A369,\"\")","v":""},{"$f":"IF( [1]GeralMinuta!B369 <>\"\", [1]GeralMinuta!B369,\"\")","v":""}]
[{"$f":"IF( [1]GeralMinuta!A370 <>\"\", [1]GeralMinuta!A370,\"\")","v":""},{"$f":"IF( [1]GeralMinuta!B370 <>\"\", [1]GeralMinuta!B370,\"\")","v":""}]
[{"$f":"IF( [1]GeralMinuta!A371 <>\"\", [1]GeralMinuta!A371,\"\")","v":""},{"$f":"IF( [1]GeralMinuta!B371 <>\"\", [1]GeralMinuta!B371,\"\")","v":""}]
[{"$f":"IF( [1]GeralMinuta!A372 <>\"\", [1]GeralMinuta!A372,\"\")","v":""},{"$f":"IF( [1]GeralMinuta!B372 <>\"\", [1]GeralMinuta!B372,\"\")","v":""}]
[{"$f":"IF( [1]GeralMinuta!A373 <>\"\", [1]GeralMinuta!A373,\"\")","v":""},{"$f":"IF( [1]GeralMinuta!B373 <>\"\", [1]GeralMinuta!B373,\"\")","v":""}]
[{"$f":"IF( [1]GeralMinuta!A374 <>\"\", [1]GeralMinuta!A374,\"\")","v":""},{"$f":"IF( [1]GeralMinuta!B374 <>\"\", [1]GeralMinuta!B374,\"\")","v":""}]
[{"$f":"IF( [1]GeralMinuta!A375 <>\"\", [1]GeralMinuta!A375,\"\")","v":""},{"$f":"IF( [1]GeralMinuta!B375 <>\"\", [1]GeralMinuta!B375,\"\")","v":""}]
[{"$f":"IF( [1]GeralMinuta!A376 <>\"\", [1]GeralMinuta!A376,\"\")","v":""},{"$f":"IF( [1]GeralMinuta!B376 <>\"\", [1]GeralMinuta!B376,\"\")","v":""}]
[{"$f":"IF( [1]GeralMinuta!A377 <>\"\", [1]GeralMinuta!A377,\"\")","v":""},{"$f":"IF( [1]GeralMinuta!B377 <>\"\", [1]GeralMinuta!B377,\"\")","v":""}]
[{"$f":"IF( [1]GeralMinuta!A378 <>\"\", [1]GeralMinuta!A378,\"\")","v":""},{"$f":"IF( [1]GeralMinuta!B378 <>\"\", [1]GeralMinuta!B378,\"\")","v":""}]
[{"$f":"IF( [1]GeralMinuta!A379 <>\"\", [1]GeralMinuta!A379,\"\")","v":""},{"$f":"IF( [1]GeralMinuta!B379 <>\"\", [1]GeralMinuta!B379,\"\")","v":""}]
[{"$f":"IF( [1]GeralMinuta!A380 <>\"\", [1]GeralMinuta!A380,\"\")","v":""},{"$f":"IF( [1]GeralMinuta!B380 <>\"\", [1]GeralMinuta!B380,\"\")","v":""}]
[{"$f":"IF( [1]GeralMinuta!A381 <>\"\", [1]GeralMinuta!A381,\"\")","v":""},{"$f":"IF( [1]GeralMinuta!B381 <>\"\", [1]GeralMinuta!B381,\"\")","v":""}]
[{"$f":"IF( [1]GeralMinuta!A382 <>\"\", [1]GeralMinuta!A382,\"\")","v":""},{"$f":"IF( [1]GeralMinuta!B382 <>\"\", [1]GeralMinuta!B382,\"\")","v":""}]
[{"$f":"IF( [1]GeralMinuta!A383 <>\"\", [1]GeralMinuta!A383,\"\")","v":""},{"$f":"IF( [1]GeralMinuta!B383 <>\"\", [1]GeralMinuta!B383,\"\")","v":""}]
[{"$f":"IF( [1]GeralMinuta!A384 <>\"\", [1]GeralMinuta!A384,\"\")","v":""},{"$f":"IF( [1]GeralMinuta!B384 <>\"\", [1]GeralMinuta!B384,\"\")","v":""}]
[{"$f":"IF( [1]GeralMinuta!A385 <>\"\", [1]GeralMinuta!A385,\"\")","v":""},{"$f":"IF( [1]GeralMinuta!B385 <>\"\", [1]GeralMinuta!B385,\"\")","v":""}]
[{"$f":"IF( [1]GeralMinuta!A386 <>\"\", [1]GeralMinuta!A386,\"\")","v":""},{"$f":"IF( [1]GeralMinuta!B386 <>\"\", [1]GeralMinuta!B386,\"\")","v":""}]
[{"$f":"IF( [1]GeralMinuta!A387 <>\"\", [1]GeralMinuta!A387,\"\")","v":""},{"$f":"IF( [1]GeralMinuta!B387 <>\"\", [1]GeralMinuta!B387,\"\")","v":""}]
[{"$f":"IF( [1]GeralMinuta!A388 <>\"\", [1]GeralMinuta!A388,\"\")","v":""},{"$f":"IF( [1]GeralMinuta!B388 <>\"\", [1]GeralMinuta!B388,\"\")","v":""}]
[{"$f":"IF( [1]GeralMinuta!A389 <>\"\", [1]GeralMinuta!A389,\"\")","v":""},{"$f":"IF( [1]GeralMinuta!B389 <>\"\", [1]GeralMinuta!B389,\"\")","v":""}]
[{"$f":"IF( [1]GeralMinuta!A390 <>\"\", [1]GeralMinuta!A390,\"\")","v":""},{"$f":"IF( [1]GeralMinuta!B390 <>\"\", [1]GeralMinuta!B390,\"\")","v":""}]
[{"$f":"IF( [1]GeralMinuta!A391 <>\"\", [1]GeralMinuta!A391,\"\")","v":""},{"$f":"IF( [1]GeralMinuta!B391 <>\"\", [1]GeralMinuta!B391,\"\")","v":""}]
[{"$f":"IF( [1]GeralMinuta!A392 <>\"\", [1]GeralMinuta!A392,\"\")","v":""},{"$f":"IF( [1]GeralMinuta!B392 <>\"\", [1]GeralMinuta!B392,\"\")","v":""}]
[{"$f":"IF( [1]GeralMinuta!A393 <>\"\", [1]GeralMinuta!A393,\"\")","v":""},{"$f":"IF( [1]GeralMinuta!B393 <>\"\", [1]GeralMinuta!B393,\"\")","v":""}]
[{"$f":"IF( [1]GeralMinuta!A394 <>\"\", [1]GeralMinuta!A394,\"\")","v":""},{"$f":"IF( [1]GeralMinuta!B394 <>\"\", [1]GeralMinuta!B394,\"\")","v":""}]
[{"$f":"IF( [1]GeralMinuta!A395 <>\"\", [1]GeralMinuta!A395,\"\")","v":""},{"$f":"IF( [1]GeralMinuta!B395 <>\"\", [1]GeralMinuta!B395,\"\")","v":""}]
[{"$f":"IF( [1]GeralMinuta!A396 <>\"\", [1]GeralMinuta!A396,\"\")","v":""},{"$f":"IF( [1]GeralMinuta!B396 <>\"\", [1]GeralMinuta!B396,\"\")","v":""}]
[{"$f":"IF( [1]GeralMinuta!A397 <>\"\", [1]GeralMinuta!A397,\"\")","v":""},{"$f":"IF( [1]GeralMinuta!B397 <>\"\", [1]GeralMinuta!B397,\"\")","v":""}]
[{"$f":"IF( [1]GeralMinuta!A398 <>\"\", [1]GeralMinuta!A398,\"\")","v":""},{"$f":"IF( [1]GeralMinuta!B398 <>\"\", [1]GeralMinuta!B398,\"\")","v":""}]
[{"$f":"IF( [1]GeralMinuta!A399 <>\"\", [1]GeralMinuta!A399,\"\")","v":""},{"$f":"IF( [1]GeralMinuta!B399 <>\"\", [1]GeralMinuta!B399,\"\")","v":""}]
[{"$f":"IF( [1]GeralMinuta!A400 <>\"\", [1]GeralMinuta!A400,\"\")","v":""},{"$f":"IF( [1]GeralMinuta!B400 <>\"\", [1]GeralMinuta!B400,\"\")","v":""}]
[{"$f":"IF( [1]GeralMinuta!A401 <>\"\", [1]GeralMinuta!A401,\"\")","v":""},{"$f":"IF( [1]GeralMinuta!B401 <>\"\", [1]GeralMinuta!B401,\"\")","v":""}]
[{"$f":"IF( [1]GeralMinuta!A402 <>\"\", [1]GeralMinuta!A402,\"\")","v":""},{"$f":"IF( [1]GeralMinuta!B402 <>\"\", [1]GeralMinuta!B402,\"\")","v":""}]
[{"$f":"IF( [1]GeralMinuta!A403 <>\"\", [1]GeralMinuta!A403,\"\")","v":""},{"$f":"IF( [1]GeralMinuta!B403 <>\"\", [1]GeralMinuta!B403,\"\")","v":""}]
[{"$f":"IF( [1]GeralMinuta!A404 <>\"\", [1]GeralMinuta!A404,\"\")","v":""},{"$f":"IF( [1]GeralMinuta!B404 <>\"\", [1]GeralMinuta!B404,\"\")","v":""}]
[{"$f":"IF( [1]GeralMinuta!A405 <>\"\", [1]GeralMinuta!A405,\"\")","v":""},{"$f":"IF( [1]GeralMinuta!B405 <>\"\", [1]GeralMinuta!B405,\"\")","v":""}]
[{"$f":"IF( [1]GeralMinuta!A406 <>\"\", [1]GeralMinuta!A406,\"\")","v":""},{"$f":"IF( [1]GeralMinuta!B406 <>\"\", [1]GeralMinuta!B406,\"\")","v":""}]
[{"$f":"IF( [1]GeralMinuta!A407 <>\"\", [1]GeralMinuta!A407,\"\")","v":""},{"$f":"IF( [1]GeralMinuta!B407 <>\"\", [1]GeralMinuta!B407,\"\")","v":""}]
[{"$f":"IF( [1]GeralMinuta!A408 <>\"\", [1]GeralMinuta!A408,\"\")","v":""},{"$f":"IF( [1]GeralMinuta!B408 <>\"\", [1]GeralMinuta!B408,\"\")","v":""}]
[{"$f":"IF( [1]GeralMinuta!A409 <>\"\", [1]GeralMinuta!A409,\"\")","v":""},{"$f":"IF( [1]GeralMinuta!B409 <>\"\", [1]GeralMinuta!B409,\"\")","v":""}]
[{"$f":"IF( [1]GeralMinuta!A410 <>\"\", [1]GeralMinuta!A410,\"\")","v":""},{"$f":"IF( [1]GeralMinuta!B410 <>\"\", [1]GeralMinuta!B410,\"\")","v":""}]
[{"$f":"IF( [1]GeralMinuta!A411 <>\"\", [1]GeralMinuta!A411,\"\")","v":""},{"$f":"IF( [1]GeralMinuta!B411 <>\"\", [1]GeralMinuta!B411,\"\")","v":""}]
[{"$f":"IF( [1]GeralMinuta!A412 <>\"\", [1]GeralMinuta!A412,\"\")","v":""},{"$f":"IF( [1]GeralMinuta!B412 <>\"\", [1]GeralMinuta!B412,\"\")","v":""}]
[{"$f":"IF( [1]GeralMinuta!A413 <>\"\", [1]GeralMinuta!A413,\"\")","v":""},{"$f":"IF( [1]GeralMinuta!B413 <>\"\", [1]GeralMinuta!B413,\"\")","v":""}]
[{"$f":"IF( [1]GeralMinuta!A414 <>\"\", [1]GeralMinuta!A414,\"\")","v":""},{"$f":"IF( [1]GeralMinuta!B414 <>\"\", [1]GeralMinuta!B414,\"\")","v":""}]
[{"$f":"IF( [1]GeralMinuta!A415 <>\"\", [1]GeralMinuta!A415,\"\")","v":""},{"$f":"IF( [1]GeralMinuta!B415 <>\"\", [1]GeralMinuta!B415,\"\")","v":""}]
[{"$f":"IF( [1]GeralMinuta!A416 <>\"\", [1]GeralMinuta!A416,\"\")","v":""},{"$f":"IF( [1]GeralMinuta!B416 <>\"\", [1]GeralMinuta!B416,\"\")","v":""}]
[{"$f":"IF( [1]GeralMinuta!A417 <>\"\", [1]GeralMinuta!A417,\"\")","v":""},{"$f":"IF( [1]GeralMinuta!B417 <>\"\", [1]GeralMinuta!B417,\"\")","v":""}]
[{"$f":"IF( [1]GeralMinuta!A418 <>\"\", [1]GeralMinuta!A418,\"\")","v":""},{"$f":"IF( [1]GeralMinuta!B418 <>\"\", [1]GeralMinuta!B418,\"\")","v":""}]
[{"$f":"IF( [1]GeralMinuta!A419 <>\"\", [1]GeralMinuta!A419,\"\")","v":""},{"$f":"IF( [1]GeralMinuta!B419 <>\"\", [1]GeralMinuta!B419,\"\")","v":""}]
[{"$f":"IF( [1]GeralMinuta!A420 <>\"\", [1]GeralMinuta!A420,\"\")","v":""},{"$f":"IF( [1]GeralMinuta!B420 <>\"\", [1]GeralMinuta!B420,\"\")","v":""}]
[{"$f":"IF( [1]GeralMinuta!A421 <>\"\", [1]GeralMinuta!A421,\"\")","v":""},{"$f":"IF( [1]GeralMinuta!B421 <>\"\", [1]GeralMinuta!B421,\"\")","v":""}]
[{"$f":"IF( [1]GeralMinuta!A422 <>\"\", [1]GeralMinuta!A422,\"\")","v":""},{"$f":"IF( [1]GeralMinuta!B422 <>\"\", [1]GeralMinuta!B422,\"\")","v":""}]
[{"$f":"IF( [1]GeralMinuta!A423 <>\"\", [1]GeralMinuta!A423,\"\")","v":""},{"$f":"IF( [1]GeralMinuta!B423 <>\"\", [1]GeralMinuta!B423,\"\")","v":""}]
[{"$f":"IF( [1]GeralMinuta!A424 <>\"\", [1]GeralMinuta!A424,\"\")","v":""},{"$f":"IF( [1]GeralMinuta!B424 <>\"\", [1]GeralMinuta!B424,\"\")","v":""}]
[{"$f":"IF( [1]GeralMinuta!A425 <>\"\", [1]GeralMinuta!A425,\"\")","v":""},{"$f":"IF( [1]GeralMinuta!B425 <>\"\", [1]GeralMinuta!B425,\"\")","v":""}]
[{"$f":"IF( [1]GeralMinuta!A426 <>\"\", [1]GeralMinuta!A426,\"\")","v":""},{"$f":"IF( [1]GeralMinuta!B426 <>\"\", [1]GeralMinuta!B426,\"\")","v":""}]
[{"$f":"IF( [1]GeralMinuta!A427 <>\"\", [1]GeralMinuta!A427,\"\")","v":""},{"$f":"IF( [1]GeralMinuta!B427 <>\"\", [1]GeralMinuta!B427,\"\")","v":""}]
[{"$f":"IF( [1]GeralMinuta!A428 <>\"\", [1]GeralMinuta!A428,\"\")","v":""},{"$f":"IF( [1]GeralMinuta!B428 <>\"\", [1]GeralMinuta!B428,\"\")","v":""}]
[{"$f":"IF( [1]GeralMinuta!A429 <>\"\", [1]GeralMinuta!A429,\"\")","v":""},{"$f":"IF( [1]GeralMinuta!B429 <>\"\", [1]GeralMinuta!B429,\"\")","v":""}]
[{"$f":"IF( [1]GeralMinuta!A430 <>\"\", [1]GeralMinuta!A430,\"\")","v":""},{"$f":"IF( [1]GeralMinuta!B430 <>\"\", [1]GeralMinuta!B430,\"\")","v":""}]
[{"$f":"IF( [1]GeralMinuta!A431 <>\"\", [1]GeralMinuta!A431,\"\")","v":""},{"$f":"IF( [1]GeralMinuta!B431 <>\"\", [1]GeralMinuta!B431,\"\")","v":""}]
[{"$f":"IF( [1]GeralMinuta!A432 <>\"\", [1]GeralMinuta!A432,\"\")","v":""},{"$f":"IF( [1]GeralMinuta!B432 <>\"\", [1]GeralMinuta!B432,\"\")","v":""}]
[{"$f":"IF( [1]GeralMinuta!A433 <>\"\", [1]GeralMinuta!A433,\"\")","v":""},{"$f":"IF( [1]GeralMinuta!B433 <>\"\", [1]GeralMinuta!B433,\"\")","v":""}]
[{"$f":"IF( [1]GeralMinuta!A434 <>\"\", [1]GeralMinuta!A434,\"\")","v":""},{"$f":"IF( [1]GeralMinuta!B434 <>\"\", [1]GeralMinuta!B434,\"\")","v":""}]
[{"$f":"IF( [1]GeralMinuta!A435 <>\"\", [1]GeralMinuta!A435,\"\")","v":""},{"$f":"IF( [1]GeralMinuta!B435 <>\"\", [1]GeralMinuta!B435,\"\")","v":""}]
[{"$f":"IF( [1]GeralMinuta!A436 <>\"\", [1]GeralMinuta!A436,\"\")","v":""},{"$f":"IF( [1]GeralMinuta!B436 <>\"\", [1]GeralMinuta!B436,\"\")","v":""}]
[{"$f":"IF( [1]GeralMinuta!A437 <>\"\", [1]GeralMinuta!A437,\"\")","v":""},{"$f":"IF( [1]GeralMinuta!B437 <>\"\", [1]GeralMinuta!B437,\"\")","v":""}]
[{"$f":"IF( [1]GeralMinuta!A438 <>\"\", [1]GeralMinuta!A438,\"\")","v":""},{"$f":"IF( [1]GeralMinuta!B438 <>\"\", [1]GeralMinuta!B438,\"\")","v":""}]
[{"$f":"IF( [1]GeralMinuta!A439 <>\"\", [1]GeralMinuta!A439,\"\")","v":""},{"$f":"IF( [1]GeralMinuta!B439 <>\"\", [1]GeralMinuta!B439,\"\")","v":""}]
[{"$f":"IF( [1]GeralMinuta!A440 <>\"\", [1]GeralMinuta!A440,\"\")","v":""},{"$f":"IF( [1]GeralMinuta!B440 <>\"\", [1]GeralMinuta!B440,\"\")","v":""}]
[{"$f":"IF( [1]GeralMinuta!A441 <>\"\", [1]GeralMinuta!A441,\"\")","v":""},{"$f":"IF( [1]GeralMinuta!B441 <>\"\", [1]GeralMinuta!B441,\"\")","v":""}]
[{"$f":"IF( [1]GeralMinuta!A442 <>\"\", [1]GeralMinuta!A442,\"\")","v":""},{"$f":"IF( [1]GeralMinuta!B442 <>\"\", [1]GeralMinuta!B442,\"\")","v":""}]
[{"$f":"IF( [1]GeralMinuta!A443 <>\"\", [1]GeralMinuta!A443,\"\")","v":""},{"$f":"IF( [1]GeralMinuta!B443 <>\"\", [1]GeralMinuta!B443,\"\")","v":""}]
[{"$f":"IF( [1]GeralMinuta!A444 <>\"\", [1]GeralMinuta!A444,\"\")","v":""},{"$f":"IF( [1]GeralMinuta!B444 <>\"\", [1]GeralMinuta!B444,\"\")","v":""}]
[{"$f":"IF( [1]GeralMinuta!A445 <>\"\", [1]GeralMinuta!A445,\"\")","v":""},{"$f":"IF( [1]GeralMinuta!B445 <>\"\", [1]GeralMinuta!B445,\"\")","v":""}]
[{"$f":"IF( [1]GeralMinuta!A446 <>\"\", [1]GeralMinuta!A446,\"\")","v":""},{"$f":"IF( [1]GeralMinuta!B446 <>\"\", [1]GeralMinuta!B446,\"\")","v":""}]
[{"$f":"IF( [1]GeralMinuta!A447 <>\"\", [1]GeralMinuta!A447,\"\")","v":""},{"$f":"IF( [1]GeralMinuta!B447 <>\"\", [1]GeralMinuta!B447,\"\")","v":""}]
[{"$f":"IF( [1]GeralMinuta!A448 <>\"\", [1]GeralMinuta!A448,\"\")","v":""},{"$f":"IF( [1]GeralMinuta!B448 <>\"\", [1]GeralMinuta!B448,\"\")","v":""}]
[{"$f":"IF( [1]GeralMinuta!A449 <>\"\", [1]GeralMinuta!A449,\"\")","v":""},{"$f":"IF( [1]GeralMinuta!B449 <>\"\", [1]GeralMinuta!B449,\"\")","v":""}]
[{"$f":"IF( [1]GeralMinuta!A450 <>\"\", [1]GeralMinuta!A450,\"\")","v":""},{"$f":"IF( [1]GeralMinuta!B450 <>\"\", [1]GeralMinuta!B450,\"\")","v":""}]
[{"$f":"IF( [1]GeralMinuta!A451 <>\"\", [1]GeralMinuta!A451,\"\")","v":""},{"$f":"IF( [1]GeralMinuta!B451 <>\"\", [1]GeralMinuta!B451,\"\")","v":""}]
[{"$f":"IF( [1]GeralMinuta!A452 <>\"\", [1]GeralMinuta!A452,\"\")","v":""},{"$f":"IF( [1]GeralMinuta!B452 <>\"\", [1]GeralMinuta!B452,\"\")","v":""}]
[{"$f":"IF( [1]GeralMinuta!A453 <>\"\", [1]GeralMinuta!A453,\"\")","v":""},{"$f":"IF( [1]GeralMinuta!B453 <>\"\", [1]GeralMinuta!B453,\"\")","v":""}]
[{"$f":"IF( [1]GeralMinuta!A454 <>\"\", [1]GeralMinuta!A454,\"\")","v":""},{"$f":"IF( [1]GeralMinuta!B454 <>\"\", [1]GeralMinuta!B454,\"\")","v":""}]
[{"$f":"IF( [1]GeralMinuta!A455 <>\"\", [1]GeralMinuta!A455,\"\")","v":""},{"$f":"IF( [1]GeralMinuta!B455 <>\"\", [1]GeralMinuta!B455,\"\")","v":""}]
[{"$f":"IF( [1]GeralMinuta!A456 <>\"\", [1]GeralMinuta!A456,\"\")","v":""},{"$f":"IF( [1]GeralMinuta!B456 <>\"\", [1]GeralMinuta!B456,\"\")","v":""}]
[{"$f":"IF( [1]GeralMinuta!A457 <>\"\", [1]GeralMinuta!A457,\"\")","v":""},{"$f":"IF( [1]GeralMinuta!B457 <>\"\", [1]GeralMinuta!B457,\"\")","v":""}]
[{"$f":"IF( [1]GeralMinuta!A458 <>\"\", [1]GeralMinuta!A458,\"\")","v":""},{"$f":"IF( [1]GeralMinuta!B458 <>\"\", [1]GeralMinuta!B458,\"\")","v":""}]
[{"$f":"IF( [1]GeralMinuta!A459 <>\"\", [1]GeralMinuta!A459,\"\")","v":""},{"$f":"IF( [1]GeralMinuta!B459 <>\"\", [1]GeralMinuta!B459,\"\")","v":""}]
[{"$f":"IF( [1]GeralMinuta!A460 <>\"\", [1]GeralMinuta!A460,\"\")","v":""},{"$f":"IF( [1]GeralMinuta!B460 <>\"\", [1]GeralMinuta!B460,\"\")","v":""}]
[{"$f":"IF( [1]GeralMinuta!A461 <>\"\", [1]GeralMinuta!A461,\"\")","v":""},{"$f":"IF( [1]GeralMinuta!B461 <>\"\", [1]GeralMinuta!B461,\"\")","v":""}]
[{"$f":"IF( [1]GeralMinuta!A462 <>\"\", [1]GeralMinuta!A462,\"\")","v":""},{"$f":"IF( [1]GeralMinuta!B462 <>\"\", [1]GeralMinuta!B462,\"\")","v":""}]
[{"$f":"IF( [1]GeralMinuta!A463 <>\"\", [1]GeralMinuta!A463,\"\")","v":""},{"$f":"IF( [1]GeralMinuta!B463 <>\"\", [1]GeralMinuta!B463,\"\")","v":""}]
[{"$f":"IF( [1]GeralMinuta!A464 <>\"\", [1]GeralMinuta!A464,\"\")","v":""},{"$f":"IF( [1]GeralMinuta!B464 <>\"\", [1]GeralMinuta!B464,\"\")","v":""}]
[{"$f":"IF( [1]GeralMinuta!A465 <>\"\", [1]GeralMinuta!A465,\"\")","v":""},{"$f":"IF( [1]GeralMinuta!B465 <>\"\", [1]GeralMinuta!B465,\"\")","v":""}]
[{"$f":"IF( [1]GeralMinuta!A466 <>\"\", [1]GeralMinuta!A466,\"\")","v":""},{"$f":"IF( [1]GeralMinuta!B466 <>\"\", [1]GeralMinuta!B466,\"\")","v":""}]
[{"$f":"IF( [1]GeralMinuta!A467 <>\"\", [1]GeralMinuta!A467,\"\")","v":""},{"$f":"IF( [1]GeralMinuta!B467 <>\"\", [1]GeralMinuta!B467,\"\")","v":""}]
[{"$f":"IF( [1]GeralMinuta!A468 <>\"\", [1]GeralMinuta!A468,\"\")","v":""},{"$f":"IF( [1]GeralMinuta!B468 <>\"\", [1]GeralMinuta!B468,\"\")","v":""}]
[{"$f":"IF( [1]GeralMinuta!A469 <>\"\", [1]GeralMinuta!A469,\"\")","v":""},{"$f":"IF( [1]GeralMinuta!B469 <>\"\", [1]GeralMinuta!B469,\"\")","v":""}]
[{"$f":"IF( [1]GeralMinuta!A470 <>\"\", [1]GeralMinuta!A470,\"\")","v":""},{"$f":"IF( [1]GeralMinuta!B470 <>\"\", [1]GeralMinuta!B470,\"\")","v":""}]
[{"$f":"IF( [1]GeralMinuta!A471 <>\"\", [1]GeralMinuta!A471,\"\")","v":""},{"$f":"IF( [1]GeralMinuta!B471 <>\"\", [1]GeralMinuta!B471,\"\")","v":""}]
[{"$f":"IF( [1]GeralMinuta!A472 <>\"\", [1]GeralMinuta!A472,\"\")","v":""},{"$f":"IF( [1]GeralMinuta!B472 <>\"\", [1]GeralMinuta!B472,\"\")","v":""}]
[{"$f":"IF( [1]GeralMinuta!A473 <>\"\", [1]GeralMinuta!A473,\"\")","v":""},{"$f":"IF( [1]GeralMinuta!B473 <>\"\", [1]GeralMinuta!B473,\"\")","v":""}]
[{"$f":"IF( [1]GeralMinuta!A474 <>\"\", [1]GeralMinuta!A474,\"\")","v":""},{"$f":"IF( [1]GeralMinuta!B474 <>\"\", [1]GeralMinuta!B474,\"\")","v":""}]
[{"$f":"IF( [1]GeralMinuta!A475 <>\"\", [1]GeralMinuta!A475,\"\")","v":""},{"$f":"IF( [1]GeralMinuta!B475 <>\"\", [1]GeralMinuta!B475,\"\")","v":""}]
[{"$f":"IF( [1]GeralMinuta!A476 <>\"\", [1]GeralMinuta!A476,\"\")","v":""},{"$f":"IF( [1]GeralMinuta!B476 <>\"\", [1]GeralMinuta!B476,\"\")","v":""}]
[{"$f":"IF( [1]GeralMinuta!A477 <>\"\", [1]GeralMinuta!A477,\"\")","v":""},{"$f":"IF( [1]GeralMinuta!B477 <>\"\", [1]GeralMinuta!B477,\"\")","v":""}]
[{"$f":"IF( [1]GeralMinuta!A478 <>\"\", [1]GeralMinuta!A478,\"\")","v":""},{"$f":"IF( [1]GeralMinuta!B478 <>\"\", [1]GeralMinuta!B478,\"\")","v":""}]
[{"$f":"IF( [1]GeralMinuta!A479 <>\"\", [1]GeralMinuta!A479,\"\")","v":""},{"$f":"IF( [1]GeralMinuta!B479 <>\"\", [1]GeralMinuta!B479,\"\")","v":""}]
[{"$f":"IF( [1]GeralMinuta!A480 <>\"\", [1]GeralMinuta!A480,\"\")","v":""},{"$f":"IF( [1]GeralMinuta!B480 <>\"\", [1]GeralMinuta!B480,\"\")","v":""}]
[{"$f":"IF( [1]GeralMinuta!A481 <>\"\", [1]GeralMinuta!A481,\"\")","v":""},{"$f":"IF( [1]GeralMinuta!B481 <>\"\", [1]GeralMinuta!B481,\"\")","v":""}]
[{"$f":"IF( [1]GeralMinuta!A482 <>\"\", [1]GeralMinuta!A482,\"\")","v":""},{"$f":"IF( [1]GeralMinuta!B482 <>\"\", [1]GeralMinuta!B482,\"\")","v":""}]
[{"$f":"IF( [1]GeralMinuta!A483 <>\"\", [1]GeralMinuta!A483,\"\")","v":""},{"$f":"IF( [1]GeralMinuta!B483 <>\"\", [1]GeralMinuta!B483,\"\")","v":""}]
[{"$f":"IF( [1]GeralMinuta!A484 <>\"\", [1]GeralMinuta!A484,\"\")","v":""},{"$f":"IF( [1]GeralMinuta!B484 <>\"\", [1]GeralMinuta!B484,\"\")","v":""}]
[{"$f":"IF( [1]GeralMinuta!A485 <>\"\", [1]GeralMinuta!A485,\"\")","v":""},{"$f":"IF( [1]GeralMinuta!B485 <>\"\", [1]GeralMinuta!B485,\"\")","v":""}]
[{"$f":"IF( [1]GeralMinuta!A486 <>\"\", [1]GeralMinuta!A486,\"\")","v":""},{"$f":"IF( [1]GeralMinuta!B486 <>\"\", [1]GeralMinuta!B486,\"\")","v":""}]
[{"$f":"IF( [1]GeralMinuta!A487 <>\"\", [1]GeralMinuta!A487,\"\")","v":""},{"$f":"IF( [1]GeralMinuta!B487 <>\"\", [1]GeralMinuta!B487,\"\")","v":""}]
[{"$f":"IF( [1]GeralMinuta!A488 <>\"\", [1]GeralMinuta!A488,\"\")","v":""},{"$f":"IF( [1]GeralMinuta!B488 <>\"\", [1]GeralMinuta!B488,\"\")","v":""}]
[{"$f":"IF( [1]GeralMinuta!A489 <>\"\", [1]GeralMinuta!A489,\"\")","v":""},{"$f":"IF( [1]GeralMinuta!B489 <>\"\", [1]GeralMinuta!B489,\"\")","v":""}]
[{"$f":"IF( [1]GeralMinuta!A490 <>\"\", [1]GeralMinuta!A490,\"\")","v":""},{"$f":"IF( [1]GeralMinuta!B490 <>\"\", [1]GeralMinuta!B490,\"\")","v":""}]
[{"$f":"IF( [1]GeralMinuta!A491 <>\"\", [1]GeralMinuta!A491,\"\")","v":""},{"$f":"IF( [1]GeralMinuta!B491 <>\"\", [1]GeralMinuta!B491,\"\")","v":""}]
[{"$f":"IF( [1]GeralMinuta!A492 <>\"\", [1]GeralMinuta!A492,\"\")","v":""},{"$f":"IF( [1]GeralMinuta!B492 <>\"\", [1]GeralMinuta!B492,\"\")","v":""}]
[{"$f":"IF( [1]GeralMinuta!A493 <>\"\", [1]GeralMinuta!A493,\"\")","v":""},{"$f":"IF( [1]GeralMinuta!B493 <>\"\", [1]GeralMinuta!B493,\"\")","v":""}]
[{"$f":"IF( [1]GeralMinuta!A494 <>\"\", [1]GeralMinuta!A494,\"\")","v":""},{"$f":"IF( [1]GeralMinuta!B494 <>\"\", [1]GeralMinuta!B494,\"\")","v":""}]
[{"$f":"IF( [1]GeralMinuta!A495 <>\"\", [1]GeralMinuta!A495,\"\")","v":""},{"$f":"IF( [1]GeralMinuta!B495 <>\"\", [1]GeralMinuta!B495,\"\")","v":""}]
[{"$f":"IF( [1]GeralMinuta!A496 <>\"\", [1]GeralMinuta!A496,\"\")","v":""},{"$f":"IF( [1]GeralMinuta!B496 <>\"\", [1]GeralMinuta!B496,\"\")","v":""}]
[{"$f":"IF( [1]GeralMinuta!A497 <>\"\", [1]GeralMinuta!A497,\"\")","v":""},{"$f":"IF( [1]GeralMinuta!B497 <>\"\", [1]GeralMinuta!B497,\"\")","v":""}]
[{"$f":"IF( [1]GeralMinuta!A498 <>\"\", [1]GeralMinuta!A498,\"\")","v":""},{"$f":"IF( [1]GeralMinuta!B498 <>\"\", [1]GeralMinuta!B498,\"\")","v":""}]
[{"$f":"IF( [1]GeralMinuta!A499 <>\"\", [1]GeralMinuta!A499,\"\")","v":""},{"$f":"IF( [1]GeralMinuta!B499 <>\"\", [1]GeralMinuta!B499,\"\")","v":""}]
[{"$f":"IF( [1]GeralMinuta!A500 <>\"\", [1]GeralMinuta!A500,\"\")","v":""},{"$f":"IF( [1]GeralMinuta!B500 <>\"\", [1]GeralMinuta!B500,\"\")","v":""}]

{"sheet":"Secundaria","index":7,"n_rows":500,"n_cols":6,"rows_kept":500,"cut":false,"hidden":true,"merged":[]}
[{"$f":"IF( [1]GeralMinuta!A1 <>\"\", [1]GeralMinuta!A1,\"\")","v":""},{"$f":"IF( [1]GeralMinuta!B1 <>\"\", [1]GeralMinuta!B1,\"\")","v":""},null,null,null,{"$f":" [1]NeutroMinutaCpfl!A1","v":""}]
[{"$f":"IF( [1]GeralMinuta!A2 <>\"\", [1]GeralMinuta!A2,\"\")","v":"3 E 70 mm² Vão 35m "},{"$f":"IF( [1]GeralMinuta!B2 <>\"\", [1]GeralMinuta!B2,\"\")","v":373}]
[{"$f":"IF( [1]GeralMinuta!A3 <>\"\", [1]GeralMinuta!A3,\"\")","v":"3 E 185 mm² Vão 35m "},{"$f":"IF( [1]GeralMinuta!B3 <>\"\", [1]GeralMinuta!B3,\"\")","v":648}]
[{"$f":"IF( [1]GeralMinuta!A4 <>\"\", [1]GeralMinuta!A4,\"\")","v":""},{"$f":"IF( [1]GeralMinuta!B4 <>\"\", [1]GeralMinuta!B4,\"\")","v":""}]
[{"$f":"IF( [1]GeralMinuta!A5 <>\"\", [1]GeralMinuta!A5,\"\")","v":"3 E 70 mm² Vão 35m RGE"},{"$f":"IF( [1]GeralMinuta!B5 <>\"\", [1]GeralMinuta!B5,\"\")","v":373}]
[{"$f":"IF( [1]GeralMinuta!A6 <>\"\", [1]GeralMinuta!A6,\"\")","v":"3 E 185 mm² Vão 35m RGE"},{"$f":"IF( [1]GeralMinuta!B6 <>\"\", [1]GeralMinuta!B6,\"\")","v":632}]
[{"$f":"IF( [1]GeralMinuta!A7 <>\"\", [1]GeralMinuta!A7,\"\")","v":""},{"$f":"IF( [1]GeralMinuta!B7 <>\"\", [1]GeralMinuta!B7,\"\")","v":""}]
[{"$f":"IF( [1]GeralMinuta!A8 <>\"\", [1]GeralMinuta!A8,\"\")","v":"3 E 70 mm² Vão 80m "},{"$f":"IF( [1]GeralMinuta!B8 <>\"\", [1]GeralMinuta!B8,\"\")","v":549}]
[{"$f":"IF( [1]GeralMinuta!A9 <>\"\", [1]GeralMinuta!A9,\"\")","v":"3 E 185 mm² Vão 80m "},{"$f":"IF( [1]GeralMinuta!B9 <>\"\", [1]GeralMinuta!B9,\"\")","v":837}]
[{"$f":"IF( [1]GeralMinuta!A10 <>\"\", [1]GeralMinuta!A10,\"\")","v":""},{"$f":"IF( [1]GeralMinuta!B10 <>\"\", [1]GeralMinuta!B10,\"\")","v":""}]
[{"$f":"IF( [1]GeralMinuta!A11 <>\"\", [1]GeralMinuta!A11,\"\")","v":"3 E 70 mm² Vão 80m RGE"},{"$f":"IF( [1]GeralMinuta!B11 <>\"\", [1]GeralMinuta!B11,\"\")","v":549}]
[{"$f":"IF( [1]GeralMinuta!A12 <>\"\", [1]GeralMinuta!A12,\"\")","v":"3 E 185 mm² Vão 80m RGE"},{"$f":"IF( [1]GeralMinuta!B12 <>\"\", [1]GeralMinuta!B12,\"\")","v":837}]
[{"$f":"IF( [1]GeralMinuta!A13 <>\"\", [1]GeralMinuta!A13,\"\")","v":""},{"$f":"IF( [1]GeralMinuta!B13 <>\"\", [1]GeralMinuta!B13,\"\")","v":""}]
[{"$f":"IF( [1]GeralMinuta!A14 <>\"\", [1]GeralMinuta!A14,\"\")","v":"3 P 16 mm² Vão 35m "},{"$f":"IF( [1]GeralMinuta!B14 <>\"\", [1]GeralMinuta!B14,\"\")","v":70}]
[{"$f":"IF( [1]GeralMinuta!A15 <>\"\", [1]GeralMinuta!A15,\"\")","v":"3 P 25 mm² Vão 35m "},{"$f":"IF( [1]GeralMinuta!B15 <>\"\", [1]GeralMinuta!B15,\"\")","v":96}]
[{"$f":"IF( [1]GeralMinuta!A16 <>\"\", [1]GeralMinuta!A16,\"\")","v":"3 P 35 mm² Vão 35m "},{"$f":"IF( [1]GeralMinuta!B16 <>\"\", [1]GeralMinuta!B16,\"\")","v":126}]
[{"$f":"IF( [1]GeralMinuta!A17 <>\"\", [1]GeralMinuta!A17,\"\")","v":"3 P 50 mm² Vão 35m "},{"$f":"IF( [1]GeralMinuta!B17 <>\"\", [1]GeralMinuta!B17,\"\")","v":156}]
[{"$f":"IF( [1]GeralMinuta!A18 <>\"\", [1]GeralMinuta!A18,\"\")","v":"3 P 70 mm² Vão 35m "},{"$f":"IF( [1]GeralMinuta!B18 <>\"\", [1]GeralMinuta!B18,\"\")","v":216}]
[{"$f":"IF( [1]GeralMinuta!A19 <>\"\", [1]GeralMinuta!A19,\"\")","v":"3 P 120 mm² Vão 35m "},{"$f":"IF( [1]GeralMinuta!B19 <>\"\", [1]GeralMinuta!B19,\"\")","v":336}]
[{"$f":"IF( [1]GeralMinuta!A20 <>\"\", [1]GeralMinuta!A20,\"\")","v":""},{"$f":"IF( [1]GeralMinuta!B20 <>\"\", [1]GeralMinuta!B20,\"\")","v":""}]
[{"$f":"IF( [1]GeralMinuta!A21 <>\"\", [1]GeralMinuta!A21,\"\")","v":"3 P 16 mm² Vão 35m RGE"},{"$f":"IF( [1]GeralMinuta!B21 <>\"\", [1]GeralMinuta!B21,\"\")","v":70}]
[{"$f":"IF( [1]GeralMinuta!A22 <>\"\", [1]GeralMinuta!A22,\"\")","v":"3 P 25 mm² Vão 35m RGE"},{"$f":"IF( [1]GeralMinuta!B22 <>\"\", [1]GeralMinuta!B22,\"\")","v":96}]
[{"$f":"IF( [1]GeralMinuta!A23 <>\"\", [1]GeralMinuta!A23,\"\")","v":"3 P 35 mm² Vão 35m RGE"},{"$f":"IF( [1]GeralMinuta!B23 <>\"\", [1]GeralMinuta!B23,\"\")","v":126}]
[{"$f":"IF( [1]GeralMinuta!A24 <>\"\", [1]GeralMinuta!A24,\"\")","v":"3 P 50 mm² Vão 35m RGE"},{"$f":"IF( [1]GeralMinuta!B24 <>\"\", [1]GeralMinuta!B24,\"\")","v":162}]
[{"$f":"IF( [1]GeralMinuta!A25 <>\"\", [1]GeralMinuta!A25,\"\")","v":"3 P 70 mm² Vão 35m RGE"},{"$f":"IF( [1]GeralMinuta!B25 <>\"\", [1]GeralMinuta!B25,\"\")","v":226}]
[{"$f":"IF( [1]GeralMinuta!A26 <>\"\", [1]GeralMinuta!A26,\"\")","v":"3 P 120 mm² Vão 35m RGE"},{"$f":"IF( [1]GeralMinuta!B26 <>\"\", [1]GeralMinuta!B26,\"\")","v":352}]
[{"$f":"IF( [1]GeralMinuta!A27 <>\"\", [1]GeralMinuta!A27,\"\")","v":""},{"$f":"IF( [1]GeralMinuta!B27 <>\"\", [1]GeralMinuta!B27,\"\")","v":""}]
[{"$f":"IF( [1]GeralMinuta!A28 <>\"\", [1]GeralMinuta!A28,\"\")","v":"3 CA 02 AWG Vão 35m "},{"$f":"IF( [1]GeralMinuta!B28 <>\"\", [1]GeralMinuta!B28,\"\")","v":180}]
[{"$f":"IF( [1]GeralMinuta!A29 <>\"\", [1]GeralMinuta!A29,\"\")","v":"3 CA 1/0 AWG Vão 35m "},{"$f":"IF( [1]GeralMinuta!B29 <>\"\", [1]GeralMinuta!B29,\"\")","v":288}]
[{"$f":"IF( [1]GeralMinuta!A30 <>\"\", [1]GeralMinuta!A30,\"\")","v":"3 CA 2/0 AWG Vão 35m "},{"$f":"IF( [1]GeralMinuta!B30 <>\"\", [1]GeralMinuta!B30,\"\")","v":363}]
[{"$f":"IF( [1]GeralMinuta!A31 <>\"\", [1]GeralMinuta!A31,\"\")","v":"3 CA 4/0 AWG Vão 35m "},{"$f":"IF( [1]GeralMinuta!B31 <>\"\", [1]GeralMinuta!B31,\"\")","v":582}]
[{"$f":"IF( [1]GeralMinuta!A32 <>\"\", [1]GeralMinuta!A32,\"\")","v":"3 CA 336,4 MCM Vão 35m "},{"$f":"IF( [1]GeralMinuta!B32 <>\"\", [1]GeralMinuta!B32,\"\")","v":924}]
[{"$f":"IF( [1]GeralMinuta!A33 <>\"\", [1]GeralMinuta!A33,\"\")","v":"3 CA 477 MCM Vão 35m "},{"$f":"IF( [1]GeralMinuta!B33 <>\"\", [1]GeralMinuta!B33,\"\")","v":1305}]
[{"$f":"IF( [1]GeralMinuta!A34 <>\"\", [1]GeralMinuta!A34,\"\")","v":""},{"$f":"IF( [1]GeralMinuta!B34 <>\"\", [1]GeralMinuta!B34,\"\")","v":""}]
[{"$f":"IF( [1]GeralMinuta!A35 <>\"\", [1]GeralMinuta!A35,\"\")","v":"3 CA 02 AWG Vão 35m RGE"},{"$f":"IF( [1]GeralMinuta!B35 <>\"\", [1]GeralMinuta!B35,\"\")","v":225}]
[{"$f":"IF( [1]GeralMinuta!A36 <>\"\", [1]GeralMinuta!A36,\"\")","v":"3 CA 1/0 AWG Vão 35m RGE"},{"$f":"IF( [1]GeralMinuta!B36 <>\"\", [1]GeralMinuta!B36,\"\")","v":2319}]
[{"$f":"IF( [1]GeralMinuta!A37 <>\"\", [1]GeralMinuta!A37,\"\")","v":"3 CA 2/0 AWG Vão 35m RGE"},{"$f":"IF( [1]GeralMinuta!B37 <>\"\", [1]GeralMinuta!B37,\"\")","v":450}]
[{"$f":"IF( [1]GeralMinuta!A38 <>\"\", [1]GeralMinuta!A38,\"\")","v":"3 CA 4/0 AWG Vão 35m RGE"},{"$f":"IF( [1]GeralMinuta!B38 <>\"\", [1]GeralMinuta!B38,\"\")","v":720}]
[{"$f":"IF( [1]GeralMinuta!A39 <>\"\", [1]GeralMinuta!A39,\"\")","v":"3 CA 336,4 MCM Vão 35m RGE"},{"$f":"IF( [1]GeralMinuta!B39 <>\"\", [1]GeralMinuta!B39,\"\")","v":1143}]
[{"$f":"IF( [1]GeralMinuta!A40 <>\"\", [1]GeralMinuta!A40,\"\")","v":"3 CA 477 MCM Vão 35m RGE"},{"$f":"IF( [1]GeralMinuta!B40 <>\"\", [1]GeralMinuta!B40,\"\")","v":1617}]
[{"$f":"IF( [1]GeralMinuta!A41 <>\"\", [1]GeralMinuta!A41,\"\")","v":""},{"$f":"IF( [1]GeralMinuta!B41 <>\"\", [1]GeralMinuta!B41,\"\")","v":""}]
[{"$f":"IF( [1]GeralMinuta!A42 <>\"\", [1]GeralMinuta!A42,\"\")","v":"3 CA 02 AWG Vão 80m "},{"$f":"IF( [1]GeralMinuta!B42 <>\"\", [1]GeralMinuta!B42,\"\")","v":399}]
[{"$f":"IF( [1]GeralMinuta!A43 <>\"\", [1]GeralMinuta!A43,\"\")","v":"3 CA 1/0 AWG Vão 80m "},{"$f":"IF( [1]GeralMinuta!B43 <>\"\", [1]GeralMinuta!B43,\"\")","v":558}]
[{"$f":"IF( [1]GeralMinuta!A44 <>\"\", [1]GeralMinuta!A44,\"\")","v":"3 CA 2/0 AWG Vão 80m "},{"$f":"IF( [1]GeralMinuta!B44 <>\"\", [1]GeralMinuta!B44,\"\")","v":660}]
[{"$f":"IF( [1]GeralMinuta!A45 <>\"\", [1]GeralMinuta!A45,\"\")","v":"3 CA 4/0 AWG Vão 80m "},{"$f":"IF( [1]GeralMinuta!B45 <>\"\", [1]GeralMinuta!B45,\"\")","v":945}]
[{"$f":"IF( [1]GeralMinuta!A46 <>\"\", [1]GeralMinuta!A46,\"\")","v":"3 CA 336,4 MCM Vão 80m "},{"$f":"IF( [1]GeralMinuta!B46 <>\"\", [1]GeralMinuta!B46,\"\")","v":1449}]
[{"$f":"IF( [1]GeralMinuta!A47 <>\"\", [1]GeralMinuta!A47,\"\")","v":"3 CA 477 MCM Vão 80m "},{"$f":"IF( [1]GeralMinuta!B47 <>\"\", [1]GeralMinuta!B47,\"\")","v":2049}]
[{"$f":"IF( [1]GeralMinuta!A48 <>\"\", [1]GeralMinuta!A48,\"\")","v":""},{"$f":"IF( [1]GeralMinuta!B48 <>\"\", [1]GeralMinuta!B48,\"\")","v":""}]
[{"$f":"IF( [1]GeralMinuta!A49 <>\"\", [1]GeralMinuta!A49,\"\")","v":"3 CA 02 AWG Vão 80m RGE"},{"$f":"IF( [1]GeralMinuta!B49 <>\"\", [1]GeralMinuta!B49,\"\")","v":399}]
[{"$f":"IF( [1]GeralMinuta!A50 <>\"\", [1]GeralMinuta!A50,\"\")","v":"3 CA 1/0 AWG Vão 80m RGE"},{"$f":"IF( [1]GeralMinuta!B50 <>\"\", [1]GeralMinuta!B50,\"\")","v":558}]
[{"$f":"IF( [1]GeralMinuta!A51 <>\"\", [1]GeralMinuta!A51,\"\")","v":"3 CA 2/0 AWG Vão 80m RGE"},{"$f":"IF( [1]GeralMinuta!B51 <>\"\", [1]GeralMinuta!B51,\"\")","v":660}]
[{"$f":"IF( [1]GeralMinuta!A52 <>\"\", [1]GeralMinuta!A52,\"\")","v":"3 CA 4/0 AWG Vão 80m RGE"},{"$f":"IF( [1]GeralMinuta!B52 <>\"\", [1]GeralMinuta!B52,\"\")","v":1029}]
[{"$f":"IF( [1]GeralMinuta!A53 <>\"\", [1]GeralMinuta!A53,\"\")","v":"3 CA 336,4 MCM Vão 80m RGE"},{"$f":"IF( [1]GeralMinuta!B53 <>\"\", [1]GeralMinuta!B53,\"\")","v":1632}]
[{"$f":"IF( [1]GeralMinuta!A54 <>\"\", [1]GeralMinuta!A54,\"\")","v":"3 CA 477 MCM Vão 80m RGE"},{"$f":"IF( [1]GeralMinuta!B54 <>\"\", [1]GeralMinuta!B54,\"\")","v":2310}]
[{"$f":"IF( [1]GeralMinuta!A55 <>\"\", [1]GeralMinuta!A55,\"\")","v":""},{"$f":"IF( [1]GeralMinuta!B55 <>\"\", [1]GeralMinuta!B55,\"\")","v":""}]
[{"$f":"IF( [1]GeralMinuta!A56 <>\"\", [1]GeralMinuta!A56,\"\")","v":"3 CAA 04 AWG Vão 40m "},{"$f":"IF( [1]GeralMinuta!B56 <>\"\", [1]GeralMinuta!B56,\"\")","v":189}]
[{"$f":"IF( [1]GeralMinuta!A57 <>\"\", [1]GeralMinuta!A57,\"\")","v":"3 CAA 02 AWG Vão 40m "},{"$f":"IF( [1]GeralMinuta!B57 <>\"\", [1]GeralMinuta!B57,\"\")","v":300}]
[{"$f":"IF( [1]GeralMinuta!A58 <>\"\", [1]GeralMinuta!A58,\"\")","v":"3 CAA 1/0 AWG Vão 40m "},{"$f":"IF( [1]GeralMinuta!B58 <>\"\", [1]GeralMinuta!B58,\"\")","v":480}]
[{"$f":"IF( [1]GeralMinuta!A59 <>\"\", [1]GeralMinuta!A59,\"\")","v":"3 CAA 2/0 AWG Vão 40m "},{"$f":"IF( [1]GeralMinuta!B59 <>\"\", [1]GeralMinuta!B59,\"\")","v":603}]
[{"$f":"IF( [1]GeralMinuta!A60 <>\"\", [1]GeralMinuta!A60,\"\")","v":"3 CAA 4/0 AWG Vão 40m "},{"$f":"IF( [1]GeralMinuta!B60 <>\"\", [1]GeralMinuta!B60,\"\")","v":960}]
[{"$f":"IF( [1]GeralMinuta!A61 <>\"\", [1]GeralMinuta!A61,\"\")","v":""},{"$f":"IF( [1]GeralMinuta!B61 <>\"\", [1]GeralMinuta!B61,\"\")","v":""}]
[{"$f":"IF( [1]GeralMinuta!A62 <>\"\", [1]GeralMinuta!A62,\"\")","v":"3 CAA 04 AWG Vão 40m RGE"},{"$f":"IF( [1]GeralMinuta!B62 <>\"\", [1]GeralMinuta!B62,\"\")","v":225}]
[{"$f":"IF( [1]GeralMinuta!A63 <>\"\", [1]GeralMinuta!A63,\"\")","v":"3 CAA 02 AWG Vão 40m RGE"},{"$f":"IF( [1]GeralMinuta!B63 <>\"\", [1]GeralMinuta!B63,\"\")","v":357}]
[{"$f":"IF( [1]GeralMinuta!A64 <>\"\", [1]GeralMinuta!A64,\"\")","v":"3 CAA 1/0 AWG Vão 40m RGE"},{"$f":"IF( [1]GeralMinuta!B64 <>\"\", [1]GeralMinuta!B64,\"\")","v":570}]
[{"$f":"IF( [1]GeralMinuta!A65 <>\"\", [1]GeralMinuta!A65,\"\")","v":"3 CAA 2/0 AWG Vão 40m RGE"},{"$f":"IF( [1]GeralMinuta!B65 <>\"\", [1]GeralMinuta!B65,\"\")","v":720}]
[{"$f":"IF( [1]GeralMinuta!A66 <>\"\", [1]GeralMinuta!A66,\"\")","v":"3 CAA 4/0 AWG Vão 40m RGE"},{"$f":"IF( [1]GeralMinuta!B66 <>\"\", [1]GeralMinuta!B66,\"\")","v":1143}]
[{"$f":"IF( [1]GeralMinuta!A67 <>\"\", [1]GeralMinuta!A67,\"\")","v":""},{"$f":"IF( [1]GeralMinuta!B67 <>\"\", [1]GeralMinuta!B67,\"\")","v":""}]
[{"$f":"IF( [1]GeralMinuta!A68 <>\"\", [1]GeralMinuta!A68,\"\")","v":"3 CAA 04 AWG Vão 80m "},{"$f":"IF( [1]GeralMinuta!B68 <>\"\", [1]GeralMinuta!B68,\"\")","v":405}]
[{"$f":"IF( [1]GeralMinuta!A69 <>\"\", [1]GeralMinuta!A69,\"\")","v":"3 CAA 02 AWG Vão 80m "},{"$f":"IF( [1]GeralMinuta!B69 <>\"\", [1]GeralMinuta!B69,\"\")","v":573}]
[{"$f":"IF( [1]GeralMinuta!A70 <>\"\", [1]GeralMinuta!A70,\"\")","v":"3 CAA 1/0 AWG Vão 80m "},{"$f":"IF( [1]GeralMinuta!B70 <>\"\", [1]GeralMinuta!B70,\"\")","v":825}]
[{"$f":"IF( [1]GeralMinuta!A71 <>\"\", [1]GeralMinuta!A71,\"\")","v":"3 CAA 2/0 AWG Vão 80m "},{"$f":"IF( [1]GeralMinuta!B71 <>\"\", [1]GeralMinuta!B71,\"\")","v":1038}]
[{"$f":"IF( [1]GeralMinuta!A72 <>\"\", [1]GeralMinuta!A72,\"\")","v":"3 CAA 4/0 AWG Vão 80m "},{"$f":"IF( [1]GeralMinuta!B72 <>\"\", [1]GeralMinuta!B72,\"\")","v":1653}]
[{"$f":"IF( [1]GeralMinuta!A73 <>\"\", [1]GeralMinuta!A73,\"\")","v":"3 CAA 336,4 MCM Vão 80m "},{"$f":"IF( [1]GeralMinuta!B73 <>\"\", [1]GeralMinuta!B73,\"\")","v":2628}]
[{"$f":"IF( [1]GeralMinuta!A74 <>\"\", [1]GeralMinuta!A74,\"\")","v":""},{"$f":"IF( [1]GeralMinuta!B74 <>\"\", [1]GeralMinuta!B74,\"\")","v":""}]
[{"$f":"IF( [1]GeralMinuta!A75 <>\"\", [1]GeralMinuta!A75,\"\")","v":"3 CAA 04 AWG Vão 80m RGE"},{"$f":"IF( [1]GeralMinuta!B75 <>\"\", [1]GeralMinuta!B75,\"\")","v":405}]
[{"$f":"IF( [1]GeralMinuta!A76 <>\"\", [1]GeralMinuta!A76,\"\")","v":"3 CAA 02 AWG Vão 80m RGE"},{"$f":"IF( [1]GeralMinuta!B76 <>\"\", [1]GeralMinuta!B76,\"\")","v":576}]
[{"$f":"IF( [1]GeralMinuta!A77 <>\"\", [1]GeralMinuta!A77,\"\")","v":"3 CAA 1/0 AWG Vão 80m RGE"},{"$f":"IF( [1]GeralMinuta!B77 <>\"\", [1]GeralMinuta!B77,\"\")","v":915}]
[{"$f":"IF( [1]GeralMinuta!A78 <>\"\", [1]GeralMinuta!A78,\"\")","v":"3 CAA 2/0 AWG Vão 80m RGE"},{"$f":"IF( [1]GeralMinuta!B78 <>\"\", [1]GeralMinuta!B78,\"\")","v":1152}]
[{"$f":"IF( [1]GeralMinuta!A79 <>\"\", [1]GeralMinuta!A79,\"\")","v":"3 CAA 4/0 AWG Vão 80m RGE"},{"$f":"IF( [1]GeralMinuta!B79 <>\"\", [1]GeralMinuta!B79,\"\")","v":1833}]
[{"$f":"IF( [1]GeralMinuta!A80 <>\"\", [1]GeralMinuta!A80,\"\")","v":"3 CAA 336,4 MCM Vão 80m RGE"},{"$f":"IF( [1]GeralMinuta!B80 <>\"\", [1]GeralMinuta!B80,\"\")","v":2916}]
[{"$f":"IF( [1]GeralMinuta!A81 <>\"\", [1]GeralMinuta!A81,\"\")","v":""},{"$f":"IF( [1]GeralMinuta!B81 <>\"\", [1]GeralMinuta!B81,\"\")","v":""}]
[{"$f":"IF( [1]GeralMinuta!A82 <>\"\", [1]GeralMinuta!A82,\"\")","v":"3 CAA 04 AWG Vão 120m "},{"$f":"IF( [1]GeralMinuta!B82 <>\"\", [1]GeralMinuta!B82,\"\")","v":525}]
[{"$f":"IF( [1]GeralMinuta!A83 <>\"\", [1]GeralMinuta!A83,\"\")","v":"3 CAA 02 AWG Vão 120m "},{"$f":"IF( [1]GeralMinuta!B83 <>\"\", [1]GeralMinuta!B83,\"\")","v":741}]
[{"$f":"IF( [1]GeralMinuta!A84 <>\"\", [1]GeralMinuta!A84,\"\")","v":"3 CAA 1/0 AWG Vão 120m "},{"$f":"IF( [1]GeralMinuta!B84 <>\"\", [1]GeralMinuta!B84,\"\")","v":1065}]
[{"$f":"IF( [1]GeralMinuta!A85 <>\"\", [1]GeralMinuta!A85,\"\")","v":"3 CAA 2/0 AWG Vão 120m "},{"$f":"IF( [1]GeralMinuta!B85 <>\"\", [1]GeralMinuta!B85,\"\")","v":1284}]
[{"$f":"IF( [1]GeralMinuta!A86 <>\"\", [1]GeralMinuta!A86,\"\")","v":"3 CAA 4/0 AWG Vão 120m "},{"$f":"IF( [1]GeralMinuta!B86 <>\"\", [1]GeralMinuta!B86,\"\")","v":1956}]
[{"$f":"IF( [1]GeralMinuta!A87 <>\"\", [1]GeralMinuta!A87,\"\")","v":"3 CAA 336,4 MCM Vão 120m "},{"$f":"IF( [1]GeralMinuta!B87 <>\"\", [1]GeralMinuta!B87,\"\")","v":3105}]
[{"$f":"IF( [1]GeralMinuta!A88 <>\"\", [1]GeralMinuta!A88,\"\")","v":""},{"$f":"IF( [1]GeralMinuta!B88 <>\"\", [1]GeralMinuta!B88,\"\")","v":""}]
[{"$f":"IF( [1]GeralMinuta!A89 <>\"\", [1]GeralMinuta!A89,\"\")","v":"3 CAA 04 AWG Vão 120m RGE"},{"$f":"IF( [1]GeralMinuta!B89 <>\"\", [1]GeralMinuta!B89,\"\")","v":525}]
[{"$f":"IF( [1]GeralMinuta!A90 <>\"\", [1]GeralMinuta!A90,\"\")","v":"3 CAA 02 AWG Vão 120m RGE"},{"$f":"IF( [1]GeralMinuta!B90 <>\"\", [1]GeralMinuta!B90,\"\")","v":741}]
[{"$f":"IF( [1]GeralMinuta!A91 <>\"\", [1]GeralMinuta!A91,\"\")","v":"3 CAA 1/0 AWG Vão 120m RGE"},{"$f":"IF( [1]GeralMinuta!B91 <>\"\", [1]GeralMinuta!B91,\"\")","v":1065}]
[{"$f":"IF( [1]GeralMinuta!A92 <>\"\", [1]GeralMinuta!A92,\"\")","v":"3 CAA 2/0 AWG Vão 120m RGE"},{"$f":"IF( [1]GeralMinuta!B92 <>\"\", [1]GeralMinuta!B92,\"\")","v":1329}]
[{"$f":"IF( [1]GeralMinuta!A93 <>\"\", [1]GeralMinuta!A93,\"\")","v":"3 CAA 4/0 AWG Vão 120m RGE"},{"$f":"IF( [1]GeralMinuta!B93 <>\"\", [1]GeralMinuta!B93,\"\")","v":2115}]
[{"$f":"IF( [1]GeralMinuta!A94 <>\"\", [1]GeralMinuta!A94,\"\")","v":"3 CAA 336,4 MCM Vão 120m RGE"},{"$f":"IF( [1]GeralMinuta!B94 <>\"\", [1]GeralMinuta!B94,\"\")","v":3360}]
[{"$f":"IF( [1]GeralMinuta!A95 <>\"\", [1]GeralMinuta!A95,\"\")","v":""},{"$f":"IF( [1]GeralMinuta!B95 <>\"\", [1]GeralMinuta!B95,\"\")","v":""}]
[{"$f":"IF( [1]GeralMinuta!A96 <>\"\", [1]GeralMinuta!A96,\"\")","v":"3 15kv 240 mm² Vão 35m  "},{"$f":"IF( [1]GeralMinuta!B96 <>\"\", [1]GeralMinuta!B96,\"\")","v":723}]
[{"$f":"IF( [1]GeralMinuta!A97 <>\"\", [1]GeralMinuta!A97,\"\")","v":"3 25kv 240 mm² Vão 35m  "},{"$f":"IF( [1]GeralMinuta!B97 <>\"\", [1]GeralMinuta!B97,\"\")","v":825}]
[{"$f":"IF( [1]GeralMinuta!A98 <>\"\", [1]GeralMinuta!A98,\"\")","v":"3 35kv 240 mm² Vão 35m  "},{"$f":"IF( [1]GeralMinuta!B98 <>\"\", [1]GeralMinuta!B98,\"\")","v":966}]
[{"$f":"IF( [1]GeralMinuta!A99 <>\"\", [1]GeralMinuta!A99,\"\")","v":""},{"$f":"IF( [1]GeralMinuta!B99 <>\"\", [1]GeralMinuta!B99,\"\")","v":""}]
[{"$f":"IF( [1]GeralMinuta!A100 <>\"\", [1]GeralMinuta!A100,\"\")","v":"3 15kv 240 mm² Vão 35m  RGE"},{"$f":"IF( [1]GeralMinuta!B100 <>\"\", [1]GeralMinuta!B100,\"\")","v":743}]
[{"$f":"IF( [1]GeralMinuta!A101 <>\"\", [1]GeralMinuta!A101,\"\")","v":"3 25kv 240 mm² Vão 35m  RGE"},{"$f":"IF( [1]GeralMinuta!B101 <>\"\", [1]GeralMinuta!B101,\"\")","v":849}]
[{"$f":"IF( [1]GeralMinuta!A102 <>\"\", [1]GeralMinuta!A102,\"\")","v":"3 35kv 240 mm² Vão 35m  RGE"},{"$f":"IF( [1]GeralMinuta!B102 <>\"\", [1]GeralMinuta!B102,\"\")","v":993}]
[{"$f":"IF( [1]GeralMinuta!A103 <>\"\", [1]GeralMinuta!A103,\"\")","v":""},{"$f":"IF( [1]GeralMinuta!B103 <>\"\", [1]GeralMinuta!B103,\"\")","v":""}]
[{"$f":"IF( [1]GeralMinuta!A104 <>\"\", [1]GeralMinuta!A104,\"\")","v":"3 CU 06 AWG Vão 35m  "},{"$f":"IF( [1]GeralMinuta!B104 <>\"\", [1]GeralMinuta!B104,\"\")","v":168}]
[{"$f":"IF( [1]GeralMinuta!A105 <>\"\", [1]GeralMinuta!A105,\"\")","v":"3 CU 02 AWG Vão 35m  "},{"$f":"IF( [1]GeralMinuta!B105 <>\"\", [1]GeralMinuta!B105,\"\")","v":423}]
[{"$f":"IF( [1]GeralMinuta!A106 <>\"\", [1]GeralMinuta!A106,\"\")","v":"3 CU 1/0 AWG Vão 35m  "},{"$f":"IF( [1]GeralMinuta!B106 <>\"\", [1]GeralMinuta!B106,\"\")","v":624}]
[{"$f":"IF( [1]GeralMinuta!A107 <>\"\", [1]GeralMinuta!A107,\"\")","v":"3 CU 2/0 AWG Vão 35m  "},{"$f":"IF( [1]GeralMinuta!B107 <>\"\", [1]GeralMinuta!B107,\"\")","v":771}]
[{"$f":"IF( [1]GeralMinuta!A108 <>\"\", [1]GeralMinuta!A108,\"\")","v":"3 CU 4/0 AWG Vão 35m  "},{"$f":"IF( [1]GeralMinuta!B108 <>\"\", [1]GeralMinuta!B108,\"\")","v":1188}]
[{"$f":"IF( [1]GeralMinuta!A109 <>\"\", [1]GeralMinuta!A109,\"\")","v":""},{"$f":"IF( [1]GeralMinuta!B109 <>\"\", [1]GeralMinuta!B109,\"\")","v":""}]
[{"$f":"IF( [1]GeralMinuta!A110 <>\"\", [1]GeralMinuta!A110,\"\")","v":"3 CU 06 AWG Vão 35m  RGE"},{"$f":"IF( [1]GeralMinuta!B110 <>\"\", [1]GeralMinuta!B110,\"\")","v":168}]
[{"$f":"IF( [1]GeralMinuta!A111 <>\"\", [1]GeralMinuta!A111,\"\")","v":"3 CU 02 AWG Vão 35m  RGE"},{"$f":"IF( [1]GeralMinuta!B111 <>\"\", [1]GeralMinuta!B111,\"\")","v":423}]
[{"$f":"IF( [1]GeralMinuta!A112 <>\"\", [1]GeralMinuta!A112,\"\")","v":"3 CU 1/0 AWG Vão 35m  RGE"},{"$f":"IF( [1]GeralMinuta!B112 <>\"\", [1]GeralMinuta!B112,\"\")","v":624}]
[{"$f":"IF( [1]GeralMinuta!A113 <>\"\", [1]GeralMinuta!A113,\"\")","v":"3 CU 2/0 AWG Vão 35m  RGE"},{"$f":"IF( [1]GeralMinuta!B113 <>\"\", [1]GeralMinuta!B113,\"\")","v":771}]
[{"$f":"IF( [1]GeralMinuta!A114 <>\"\", [1]GeralMinuta!A114,\"\")","v":"3 CU 4/0 AWG Vão 35m  RGE"},{"$f":"IF( [1]GeralMinuta!B114 <>\"\", [1]GeralMinuta!B114,\"\")","v":1188}]
[{"$f":"IF( [1]GeralMinuta!A115 <>\"\", [1]GeralMinuta!A115,\"\")","v":""},{"$f":"IF( [1]GeralMinuta!B115 <>\"\", [1]GeralMinuta!B115,\"\")","v":""}]
[{"$f":"IF( [1]GeralMinuta!A116 <>\"\", [1]GeralMinuta!A116,\"\")","v":"2 CA 02 AWG Vão 35m "},{"$f":"IF( [1]GeralMinuta!B116 <>\"\", [1]GeralMinuta!B116,\"\")","v":120}]
[{"$f":"IF( [1]GeralMinuta!A117 <>\"\", [1]GeralMinuta!A117,\"\")","v":"2 CA 1/0 AWG Vão 35m "},{"$f":"IF( [1]GeralMinuta!B117 <>\"\", [1]GeralMinuta!B117,\"\")","v":192}]
[{"$f":"IF( [1]GeralMinuta!A118 <>\"\", [1]GeralMinuta!A118,\"\")","v":"2 CA 2/0 AWG Vão 35m "},{"$f":"IF( [1]GeralMinuta!B118 <>\"\", [1]GeralMinuta!B118,\"\")","v":242}]
[{"$f":"IF( [1]GeralMinuta!A119 <>\"\", [1]GeralMinuta!A119,\"\")","v":"2 CA 4/0 AWG Vão 35m "},{"$f":"IF( [1]GeralMinuta!B119 <>\"\", [1]GeralMinuta!B119,\"\")","v":388}]
[{"$f":"IF( [1]GeralMinuta!A120 <>\"\", [1]GeralMinuta!A120,\"\")","v":"2 CA 336,4 MCM Vão 35m "},{"$f":"IF( [1]GeralMinuta!B120 <>\"\", [1]GeralMinuta!B120,\"\")","v":616}]
[{"$f":"IF( [1]GeralMinuta!A121 <>\"\", [1]GeralMinuta!A121,\"\")","v":"2 CA 477 MCM Vão 35m "},{"$f":"IF( [1]GeralMinuta!B121 <>\"\", [1]GeralMinuta!B121,\"\")","v":870}]
[{"$f":"IF( [1]GeralMinuta!A122 <>\"\", [1]GeralMinuta!A122,\"\")","v":""},{"$f":"IF( [1]GeralMinuta!B122 <>\"\", [1]GeralMinuta!B122,\"\")","v":""}]
[{"$f":"IF( [1]GeralMinuta!A123 <>\"\", [1]GeralMinuta!A123,\"\")","v":"2 CA 02 AWG Vão 35m RGE"},{"$f":"IF( [1]GeralMinuta!B123 <>\"\", [1]GeralMinuta!B123,\"\")","v":150}]
[{"$f":"IF( [1]GeralMinuta!A124 <>\"\", [1]GeralMinuta!A124,\"\")","v":"2 CA 1/0 AWG Vão 35m RGE"},{"$f":"IF( [1]GeralMinuta!B124 <>\"\", [1]GeralMinuta!B124,\"\")","v":1546}]
[{"$f":"IF( [1]GeralMinuta!A125 <>\"\", [1]GeralMinuta!A125,\"\")","v":"2 CA 2/0 AWG Vão 35m RGE"},{"$f":"IF( [1]GeralMinuta!B125 <>\"\", [1]GeralMinuta!B125,\"\")","v":300}]
[{"$f":"IF( [1]GeralMinuta!A126 <>\"\", [1]GeralMinuta!A126,\"\")","v":"2 CA 4/0 AWG Vão 35m RGE"},{"$f":"IF( [1]GeralMinuta!B126 <>\"\", [1]GeralMinuta!B126,\"\")","v":480}]
[{"$f":"IF( [1]GeralMinuta!A127 <>\"\", [1]GeralMinuta!A127,\"\")","v":"2 CA 336,4 MCM Vão 35m RGE"},{"$f":"IF( [1]GeralMinuta!B127 <>\"\", [1]GeralMinuta!B127,\"\")","v":762}]
[{"$f":"IF( [1]GeralMinuta!A128 <>\"\", [1]GeralMinuta!A128,\"\")","v":"2 CA 477 MCM Vão 35m RGE"},{"$f":"IF( [1]GeralMinuta!B128 <>\"\", [1]GeralMinuta!B128,\"\")","v":1078}]
[{"$f":"IF( [1]GeralMinuta!A129 <>\"\", [1]GeralMinuta!A129,\"\")","v":""},{"$f":"IF( [1]GeralMinuta!B129 <>\"\", [1]GeralMinuta!B129,\"\")","v":""}]
[{"$f":"IF( [1]GeralMinuta!A130 <>\"\", [1]GeralMinuta!A130,\"\")","v":"2 CA 02 AWG Vão 80m "},{"$f":"IF( [1]GeralMinuta!B130 <>\"\", [1]GeralMinuta!B130,\"\")","v":266}]
[{"$f":"IF( [1]GeralMinuta!A131 <>\"\", [1]GeralMinuta!A131,\"\")","v":"2 CA 1/0 AWG Vão 80m "},{"$f":"IF( [1]GeralMinuta!B131 <>\"\", [1]GeralMinuta!B131,\"\")","v":372}]
[{"$f":"IF( [1]GeralMinuta!A132 <>\"\", [1]GeralMinuta!A132,\"\")","v":"2 CA 2/0 AWG Vão 80m "},{"$f":"IF( [1]GeralMinuta!B132 <>\"\", [1]GeralMinuta!B132,\"\")","v":440}]
[{"$f":"IF( [1]GeralMinuta!A133 <>\"\", [1]GeralMinuta!A133,\"\")","v":"2 CA 4/0 AWG Vão 80m "},{"$f":"IF( [1]GeralMinuta!B133 <>\"\", [1]GeralMinuta!B133,\"\")","v":630}]
[{"$f":"IF( [1]GeralMinuta!A134 <>\"\", [1]GeralMinuta!A134,\"\")","v":"2 CA 336,4 MCM Vão 80m "},{"$f":"IF( [1]GeralMinuta!B134 <>\"\", [1]GeralMinuta!B134,\"\")","v":966}]
[{"$f":"IF( [1]GeralMinuta!A135 <>\"\", [1]GeralMinuta!A135,\"\")","v":"2 CA 477 MCM Vão 80m "},{"$f":"IF( [1]GeralMinuta!B135 <>\"\", [1]GeralMinuta!B135,\"\")","v":1366}]
[{"$f":"IF( [1]GeralMinuta!A136 <>\"\", [1]GeralMinuta!A136,\"\")","v":""},{"$f":"IF( [1]GeralMinuta!B136 <>\"\", [1]GeralMinuta!B136,\"\")","v":""}]
[{"$f":"IF( [1]GeralMinuta!A137 <>\"\", [1]GeralMinuta!A137,\"\")","v":"2 CA 02 AWG Vão 80m RGE"},{"$f":"IF( [1]GeralMinuta!B137 <>\"\", [1]GeralMinuta!B137,\"\")","v":266}]
[{"$f":"IF( [1]GeralMinuta!A138 <>\"\", [1]GeralMinuta!A138,\"\")","v":"2 CA 1/0 AWG Vão 80m RGE"},{"$f":"IF( [1]GeralMinuta!B138 <>\"\", [1]GeralMinuta!B138,\"\")","v":372}]
[{"$f":"IF( [1]GeralMinuta!A139 <>\"\", [1]GeralMinuta!A139,\"\")","v":"2 CA 2/0 AWG Vão 80m RGE"},{"$f":"IF( [1]GeralMinuta!B139 <>\"\", [1]GeralMinuta!B139,\"\")","v":440}]
[{"$f":"IF( [1]GeralMinuta!A140 <>\"\", [1]GeralMinuta!A140,\"\")","v":"2 CA 4/0 AWG Vão 80m RGE"},{"$f":"IF( [1]GeralMinuta!B140 <>\"\", [1]GeralMinuta!B140,\"\")","v":686}]
[{"$f":"IF( [1]GeralMinuta!A141 <>\"\", [1]GeralMinuta!A141,\"\")","v":"2 CA 336,4 MCM Vão 80m RGE"},{"$f":"IF( [1]GeralMinuta!B141 <>\"\", [1]GeralMinuta!B141,\"\")","v":1088}]
[{"$f":"IF( [1]GeralMinuta!A142 <>\"\", [1]GeralMinuta!A142,\"\")","v":"2 CA 477 MCM Vão 80m RGE"},{"$f":"IF( [1]GeralMinuta!B142 <>\"\", [1]GeralMinuta!B142,\"\")","v":1540}]
[{"$f":"IF( [1]GeralMinuta!A143 <>\"\", [1]GeralMinuta!A143,\"\")","v":""},{"$f":"IF( [1]GeralMinuta!B143 <>\"\", [1]GeralMinuta!B143,\"\")","v":""}]
[{"$f":"IF( [1]GeralMinuta!A144 <>\"\", [1]GeralMinuta!A144,\"\")","v":"2 CA 04 AWG Vão 40m "},{"$f":"IF( [1]GeralMinuta!B144 <>\"\", [1]GeralMinuta!B144,\"\")","v":126}]
[{"$f":"IF( [1]GeralMinuta!A145 <>\"\", [1]GeralMinuta!A145,\"\")","v":"2 CA 02 AWG Vão 40m "},{"$f":"IF( [1]GeralMinuta!B145 <>\"\", [1]GeralMinuta!B145,\"\")","v":200}]
[{"$f":"IF( [1]GeralMinuta!A146 <>\"\", [1]GeralMinuta!A146,\"\")","v":"2 CA 1/0 AWG Vão 40m "},{"$f":"IF( [1]GeralMinuta!B146 <>\"\", [1]GeralMinuta!B146,\"\")","v":320}]
[{"$f":"IF( [1]GeralMinuta!A147 <>\"\", [1]GeralMinuta!A147,\"\")","v":"2 CA 2/0 AWG Vão 40m "},{"$f":"IF( [1]GeralMinuta!B147 <>\"\", [1]GeralMinuta!B147,\"\")","v":402}]
[{"$f":"IF( [1]GeralMinuta!A148 <>\"\", [1]GeralMinuta!A148,\"\")","v":"2 CA 4/0 AWG Vão 40m "},{"$f":"IF( [1]GeralMinuta!B148 <>\"\", [1]GeralMinuta!B148,\"\")","v":640}]
[{"$f":"IF( [1]GeralMinuta!A149 <>\"\", [1]GeralMinuta!A149,\"\")","v":""},{"$f":"IF( [1]GeralMinuta!B149 <>\"\", [1]GeralMinuta!B149,\"\")","v":""}]
[{"$f":"IF( [1]GeralMinuta!A150 <>\"\", [1]GeralMinuta!A150,\"\")","v":"2 CAA 04 AWG Vão 40m RGE"},{"$f":"IF( [1]GeralMinuta!B150 <>\"\", [1]GeralMinuta!B150,\"\")","v":150}]
[{"$f":"IF( [1]GeralMinuta!A151 <>\"\", [1]GeralMinuta!A151,\"\")","v":"2 CAA 02 AWG Vão 40m RGE"},{"$f":"IF( [1]GeralMinuta!B151 <>\"\", [1]GeralMinuta!B151,\"\")","v":238}]
[{"$f":"IF( [1]GeralMinuta!A152 <>\"\", [1]GeralMinuta!A152,\"\")","v":"2 CAA 1/0 AWG Vão 40m RGE"},{"$f":"IF( [1]GeralMinuta!B152 <>\"\", [1]GeralMinuta!B152,\"\")","v":380}]
[{"$f":"IF( [1]GeralMinuta!A153 <>\"\", [1]GeralMinuta!A153,\"\")","v":"2 CAA 2/0 AWG Vão 40m RGE"},{"$f":"IF( [1]GeralMinuta!B153 <>\"\", [1]GeralMinuta!B153,\"\")","v":480}]
[{"$f":"IF( [1]GeralMinuta!A154 <>\"\", [1]GeralMinuta!A154,\"\")","v":"2 CAA 4/0 AWG Vão 40m RGE"},{"$f":"IF( [1]GeralMinuta!B154 <>\"\", [1]GeralMinuta!B154,\"\")","v":762}]
[{"$f":"IF( [1]GeralMinuta!A155 <>\"\", [1]GeralMinuta!A155,\"\")","v":""},{"$f":"IF( [1]GeralMinuta!B155 <>\"\", [1]GeralMinuta!B155,\"\")","v":""}]
[{"$f":"IF( [1]GeralMinuta!A156 <>\"\", [1]GeralMinuta!A156,\"\")","v":"2 CAA 04 AWG Vão 80m "},{"$f":"IF( [1]GeralMinuta!B156 <>\"\", [1]GeralMinuta!B156,\"\")","v":270}]
[{"$f":"IF( [1]GeralMinuta!A157 <>\"\", [1]GeralMinuta!A157,\"\")","v":"2 CAA 02 AWG Vão 80m "},{"$f":"IF( [1]GeralMinuta!B157 <>\"\", [1]GeralMinuta!B157,\"\")","v":382}]
[{"$f":"IF( [1]GeralMinuta!A158 <>\"\", [1]GeralMinuta!A158,\"\")","v":"2 CAA 1/0 AWG Vão 80m "},{"$f":"IF( [1]GeralMinuta!B158 <>\"\", [1]GeralMinuta!B158,\"\")","v":550}]
[{"$f":"IF( [1]GeralMinuta!A159 <>\"\", [1]GeralMinuta!A159,\"\")","v":"2 CAA 2/0 AWG Vão 80m "},{"$f":"IF( [1]GeralMinuta!B159 <>\"\", [1]GeralMinuta!B159,\"\")","v":692}]
[{"$f":"IF( [1]GeralMinuta!A160 <>\"\", [1]GeralMinuta!A160,\"\")","v":"2 CAA 4/0 AWG Vão 80m "},{"$f":"IF( [1]GeralMinuta!B160 <>\"\", [1]GeralMinuta!B160,\"\")","v":1102}]
[{"$f":"IF( [1]GeralMinuta!A161 <>\"\", [1]GeralMinuta!A161,\"\")","v":"2 CAA 336,4 MCM Vão 80m "},{"$f":"IF( [1]GeralMinuta!B161 <>\"\", [1]GeralMinuta!B161,\"\")","v":1752}]
[{"$f":"IF( [1]GeralMinuta!A162 <>\"\", [1]GeralMinuta!A162,\"\")","v":""},{"$f":"IF( [1]GeralMinuta!B162 <>\"\", [1]GeralMinuta!B162,\"\")","v":""}]
[{"$f":"IF( [1]GeralMinuta!A163 <>\"\", [1]GeralMinuta!A163,\"\")","v":"2 CAA 04 AWG Vão 80m RGE"},{"$f":"IF( [1]GeralMinuta!B163 <>\"\", [1]GeralMinuta!B163,\"\")","v":270}]
[{"$f":"IF( [1]GeralMinuta!A164 <>\"\", [1]GeralMinuta!A164,\"\")","v":"2 CAA 02 AWG Vão 80m RGE"},{"$f":"IF( [1]GeralMinuta!B164 <>\"\", [1]GeralMinuta!B164,\"\")","v":384}]
[{"$f":"IF( [1]GeralMinuta!A165 <>\"\", [1]GeralMinuta!A165,\"\")","v":"2 CAA 1/0 AWG Vão 80m RGE"},{"$f":"IF( [1]GeralMinuta!B165 <>\"\", [1]GeralMinuta!B165,\"\")","v":610}]
[{"$f":"IF( [1]GeralMinuta!A166 <>\"\", [1]GeralMinuta!A166,\"\")","v":"2 CAA 2/0 AWG Vão 80m RGE"},{"$f":"IF( [1]GeralMinuta!B166 <>\"\", [1]GeralMinuta!B166,\"\")","v":768}]
[{"$f":"IF( [1]GeralMinuta!A167 <>\"\", [1]GeralMinuta!A167,\"\")","v":"2 CAA 4/0 AWG Vão 80m RGE"},{"$f":"IF( [1]GeralMinuta!B167 <>\"\", [1]GeralMinuta!B167,\"\")","v":1222}]
[{"$f":"IF( [1]GeralMinuta!A168 <>\"\", [1]GeralMinuta!A168,\"\")","v":"2 CAA 336,4 MCM Vão 80m RGE"},{"$f":"IF( [1]GeralMinuta!B168 <>\"\", [1]GeralMinuta!B168,\"\")","v":1944}]
[{"$f":"IF( [1]GeralMinuta!A169 <>\"\", [1]GeralMinuta!A169,\"\")","v":""},{"$f":"IF( [1]GeralMinuta!B169 <>\"\", [1]GeralMinuta!B169,\"\")","v":""}]
[{"$f":"IF( [1]GeralMinuta!A170 <>\"\", [1]GeralMinuta!A170,\"\")","v":"2 CAA 04 AWG Vão 120m "},{"$f":"IF( [1]GeralMinuta!B170 <>\"\", [1]GeralMinuta!B170,\"\")","v":350}]
[{"$f":"IF( [1]GeralMinuta!A171 <>\"\", [1]GeralMinuta!A171,\"\")","v":"2 CAA 02 AWG Vão 120m "},{"$f":"IF( [1]GeralMinuta!B171 <>\"\", [1]GeralMinuta!B171,\"\")","v":494}]
[{"$f":"IF( [1]GeralMinuta!A172 <>\"\", [1]GeralMinuta!A172,\"\")","v":"2 CAA 1/0 AWG Vão 120m "},{"$f":"IF( [1]GeralMinuta!B172 <>\"\", [1]GeralMinuta!B172,\"\")","v":710}]
[{"$f":"IF( [1]GeralMinuta!A173 <>\"\", [1]GeralMinuta!A173,\"\")","v":"2 CAA 2/0 AWG Vão 120m "},{"$f":"IF( [1]GeralMinuta!B173 <>\"\", [1]GeralMinuta!B173,\"\")","v":856}]
[{"$f":"IF( [1]GeralMinuta!A174 <>\"\", [1]GeralMinuta!A174,\"\")","v":"2 CAA 4/0 AWG Vão 120m "},{"$f":"IF( [1]GeralMinuta!B174 <>\"\", [1]GeralMinuta!B174,\"\")","v":1304}]
[{"$f":"IF( [1]GeralMinuta!A175 <>\"\", [1]GeralMinuta!A175,\"\")","v":"2 CAA 336,4 MCM Vão 120m "},{"$f":"IF( [1]GeralMinuta!B175 <>\"\", [1]GeralMinuta!B175,\"\")","v":2070}]
[{"$f":"IF( [1]GeralMinuta!A176 <>\"\", [1]GeralMinuta!A176,\"\")","v":""},{"$f":"IF( [1]GeralMinuta!B176 <>\"\", [1]GeralMinuta!B176,\"\")","v":""}]
[{"$f":"IF( [1]GeralMinuta!A177 <>\"\", [1]GeralMinuta!A177,\"\")","v":"2 CAA 04 AWG Vão 120m RGE"},{"$f":"IF( [1]GeralMinuta!B177 <>\"\", [1]GeralMinuta!B177,\"\")","v":350}]
[{"$f":"IF( [1]GeralMinuta!A178 <>\"\", [1]GeralMinuta!A178,\"\")","v":"2 CAA 02 AWG Vão 120m RGE"},{"$f":"IF( [1]GeralMinuta!B178 <>\"\", [1]GeralMinuta!B178,\"\")","v":494}]
[{"$f":"IF( [1]GeralMinuta!A179 <>\"\", [1]GeralMinuta!A179,\"\")","v":"2 CAA 1/0 AWG Vão 120m RGE"},{"$f":"IF( [1]GeralMinuta!B179 <>\"\", [1]GeralMinuta!B179,\"\")","v":710}]
[{"$f":"IF( [1]GeralMinuta!A180 <>\"\", [1]GeralMinuta!A180,\"\")","v":"2 CAA 2/0 AWG Vão 120m RGE"},{"$f":"IF( [1]GeralMinuta!B180 <>\"\", [1]GeralMinuta!B180,\"\")","v":886}]
[{"$f":"IF( [1]GeralMinuta!A181 <>\"\", [1]GeralMinuta!A181,\"\")","v":"2 CAA 4/0 AWG Vão 120m RGE"},{"$f":"IF( [1]GeralMinuta!B181 <>\"\", [1]GeralMinuta!B181,\"\")","v":1410}]
[{"$f":"IF( [1]GeralMinuta!A182 <>\"\", [1]GeralMinuta!A182,\"\")","v":"2 CAA 336,4 MCM Vão 120m RGE"},{"$f":"IF( [1]GeralMinuta!B182 <>\"\", [1]GeralMinuta!B182,\"\")","v":2240}]
[{"$f":"IF( [1]GeralMinuta!A183 <>\"\", [1]GeralMinuta!A183,\"\")","v":""},{"$f":"IF( [1]GeralMinuta!B183 <>\"\", [1]GeralMinuta!B183,\"\")","v":""}]
[{"$f":"IF( [1]GeralMinuta!A184 <>\"\", [1]GeralMinuta!A184,\"\")","v":"2 CU 06 AWG Vão 35m  "},{"$f":"IF( [1]GeralMinuta!B184 <>\"\", [1]GeralMinuta!B184,\"\")","v":112}]
[{"$f":"IF( [1]GeralMinuta!A185 <>\"\", [1]GeralMinuta!A185,\"\")","v":"2 CU 02 AWG Vão 35m  "},{"$f":"IF( [1]GeralMinuta!B185 <>\"\", [1]GeralMinuta!B185,\"\")","v":282}]
[{"$f":"IF( [1]GeralMinuta!A186 <>\"\", [1]GeralMinuta!A186,\"\")","v":"2 CU 1/0 AWG Vão 35m  "},{"$f":"IF( [1]GeralMinuta!B186 <>\"\", [1]GeralMinuta!B186,\"\")","v":416}]
[{"$f":"IF( [1]GeralMinuta!A187 <>\"\", [1]GeralMinuta!A187,\"\")","v":"2 CU 2/0 AWG Vão 35m  "},{"$f":"IF( [1]GeralMinuta!B187 <>\"\", [1]GeralMinuta!B187,\"\")","v":514}]
[{"$f":"IF( [1]GeralMinuta!A188 <>\"\", [1]GeralMinuta!A188,\"\")","v":"2 CU 4/0 AWG Vão 35m  "},{"$f":"IF( [1]GeralMinuta!B188 <>\"\", [1]GeralMinuta!B188,\"\")","v":792}]
[{"$f":"IF( [1]GeralMinuta!A189 <>\"\", [1]GeralMinuta!A189,\"\")","v":""},{"$f":"IF( [1]GeralMinuta!B189 <>\"\", [1]GeralMinuta!B189,\"\")","v":""}]
[{"$f":"IF( [1]GeralMinuta!A190 <>\"\", [1]GeralMinuta!A190,\"\")","v":"1 CU 06 AWG Vão 35m  RGE"},{"$f":"IF( [1]GeralMinuta!B190 <>\"\", [1]GeralMinuta!B190,\"\")","v":56}]
[{"$f":"IF( [1]GeralMinuta!A191 <>\"\", [1]GeralMinuta!A191,\"\")","v":"1 CU 02 AWG Vão 35m  RGE"},{"$f":"IF( [1]GeralMinuta!B191 <>\"\", [1]GeralMinuta!B191,\"\")","v":141}]
[{"$f":"IF( [1]GeralMinuta!A192 <>\"\", [1]GeralMinuta!A192,\"\")","v":"1 CU 1/0 AWG Vão 35m  RGE"},{"$f":"IF( [1]GeralMinuta!B192 <>\"\", [1]GeralMinuta!B192,\"\")","v":208}]
[{"$f":"IF( [1]GeralMinuta!A193 <>\"\", [1]GeralMinuta!A193,\"\")","v":"1 CU 2/0 AWG Vão 35m  RGE"},{"$f":"IF( [1]GeralMinuta!B193 <>\"\", [1]GeralMinuta!B193,\"\")","v":257}]
[{"$f":"IF( [1]GeralMinuta!A194 <>\"\", [1]GeralMinuta!A194,\"\")","v":"1 CU 4/0 AWG Vão 35m  RGE"},{"$f":"IF( [1]GeralMinuta!B194 <>\"\", [1]GeralMinuta!B194,\"\")","v":396}]
[{"$f":"IF( [1]GeralMinuta!A195 <>\"\", [1]GeralMinuta!A195,\"\")","v":""},{"$f":"IF( [1]GeralMinuta!B195 <>\"\", [1]GeralMinuta!B195,\"\")","v":""}]
[{"$f":"IF( [1]GeralMinuta!A196 <>\"\", [1]GeralMinuta!A196,\"\")","v":"1 CA 02 AWG Vão 35m "},{"$f":"IF( [1]GeralMinuta!B196 <>\"\", [1]GeralMinuta!B196,\"\")","v":60}]
[{"$f":"IF( [1]GeralMinuta!A197 <>\"\", [1]GeralMinuta!A197,\"\")","v":"1 CA 1/0 AWG Vão 35m "},{"$f":"IF( [1]GeralMinuta!B197 <>\"\", [1]GeralMinuta!B197,\"\")","v":96}]
[{"$f":"IF( [1]GeralMinuta!A198 <>\"\", [1]GeralMinuta!A198,\"\")","v":"1 CA 2/0 AWG Vão 35m "},{"$f":"IF( [1]GeralMinuta!B198 <>\"\", [1]GeralMinuta!B198,\"\")","v":121}]
[{"$f":"IF( [1]GeralMinuta!A199 <>\"\", [1]GeralMinuta!A199,\"\")","v":"1 CA 4/0 AWG Vão 35m "},{"$f":"IF( [1]GeralMinuta!B199 <>\"\", [1]GeralMinuta!B199,\"\")","v":194}]
[{"$f":"IF( [1]GeralMinuta!A200 <>\"\", [1]GeralMinuta!A200,\"\")","v":"1 CA 336,4 MCM Vão 35m "},{"$f":"IF( [1]GeralMinuta!B200 <>\"\", [1]GeralMinuta!B200,\"\")","v":308}]
[{"$f":"IF( [1]GeralMinuta!A201 <>\"\", [1]GeralMinuta!A201,\"\")","v":"1 CA 477 MCM Vão 35m "},{"$f":"IF( [1]GeralMinuta!B201 <>\"\", [1]GeralMinuta!B201,\"\")","v":435}]
[{"$f":"IF( [1]GeralMinuta!A202 <>\"\", [1]GeralMinuta!A202,\"\")","v":""},{"$f":"IF( [1]GeralMinuta!B202 <>\"\", [1]GeralMinuta!B202,\"\")","v":""}]
[{"$f":"IF( [1]GeralMinuta!A203 <>\"\", [1]GeralMinuta!A203,\"\")","v":"1 CA 02 AWG Vão 35m RGE"},{"$f":"IF( [1]GeralMinuta!B203 <>\"\", [1]GeralMinuta!B203,\"\")","v":75}]
[{"$f":"IF( [1]GeralMinuta!A204 <>\"\", [1]GeralMinuta!A204,\"\")","v":"1 CA 1/0 AWG Vão 35m RGE"},{"$f":"IF( [1]GeralMinuta!B204 <>\"\", [1]GeralMinuta!B204,\"\")","v":119}]
[{"$f":"IF( [1]GeralMinuta!A205 <>\"\", [1]GeralMinuta!A205,\"\")","v":"1 CA 2/0 AWG Vão 35m RGE"},{"$f":"IF( [1]GeralMinuta!B205 <>\"\", [1]GeralMinuta!B205,\"\")","v":150}]
[{"$f":"IF( [1]GeralMinuta!A206 <>\"\", [1]GeralMinuta!A206,\"\")","v":"1 CA 4/0 AWG Vão 35m RGE"},{"$f":"IF( [1]GeralMinuta!B206 <>\"\", [1]GeralMinuta!B206,\"\")","v":240}]
[{"$f":"IF( [1]GeralMinuta!A207 <>\"\", [1]GeralMinuta!A207,\"\")","v":"1 CA 336,4 MCM Vão 35m RGE"},{"$f":"IF( [1]GeralMinuta!B207 <>\"\", [1]GeralMinuta!B207,\"\")","v":381}]
[{"$f":"IF( [1]GeralMinuta!A208 <>\"\", [1]GeralMinuta!A208,\"\")","v":"1 CA 477 MCM Vão 35m RGE"},{"$f":"IF( [1]GeralMinuta!B208 <>\"\", [1]GeralMinuta!B208,\"\")","v":539}]
[{"$f":"IF( [1]GeralMinuta!A209 <>\"\", [1]GeralMinuta!A209,\"\")","v":""},{"$f":"IF( [1]GeralMinuta!B209 <>\"\", [1]GeralMinuta!B209,\"\")","v":""}]
[{"$f":"IF( [1]GeralMinuta!A210 <>\"\", [1]GeralMinuta!A210,\"\")","v":"1 CA 02 AWG Vão 80m "},{"$f":"IF( [1]GeralMinuta!B210 <>\"\", [1]GeralMinuta!B210,\"\")","v":133}]
[{"$f":"IF( [1]GeralMinuta!A211 <>\"\", [1]GeralMinuta!A211,\"\")","v":"1 CA 1/0 AWG Vão 80m "},{"$f":"IF( [1]GeralMinuta!B211 <>\"\", [1]GeralMinuta!B211,\"\")","v":186}]
[{"$f":"IF( [1]GeralMinuta!A212 <>\"\", [1]GeralMinuta!A212,\"\")","v":"1 CA 2/0 AWG Vão 80m "},{"$f":"IF( [1]GeralMinuta!B212 <>\"\", [1]GeralMinuta!B212,\"\")","v":220}]
[{"$f":"IF( [1]GeralMinuta!A213 <>\"\", [1]GeralMinuta!A213,\"\")","v":"1 CA 4/0 AWG Vão 80m "},{"$f":"IF( [1]GeralMinuta!B213 <>\"\", [1]GeralMinuta!B213,\"\")","v":315}]
[{"$f":"IF( [1]GeralMinuta!A214 <>\"\", [1]GeralMinuta!A214,\"\")","v":"1 CA 336,4 MCM Vão 80m "},{"$f":"IF( [1]GeralMinuta!B214 <>\"\", [1]GeralMinuta!B214,\"\")","v":483}]
[{"$f":"IF( [1]GeralMinuta!A215 <>\"\", [1]GeralMinuta!A215,\"\")","v":"1 CA 477 MCM Vão 80m "},{"$f":"IF( [1]GeralMinuta!B215 <>\"\", [1]GeralMinuta!B215,\"\")","v":683}]
[{"$f":"IF( [1]GeralMinuta!A216 <>\"\", [1]GeralMinuta!A216,\"\")","v":""},{"$f":"IF( [1]GeralMinuta!B216 <>\"\", [1]GeralMinuta!B216,\"\")","v":""}]
[{"$f":"IF( [1]GeralMinuta!A217 <>\"\", [1]GeralMinuta!A217,\"\")","v":"1 CA 02 AWG Vão 80m RGE"},{"$f":"IF( [1]GeralMinuta!B217 <>\"\", [1]GeralMinuta!B217,\"\")","v":133}]
[{"$f":"IF( [1]GeralMinuta!A218 <>\"\", [1]GeralMinuta!A218,\"\")","v":"1 CA 1/0 AWG Vão 80m RGE"},{"$f":"IF( [1]GeralMinuta!B218 <>\"\", [1]GeralMinuta!B218,\"\")","v":186}]
[{"$f":"IF( [1]GeralMinuta!A219 <>\"\", [1]GeralMinuta!A219,\"\")","v":"1 CA 2/0 AWG Vão 80m RGE"},{"$f":"IF( [1]GeralMinuta!B219 <>\"\", [1]GeralMinuta!B219,\"\")","v":220}]
[{"$f":"IF( [1]GeralMinuta!A220 <>\"\", [1]GeralMinuta!A220,\"\")","v":"1 CA 4/0 AWG Vão 80m RGE"},{"$f":"IF( [1]GeralMinuta!B220 <>\"\", [1]GeralMinuta!B220,\"\")","v":343}]
[{"$f":"IF( [1]GeralMinuta!A221 <>\"\", [1]GeralMinuta!A221,\"\")","v":"1 CA 336,4 MCM Vão 80m RGE"},{"$f":"IF( [1]GeralMinuta!B221 <>\"\", [1]GeralMinuta!B221,\"\")","v":544}]
[{"$f":"IF( [1]GeralMinuta!A222 <>\"\", [1]GeralMinuta!A222,\"\")","v":"1 CA 477 MCM Vão 80m RGE"},{"$f":"IF( [1]GeralMinuta!B222 <>\"\", [1]GeralMinuta!B222,\"\")","v":770}]
[{"$f":"IF( [1]GeralMinuta!A223 <>\"\", [1]GeralMinuta!A223,\"\")","v":""},{"$f":"IF( [1]GeralMinuta!B223 <>\"\", [1]GeralMinuta!B223,\"\")","v":""}]
[{"$f":"IF( [1]GeralMinuta!A224 <>\"\", [1]GeralMinuta!A224,\"\")","v":"1 CAA 04 AWG Vão 40m "},{"$f":"IF( [1]GeralMinuta!B224 <>\"\", [1]GeralMinuta!B224,\"\")","v":63}]
[{"$f":"IF( [1]GeralMinuta!A225 <>\"\", [1]GeralMinuta!A225,\"\")","v":"1 CAA 02 AWG Vão 40m "},{"$f":"IF( [1]GeralMinuta!B225 <>\"\", [1]GeralMinuta!B225,\"\")","v":100}]
[{"$f":"IF( [1]GeralMinuta!A226 <>\"\", [1]GeralMinuta!A226,\"\")","v":"1 CAA 1/0 AWG Vão 40m "},{"$f":"IF( [1]GeralMinuta!B226 <>\"\", [1]GeralMinuta!B226,\"\")","v":160}]
[{"$f":"IF( [1]GeralMinuta!A227 <>\"\", [1]GeralMinuta!A227,\"\")","v":"1 CAA 2/0 AWG Vão 40m "},{"$f":"IF( [1]GeralMinuta!B227 <>\"\", [1]GeralMinuta!B227,\"\")","v":201}]
[{"$f":"IF( [1]GeralMinuta!A228 <>\"\", [1]GeralMinuta!A228,\"\")","v":"1 CAA 4/0 AWG Vão 40m "},{"$f":"IF( [1]GeralMinuta!B228 <>\"\", [1]GeralMinuta!B228,\"\")","v":320}]
[{"$f":"IF( [1]GeralMinuta!A229 <>\"\", [1]GeralMinuta!A229,\"\")","v":""},{"$f":"IF( [1]GeralMinuta!B229 <>\"\", [1]GeralMinuta!B229,\"\")","v":""}]
[{"$f":"IF( [1]GeralMinuta!A230 <>\"\", [1]GeralMinuta!A230,\"\")","v":"1 CAA 04 AWG Vão 40m RGE"},{"$f":"IF( [1]GeralMinuta!B230 <>\"\", [1]GeralMinuta!B230,\"\")","v":75}]
[{"$f":"IF( [1]GeralMinuta!A231 <>\"\", [1]GeralMinuta!A231,\"\")","v":"1 CAA 02 AWG Vão 40m RGE"},{"$f":"IF( [1]GeralMinuta!B231 <>\"\", [1]GeralMinuta!B231,\"\")","v":119}]
[{"$f":"IF( [1]GeralMinuta!A232 <>\"\", [1]GeralMinuta!A232,\"\")","v":"1 CAA 1/0 AWG Vão 40m RGE"},{"$f":"IF( [1]GeralMinuta!B232 <>\"\", [1]GeralMinuta!B232,\"\")","v":190}]
[{"$f":"IF( [1]GeralMinuta!A233 <>\"\", [1]GeralMinuta!A233,\"\")","v":"1 CAA 2/0 AWG Vão 40m RGE"},{"$f":"IF( [1]GeralMinuta!B233 <>\"\", [1]GeralMinuta!B233,\"\")","v":240}]
[{"$f":"IF( [1]GeralMinuta!A234 <>\"\", [1]GeralMinuta!A234,\"\")","v":"1 CAA 4/0 AWG Vão 40m RGE"},{"$f":"IF( [1]GeralMinuta!B234 <>\"\", [1]GeralMinuta!B234,\"\")","v":381}]
[{"$f":"IF( [1]GeralMinuta!A235 <>\"\", [1]GeralMinuta!A235,\"\")","v":""},{"$f":"IF( [1]GeralMinuta!B235 <>\"\", [1]GeralMinuta!B235,\"\")","v":""}]
[{"$f":"IF( [1]GeralMinuta!A236 <>\"\", [1]GeralMinuta!A236,\"\")","v":"1 CAA 04 AWG Vão 80m "},{"$f":"IF( [1]GeralMinuta!B236 <>\"\", [1]GeralMinuta!B236,\"\")","v":135}]
[{"$f":"IF( [1]GeralMinuta!A237 <>\"\", [1]GeralMinuta!A237,\"\")","v":"1 CAA 02 AWG Vão 80m "},{"$f":"IF( [1]GeralMinuta!B237 <>\"\", [1]GeralMinuta!B237,\"\")","v":191}]
[{"$f":"IF( [1]GeralMinuta!A238 <>\"\", [1]GeralMinuta!A238,\"\")","v":"1 CAA 1/0 AWG Vão 80m "},{"$f":"IF( [1]GeralMinuta!B238 <>\"\", [1]GeralMinuta!B238,\"\")","v":275}]
[{"$f":"IF( [1]GeralMinuta!A239 <>\"\", [1]GeralMinuta!A239,\"\")","v":"1 CAA 2/0 AWG Vão 80m "},{"$f":"IF( [1]GeralMinuta!B239 <>\"\", [1]GeralMinuta!B239,\"\")","v":346}]
[{"$f":"IF( [1]GeralMinuta!A240 <>\"\", [1]GeralMinuta!A240,\"\")","v":"1 CAA 4/0 AWG Vão 80m "},{"$f":"IF( [1]GeralMinuta!B240 <>\"\", [1]GeralMinuta!B240,\"\")","v":551}]
[{"$f":"IF( [1]GeralMinuta!A241 <>\"\", [1]GeralMinuta!A241,\"\")","v":"1 CAA 336,4 MCM Vão 80m "},{"$f":"IF( [1]GeralMinuta!B241 <>\"\", [1]GeralMinuta!B241,\"\")","v":876}]
[{"$f":"IF( [1]GeralMinuta!A242 <>\"\", [1]GeralMinuta!A242,\"\")","v":""},{"$f":"IF( [1]GeralMinuta!B242 <>\"\", [1]GeralMinuta!B242,\"\")","v":""}]
[{"$f":"IF( [1]GeralMinuta!A243 <>\"\", [1]GeralMinuta!A243,\"\")","v":"1 CAA 04 AWG Vão 80m RGE"},{"$f":"IF( [1]GeralMinuta!B243 <>\"\", [1]GeralMinuta!B243,\"\")","v":135}]
[{"$f":"IF( [1]GeralMinuta!A244 <>\"\", [1]GeralMinuta!A244,\"\")","v":"1 CAA 02 AWG Vão 80m RGE"},{"$f":"IF( [1]GeralMinuta!B244 <>\"\", [1]GeralMinuta!B244,\"\")","v":192}]
[{"$f":"IF( [1]GeralMinuta!A245 <>\"\", [1]GeralMinuta!A245,\"\")","v":"1 CAA 1/0 AWG Vão 80m RGE"},{"$f":"IF( [1]GeralMinuta!B245 <>\"\", [1]GeralMinuta!B245,\"\")","v":305}]
[{"$f":"IF( [1]GeralMinuta!A246 <>\"\", [1]GeralMinuta!A246,\"\")","v":"1 CAA 2/0 AWG Vão 80m RGE"},{"$f":"IF( [1]GeralMinuta!B246 <>\"\", [1]GeralMinuta!B246,\"\")","v":384}]
[{"$f":"IF( [1]GeralMinuta!A247 <>\"\", [1]GeralMinuta!A247,\"\")","v":"1 CAA 4/0 AWG Vão 80m RGE"},{"$f":"IF( [1]GeralMinuta!B247 <>\"\", [1]GeralMinuta!B247,\"\")","v":611}]
[{"$f":"IF( [1]GeralMinuta!A248 <>\"\", [1]GeralMinuta!A248,\"\")","v":"1 CAA 336,4 MCM Vão 80m RGE"},{"$f":"IF( [1]GeralMinuta!B248 <>\"\", [1]GeralMinuta!B248,\"\")","v":972}]
[{"$f":"IF( [1]GeralMinuta!A249 <>\"\", [1]GeralMinuta!A249,\"\")","v":""},{"$f":"IF( [1]GeralMinuta!B249 <>\"\", [1]GeralMinuta!B249,\"\")","v":""}]
[{"$f":"IF( [1]GeralMinuta!A250 <>\"\", [1]GeralMinuta!A250,\"\")","v":"1 CAA 04 AWG Vão 120m "},{"$f":"IF( [1]GeralMinuta!B250 <>\"\", [1]GeralMinuta!B250,\"\")","v":175}]
[{"$f":"IF( [1]GeralMinuta!A251 <>\"\", [1]GeralMinuta!A251,\"\")","v":"1 CAA 02 AWG Vão 120m "},{"$f":"IF( [1]GeralMinuta!B251 <>\"\", [1]GeralMinuta!B251,\"\")","v":247}]
[{"$f":"IF( [1]GeralMinuta!A252 <>\"\", [1]GeralMinuta!A252,\"\")","v":"1 CAA 1/0 AWG Vão 120m "},{"$f":"IF( [1]GeralMinuta!B252 <>\"\", [1]GeralMinuta!B252,\"\")","v":355}]
[{"$f":"IF( [1]GeralMinuta!A253 <>\"\", [1]GeralMinuta!A253,\"\")","v":"1 CAA 2/0 AWG Vão 120m "},{"$f":"IF( [1]GeralMinuta!B253 <>\"\", [1]GeralMinuta!B253,\"\")","v":428}]
[{"$f":"IF( [1]GeralMinuta!A254 <>\"\", [1]GeralMinuta!A254,\"\")","v":"1 CAA 4/0 AWG Vão 120m "},{"$f":"IF( [1]GeralMinuta!B254 <>\"\", [1]GeralMinuta!B254,\"\")","v":652}]
[{"$f":"IF( [1]GeralMinuta!A255 <>\"\", [1]GeralMinuta!A255,\"\")","v":"1 CAA 336,4 MCM Vão 120m "},{"$f":"IF( [1]GeralMinuta!B255 <>\"\", [1]GeralMinuta!B255,\"\")","v":1035}]
[{"$f":"IF( [1]GeralMinuta!A256 <>\"\", [1]GeralMinuta!A256,\"\")","v":""},{"$f":"IF( [1]GeralMinuta!B256 <>\"\", [1]GeralMinuta!B256,\"\")","v":""}]
[{"$f":"IF( [1]GeralMinuta!A257 <>\"\", [1]GeralMinuta!A257,\"\")","v":"1 CAA 04 AWG Vão 120m RGE"},{"$f":"IF( [1]GeralMinuta!B257 <>\"\", [1]GeralMinuta!B257,\"\")","v":175}]
[{"$f":"IF( [1]GeralMinuta!A258 <>\"\", [1]GeralMinuta!A258,\"\")","v":"1 CAA 02 AWG Vão 120m RGE"},{"$f":"IF( [1]GeralMinuta!B258 <>\"\", [1]GeralMinuta!B258,\"\")","v":247}]
[{"$f":"IF( [1]GeralMinuta!A259 <>\"\", [1]GeralMinuta!A259,\"\")","v":"1 CAA 1/0 AWG Vão 120m RGE"},{"$f":"IF( [1]GeralMinuta!B259 <>\"\", [1]GeralMinuta!B259,\"\")","v":355}]
[{"$f":"IF( [1]GeralMinuta!A260 <>\"\", [1]GeralMinuta!A260,\"\")","v":"1 CAA 2/0 AWG Vão 120m RGE"},{"$f":"IF( [1]GeralMinuta!B260 <>\"\", [1]GeralMinuta!B260,\"\")","v":443}]
[{"$f":"IF( [1]GeralMinuta!A261 <>\"\", [1]GeralMinuta!A261,\"\")","v":"1 CAA 4/0 AWG Vão 120m RGE"},{"$f":"IF( [1]GeralMinuta!B261 <>\"\", [1]GeralMinuta!B261,\"\")","v":705}]
[{"$f":"IF( [1]GeralMinuta!A262 <>\"\", [1]GeralMinuta!A262,\"\")","v":"1 CAA 336,4 MCM Vão 120m RGE"},{"$f":"IF( [1]GeralMinuta!B262 <>\"\", [1]GeralMinuta!B262,\"\")","v":1120}]
[{"$f":"IF( [1]GeralMinuta!A263 <>\"\", [1]GeralMinuta!A263,\"\")","v":""},{"$f":"IF( [1]GeralMinuta!B263 <>\"\", [1]GeralMinuta!B263,\"\")","v":""}]
[{"$f":"IF( [1]GeralMinuta!A264 <>\"\", [1]GeralMinuta!A264,\"\")","v":"1 CU 06 AWG Vão 35m  "},{"$f":"IF( [1]GeralMinuta!B264 <>\"\", [1]GeralMinuta!B264,\"\")","v":56}]
[{"$f":"IF( [1]GeralMinuta!A265 <>\"\", [1]GeralMinuta!A265,\"\")","v":"1 CU 02 AWG Vão 35m  "},{"$f":"IF( [1]GeralMinuta!B265 <>\"\", [1]GeralMinuta!B265,\"\")","v":141}]
[{"$f":"IF( [1]GeralMinuta!A266 <>\"\", [1]GeralMinuta!A266,\"\")","v":"1 CU 1/0 AWG Vão 35m  "},{"$f":"IF( [1]GeralMinuta!B266 <>\"\", [1]GeralMinuta!B266,\"\")","v":208}]
[{"$f":"IF( [1]GeralMinuta!A267 <>\"\", [1]GeralMinuta!A267,\"\")","v":"1 CU 2/0 AWG Vão 35m  "},{"$f":"IF( [1]GeralMinuta!B267 <>\"\", [1]GeralMinuta!B267,\"\")","v":257}]
[{"$f":"IF( [1]GeralMinuta!A268 <>\"\", [1]GeralMinuta!A268,\"\")","v":"1 CU 4/0 AWG Vão 35m  "},{"$f":"IF( [1]GeralMinuta!B268 <>\"\", [1]GeralMinuta!B268,\"\")","v":396}]
[{"$f":"IF( [1]GeralMinuta!A269 <>\"\", [1]GeralMinuta!A269,\"\")","v":""},{"$f":"IF( [1]GeralMinuta!B269 <>\"\", [1]GeralMinuta!B269,\"\")","v":""}]
[{"$f":"IF( [1]GeralMinuta!A270 <>\"\", [1]GeralMinuta!A270,\"\")","v":""},{"$f":"IF( [1]GeralMinuta!B270 <>\"\", [1]GeralMinuta!B270,\"\")","v":""}]
[{"$f":"IF( [1]GeralMinuta!A271 <>\"\", [1]GeralMinuta!A271,\"\")","v":""},{"$f":"IF( [1]GeralMinuta!B271 <>\"\", [1]GeralMinuta!B271,\"\")","v":""}]
[{"$f":"IF( [1]GeralMinuta!A272 <>\"\", [1]GeralMinuta!A272,\"\")","v":""},{"$f":"IF( [1]GeralMinuta!B272 <>\"\", [1]GeralMinuta!B272,\"\")","v":""}]
[{"$f":"IF( [1]GeralMinuta!A273 <>\"\", [1]GeralMinuta!A273,\"\")","v":""},{"$f":"IF( [1]GeralMinuta!B273 <>\"\", [1]GeralMinuta!B273,\"\")","v":""}]
[{"$f":"IF( [1]GeralMinuta!A274 <>\"\", [1]GeralMinuta!A274,\"\")","v":""},{"$f":"IF( [1]GeralMinuta!B274 <>\"\", [1]GeralMinuta!B274,\"\")","v":""}]
[{"$f":"IF( [1]GeralMinuta!A275 <>\"\", [1]GeralMinuta!A275,\"\")","v":""},{"$f":"IF( [1]GeralMinuta!B275 <>\"\", [1]GeralMinuta!B275,\"\")","v":""}]
[{"$f":"IF( [1]GeralMinuta!A276 <>\"\", [1]GeralMinuta!A276,\"\")","v":""},{"$f":"IF( [1]GeralMinuta!B276 <>\"\", [1]GeralMinuta!B276,\"\")","v":""}]
[{"$f":"IF( [1]GeralMinuta!A277 <>\"\", [1]GeralMinuta!A277,\"\")","v":""},{"$f":"IF( [1]GeralMinuta!B277 <>\"\", [1]GeralMinuta!B277,\"\")","v":""}]
[{"$f":"IF( [1]GeralMinuta!A278 <>\"\", [1]GeralMinuta!A278,\"\")","v":""},{"$f":"IF( [1]GeralMinuta!B278 <>\"\", [1]GeralMinuta!B278,\"\")","v":""}]
[{"$f":"IF( [1]GeralMinuta!A279 <>\"\", [1]GeralMinuta!A279,\"\")","v":""},{"$f":"IF( [1]GeralMinuta!B279 <>\"\", [1]GeralMinuta!B279,\"\")","v":""}]
[{"$f":"IF( [1]GeralMinuta!A280 <>\"\", [1]GeralMinuta!A280,\"\")","v":""},{"$f":"IF( [1]GeralMinuta!B280 <>\"\", [1]GeralMinuta!B280,\"\")","v":""}]
[{"$f":"IF( [1]GeralMinuta!A281 <>\"\", [1]GeralMinuta!A281,\"\")","v":""},{"$f":"IF( [1]GeralMinuta!B281 <>\"\", [1]GeralMinuta!B281,\"\")","v":""}]
[{"$f":"IF( [1]GeralMinuta!A282 <>\"\", [1]GeralMinuta!A282,\"\")","v":""},{"$f":"IF( [1]GeralMinuta!B282 <>\"\", [1]GeralMinuta!B282,\"\")","v":""}]
[{"$f":"IF( [1]GeralMinuta!A283 <>\"\", [1]GeralMinuta!A283,\"\")","v":""},{"$f":"IF( [1]GeralMinuta!B283 <>\"\", [1]GeralMinuta!B283,\"\")","v":""}]
[{"$f":"IF( [1]GeralMinuta!A284 <>\"\", [1]GeralMinuta!A284,\"\")","v":""},{"$f":"IF( [1]GeralMinuta!B284 <>\"\", [1]GeralMinuta!B284,\"\")","v":""}]
[{"$f":"IF( [1]GeralMinuta!A285 <>\"\", [1]GeralMinuta!A285,\"\")","v":""},{"$f":"IF( [1]GeralMinuta!B285 <>\"\", [1]GeralMinuta!B285,\"\")","v":""}]
[{"$f":"IF( [1]GeralMinuta!A286 <>\"\", [1]GeralMinuta!A286,\"\")","v":""},{"$f":"IF( [1]GeralMinuta!B286 <>\"\", [1]GeralMinuta!B286,\"\")","v":""}]
[{"$f":"IF( [1]GeralMinuta!A287 <>\"\", [1]GeralMinuta!A287,\"\")","v":""},{"$f":"IF( [1]GeralMinuta!B287 <>\"\", [1]GeralMinuta!B287,\"\")","v":""}]
[{"$f":"IF( [1]GeralMinuta!A288 <>\"\", [1]GeralMinuta!A288,\"\")","v":""},{"$f":"IF( [1]GeralMinuta!B288 <>\"\", [1]GeralMinuta!B288,\"\")","v":""}]
[{"$f":"IF( [1]GeralMinuta!A289 <>\"\", [1]GeralMinuta!A289,\"\")","v":""},{"$f":"IF( [1]GeralMinuta!B289 <>\"\", [1]GeralMinuta!B289,\"\")","v":""}]
[{"$f":"IF( [1]GeralMinuta!A290 <>\"\", [1]GeralMinuta!A290,\"\")","v":""},{"$f":"IF( [1]GeralMinuta!B290 <>\"\", [1]GeralMinuta!B290,\"\")","v":""}]
[{"$f":"IF( [1]GeralMinuta!A291 <>\"\", [1]GeralMinuta!A291,\"\")","v":""},{"$f":"IF( [1]GeralMinuta!B291 <>\"\", [1]GeralMinuta!B291,\"\")","v":""}]
[{"$f":"IF( [1]GeralMinuta!A292 <>\"\", [1]GeralMinuta!A292,\"\")","v":""},{"$f":"IF( [1]GeralMinuta!B292 <>\"\", [1]GeralMinuta!B292,\"\")","v":""}]
[{"$f":"IF( [1]GeralMinuta!A293 <>\"\", [1]GeralMinuta!A293,\"\")","v":""},{"$f":"IF( [1]GeralMinuta!B293 <>\"\", [1]GeralMinuta!B293,\"\")","v":""}]
[{"$f":"IF( [1]GeralMinuta!A294 <>\"\", [1]GeralMinuta!A294,\"\")","v":""},{"$f":"IF( [1]GeralMinuta!B294 <>\"\", [1]GeralMinuta!B294,\"\")","v":""}]
[{"$f":"IF( [1]GeralMinuta!A295 <>\"\", [1]GeralMinuta!A295,\"\")","v":""},{"$f":"IF( [1]GeralMinuta!B295 <>\"\", [1]GeralMinuta!B295,\"\")","v":""}]
[{"$f":"IF( [1]GeralMinuta!A296 <>\"\", [1]GeralMinuta!A296,\"\")","v":""},{"$f":"IF( [1]GeralMinuta!B296 <>\"\", [1]GeralMinuta!B296,\"\")","v":""}]
[{"$f":"IF( [1]GeralMinuta!A297 <>\"\", [1]GeralMinuta!A297,\"\")","v":""},{"$f":"IF( [1]GeralMinuta!B297 <>\"\", [1]GeralMinuta!B297,\"\")","v":""}]
[{"$f":"IF( [1]GeralMinuta!A298 <>\"\", [1]GeralMinuta!A298,\"\")","v":""},{"$f":"IF( [1]GeralMinuta!B298 <>\"\", [1]GeralMinuta!B298,\"\")","v":""}]
[{"$f":"IF( [1]GeralMinuta!A299 <>\"\", [1]GeralMinuta!A299,\"\")","v":""},{"$f":"IF( [1]GeralMinuta!B299 <>\"\", [1]GeralMinuta!B299,\"\")","v":""}]
[{"$f":"IF( [1]GeralMinuta!A300 <>\"\", [1]GeralMinuta!A300,\"\")","v":""},{"$f":"IF( [1]GeralMinuta!B300 <>\"\", [1]GeralMinuta!B300,\"\")","v":""}]
[{"$f":"IF( [1]GeralMinuta!A301 <>\"\", [1]GeralMinuta!A301,\"\")","v":""},{"$f":"IF( [1]GeralMinuta!B301 <>\"\", [1]GeralMinuta!B301,\"\")","v":""}]
[{"$f":"IF( [1]GeralMinuta!A302 <>\"\", [1]GeralMinuta!A302,\"\")","v":""},{"$f":"IF( [1]GeralMinuta!B302 <>\"\", [1]GeralMinuta!B302,\"\")","v":""}]
[{"$f":"IF( [1]GeralMinuta!A303 <>\"\", [1]GeralMinuta!A303,\"\")","v":""},{"$f":"IF( [1]GeralMinuta!B303 <>\"\", [1]GeralMinuta!B303,\"\")","v":""}]
[{"$f":"IF( [1]GeralMinuta!A304 <>\"\", [1]GeralMinuta!A304,\"\")","v":""},{"$f":"IF( [1]GeralMinuta!B304 <>\"\", [1]GeralMinuta!B304,\"\")","v":""}]
[{"$f":"IF( [1]GeralMinuta!A305 <>\"\", [1]GeralMinuta!A305,\"\")","v":""},{"$f":"IF( [1]GeralMinuta!B305 <>\"\", [1]GeralMinuta!B305,\"\")","v":""}]
[{"$f":"IF( [1]GeralMinuta!A306 <>\"\", [1]GeralMinuta!A306,\"\")","v":""},{"$f":"IF( [1]GeralMinuta!B306 <>\"\", [1]GeralMinuta!B306,\"\")","v":""}]
[{"$f":"IF( [1]GeralMinuta!A307 <>\"\", [1]GeralMinuta!A307,\"\")","v":""},{"$f":"IF( [1]GeralMinuta!B307 <>\"\", [1]GeralMinuta!B307,\"\")","v":""}]
[{"$f":"IF( [1]GeralMinuta!A308 <>\"\", [1]GeralMinuta!A308,\"\")","v":""},{"$f":"IF( [1]GeralMinuta!B308 <>\"\", [1]GeralMinuta!B308,\"\")","v":""}]
[{"$f":"IF( [1]GeralMinuta!A309 <>\"\", [1]GeralMinuta!A309,\"\")","v":""},{"$f":"IF( [1]GeralMinuta!B309 <>\"\", [1]GeralMinuta!B309,\"\")","v":""}]
[{"$f":"IF( [1]GeralMinuta!A310 <>\"\", [1]GeralMinuta!A310,\"\")","v":""},{"$f":"IF( [1]GeralMinuta!B310 <>\"\", [1]GeralMinuta!B310,\"\")","v":""}]
[{"$f":"IF( [1]GeralMinuta!A311 <>\"\", [1]GeralMinuta!A311,\"\")","v":""},{"$f":"IF( [1]GeralMinuta!B311 <>\"\", [1]GeralMinuta!B311,\"\")","v":""}]
[{"$f":"IF( [1]GeralMinuta!A312 <>\"\", [1]GeralMinuta!A312,\"\")","v":""},{"$f":"IF( [1]GeralMinuta!B312 <>\"\", [1]GeralMinuta!B312,\"\")","v":""}]
[{"$f":"IF( [1]GeralMinuta!A313 <>\"\", [1]GeralMinuta!A313,\"\")","v":""},{"$f":"IF( [1]GeralMinuta!B313 <>\"\", [1]GeralMinuta!B313,\"\")","v":""}]
[{"$f":"IF( [1]GeralMinuta!A314 <>\"\", [1]GeralMinuta!A314,\"\")","v":""},{"$f":"IF( [1]GeralMinuta!B314 <>\"\", [1]GeralMinuta!B314,\"\")","v":""}]
[{"$f":"IF( [1]GeralMinuta!A315 <>\"\", [1]GeralMinuta!A315,\"\")","v":""},{"$f":"IF( [1]GeralMinuta!B315 <>\"\", [1]GeralMinuta!B315,\"\")","v":""}]
[{"$f":"IF( [1]GeralMinuta!A316 <>\"\", [1]GeralMinuta!A316,\"\")","v":""},{"$f":"IF( [1]GeralMinuta!B316 <>\"\", [1]GeralMinuta!B316,\"\")","v":""}]
[{"$f":"IF( [1]GeralMinuta!A317 <>\"\", [1]GeralMinuta!A317,\"\")","v":""},{"$f":"IF( [1]GeralMinuta!B317 <>\"\", [1]GeralMinuta!B317,\"\")","v":""}]
[{"$f":"IF( [1]GeralMinuta!A318 <>\"\", [1]GeralMinuta!A318,\"\")","v":""},{"$f":"IF( [1]GeralMinuta!B318 <>\"\", [1]GeralMinuta!B318,\"\")","v":""}]
[{"$f":"IF( [1]GeralMinuta!A319 <>\"\", [1]GeralMinuta!A319,\"\")","v":""},{"$f":"IF( [1]GeralMinuta!B319 <>\"\", [1]GeralMinuta!B319,\"\")","v":""}]
[{"$f":"IF( [1]GeralMinuta!A320 <>\"\", [1]GeralMinuta!A320,\"\")","v":""},{"$f":"IF( [1]GeralMinuta!B320 <>\"\", [1]GeralMinuta!B320,\"\")","v":""}]
[{"$f":"IF( [1]GeralMinuta!A321 <>\"\", [1]GeralMinuta!A321,\"\")","v":""},{"$f":"IF( [1]GeralMinuta!B321 <>\"\", [1]GeralMinuta!B321,\"\")","v":""}]
[{"$f":"IF( [1]GeralMinuta!A322 <>\"\", [1]GeralMinuta!A322,\"\")","v":""},{"$f":"IF( [1]GeralMinuta!B322 <>\"\", [1]GeralMinuta!B322,\"\")","v":""}]
[{"$f":"IF( [1]GeralMinuta!A323 <>\"\", [1]GeralMinuta!A323,\"\")","v":""},{"$f":"IF( [1]GeralMinuta!B323 <>\"\", [1]GeralMinuta!B323,\"\")","v":""}]
[{"$f":"IF( [1]GeralMinuta!A324 <>\"\", [1]GeralMinuta!A324,\"\")","v":""},{"$f":"IF( [1]GeralMinuta!B324 <>\"\", [1]GeralMinuta!B324,\"\")","v":""}]
[{"$f":"IF( [1]GeralMinuta!A325 <>\"\", [1]GeralMinuta!A325,\"\")","v":""},{"$f":"IF( [1]GeralMinuta!B325 <>\"\", [1]GeralMinuta!B325,\"\")","v":""}]
[{"$f":"IF( [1]GeralMinuta!A326 <>\"\", [1]GeralMinuta!A326,\"\")","v":""},{"$f":"IF( [1]GeralMinuta!B326 <>\"\", [1]GeralMinuta!B326,\"\")","v":""}]
[{"$f":"IF( [1]GeralMinuta!A327 <>\"\", [1]GeralMinuta!A327,\"\")","v":""},{"$f":"IF( [1]GeralMinuta!B327 <>\"\", [1]GeralMinuta!B327,\"\")","v":""}]
[{"$f":"IF( [1]GeralMinuta!A328 <>\"\", [1]GeralMinuta!A328,\"\")","v":""},{"$f":"IF( [1]GeralMinuta!B328 <>\"\", [1]GeralMinuta!B328,\"\")","v":""}]
[{"$f":"IF( [1]GeralMinuta!A329 <>\"\", [1]GeralMinuta!A329,\"\")","v":""},{"$f":"IF( [1]GeralMinuta!B329 <>\"\", [1]GeralMinuta!B329,\"\")","v":""}]
[{"$f":"IF( [1]GeralMinuta!A330 <>\"\", [1]GeralMinuta!A330,\"\")","v":""},{"$f":"IF( [1]GeralMinuta!B330 <>\"\", [1]GeralMinuta!B330,\"\")","v":""}]
[{"$f":"IF( [1]GeralMinuta!A331 <>\"\", [1]GeralMinuta!A331,\"\")","v":""},{"$f":"IF( [1]GeralMinuta!B331 <>\"\", [1]GeralMinuta!B331,\"\")","v":""}]
[{"$f":"IF( [1]GeralMinuta!A332 <>\"\", [1]GeralMinuta!A332,\"\")","v":""},{"$f":"IF( [1]GeralMinuta!B332 <>\"\", [1]GeralMinuta!B332,\"\")","v":""}]
[{"$f":"IF( [1]GeralMinuta!A333 <>\"\", [1]GeralMinuta!A333,\"\")","v":""},{"$f":"IF( [1]GeralMinuta!B333 <>\"\", [1]GeralMinuta!B333,\"\")","v":""}]
[{"$f":"IF( [1]GeralMinuta!A334 <>\"\", [1]GeralMinuta!A334,\"\")","v":""},{"$f":"IF( [1]GeralMinuta!B334 <>\"\", [1]GeralMinuta!B334,\"\")","v":""}]
[{"$f":"IF( [1]GeralMinuta!A335 <>\"\", [1]GeralMinuta!A335,\"\")","v":""},{"$f":"IF( [1]GeralMinuta!B335 <>\"\", [1]GeralMinuta!B335,\"\")","v":""}]
[{"$f":"IF( [1]GeralMinuta!A336 <>\"\", [1]GeralMinuta!A336,\"\")","v":""},{"$f":"IF( [1]GeralMinuta!B336 <>\"\", [1]GeralMinuta!B336,\"\")","v":""}]
[{"$f":"IF( [1]GeralMinuta!A337 <>\"\", [1]GeralMinuta!A337,\"\")","v":""},{"$f":"IF( [1]GeralMinuta!B337 <>\"\", [1]GeralMinuta!B337,\"\")","v":""}]
[{"$f":"IF( [1]GeralMinuta!A338 <>\"\", [1]GeralMinuta!A338,\"\")","v":""},{"$f":"IF( [1]GeralMinuta!B338 <>\"\", [1]GeralMinuta!B338,\"\")","v":""}]
[{"$f":"IF( [1]GeralMinuta!A339 <>\"\", [1]GeralMinuta!A339,\"\")","v":""},{"$f":"IF( [1]GeralMinuta!B339 <>\"\", [1]GeralMinuta!B339,\"\")","v":""}]
[{"$f":"IF( [1]GeralMinuta!A340 <>\"\", [1]GeralMinuta!A340,\"\")","v":""},{"$f":"IF( [1]GeralMinuta!B340 <>\"\", [1]GeralMinuta!B340,\"\")","v":""}]
[{"$f":"IF( [1]GeralMinuta!A341 <>\"\", [1]GeralMinuta!A341,\"\")","v":""},{"$f":"IF( [1]GeralMinuta!B341 <>\"\", [1]GeralMinuta!B341,\"\")","v":""}]
[{"$f":"IF( [1]GeralMinuta!A342 <>\"\", [1]GeralMinuta!A342,\"\")","v":""},{"$f":"IF( [1]GeralMinuta!B342 <>\"\", [1]GeralMinuta!B342,\"\")","v":""}]
[{"$f":"IF( [1]GeralMinuta!A343 <>\"\", [1]GeralMinuta!A343,\"\")","v":""},{"$f":"IF( [1]GeralMinuta!B343 <>\"\", [1]GeralMinuta!B343,\"\")","v":""}]
[{"$f":"IF( [1]GeralMinuta!A344 <>\"\", [1]GeralMinuta!A344,\"\")","v":""},{"$f":"IF( [1]GeralMinuta!B344 <>\"\", [1]GeralMinuta!B344,\"\")","v":""}]
[{"$f":"IF( [1]GeralMinuta!A345 <>\"\", [1]GeralMinuta!A345,\"\")","v":""},{"$f":"IF( [1]GeralMinuta!B345 <>\"\", [1]GeralMinuta!B345,\"\")","v":""}]
[{"$f":"IF( [1]GeralMinuta!A346 <>\"\", [1]GeralMinuta!A346,\"\")","v":""},{"$f":"IF( [1]GeralMinuta!B346 <>\"\", [1]GeralMinuta!B346,\"\")","v":""}]
[{"$f":"IF( [1]GeralMinuta!A347 <>\"\", [1]GeralMinuta!A347,\"\")","v":""},{"$f":"IF( [1]GeralMinuta!B347 <>\"\", [1]GeralMinuta!B347,\"\")","v":""}]
[{"$f":"IF( [1]GeralMinuta!A348 <>\"\", [1]GeralMinuta!A348,\"\")","v":""},{"$f":"IF( [1]GeralMinuta!B348 <>\"\", [1]GeralMinuta!B348,\"\")","v":""}]
[{"$f":"IF( [1]GeralMinuta!A349 <>\"\", [1]GeralMinuta!A349,\"\")","v":""},{"$f":"IF( [1]GeralMinuta!B349 <>\"\", [1]GeralMinuta!B349,\"\")","v":""}]
[{"$f":"IF( [1]GeralMinuta!A350 <>\"\", [1]GeralMinuta!A350,\"\")","v":""},{"$f":"IF( [1]GeralMinuta!B350 <>\"\", [1]GeralMinuta!B350,\"\")","v":""}]
[{"$f":"IF( [1]GeralMinuta!A351 <>\"\", [1]GeralMinuta!A351,\"\")","v":""},{"$f":"IF( [1]GeralMinuta!B351 <>\"\", [1]GeralMinuta!B351,\"\")","v":""}]
[{"$f":"IF( [1]GeralMinuta!A352 <>\"\", [1]GeralMinuta!A352,\"\")","v":""},{"$f":"IF( [1]GeralMinuta!B352 <>\"\", [1]GeralMinuta!B352,\"\")","v":""}]
[{"$f":"IF( [1]GeralMinuta!A353 <>\"\", [1]GeralMinuta!A353,\"\")","v":""},{"$f":"IF( [1]GeralMinuta!B353 <>\"\", [1]GeralMinuta!B353,\"\")","v":""}]
[{"$f":"IF( [1]GeralMinuta!A354 <>\"\", [1]GeralMinuta!A354,\"\")","v":""},{"$f":"IF( [1]GeralMinuta!B354 <>\"\", [1]GeralMinuta!B354,\"\")","v":""}]
[{"$f":"IF( [1]GeralMinuta!A355 <>\"\", [1]GeralMinuta!A355,\"\")","v":""},{"$f":"IF( [1]GeralMinuta!B355 <>\"\", [1]GeralMinuta!B355,\"\")","v":""}]
[{"$f":"IF( [1]GeralMinuta!A356 <>\"\", [1]GeralMinuta!A356,\"\")","v":""},{"$f":"IF( [1]GeralMinuta!B356 <>\"\", [1]GeralMinuta!B356,\"\")","v":""}]
[{"$f":"IF( [1]GeralMinuta!A357 <>\"\", [1]GeralMinuta!A357,\"\")","v":""},{"$f":"IF( [1]GeralMinuta!B357 <>\"\", [1]GeralMinuta!B357,\"\")","v":""}]
[{"$f":"IF( [1]GeralMinuta!A358 <>\"\", [1]GeralMinuta!A358,\"\")","v":""},{"$f":"IF( [1]GeralMinuta!B358 <>\"\", [1]GeralMinuta!B358,\"\")","v":""}]
[{"$f":"IF( [1]GeralMinuta!A359 <>\"\", [1]GeralMinuta!A359,\"\")","v":""},{"$f":"IF( [1]GeralMinuta!B359 <>\"\", [1]GeralMinuta!B359,\"\")","v":""}]
[{"$f":"IF( [1]GeralMinuta!A360 <>\"\", [1]GeralMinuta!A360,\"\")","v":""},{"$f":"IF( [1]GeralMinuta!B360 <>\"\", [1]GeralMinuta!B360,\"\")","v":""}]
[{"$f":"IF( [1]GeralMinuta!A361 <>\"\", [1]GeralMinuta!A361,\"\")","v":""},{"$f":"IF( [1]GeralMinuta!B361 <>\"\", [1]GeralMinuta!B361,\"\")","v":""}]
[{"$f":"IF( [1]GeralMinuta!A362 <>\"\", [1]GeralMinuta!A362,\"\")","v":""},{"$f":"IF( [1]GeralMinuta!B362 <>\"\", [1]GeralMinuta!B362,\"\")","v":""}]
[{"$f":"IF( [1]GeralMinuta!A363 <>\"\", [1]GeralMinuta!A363,\"\")","v":""},{"$f":"IF( [1]GeralMinuta!B363 <>\"\", [1]GeralMinuta!B363,\"\")","v":""}]
[{"$f":"IF( [1]GeralMinuta!A364 <>\"\", [1]GeralMinuta!A364,\"\")","v":""},{"$f":"IF( [1]GeralMinuta!B364 <>\"\", [1]GeralMinuta!B364,\"\")","v":""}]
[{"$f":"IF( [1]GeralMinuta!A365 <>\"\", [1]GeralMinuta!A365,\"\")","v":""},{"$f":"IF( [1]GeralMinuta!B365 <>\"\", [1]GeralMinuta!B365,\"\")","v":""}]
[{"$f":"IF( [1]GeralMinuta!A366 <>\"\", [1]GeralMinuta!A366,\"\")","v":""},{"$f":"IF( [1]GeralMinuta!B366 <>\"\", [1]GeralMinuta!B366,\"\")","v":""}]
[{"$f":"IF( [1]GeralMinuta!A367 <>\"\", [1]GeralMinuta!A367,\"\")","v":""},{"$f":"IF( [1]GeralMinuta!B367 <>\"\", [1]GeralMinuta!B367,\"\")","v":""}]
[{"$f":"IF( [1]GeralMinuta!A368 <>\"\", [1]GeralMinuta!A368,\"\")","v":""},{"$f":"IF( [1]GeralMinuta!B368 <>\"\", [1]GeralMinuta!B368,\"\")","v":""}]
[{"$f":"IF( [1]GeralMinuta!A369 <>\"\", [1]GeralMinuta!A369,\"\")","v":""},{"$f":"IF( [1]GeralMinuta!B369 <>\"\", [1]GeralMinuta!B369,\"\")","v":""}]
[{"$f":"IF( [1]GeralMinuta!A370 <>\"\", [1]GeralMinuta!A370,\"\")","v":""},{"$f":"IF( [1]GeralMinuta!B370 <>\"\", [1]GeralMinuta!B370,\"\")","v":""}]
[{"$f":"IF( [1]GeralMinuta!A371 <>\"\", [1]GeralMinuta!A371,\"\")","v":""},{"$f":"IF( [1]GeralMinuta!B371 <>\"\", [1]GeralMinuta!B371,\"\")","v":""}]
[{"$f":"IF( [1]GeralMinuta!A372 <>\"\", [1]GeralMinuta!A372,\"\")","v":""},{"$f":"IF( [1]GeralMinuta!B372 <>\"\", [1]GeralMinuta!B372,\"\")","v":""}]
[{"$f":"IF( [1]GeralMinuta!A373 <>\"\", [1]GeralMinuta!A373,\"\")","v":""},{"$f":"IF( [1]GeralMinuta!B373 <>\"\", [1]GeralMinuta!B373,\"\")","v":""}]
[{"$f":"IF( [1]GeralMinuta!A374 <>\"\", [1]GeralMinuta!A374,\"\")","v":""},{"$f":"IF( [1]GeralMinuta!B374 <>\"\", [1]GeralMinuta!B374,\"\")","v":""}]
[{"$f":"IF( [1]GeralMinuta!A375 <>\"\", [1]GeralMinuta!A375,\"\")","v":""},{"$f":"IF( [1]GeralMinuta!B375 <>\"\", [1]GeralMinuta!B375,\"\")","v":""}]
[{"$f":"IF( [1]GeralMinuta!A376 <>\"\", [1]GeralMinuta!A376,\"\")","v":""},{"$f":"IF( [1]GeralMinuta!B376 <>\"\", [1]GeralMinuta!B376,\"\")","v":""}]
[{"$f":"IF( [1]GeralMinuta!A377 <>\"\", [1]GeralMinuta!A377,\"\")","v":""},{"$f":"IF( [1]GeralMinuta!B377 <>\"\", [1]GeralMinuta!B377,\"\")","v":""}]
[{"$f":"IF( [1]GeralMinuta!A378 <>\"\", [1]GeralMinuta!A378,\"\")","v":""},{"$f":"IF( [1]GeralMinuta!B378 <>\"\", [1]GeralMinuta!B378,\"\")","v":""}]
[{"$f":"IF( [1]GeralMinuta!A379 <>\"\", [1]GeralMinuta!A379,\"\")","v":""},{"$f":"IF( [1]GeralMinuta!B379 <>\"\", [1]GeralMinuta!B379,\"\")","v":""}]
[{"$f":"IF( [1]GeralMinuta!A380 <>\"\", [1]GeralMinuta!A380,\"\")","v":""},{"$f":"IF( [1]GeralMinuta!B380 <>\"\", [1]GeralMinuta!B380,\"\")","v":""}]
[{"$f":"IF( [1]GeralMinuta!A381 <>\"\", [1]GeralMinuta!A381,\"\")","v":""},{"$f":"IF( [1]GeralMinuta!B381 <>\"\", [1]GeralMinuta!B381,\"\")","v":""}]
[{"$f":"IF( [1]GeralMinuta!A382 <>\"\", [1]GeralMinuta!A382,\"\")","v":""},{"$f":"IF( [1]GeralMinuta!B382 <>\"\", [1]GeralMinuta!B382,\"\")","v":""}]
[{"$f":"IF( [1]GeralMinuta!A383 <>\"\", [1]GeralMinuta!A383,\"\")","v":""},{"$f":"IF( [1]GeralMinuta!B383 <>\"\", [1]GeralMinuta!B383,\"\")","v":""}]
[{"$f":"IF( [1]GeralMinuta!A384 <>\"\", [1]GeralMinuta!A384,\"\")","v":""},{"$f":"IF( [1]GeralMinuta!B384 <>\"\", [1]GeralMinuta!B384,\"\")","v":""}]
[{"$f":"IF( [1]GeralMinuta!A385 <>\"\", [1]GeralMinuta!A385,\"\")","v":""},{"$f":"IF( [1]GeralMinuta!B385 <>\"\", [1]GeralMinuta!B385,\"\")","v":""}]
[{"$f":"IF( [1]GeralMinuta!A386 <>\"\", [1]GeralMinuta!A386,\"\")","v":""},{"$f":"IF( [1]GeralMinuta!B386 <>\"\", [1]GeralMinuta!B386,\"\")","v":""}]
[{"$f":"IF( [1]GeralMinuta!A387 <>\"\", [1]GeralMinuta!A387,\"\")","v":""},{"$f":"IF( [1]GeralMinuta!B387 <>\"\", [1]GeralMinuta!B387,\"\")","v":""}]
[{"$f":"IF( [1]GeralMinuta!A388 <>\"\", [1]GeralMinuta!A388,\"\")","v":""},{"$f":"IF( [1]GeralMinuta!B388 <>\"\", [1]GeralMinuta!B388,\"\")","v":""}]
[{"$f":"IF( [1]GeralMinuta!A389 <>\"\", [1]GeralMinuta!A389,\"\")","v":""},{"$f":"IF( [1]GeralMinuta!B389 <>\"\", [1]GeralMinuta!B389,\"\")","v":""}]
[{"$f":"IF( [1]GeralMinuta!A390 <>\"\", [1]GeralMinuta!A390,\"\")","v":""},{"$f":"IF( [1]GeralMinuta!B390 <>\"\", [1]GeralMinuta!B390,\"\")","v":""}]
[{"$f":"IF( [1]GeralMinuta!A391 <>\"\", [1]GeralMinuta!A391,\"\")","v":""},{"$f":"IF( [1]GeralMinuta!B391 <>\"\", [1]GeralMinuta!B391,\"\")","v":""}]
[{"$f":"IF( [1]GeralMinuta!A392 <>\"\", [1]GeralMinuta!A392,\"\")","v":""},{"$f":"IF( [1]GeralMinuta!B392 <>\"\", [1]GeralMinuta!B392,\"\")","v":""}]
[{"$f":"IF( [1]GeralMinuta!A393 <>\"\", [1]GeralMinuta!A393,\"\")","v":""},{"$f":"IF( [1]GeralMinuta!B393 <>\"\", [1]GeralMinuta!B393,\"\")","v":""}]
[{"$f":"IF( [1]GeralMinuta!A394 <>\"\", [1]GeralMinuta!A394,\"\")","v":""},{"$f":"IF( [1]GeralMinuta!B394 <>\"\", [1]GeralMinuta!B394,\"\")","v":""}]
[{"$f":"IF( [1]GeralMinuta!A395 <>\"\", [1]GeralMinuta!A395,\"\")","v":""},{"$f":"IF( [1]GeralMinuta!B395 <>\"\", [1]GeralMinuta!B395,\"\")","v":""}]
[{"$f":"IF( [1]GeralMinuta!A396 <>\"\", [1]GeralMinuta!A396,\"\")","v":""},{"$f":"IF( [1]GeralMinuta!B396 <>\"\", [1]GeralMinuta!B396,\"\")","v":""}]
[{"$f":"IF( [1]GeralMinuta!A397 <>\"\", [1]GeralMinuta!A397,\"\")","v":""},{"$f":"IF( [1]GeralMinuta!B397 <>\"\", [1]GeralMinuta!B397,\"\")","v":""}]
[{"$f":"IF( [1]GeralMinuta!A398 <>\"\", [1]GeralMinuta!A398,\"\")","v":""},{"$f":"IF( [1]GeralMinuta!B398 <>\"\", [1]GeralMinuta!B398,\"\")","v":""}]
[{"$f":"IF( [1]GeralMinuta!A399 <>\"\", [1]GeralMinuta!A399,\"\")","v":""},{"$f":"IF( [1]GeralMinuta!B399 <>\"\", [1]GeralMinuta!B399,\"\")","v":""}]
[{"$f":"IF( [1]GeralMinuta!A400 <>\"\", [1]GeralMinuta!A400,\"\")","v":""},{"$f":"IF( [1]GeralMinuta!B400 <>\"\", [1]GeralMinuta!B400,\"\")","v":""}]
[{"$f":"IF( [1]GeralMinuta!A401 <>\"\", [1]GeralMinuta!A401,\"\")","v":""},{"$f":"IF( [1]GeralMinuta!B401 <>\"\", [1]GeralMinuta!B401,\"\")","v":""}]
[{"$f":"IF( [1]GeralMinuta!A402 <>\"\", [1]GeralMinuta!A402,\"\")","v":""},{"$f":"IF( [1]GeralMinuta!B402 <>\"\", [1]GeralMinuta!B402,\"\")","v":""}]
[{"$f":"IF( [1]GeralMinuta!A403 <>\"\", [1]GeralMinuta!A403,\"\")","v":""},{"$f":"IF( [1]GeralMinuta!B403 <>\"\", [1]GeralMinuta!B403,\"\")","v":""}]
[{"$f":"IF( [1]GeralMinuta!A404 <>\"\", [1]GeralMinuta!A404,\"\")","v":""},{"$f":"IF( [1]GeralMinuta!B404 <>\"\", [1]GeralMinuta!B404,\"\")","v":""}]
[{"$f":"IF( [1]GeralMinuta!A405 <>\"\", [1]GeralMinuta!A405,\"\")","v":""},{"$f":"IF( [1]GeralMinuta!B405 <>\"\", [1]GeralMinuta!B405,\"\")","v":""}]
[{"$f":"IF( [1]GeralMinuta!A406 <>\"\", [1]GeralMinuta!A406,\"\")","v":""},{"$f":"IF( [1]GeralMinuta!B406 <>\"\", [1]GeralMinuta!B406,\"\")","v":""}]
[{"$f":"IF( [1]GeralMinuta!A407 <>\"\", [1]GeralMinuta!A407,\"\")","v":""},{"$f":"IF( [1]GeralMinuta!B407 <>\"\", [1]GeralMinuta!B407,\"\")","v":""}]
[{"$f":"IF( [1]GeralMinuta!A408 <>\"\", [1]GeralMinuta!A408,\"\")","v":""},{"$f":"IF( [1]GeralMinuta!B408 <>\"\", [1]GeralMinuta!B408,\"\")","v":""}]
[{"$f":"IF( [1]GeralMinuta!A409 <>\"\", [1]GeralMinuta!A409,\"\")","v":""},{"$f":"IF( [1]GeralMinuta!B409 <>\"\", [1]GeralMinuta!B409,\"\")","v":""}]
[{"$f":"IF( [1]GeralMinuta!A410 <>\"\", [1]GeralMinuta!A410,\"\")","v":""},{"$f":"IF( [1]GeralMinuta!B410 <>\"\", [1]GeralMinuta!B410,\"\")","v":""}]
[{"$f":"IF( [1]GeralMinuta!A411 <>\"\", [1]GeralMinuta!A411,\"\")","v":""},{"$f":"IF( [1]GeralMinuta!B411 <>\"\", [1]GeralMinuta!B411,\"\")","v":""}]
[{"$f":"IF( [1]GeralMinuta!A412 <>\"\", [1]GeralMinuta!A412,\"\")","v":""},{"$f":"IF( [1]GeralMinuta!B412 <>\"\", [1]GeralMinuta!B412,\"\")","v":""}]
[{"$f":"IF( [1]GeralMinuta!A413 <>\"\", [1]GeralMinuta!A413,\"\")","v":""},{"$f":"IF( [1]GeralMinuta!B413 <>\"\", [1]GeralMinuta!B413,\"\")","v":""}]
[{"$f":"IF( [1]GeralMinuta!A414 <>\"\", [1]GeralMinuta!A414,\"\")","v":""},{"$f":"IF( [1]GeralMinuta!B414 <>\"\", [1]GeralMinuta!B414,\"\")","v":""}]
[{"$f":"IF( [1]GeralMinuta!A415 <>\"\", [1]GeralMinuta!A415,\"\")","v":""},{"$f":"IF( [1]GeralMinuta!B415 <>\"\", [1]GeralMinuta!B415,\"\")","v":""}]
[{"$f":"IF( [1]GeralMinuta!A416 <>\"\", [1]GeralMinuta!A416,\"\")","v":""},{"$f":"IF( [1]GeralMinuta!B416 <>\"\", [1]GeralMinuta!B416,\"\")","v":""}]
[{"$f":"IF( [1]GeralMinuta!A417 <>\"\", [1]GeralMinuta!A417,\"\")","v":""},{"$f":"IF( [1]GeralMinuta!B417 <>\"\", [1]GeralMinuta!B417,\"\")","v":""}]
[{"$f":"IF( [1]GeralMinuta!A418 <>\"\", [1]GeralMinuta!A418,\"\")","v":""},{"$f":"IF( [1]GeralMinuta!B418 <>\"\", [1]GeralMinuta!B418,\"\")","v":""}]
[{"$f":"IF( [1]GeralMinuta!A419 <>\"\", [1]GeralMinuta!A419,\"\")","v":""},{"$f":"IF( [1]GeralMinuta!B419 <>\"\", [1]GeralMinuta!B419,\"\")","v":""}]
[{"$f":"IF( [1]GeralMinuta!A420 <>\"\", [1]GeralMinuta!A420,\"\")","v":""},{"$f":"IF( [1]GeralMinuta!B420 <>\"\", [1]GeralMinuta!B420,\"\")","v":""}]
[{"$f":"IF( [1]GeralMinuta!A421 <>\"\", [1]GeralMinuta!A421,\"\")","v":""},{"$f":"IF( [1]GeralMinuta!B421 <>\"\", [1]GeralMinuta!B421,\"\")","v":""}]
[{"$f":"IF( [1]GeralMinuta!A422 <>\"\", [1]GeralMinuta!A422,\"\")","v":""},{"$f":"IF( [1]GeralMinuta!B422 <>\"\", [1]GeralMinuta!B422,\"\")","v":""}]
[{"$f":"IF( [1]GeralMinuta!A423 <>\"\", [1]GeralMinuta!A423,\"\")","v":""},{"$f":"IF( [1]GeralMinuta!B423 <>\"\", [1]GeralMinuta!B423,\"\")","v":""}]
[{"$f":"IF( [1]GeralMinuta!A424 <>\"\", [1]GeralMinuta!A424,\"\")","v":""},{"$f":"IF( [1]GeralMinuta!B424 <>\"\", [1]GeralMinuta!B424,\"\")","v":""}]
[{"$f":"IF( [1]GeralMinuta!A425 <>\"\", [1]GeralMinuta!A425,\"\")","v":""},{"$f":"IF( [1]GeralMinuta!B425 <>\"\", [1]GeralMinuta!B425,\"\")","v":""}]
[{"$f":"IF( [1]GeralMinuta!A426 <>\"\", [1]GeralMinuta!A426,\"\")","v":""},{"$f":"IF( [1]GeralMinuta!B426 <>\"\", [1]GeralMinuta!B426,\"\")","v":""}]
[{"$f":"IF( [1]GeralMinuta!A427 <>\"\", [1]GeralMinuta!A427,\"\")","v":""},{"$f":"IF( [1]GeralMinuta!B427 <>\"\", [1]GeralMinuta!B427,\"\")","v":""}]
[{"$f":"IF( [1]GeralMinuta!A428 <>\"\", [1]GeralMinuta!A428,\"\")","v":""},{"$f":"IF( [1]GeralMinuta!B428 <>\"\", [1]GeralMinuta!B428,\"\")","v":""}]
[{"$f":"IF( [1]GeralMinuta!A429 <>\"\", [1]GeralMinuta!A429,\"\")","v":""},{"$f":"IF( [1]GeralMinuta!B429 <>\"\", [1]GeralMinuta!B429,\"\")","v":""}]
[{"$f":"IF( [1]GeralMinuta!A430 <>\"\", [1]GeralMinuta!A430,\"\")","v":""},{"$f":"IF( [1]GeralMinuta!B430 <>\"\", [1]GeralMinuta!B430,\"\")","v":""}]
[{"$f":"IF( [1]GeralMinuta!A431 <>\"\", [1]GeralMinuta!A431,\"\")","v":""},{"$f":"IF( [1]GeralMinuta!B431 <>\"\", [1]GeralMinuta!B431,\"\")","v":""}]
[{"$f":"IF( [1]GeralMinuta!A432 <>\"\", [1]GeralMinuta!A432,\"\")","v":""},{"$f":"IF( [1]GeralMinuta!B432 <>\"\", [1]GeralMinuta!B432,\"\")","v":""}]
[{"$f":"IF( [1]GeralMinuta!A433 <>\"\", [1]GeralMinuta!A433,\"\")","v":""},{"$f":"IF( [1]GeralMinuta!B433 <>\"\", [1]GeralMinuta!B433,\"\")","v":""}]
[{"$f":"IF( [1]GeralMinuta!A434 <>\"\", [1]GeralMinuta!A434,\"\")","v":""},{"$f":"IF( [1]GeralMinuta!B434 <>\"\", [1]GeralMinuta!B434,\"\")","v":""}]
[{"$f":"IF( [1]GeralMinuta!A435 <>\"\", [1]GeralMinuta!A435,\"\")","v":""},{"$f":"IF( [1]GeralMinuta!B435 <>\"\", [1]GeralMinuta!B435,\"\")","v":""}]
[{"$f":"IF( [1]GeralMinuta!A436 <>\"\", [1]GeralMinuta!A436,\"\")","v":""},{"$f":"IF( [1]GeralMinuta!B436 <>\"\", [1]GeralMinuta!B436,\"\")","v":""}]
[{"$f":"IF( [1]GeralMinuta!A437 <>\"\", [1]GeralMinuta!A437,\"\")","v":""},{"$f":"IF( [1]GeralMinuta!B437 <>\"\", [1]GeralMinuta!B437,\"\")","v":""}]
[{"$f":"IF( [1]GeralMinuta!A438 <>\"\", [1]GeralMinuta!A438,\"\")","v":""},{"$f":"IF( [1]GeralMinuta!B438 <>\"\", [1]GeralMinuta!B438,\"\")","v":""}]
[{"$f":"IF( [1]GeralMinuta!A439 <>\"\", [1]GeralMinuta!A439,\"\")","v":""},{"$f":"IF( [1]GeralMinuta!B439 <>\"\", [1]GeralMinuta!B439,\"\")","v":""}]
[{"$f":"IF( [1]GeralMinuta!A440 <>\"\", [1]GeralMinuta!A440,\"\")","v":""},{"$f":"IF( [1]GeralMinuta!B440 <>\"\", [1]GeralMinuta!B440,\"\")","v":""}]
[{"$f":"IF( [1]GeralMinuta!A441 <>\"\", [1]GeralMinuta!A441,\"\")","v":""},{"$f":"IF( [1]GeralMinuta!B441 <>\"\", [1]GeralMinuta!B441,\"\")","v":""}]
[{"$f":"IF( [1]GeralMinuta!A442 <>\"\", [1]GeralMinuta!A442,\"\")","v":""},{"$f":"IF( [1]GeralMinuta!B442 <>\"\", [1]GeralMinuta!B442,\"\")","v":""}]
[{"$f":"IF( [1]GeralMinuta!A443 <>\"\", [1]GeralMinuta!A443,\"\")","v":""},{"$f":"IF( [1]GeralMinuta!B443 <>\"\", [1]GeralMinuta!B443,\"\")","v":""}]
[{"$f":"IF( [1]GeralMinuta!A444 <>\"\", [1]GeralMinuta!A444,\"\")","v":""},{"$f":"IF( [1]GeralMinuta!B444 <>\"\", [1]GeralMinuta!B444,\"\")","v":""}]
[{"$f":"IF( [1]GeralMinuta!A445 <>\"\", [1]GeralMinuta!A445,\"\")","v":""},{"$f":"IF( [1]GeralMinuta!B445 <>\"\", [1]GeralMinuta!B445,\"\")","v":""}]
[{"$f":"IF( [1]GeralMinuta!A446 <>\"\", [1]GeralMinuta!A446,\"\")","v":""},{"$f":"IF( [1]GeralMinuta!B446 <>\"\", [1]GeralMinuta!B446,\"\")","v":""}]
[{"$f":"IF( [1]GeralMinuta!A447 <>\"\", [1]GeralMinuta!A447,\"\")","v":""},{"$f":"IF( [1]GeralMinuta!B447 <>\"\", [1]GeralMinuta!B447,\"\")","v":""}]
[{"$f":"IF( [1]GeralMinuta!A448 <>\"\", [1]GeralMinuta!A448,\"\")","v":""},{"$f":"IF( [1]GeralMinuta!B448 <>\"\", [1]GeralMinuta!B448,\"\")","v":""}]
[{"$f":"IF( [1]GeralMinuta!A449 <>\"\", [1]GeralMinuta!A449,\"\")","v":""},{"$f":"IF( [1]GeralMinuta!B449 <>\"\", [1]GeralMinuta!B449,\"\")","v":""}]
[{"$f":"IF( [1]GeralMinuta!A450 <>\"\", [1]GeralMinuta!A450,\"\")","v":""},{"$f":"IF( [1]GeralMinuta!B450 <>\"\", [1]GeralMinuta!B450,\"\")","v":""}]
[{"$f":"IF( [1]GeralMinuta!A451 <>\"\", [1]GeralMinuta!A451,\"\")","v":""},{"$f":"IF( [1]GeralMinuta!B451 <>\"\", [1]GeralMinuta!B451,\"\")","v":""}]
[{"$f":"IF( [1]GeralMinuta!A452 <>\"\", [1]GeralMinuta!A452,\"\")","v":""},{"$f":"IF( [1]GeralMinuta!B452 <>\"\", [1]GeralMinuta!B452,\"\")","v":""}]
[{"$f":"IF( [1]GeralMinuta!A453 <>\"\", [1]GeralMinuta!A453,\"\")","v":""},{"$f":"IF( [1]GeralMinuta!B453 <>\"\", [1]GeralMinuta!B453,\"\")","v":""}]
[{"$f":"IF( [1]GeralMinuta!A454 <>\"\", [1]GeralMinuta!A454,\"\")","v":""},{"$f":"IF( [1]GeralMinuta!B454 <>\"\", [1]GeralMinuta!B454,\"\")","v":""}]
[{"$f":"IF( [1]GeralMinuta!A455 <>\"\", [1]GeralMinuta!A455,\"\")","v":""},{"$f":"IF( [1]GeralMinuta!B455 <>\"\", [1]GeralMinuta!B455,\"\")","v":""}]
[{"$f":"IF( [1]GeralMinuta!A456 <>\"\", [1]GeralMinuta!A456,\"\")","v":""},{"$f":"IF( [1]GeralMinuta!B456 <>\"\", [1]GeralMinuta!B456,\"\")","v":""}]
[{"$f":"IF( [1]GeralMinuta!A457 <>\"\", [1]GeralMinuta!A457,\"\")","v":""},{"$f":"IF( [1]GeralMinuta!B457 <>\"\", [1]GeralMinuta!B457,\"\")","v":""}]
[{"$f":"IF( [1]GeralMinuta!A458 <>\"\", [1]GeralMinuta!A458,\"\")","v":""},{"$f":"IF( [1]GeralMinuta!B458 <>\"\", [1]GeralMinuta!B458,\"\")","v":""}]
[{"$f":"IF( [1]GeralMinuta!A459 <>\"\", [1]GeralMinuta!A459,\"\")","v":""},{"$f":"IF( [1]GeralMinuta!B459 <>\"\", [1]GeralMinuta!B459,\"\")","v":""}]
[{"$f":"IF( [1]GeralMinuta!A460 <>\"\", [1]GeralMinuta!A460,\"\")","v":""},{"$f":"IF( [1]GeralMinuta!B460 <>\"\", [1]GeralMinuta!B460,\"\")","v":""}]
[{"$f":"IF( [1]GeralMinuta!A461 <>\"\", [1]GeralMinuta!A461,\"\")","v":""},{"$f":"IF( [1]GeralMinuta!B461 <>\"\", [1]GeralMinuta!B461,\"\")","v":""}]
[{"$f":"IF( [1]GeralMinuta!A462 <>\"\", [1]GeralMinuta!A462,\"\")","v":""},{"$f":"IF( [1]GeralMinuta!B462 <>\"\", [1]GeralMinuta!B462,\"\")","v":""}]
[{"$f":"IF( [1]GeralMinuta!A463 <>\"\", [1]GeralMinuta!A463,\"\")","v":""},{"$f":"IF( [1]GeralMinuta!B463 <>\"\", [1]GeralMinuta!B463,\"\")","v":""}]
[{"$f":"IF( [1]GeralMinuta!A464 <>\"\", [1]GeralMinuta!A464,\"\")","v":""},{"$f":"IF( [1]GeralMinuta!B464 <>\"\", [1]GeralMinuta!B464,\"\")","v":""}]
[{"$f":"IF( [1]GeralMinuta!A465 <>\"\", [1]GeralMinuta!A465,\"\")","v":""},{"$f":"IF( [1]GeralMinuta!B465 <>\"\", [1]GeralMinuta!B465,\"\")","v":""}]
[{"$f":"IF( [1]GeralMinuta!A466 <>\"\", [1]GeralMinuta!A466,\"\")","v":""},{"$f":"IF( [1]GeralMinuta!B466 <>\"\", [1]GeralMinuta!B466,\"\")","v":""}]
[{"$f":"IF( [1]GeralMinuta!A467 <>\"\", [1]GeralMinuta!A467,\"\")","v":""},{"$f":"IF( [1]GeralMinuta!B467 <>\"\", [1]GeralMinuta!B467,\"\")","v":""}]
[{"$f":"IF( [1]GeralMinuta!A468 <>\"\", [1]GeralMinuta!A468,\"\")","v":""},{"$f":"IF( [1]GeralMinuta!B468 <>\"\", [1]GeralMinuta!B468,\"\")","v":""}]
[{"$f":"IF( [1]GeralMinuta!A469 <>\"\", [1]GeralMinuta!A469,\"\")","v":""},{"$f":"IF( [1]GeralMinuta!B469 <>\"\", [1]GeralMinuta!B469,\"\")","v":""}]
[{"$f":"IF( [1]GeralMinuta!A470 <>\"\", [1]GeralMinuta!A470,\"\")","v":""},{"$f":"IF( [1]GeralMinuta!B470 <>\"\", [1]GeralMinuta!B470,\"\")","v":""}]
[{"$f":"IF( [1]GeralMinuta!A471 <>\"\", [1]GeralMinuta!A471,\"\")","v":""},{"$f":"IF( [1]GeralMinuta!B471 <>\"\", [1]GeralMinuta!B471,\"\")","v":""}]
[{"$f":"IF( [1]GeralMinuta!A472 <>\"\", [1]GeralMinuta!A472,\"\")","v":""},{"$f":"IF( [1]GeralMinuta!B472 <>\"\", [1]GeralMinuta!B472,\"\")","v":""}]
[{"$f":"IF( [1]GeralMinuta!A473 <>\"\", [1]GeralMinuta!A473,\"\")","v":""},{"$f":"IF( [1]GeralMinuta!B473 <>\"\", [1]GeralMinuta!B473,\"\")","v":""}]
[{"$f":"IF( [1]GeralMinuta!A474 <>\"\", [1]GeralMinuta!A474,\"\")","v":""},{"$f":"IF( [1]GeralMinuta!B474 <>\"\", [1]GeralMinuta!B474,\"\")","v":""}]
[{"$f":"IF( [1]GeralMinuta!A475 <>\"\", [1]GeralMinuta!A475,\"\")","v":""},{"$f":"IF( [1]GeralMinuta!B475 <>\"\", [1]GeralMinuta!B475,\"\")","v":""}]
[{"$f":"IF( [1]GeralMinuta!A476 <>\"\", [1]GeralMinuta!A476,\"\")","v":""},{"$f":"IF( [1]GeralMinuta!B476 <>\"\", [1]GeralMinuta!B476,\"\")","v":""}]
[{"$f":"IF( [1]GeralMinuta!A477 <>\"\", [1]GeralMinuta!A477,\"\")","v":""},{"$f":"IF( [1]GeralMinuta!B477 <>\"\", [1]GeralMinuta!B477,\"\")","v":""}]
[{"$f":"IF( [1]GeralMinuta!A478 <>\"\", [1]GeralMinuta!A478,\"\")","v":""},{"$f":"IF( [1]GeralMinuta!B478 <>\"\", [1]GeralMinuta!B478,\"\")","v":""}]
[{"$f":"IF( [1]GeralMinuta!A479 <>\"\", [1]GeralMinuta!A479,\"\")","v":""},{"$f":"IF( [1]GeralMinuta!B479 <>\"\", [1]GeralMinuta!B479,\"\")","v":""}]
[{"$f":"IF( [1]GeralMinuta!A480 <>\"\", [1]GeralMinuta!A480,\"\")","v":""},{"$f":"IF( [1]GeralMinuta!B480 <>\"\", [1]GeralMinuta!B480,\"\")","v":""}]
[{"$f":"IF( [1]GeralMinuta!A481 <>\"\", [1]GeralMinuta!A481,\"\")","v":""},{"$f":"IF( [1]GeralMinuta!B481 <>\"\", [1]GeralMinuta!B481,\"\")","v":""}]
[{"$f":"IF( [1]GeralMinuta!A482 <>\"\", [1]GeralMinuta!A482,\"\")","v":""},{"$f":"IF( [1]GeralMinuta!B482 <>\"\", [1]GeralMinuta!B482,\"\")","v":""}]
[{"$f":"IF( [1]GeralMinuta!A483 <>\"\", [1]GeralMinuta!A483,\"\")","v":""},{"$f":"IF( [1]GeralMinuta!B483 <>\"\", [1]GeralMinuta!B483,\"\")","v":""}]
[{"$f":"IF( [1]GeralMinuta!A484 <>\"\", [1]GeralMinuta!A484,\"\")","v":""},{"$f":"IF( [1]GeralMinuta!B484 <>\"\", [1]GeralMinuta!B484,\"\")","v":""}]
[{"$f":"IF( [1]GeralMinuta!A485 <>\"\", [1]GeralMinuta!A485,\"\")","v":""},{"$f":"IF( [1]GeralMinuta!B485 <>\"\", [1]GeralMinuta!B485,\"\")","v":""}]
[{"$f":"IF( [1]GeralMinuta!A486 <>\"\", [1]GeralMinuta!A486,\"\")","v":""},{"$f":"IF( [1]GeralMinuta!B486 <>\"\", [1]GeralMinuta!B486,\"\")","v":""}]
[{"$f":"IF( [1]GeralMinuta!A487 <>\"\", [1]GeralMinuta!A487,\"\")","v":""},{"$f":"IF( [1]GeralMinuta!B487 <>\"\", [1]GeralMinuta!B487,\"\")","v":""}]
[{"$f":"IF( [1]GeralMinuta!A488 <>\"\", [1]GeralMinuta!A488,\"\")","v":""},{"$f":"IF( [1]GeralMinuta!B488 <>\"\", [1]GeralMinuta!B488,\"\")","v":""}]
[{"$f":"IF( [1]GeralMinuta!A489 <>\"\", [1]GeralMinuta!A489,\"\")","v":""},{"$f":"IF( [1]GeralMinuta!B489 <>\"\", [1]GeralMinuta!B489,\"\")","v":""}]
[{"$f":"IF( [1]GeralMinuta!A490 <>\"\", [1]GeralMinuta!A490,\"\")","v":""},{"$f":"IF( [1]GeralMinuta!B490 <>\"\", [1]GeralMinuta!B490,\"\")","v":""}]
[{"$f":"IF( [1]GeralMinuta!A491 <>\"\", [1]GeralMinuta!A491,\"\")","v":""},{"$f":"IF( [1]GeralMinuta!B491 <>\"\", [1]GeralMinuta!B491,\"\")","v":""}]
[{"$f":"IF( [1]GeralMinuta!A492 <>\"\", [1]GeralMinuta!A492,\"\")","v":""},{"$f":"IF( [1]GeralMinuta!B492 <>\"\", [1]GeralMinuta!B492,\"\")","v":""}]
[{"$f":"IF( [1]GeralMinuta!A493 <>\"\", [1]GeralMinuta!A493,\"\")","v":""},{"$f":"IF( [1]GeralMinuta!B493 <>\"\", [1]GeralMinuta!B493,\"\")","v":""}]
[{"$f":"IF( [1]GeralMinuta!A494 <>\"\", [1]GeralMinuta!A494,\"\")","v":""},{"$f":"IF( [1]GeralMinuta!B494 <>\"\", [1]GeralMinuta!B494,\"\")","v":""}]
[{"$f":"IF( [1]GeralMinuta!A495 <>\"\", [1]GeralMinuta!A495,\"\")","v":""},{"$f":"IF( [1]GeralMinuta!B495 <>\"\", [1]GeralMinuta!B495,\"\")","v":""}]
[{"$f":"IF( [1]GeralMinuta!A496 <>\"\", [1]GeralMinuta!A496,\"\")","v":""},{"$f":"IF( [1]GeralMinuta!B496 <>\"\", [1]GeralMinuta!B496,\"\")","v":""}]
[{"$f":"IF( [1]GeralMinuta!A497 <>\"\", [1]GeralMinuta!A497,\"\")","v":""},{"$f":"IF( [1]GeralMinuta!B497 <>\"\", [1]GeralMinuta!B497,\"\")","v":""}]
[{"$f":"IF( [1]GeralMinuta!A498 <>\"\", [1]GeralMinuta!A498,\"\")","v":""},{"$f":"IF( [1]GeralMinuta!B498 <>\"\", [1]GeralMinuta!B498,\"\")","v":""}]
[{"$f":"IF( [1]GeralMinuta!A499 <>\"\", [1]GeralMinuta!A499,\"\")","v":""},{"$f":"IF( [1]GeralMinuta!B499 <>\"\", [1]GeralMinuta!B499,\"\")","v":""}]
[{"$f":"IF( [1]GeralMinuta!A500 <>\"\", [1]GeralMinuta!A500,\"\")","v":""},{"$f":"IF( [1]GeralMinuta!B500 <>\"\", [1]GeralMinuta!B500,\"\")","v":""}]

{"sheet":"Primaria","index":8,"n_rows":500,"n_cols":6,"rows_kept":500,"cut":false,"hidden":true,"merged":[]}
[{"$f":"IF( [1]GeralMinuta!A1 <>\"\", [1]GeralMinuta!A1,\"\")","v":""},{"$f":"IF( [1]GeralMinuta!B1 <>\"\", [1]GeralMinuta!B1,\"\")","v":""},null,null,null,{"$f":" [1]NeutroMinutaCpfl!A1","v":""}]
[{"$f":"IF( [1]GeralMinuta!A2 <>\"\", [1]GeralMinuta!A2,\"\")","v":"3 E 70 mm² Vão 35m "},{"$f":"IF( [1]GeralMinuta!B2 <>\"\", [1]GeralMinuta!B2,\"\")","v":373}]
[{"$f":"IF( [1]GeralMinuta!A3 <>\"\", [1]GeralMinuta!A3,\"\")","v":"3 E 185 mm² Vão 35m "},{"$f":"IF( [1]GeralMinuta!B3 <>\"\", [1]GeralMinuta!B3,\"\")","v":648}]
[{"$f":"IF( [1]GeralMinuta!A4 <>\"\", [1]GeralMinuta!A4,\"\")","v":""},{"$f":"IF( [1]GeralMinuta!B4 <>\"\", [1]GeralMinuta!B4,\"\")","v":""}]
[{"$f":"IF( [1]GeralMinuta!A5 <>\"\", [1]GeralMinuta!A5,\"\")","v":"3 E 70 mm² Vão 35m RGE"},{"$f":"IF( [1]GeralMinuta!B5 <>\"\", [1]GeralMinuta!B5,\"\")","v":373}]
[{"$f":"IF( [1]GeralMinuta!A6 <>\"\", [1]GeralMinuta!A6,\"\")","v":"3 E 185 mm² Vão 35m RGE"},{"$f":"IF( [1]GeralMinuta!B6 <>\"\", [1]GeralMinuta!B6,\"\")","v":632}]
[{"$f":"IF( [1]GeralMinuta!A7 <>\"\", [1]GeralMinuta!A7,\"\")","v":""},{"$f":"IF( [1]GeralMinuta!B7 <>\"\", [1]GeralMinuta!B7,\"\")","v":""}]
[{"$f":"IF( [1]GeralMinuta!A8 <>\"\", [1]GeralMinuta!A8,\"\")","v":"3 E 70 mm² Vão 80m "},{"$f":"IF( [1]GeralMinuta!B8 <>\"\", [1]GeralMinuta!B8,\"\")","v":549}]
[{"$f":"IF( [1]GeralMinuta!A9 <>\"\", [1]GeralMinuta!A9,\"\")","v":"3 E 185 mm² Vão 80m "},{"$f":"IF( [1]GeralMinuta!B9 <>\"\", [1]GeralMinuta!B9,\"\")","v":837}]
[{"$f":"IF( [1]GeralMinuta!A10 <>\"\", [1]GeralMinuta!A10,\"\")","v":""},{"$f":"IF( [1]GeralMinuta!B10 <>\"\", [1]GeralMinuta!B10,\"\")","v":""}]
[{"$f":"IF( [1]GeralMinuta!A11 <>\"\", [1]GeralMinuta!A11,\"\")","v":"3 E 70 mm² Vão 80m RGE"},{"$f":"IF( [1]GeralMinuta!B11 <>\"\", [1]GeralMinuta!B11,\"\")","v":549}]
[{"$f":"IF( [1]GeralMinuta!A12 <>\"\", [1]GeralMinuta!A12,\"\")","v":"3 E 185 mm² Vão 80m RGE"},{"$f":"IF( [1]GeralMinuta!B12 <>\"\", [1]GeralMinuta!B12,\"\")","v":837}]
[{"$f":"IF( [1]GeralMinuta!A13 <>\"\", [1]GeralMinuta!A13,\"\")","v":""},{"$f":"IF( [1]GeralMinuta!B13 <>\"\", [1]GeralMinuta!B13,\"\")","v":""}]
[{"$f":"IF( [1]GeralMinuta!A14 <>\"\", [1]GeralMinuta!A14,\"\")","v":"3 P 16 mm² Vão 35m "},{"$f":"IF( [1]GeralMinuta!B14 <>\"\", [1]GeralMinuta!B14,\"\")","v":70}]
[{"$f":"IF( [1]GeralMinuta!A15 <>\"\", [1]GeralMinuta!A15,\"\")","v":"3 P 25 mm² Vão 35m "},{"$f":"IF( [1]GeralMinuta!B15 <>\"\", [1]GeralMinuta!B15,\"\")","v":96}]
[{"$f":"IF( [1]GeralMinuta!A16 <>\"\", [1]GeralMinuta!A16,\"\")","v":"3 P 35 mm² Vão 35m "},{"$f":"IF( [1]GeralMinuta!B16 <>\"\", [1]GeralMinuta!B16,\"\")","v":126}]
[{"$f":"IF( [1]GeralMinuta!A17 <>\"\", [1]GeralMinuta!A17,\"\")","v":"3 P 50 mm² Vão 35m "},{"$f":"IF( [1]GeralMinuta!B17 <>\"\", [1]GeralMinuta!B17,\"\")","v":156}]
[{"$f":"IF( [1]GeralMinuta!A18 <>\"\", [1]GeralMinuta!A18,\"\")","v":"3 P 70 mm² Vão 35m "},{"$f":"IF( [1]GeralMinuta!B18 <>\"\", [1]GeralMinuta!B18,\"\")","v":216}]
[{"$f":"IF( [1]GeralMinuta!A19 <>\"\", [1]GeralMinuta!A19,\"\")","v":"3 P 120 mm² Vão 35m "},{"$f":"IF( [1]GeralMinuta!B19 <>\"\", [1]GeralMinuta!B19,\"\")","v":336}]
[{"$f":"IF( [1]GeralMinuta!A20 <>\"\", [1]GeralMinuta!A20,\"\")","v":""},{"$f":"IF( [1]GeralMinuta!B20 <>\"\", [1]GeralMinuta!B20,\"\")","v":""}]
[{"$f":"IF( [1]GeralMinuta!A21 <>\"\", [1]GeralMinuta!A21,\"\")","v":"3 P 16 mm² Vão 35m RGE"},{"$f":"IF( [1]GeralMinuta!B21 <>\"\", [1]GeralMinuta!B21,\"\")","v":70}]
[{"$f":"IF( [1]GeralMinuta!A22 <>\"\", [1]GeralMinuta!A22,\"\")","v":"3 P 25 mm² Vão 35m RGE"},{"$f":"IF( [1]GeralMinuta!B22 <>\"\", [1]GeralMinuta!B22,\"\")","v":96}]
[{"$f":"IF( [1]GeralMinuta!A23 <>\"\", [1]GeralMinuta!A23,\"\")","v":"3 P 35 mm² Vão 35m RGE"},{"$f":"IF( [1]GeralMinuta!B23 <>\"\", [1]GeralMinuta!B23,\"\")","v":126}]
[{"$f":"IF( [1]GeralMinuta!A24 <>\"\", [1]GeralMinuta!A24,\"\")","v":"3 P 50 mm² Vão 35m RGE"},{"$f":"IF( [1]GeralMinuta!B24 <>\"\", [1]GeralMinuta!B24,\"\")","v":162}]
[{"$f":"IF( [1]GeralMinuta!A25 <>\"\", [1]GeralMinuta!A25,\"\")","v":"3 P 70 mm² Vão 35m RGE"},{"$f":"IF( [1]GeralMinuta!B25 <>\"\", [1]GeralMinuta!B25,\"\")","v":226}]
[{"$f":"IF( [1]GeralMinuta!A26 <>\"\", [1]GeralMinuta!A26,\"\")","v":"3 P 120 mm² Vão 35m RGE"},{"$f":"IF( [1]GeralMinuta!B26 <>\"\", [1]GeralMinuta!B26,\"\")","v":352}]
[{"$f":"IF( [1]GeralMinuta!A27 <>\"\", [1]GeralMinuta!A27,\"\")","v":""},{"$f":"IF( [1]GeralMinuta!B27 <>\"\", [1]GeralMinuta!B27,\"\")","v":""}]
[{"$f":"IF( [1]GeralMinuta!A28 <>\"\", [1]GeralMinuta!A28,\"\")","v":"3 CA 02 AWG Vão 35m "},{"$f":"IF( [1]GeralMinuta!B28 <>\"\", [1]GeralMinuta!B28,\"\")","v":180}]
[{"$f":"IF( [1]GeralMinuta!A29 <>\"\", [1]GeralMinuta!A29,\"\")","v":"3 CA 1/0 AWG Vão 35m "},{"$f":"IF( [1]GeralMinuta!B29 <>\"\", [1]GeralMinuta!B29,\"\")","v":288}]
[{"$f":"IF( [1]GeralMinuta!A30 <>\"\", [1]GeralMinuta!A30,\"\")","v":"3 CA 2/0 AWG Vão 35m "},{"$f":"IF( [1]GeralMinuta!B30 <>\"\", [1]GeralMinuta!B30,\"\")","v":363}]
[{"$f":"IF( [1]GeralMinuta!A31 <>\"\", [1]GeralMinuta!A31,\"\")","v":"3 CA 4/0 AWG Vão 35m "},{"$f":"IF( [1]GeralMinuta!B31 <>\"\", [1]GeralMinuta!B31,\"\")","v":582}]
[{"$f":"IF( [1]GeralMinuta!A32 <>\"\", [1]GeralMinuta!A32,\"\")","v":"3 CA 336,4 MCM Vão 35m "},{"$f":"IF( [1]GeralMinuta!B32 <>\"\", [1]GeralMinuta!B32,\"\")","v":924}]
[{"$f":"IF( [1]GeralMinuta!A33 <>\"\", [1]GeralMinuta!A33,\"\")","v":"3 CA 477 MCM Vão 35m "},{"$f":"IF( [1]GeralMinuta!B33 <>\"\", [1]GeralMinuta!B33,\"\")","v":1305}]
[{"$f":"IF( [1]GeralMinuta!A34 <>\"\", [1]GeralMinuta!A34,\"\")","v":""},{"$f":"IF( [1]GeralMinuta!B34 <>\"\", [1]GeralMinuta!B34,\"\")","v":""}]
[{"$f":"IF( [1]GeralMinuta!A35 <>\"\", [1]GeralMinuta!A35,\"\")","v":"3 CA 02 AWG Vão 35m RGE"},{"$f":"IF( [1]GeralMinuta!B35 <>\"\", [1]GeralMinuta!B35,\"\")","v":225}]
[{"$f":"IF( [1]GeralMinuta!A36 <>\"\", [1]GeralMinuta!A36,\"\")","v":"3 CA 1/0 AWG Vão 35m RGE"},{"$f":"IF( [1]GeralMinuta!B36 <>\"\", [1]GeralMinuta!B36,\"\")","v":2319}]
[{"$f":"IF( [1]GeralMinuta!A37 <>\"\", [1]GeralMinuta!A37,\"\")","v":"3 CA 2/0 AWG Vão 35m RGE"},{"$f":"IF( [1]GeralMinuta!B37 <>\"\", [1]GeralMinuta!B37,\"\")","v":450}]
[{"$f":"IF( [1]GeralMinuta!A38 <>\"\", [1]GeralMinuta!A38,\"\")","v":"3 CA 4/0 AWG Vão 35m RGE"},{"$f":"IF( [1]GeralMinuta!B38 <>\"\", [1]GeralMinuta!B38,\"\")","v":720}]
[{"$f":"IF( [1]GeralMinuta!A39 <>\"\", [1]GeralMinuta!A39,\"\")","v":"3 CA 336,4 MCM Vão 35m RGE"},{"$f":"IF( [1]GeralMinuta!B39 <>\"\", [1]GeralMinuta!B39,\"\")","v":1143}]
[{"$f":"IF( [1]GeralMinuta!A40 <>\"\", [1]GeralMinuta!A40,\"\")","v":"3 CA 477 MCM Vão 35m RGE"},{"$f":"IF( [1]GeralMinuta!B40 <>\"\", [1]GeralMinuta!B40,\"\")","v":1617}]
[{"$f":"IF( [1]GeralMinuta!A41 <>\"\", [1]GeralMinuta!A41,\"\")","v":""},{"$f":"IF( [1]GeralMinuta!B41 <>\"\", [1]GeralMinuta!B41,\"\")","v":""}]
[{"$f":"IF( [1]GeralMinuta!A42 <>\"\", [1]GeralMinuta!A42,\"\")","v":"3 CA 02 AWG Vão 80m "},{"$f":"IF( [1]GeralMinuta!B42 <>\"\", [1]GeralMinuta!B42,\"\")","v":399}]
[{"$f":"IF( [1]GeralMinuta!A43 <>\"\", [1]GeralMinuta!A43,\"\")","v":"3 CA 1/0 AWG Vão 80m "},{"$f":"IF( [1]GeralMinuta!B43 <>\"\", [1]GeralMinuta!B43,\"\")","v":558}]
[{"$f":"IF( [1]GeralMinuta!A44 <>\"\", [1]GeralMinuta!A44,\"\")","v":"3 CA 2/0 AWG Vão 80m "},{"$f":"IF( [1]GeralMinuta!B44 <>\"\", [1]GeralMinuta!B44,\"\")","v":660}]
[{"$f":"IF( [1]GeralMinuta!A45 <>\"\", [1]GeralMinuta!A45,\"\")","v":"3 CA 4/0 AWG Vão 80m "},{"$f":"IF( [1]GeralMinuta!B45 <>\"\", [1]GeralMinuta!B45,\"\")","v":945}]
[{"$f":"IF( [1]GeralMinuta!A46 <>\"\", [1]GeralMinuta!A46,\"\")","v":"3 CA 336,4 MCM Vão 80m "},{"$f":"IF( [1]GeralMinuta!B46 <>\"\", [1]GeralMinuta!B46,\"\")","v":1449}]
[{"$f":"IF( [1]GeralMinuta!A47 <>\"\", [1]GeralMinuta!A47,\"\")","v":"3 CA 477 MCM Vão 80m "},{"$f":"IF( [1]GeralMinuta!B47 <>\"\", [1]GeralMinuta!B47,\"\")","v":2049}]
[{"$f":"IF( [1]GeralMinuta!A48 <>\"\", [1]GeralMinuta!A48,\"\")","v":""},{"$f":"IF( [1]GeralMinuta!B48 <>\"\", [1]GeralMinuta!B48,\"\")","v":""}]
[{"$f":"IF( [1]GeralMinuta!A49 <>\"\", [1]GeralMinuta!A49,\"\")","v":"3 CA 02 AWG Vão 80m RGE"},{"$f":"IF( [1]GeralMinuta!B49 <>\"\", [1]GeralMinuta!B49,\"\")","v":399}]
[{"$f":"IF( [1]GeralMinuta!A50 <>\"\", [1]GeralMinuta!A50,\"\")","v":"3 CA 1/0 AWG Vão 80m RGE"},{"$f":"IF( [1]GeralMinuta!B50 <>\"\", [1]GeralMinuta!B50,\"\")","v":558}]
[{"$f":"IF( [1]GeralMinuta!A51 <>\"\", [1]GeralMinuta!A51,\"\")","v":"3 CA 2/0 AWG Vão 80m RGE"},{"$f":"IF( [1]GeralMinuta!B51 <>\"\", [1]GeralMinuta!B51,\"\")","v":660}]
[{"$f":"IF( [1]GeralMinuta!A52 <>\"\", [1]GeralMinuta!A52,\"\")","v":"3 CA 4/0 AWG Vão 80m RGE"},{"$f":"IF( [1]GeralMinuta!B52 <>\"\", [1]GeralMinuta!B52,\"\")","v":1029}]
[{"$f":"IF( [1]GeralMinuta!A53 <>\"\", [1]GeralMinuta!A53,\"\")","v":"3 CA 336,4 MCM Vão 80m RGE"},{"$f":"IF( [1]GeralMinuta!B53 <>\"\", [1]GeralMinuta!B53,\"\")","v":1632}]
[{"$f":"IF( [1]GeralMinuta!A54 <>\"\", [1]GeralMinuta!A54,\"\")","v":"3 CA 477 MCM Vão 80m RGE"},{"$f":"IF( [1]GeralMinuta!B54 <>\"\", [1]GeralMinuta!B54,\"\")","v":2310}]
[{"$f":"IF( [1]GeralMinuta!A55 <>\"\", [1]GeralMinuta!A55,\"\")","v":""},{"$f":"IF( [1]GeralMinuta!B55 <>\"\", [1]GeralMinuta!B55,\"\")","v":""}]
[{"$f":"IF( [1]GeralMinuta!A56 <>\"\", [1]GeralMinuta!A56,\"\")","v":"3 CAA 04 AWG Vão 40m "},{"$f":"IF( [1]GeralMinuta!B56 <>\"\", [1]GeralMinuta!B56,\"\")","v":189}]
[{"$f":"IF( [1]GeralMinuta!A57 <>\"\", [1]GeralMinuta!A57,\"\")","v":"3 CAA 02 AWG Vão 40m "},{"$f":"IF( [1]GeralMinuta!B57 <>\"\", [1]GeralMinuta!B57,\"\")","v":300}]
[{"$f":"IF( [1]GeralMinuta!A58 <>\"\", [1]GeralMinuta!A58,\"\")","v":"3 CAA 1/0 AWG Vão 40m "},{"$f":"IF( [1]GeralMinuta!B58 <>\"\", [1]GeralMinuta!B58,\"\")","v":480}]
[{"$f":"IF( [1]GeralMinuta!A59 <>\"\", [1]GeralMinuta!A59,\"\")","v":"3 CAA 2/0 AWG Vão 40m "},{"$f":"IF( [1]GeralMinuta!B59 <>\"\", [1]GeralMinuta!B59,\"\")","v":603}]
[{"$f":"IF( [1]GeralMinuta!A60 <>\"\", [1]GeralMinuta!A60,\"\")","v":"3 CAA 4/0 AWG Vão 40m "},{"$f":"IF( [1]GeralMinuta!B60 <>\"\", [1]GeralMinuta!B60,\"\")","v":960}]
[{"$f":"IF( [1]GeralMinuta!A61 <>\"\", [1]GeralMinuta!A61,\"\")","v":""},{"$f":"IF( [1]GeralMinuta!B61 <>\"\", [1]GeralMinuta!B61,\"\")","v":""}]
[{"$f":"IF( [1]GeralMinuta!A62 <>\"\", [1]GeralMinuta!A62,\"\")","v":"3 CAA 04 AWG Vão 40m RGE"},{"$f":"IF( [1]GeralMinuta!B62 <>\"\", [1]GeralMinuta!B62,\"\")","v":225}]
[{"$f":"IF( [1]GeralMinuta!A63 <>\"\", [1]GeralMinuta!A63,\"\")","v":"3 CAA 02 AWG Vão 40m RGE"},{"$f":"IF( [1]GeralMinuta!B63 <>\"\", [1]GeralMinuta!B63,\"\")","v":357}]
[{"$f":"IF( [1]GeralMinuta!A64 <>\"\", [1]GeralMinuta!A64,\"\")","v":"3 CAA 1/0 AWG Vão 40m RGE"},{"$f":"IF( [1]GeralMinuta!B64 <>\"\", [1]GeralMinuta!B64,\"\")","v":570}]
[{"$f":"IF( [1]GeralMinuta!A65 <>\"\", [1]GeralMinuta!A65,\"\")","v":"3 CAA 2/0 AWG Vão 40m RGE"},{"$f":"IF( [1]GeralMinuta!B65 <>\"\", [1]GeralMinuta!B65,\"\")","v":720}]
[{"$f":"IF( [1]GeralMinuta!A66 <>\"\", [1]GeralMinuta!A66,\"\")","v":"3 CAA 4/0 AWG Vão 40m RGE"},{"$f":"IF( [1]GeralMinuta!B66 <>\"\", [1]GeralMinuta!B66,\"\")","v":1143}]
[{"$f":"IF( [1]GeralMinuta!A67 <>\"\", [1]GeralMinuta!A67,\"\")","v":""},{"$f":"IF( [1]GeralMinuta!B67 <>\"\", [1]GeralMinuta!B67,\"\")","v":""}]
[{"$f":"IF( [1]GeralMinuta!A68 <>\"\", [1]GeralMinuta!A68,\"\")","v":"3 CAA 04 AWG Vão 80m "},{"$f":"IF( [1]GeralMinuta!B68 <>\"\", [1]GeralMinuta!B68,\"\")","v":405}]
[{"$f":"IF( [1]GeralMinuta!A69 <>\"\", [1]GeralMinuta!A69,\"\")","v":"3 CAA 02 AWG Vão 80m "},{"$f":"IF( [1]GeralMinuta!B69 <>\"\", [1]GeralMinuta!B69,\"\")","v":573}]
[{"$f":"IF( [1]GeralMinuta!A70 <>\"\", [1]GeralMinuta!A70,\"\")","v":"3 CAA 1/0 AWG Vão 80m "},{"$f":"IF( [1]GeralMinuta!B70 <>\"\", [1]GeralMinuta!B70,\"\")","v":825}]
[{"$f":"IF( [1]GeralMinuta!A71 <>\"\", [1]GeralMinuta!A71,\"\")","v":"3 CAA 2/0 AWG Vão 80m "},{"$f":"IF( [1]GeralMinuta!B71 <>\"\", [1]GeralMinuta!B71,\"\")","v":1038}]
[{"$f":"IF( [1]GeralMinuta!A72 <>\"\", [1]GeralMinuta!A72,\"\")","v":"3 CAA 4/0 AWG Vão 80m "},{"$f":"IF( [1]GeralMinuta!B72 <>\"\", [1]GeralMinuta!B72,\"\")","v":1653}]
[{"$f":"IF( [1]GeralMinuta!A73 <>\"\", [1]GeralMinuta!A73,\"\")","v":"3 CAA 336,4 MCM Vão 80m "},{"$f":"IF( [1]GeralMinuta!B73 <>\"\", [1]GeralMinuta!B73,\"\")","v":2628}]
[{"$f":"IF( [1]GeralMinuta!A74 <>\"\", [1]GeralMinuta!A74,\"\")","v":""},{"$f":"IF( [1]GeralMinuta!B74 <>\"\", [1]GeralMinuta!B74,\"\")","v":""}]
[{"$f":"IF( [1]GeralMinuta!A75 <>\"\", [1]GeralMinuta!A75,\"\")","v":"3 CAA 04 AWG Vão 80m RGE"},{"$f":"IF( [1]GeralMinuta!B75 <>\"\", [1]GeralMinuta!B75,\"\")","v":405}]
[{"$f":"IF( [1]GeralMinuta!A76 <>\"\", [1]GeralMinuta!A76,\"\")","v":"3 CAA 02 AWG Vão 80m RGE"},{"$f":"IF( [1]GeralMinuta!B76 <>\"\", [1]GeralMinuta!B76,\"\")","v":576}]
[{"$f":"IF( [1]GeralMinuta!A77 <>\"\", [1]GeralMinuta!A77,\"\")","v":"3 CAA 1/0 AWG Vão 80m RGE"},{"$f":"IF( [1]GeralMinuta!B77 <>\"\", [1]GeralMinuta!B77,\"\")","v":915}]
[{"$f":"IF( [1]GeralMinuta!A78 <>\"\", [1]GeralMinuta!A78,\"\")","v":"3 CAA 2/0 AWG Vão 80m RGE"},{"$f":"IF( [1]GeralMinuta!B78 <>\"\", [1]GeralMinuta!B78,\"\")","v":1152}]
[{"$f":"IF( [1]GeralMinuta!A79 <>\"\", [1]GeralMinuta!A79,\"\")","v":"3 CAA 4/0 AWG Vão 80m RGE"},{"$f":"IF( [1]GeralMinuta!B79 <>\"\", [1]GeralMinuta!B79,\"\")","v":1833}]
[{"$f":"IF( [1]GeralMinuta!A80 <>\"\", [1]GeralMinuta!A80,\"\")","v":"3 CAA 336,4 MCM Vão 80m RGE"},{"$f":"IF( [1]GeralMinuta!B80 <>\"\", [1]GeralMinuta!B80,\"\")","v":2916}]
[{"$f":"IF( [1]GeralMinuta!A81 <>\"\", [1]GeralMinuta!A81,\"\")","v":""},{"$f":"IF( [1]GeralMinuta!B81 <>\"\", [1]GeralMinuta!B81,\"\")","v":""}]
[{"$f":"IF( [1]GeralMinuta!A82 <>\"\", [1]GeralMinuta!A82,\"\")","v":"3 CAA 04 AWG Vão 120m "},{"$f":"IF( [1]GeralMinuta!B82 <>\"\", [1]GeralMinuta!B82,\"\")","v":525}]
[{"$f":"IF( [1]GeralMinuta!A83 <>\"\", [1]GeralMinuta!A83,\"\")","v":"3 CAA 02 AWG Vão 120m "},{"$f":"IF( [1]GeralMinuta!B83 <>\"\", [1]GeralMinuta!B83,\"\")","v":741}]
[{"$f":"IF( [1]GeralMinuta!A84 <>\"\", [1]GeralMinuta!A84,\"\")","v":"3 CAA 1/0 AWG Vão 120m "},{"$f":"IF( [1]GeralMinuta!B84 <>\"\", [1]GeralMinuta!B84,\"\")","v":1065}]
[{"$f":"IF( [1]GeralMinuta!A85 <>\"\", [1]GeralMinuta!A85,\"\")","v":"3 CAA 2/0 AWG Vão 120m "},{"$f":"IF( [1]GeralMinuta!B85 <>\"\", [1]GeralMinuta!B85,\"\")","v":1284}]
[{"$f":"IF( [1]GeralMinuta!A86 <>\"\", [1]GeralMinuta!A86,\"\")","v":"3 CAA 4/0 AWG Vão 120m "},{"$f":"IF( [1]GeralMinuta!B86 <>\"\", [1]GeralMinuta!B86,\"\")","v":1956}]
[{"$f":"IF( [1]GeralMinuta!A87 <>\"\", [1]GeralMinuta!A87,\"\")","v":"3 CAA 336,4 MCM Vão 120m "},{"$f":"IF( [1]GeralMinuta!B87 <>\"\", [1]GeralMinuta!B87,\"\")","v":3105}]
[{"$f":"IF( [1]GeralMinuta!A88 <>\"\", [1]GeralMinuta!A88,\"\")","v":""},{"$f":"IF( [1]GeralMinuta!B88 <>\"\", [1]GeralMinuta!B88,\"\")","v":""}]
[{"$f":"IF( [1]GeralMinuta!A89 <>\"\", [1]GeralMinuta!A89,\"\")","v":"3 CAA 04 AWG Vão 120m RGE"},{"$f":"IF( [1]GeralMinuta!B89 <>\"\", [1]GeralMinuta!B89,\"\")","v":525}]
[{"$f":"IF( [1]GeralMinuta!A90 <>\"\", [1]GeralMinuta!A90,\"\")","v":"3 CAA 02 AWG Vão 120m RGE"},{"$f":"IF( [1]GeralMinuta!B90 <>\"\", [1]GeralMinuta!B90,\"\")","v":741}]
[{"$f":"IF( [1]GeralMinuta!A91 <>\"\", [1]GeralMinuta!A91,\"\")","v":"3 CAA 1/0 AWG Vão 120m RGE"},{"$f":"IF( [1]GeralMinuta!B91 <>\"\", [1]GeralMinuta!B91,\"\")","v":1065}]
[{"$f":"IF( [1]GeralMinuta!A92 <>\"\", [1]GeralMinuta!A92,\"\")","v":"3 CAA 2/0 AWG Vão 120m RGE"},{"$f":"IF( [1]GeralMinuta!B92 <>\"\", [1]GeralMinuta!B92,\"\")","v":1329}]
[{"$f":"IF( [1]GeralMinuta!A93 <>\"\", [1]GeralMinuta!A93,\"\")","v":"3 CAA 4/0 AWG Vão 120m RGE"},{"$f":"IF( [1]GeralMinuta!B93 <>\"\", [1]GeralMinuta!B93,\"\")","v":2115}]
[{"$f":"IF( [1]GeralMinuta!A94 <>\"\", [1]GeralMinuta!A94,\"\")","v":"3 CAA 336,4 MCM Vão 120m RGE"},{"$f":"IF( [1]GeralMinuta!B94 <>\"\", [1]GeralMinuta!B94,\"\")","v":3360}]
[{"$f":"IF( [1]GeralMinuta!A95 <>\"\", [1]GeralMinuta!A95,\"\")","v":""},{"$f":"IF( [1]GeralMinuta!B95 <>\"\", [1]GeralMinuta!B95,\"\")","v":""}]
[{"$f":"IF( [1]GeralMinuta!A96 <>\"\", [1]GeralMinuta!A96,\"\")","v":"3 15kv 240 mm² Vão 35m  "},{"$f":"IF( [1]GeralMinuta!B96 <>\"\", [1]GeralMinuta!B96,\"\")","v":723}]
[{"$f":"IF( [1]GeralMinuta!A97 <>\"\", [1]GeralMinuta!A97,\"\")","v":"3 25kv 240 mm² Vão 35m  "},{"$f":"IF( [1]GeralMinuta!B97 <>\"\", [1]GeralMinuta!B97,\"\")","v":825}]
[{"$f":"IF( [1]GeralMinuta!A98 <>\"\", [1]GeralMinuta!A98,\"\")","v":"3 35kv 240 mm² Vão 35m  "},{"$f":"IF( [1]GeralMinuta!B98 <>\"\", [1]GeralMinuta!B98,\"\")","v":966}]
[{"$f":"IF( [1]GeralMinuta!A99 <>\"\", [1]GeralMinuta!A99,\"\")","v":""},{"$f":"IF( [1]GeralMinuta!B99 <>\"\", [1]GeralMinuta!B99,\"\")","v":""}]
[{"$f":"IF( [1]GeralMinuta!A100 <>\"\", [1]GeralMinuta!A100,\"\")","v":"3 15kv 240 mm² Vão 35m  RGE"},{"$f":"IF( [1]GeralMinuta!B100 <>\"\", [1]GeralMinuta!B100,\"\")","v":743}]
[{"$f":"IF( [1]GeralMinuta!A101 <>\"\", [1]GeralMinuta!A101,\"\")","v":"3 25kv 240 mm² Vão 35m  RGE"},{"$f":"IF( [1]GeralMinuta!B101 <>\"\", [1]GeralMinuta!B101,\"\")","v":849}]
[{"$f":"IF( [1]GeralMinuta!A102 <>\"\", [1]GeralMinuta!A102,\"\")","v":"3 35kv 240 mm² Vão 35m  RGE"},{"$f":"IF( [1]GeralMinuta!B102 <>\"\", [1]GeralMinuta!B102,\"\")","v":993}]
[{"$f":"IF( [1]GeralMinuta!A103 <>\"\", [1]GeralMinuta!A103,\"\")","v":""},{"$f":"IF( [1]GeralMinuta!B103 <>\"\", [1]GeralMinuta!B103,\"\")","v":""}]
[{"$f":"IF( [1]GeralMinuta!A104 <>\"\", [1]GeralMinuta!A104,\"\")","v":"3 CU 06 AWG Vão 35m  "},{"$f":"IF( [1]GeralMinuta!B104 <>\"\", [1]GeralMinuta!B104,\"\")","v":168}]
[{"$f":"IF( [1]GeralMinuta!A105 <>\"\", [1]GeralMinuta!A105,\"\")","v":"3 CU 02 AWG Vão 35m  "},{"$f":"IF( [1]GeralMinuta!B105 <>\"\", [1]GeralMinuta!B105,\"\")","v":423}]
[{"$f":"IF( [1]GeralMinuta!A106 <>\"\", [1]GeralMinuta!A106,\"\")","v":"3 CU 1/0 AWG Vão 35m  "},{"$f":"IF( [1]GeralMinuta!B106 <>\"\", [1]GeralMinuta!B106,\"\")","v":624}]
[{"$f":"IF( [1]GeralMinuta!A107 <>\"\", [1]GeralMinuta!A107,\"\")","v":"3 CU 2/0 AWG Vão 35m  "},{"$f":"IF( [1]GeralMinuta!B107 <>\"\", [1]GeralMinuta!B107,\"\")","v":771}]
[{"$f":"IF( [1]GeralMinuta!A108 <>\"\", [1]GeralMinuta!A108,\"\")","v":"3 CU 4/0 AWG Vão 35m  "},{"$f":"IF( [1]GeralMinuta!B108 <>\"\", [1]GeralMinuta!B108,\"\")","v":1188}]
[{"$f":"IF( [1]GeralMinuta!A109 <>\"\", [1]GeralMinuta!A109,\"\")","v":""},{"$f":"IF( [1]GeralMinuta!B109 <>\"\", [1]GeralMinuta!B109,\"\")","v":""}]
[{"$f":"IF( [1]GeralMinuta!A110 <>\"\", [1]GeralMinuta!A110,\"\")","v":"3 CU 06 AWG Vão 35m  RGE"},{"$f":"IF( [1]GeralMinuta!B110 <>\"\", [1]GeralMinuta!B110,\"\")","v":168}]
[{"$f":"IF( [1]GeralMinuta!A111 <>\"\", [1]GeralMinuta!A111,\"\")","v":"3 CU 02 AWG Vão 35m  RGE"},{"$f":"IF( [1]GeralMinuta!B111 <>\"\", [1]GeralMinuta!B111,\"\")","v":423}]
[{"$f":"IF( [1]GeralMinuta!A112 <>\"\", [1]GeralMinuta!A112,\"\")","v":"3 CU 1/0 AWG Vão 35m  RGE"},{"$f":"IF( [1]GeralMinuta!B112 <>\"\", [1]GeralMinuta!B112,\"\")","v":624}]
[{"$f":"IF( [1]GeralMinuta!A113 <>\"\", [1]GeralMinuta!A113,\"\")","v":"3 CU 2/0 AWG Vão 35m  RGE"},{"$f":"IF( [1]GeralMinuta!B113 <>\"\", [1]GeralMinuta!B113,\"\")","v":771}]
[{"$f":"IF( [1]GeralMinuta!A114 <>\"\", [1]GeralMinuta!A114,\"\")","v":"3 CU 4/0 AWG Vão 35m  RGE"},{"$f":"IF( [1]GeralMinuta!B114 <>\"\", [1]GeralMinuta!B114,\"\")","v":1188}]
[{"$f":"IF( [1]GeralMinuta!A115 <>\"\", [1]GeralMinuta!A115,\"\")","v":""},{"$f":"IF( [1]GeralMinuta!B115 <>\"\", [1]GeralMinuta!B115,\"\")","v":""}]
[{"$f":"IF( [1]GeralMinuta!A116 <>\"\", [1]GeralMinuta!A116,\"\")","v":"2 CA 02 AWG Vão 35m "},{"$f":"IF( [1]GeralMinuta!B116 <>\"\", [1]GeralMinuta!B116,\"\")","v":120}]
[{"$f":"IF( [1]GeralMinuta!A117 <>\"\", [1]GeralMinuta!A117,\"\")","v":"2 CA 1/0 AWG Vão 35m "},{"$f":"IF( [1]GeralMinuta!B117 <>\"\", [1]GeralMinuta!B117,\"\")","v":192}]
[{"$f":"IF( [1]GeralMinuta!A118 <>\"\", [1]GeralMinuta!A118,\"\")","v":"2 CA 2/0 AWG Vão 35m "},{"$f":"IF( [1]GeralMinuta!B118 <>\"\", [1]GeralMinuta!B118,\"\")","v":242}]
[{"$f":"IF( [1]GeralMinuta!A119 <>\"\", [1]GeralMinuta!A119,\"\")","v":"2 CA 4/0 AWG Vão 35m "},{"$f":"IF( [1]GeralMinuta!B119 <>\"\", [1]GeralMinuta!B119,\"\")","v":388}]
[{"$f":"IF( [1]GeralMinuta!A120 <>\"\", [1]GeralMinuta!A120,\"\")","v":"2 CA 336,4 MCM Vão 35m "},{"$f":"IF( [1]GeralMinuta!B120 <>\"\", [1]GeralMinuta!B120,\"\")","v":616}]
[{"$f":"IF( [1]GeralMinuta!A121 <>\"\", [1]GeralMinuta!A121,\"\")","v":"2 CA 477 MCM Vão 35m "},{"$f":"IF( [1]GeralMinuta!B121 <>\"\", [1]GeralMinuta!B121,\"\")","v":870}]
[{"$f":"IF( [1]GeralMinuta!A122 <>\"\", [1]GeralMinuta!A122,\"\")","v":""},{"$f":"IF( [1]GeralMinuta!B122 <>\"\", [1]GeralMinuta!B122,\"\")","v":""}]
[{"$f":"IF( [1]GeralMinuta!A123 <>\"\", [1]GeralMinuta!A123,\"\")","v":"2 CA 02 AWG Vão 35m RGE"},{"$f":"IF( [1]GeralMinuta!B123 <>\"\", [1]GeralMinuta!B123,\"\")","v":150}]
[{"$f":"IF( [1]GeralMinuta!A124 <>\"\", [1]GeralMinuta!A124,\"\")","v":"2 CA 1/0 AWG Vão 35m RGE"},{"$f":"IF( [1]GeralMinuta!B124 <>\"\", [1]GeralMinuta!B124,\"\")","v":1546}]
[{"$f":"IF( [1]GeralMinuta!A125 <>\"\", [1]GeralMinuta!A125,\"\")","v":"2 CA 2/0 AWG Vão 35m RGE"},{"$f":"IF( [1]GeralMinuta!B125 <>\"\", [1]GeralMinuta!B125,\"\")","v":300}]
[{"$f":"IF( [1]GeralMinuta!A126 <>\"\", [1]GeralMinuta!A126,\"\")","v":"2 CA 4/0 AWG Vão 35m RGE"},{"$f":"IF( [1]GeralMinuta!B126 <>\"\", [1]GeralMinuta!B126,\"\")","v":480}]
[{"$f":"IF( [1]GeralMinuta!A127 <>\"\", [1]GeralMinuta!A127,\"\")","v":"2 CA 336,4 MCM Vão 35m RGE"},{"$f":"IF( [1]GeralMinuta!B127 <>\"\", [1]GeralMinuta!B127,\"\")","v":762}]
[{"$f":"IF( [1]GeralMinuta!A128 <>\"\", [1]GeralMinuta!A128,\"\")","v":"2 CA 477 MCM Vão 35m RGE"},{"$f":"IF( [1]GeralMinuta!B128 <>\"\", [1]GeralMinuta!B128,\"\")","v":1078}]
[{"$f":"IF( [1]GeralMinuta!A129 <>\"\", [1]GeralMinuta!A129,\"\")","v":""},{"$f":"IF( [1]GeralMinuta!B129 <>\"\", [1]GeralMinuta!B129,\"\")","v":""}]
[{"$f":"IF( [1]GeralMinuta!A130 <>\"\", [1]GeralMinuta!A130,\"\")","v":"2 CA 02 AWG Vão 80m "},{"$f":"IF( [1]GeralMinuta!B130 <>\"\", [1]GeralMinuta!B130,\"\")","v":266}]
[{"$f":"IF( [1]GeralMinuta!A131 <>\"\", [1]GeralMinuta!A131,\"\")","v":"2 CA 1/0 AWG Vão 80m "},{"$f":"IF( [1]GeralMinuta!B131 <>\"\", [1]GeralMinuta!B131,\"\")","v":372}]
[{"$f":"IF( [1]GeralMinuta!A132 <>\"\", [1]GeralMinuta!A132,\"\")","v":"2 CA 2/0 AWG Vão 80m "},{"$f":"IF( [1]GeralMinuta!B132 <>\"\", [1]GeralMinuta!B132,\"\")","v":440}]
[{"$f":"IF( [1]GeralMinuta!A133 <>\"\", [1]GeralMinuta!A133,\"\")","v":"2 CA 4/0 AWG Vão 80m "},{"$f":"IF( [1]GeralMinuta!B133 <>\"\", [1]GeralMinuta!B133,\"\")","v":630}]
[{"$f":"IF( [1]GeralMinuta!A134 <>\"\", [1]GeralMinuta!A134,\"\")","v":"2 CA 336,4 MCM Vão 80m "},{"$f":"IF( [1]GeralMinuta!B134 <>\"\", [1]GeralMinuta!B134,\"\")","v":966}]
[{"$f":"IF( [1]GeralMinuta!A135 <>\"\", [1]GeralMinuta!A135,\"\")","v":"2 CA 477 MCM Vão 80m "},{"$f":"IF( [1]GeralMinuta!B135 <>\"\", [1]GeralMinuta!B135,\"\")","v":1366}]
[{"$f":"IF( [1]GeralMinuta!A136 <>\"\", [1]GeralMinuta!A136,\"\")","v":""},{"$f":"IF( [1]GeralMinuta!B136 <>\"\", [1]GeralMinuta!B136,\"\")","v":""}]
[{"$f":"IF( [1]GeralMinuta!A137 <>\"\", [1]GeralMinuta!A137,\"\")","v":"2 CA 02 AWG Vão 80m RGE"},{"$f":"IF( [1]GeralMinuta!B137 <>\"\", [1]GeralMinuta!B137,\"\")","v":266}]
[{"$f":"IF( [1]GeralMinuta!A138 <>\"\", [1]GeralMinuta!A138,\"\")","v":"2 CA 1/0 AWG Vão 80m RGE"},{"$f":"IF( [1]GeralMinuta!B138 <>\"\", [1]GeralMinuta!B138,\"\")","v":372}]
[{"$f":"IF( [1]GeralMinuta!A139 <>\"\", [1]GeralMinuta!A139,\"\")","v":"2 CA 2/0 AWG Vão 80m RGE"},{"$f":"IF( [1]GeralMinuta!B139 <>\"\", [1]GeralMinuta!B139,\"\")","v":440}]
[{"$f":"IF( [1]GeralMinuta!A140 <>\"\", [1]GeralMinuta!A140,\"\")","v":"2 CA 4/0 AWG Vão 80m RGE"},{"$f":"IF( [1]GeralMinuta!B140 <>\"\", [1]GeralMinuta!B140,\"\")","v":686}]
[{"$f":"IF( [1]GeralMinuta!A141 <>\"\", [1]GeralMinuta!A141,\"\")","v":"2 CA 336,4 MCM Vão 80m RGE"},{"$f":"IF( [1]GeralMinuta!B141 <>\"\", [1]GeralMinuta!B141,\"\")","v":1088}]
[{"$f":"IF( [1]GeralMinuta!A142 <>\"\", [1]GeralMinuta!A142,\"\")","v":"2 CA 477 MCM Vão 80m RGE"},{"$f":"IF( [1]GeralMinuta!B142 <>\"\", [1]GeralMinuta!B142,\"\")","v":1540}]
[{"$f":"IF( [1]GeralMinuta!A143 <>\"\", [1]GeralMinuta!A143,\"\")","v":""},{"$f":"IF( [1]GeralMinuta!B143 <>\"\", [1]GeralMinuta!B143,\"\")","v":""}]
[{"$f":"IF( [1]GeralMinuta!A144 <>\"\", [1]GeralMinuta!A144,\"\")","v":"2 CA 04 AWG Vão 40m "},{"$f":"IF( [1]GeralMinuta!B144 <>\"\", [1]GeralMinuta!B144,\"\")","v":126}]
[{"$f":"IF( [1]GeralMinuta!A145 <>\"\", [1]GeralMinuta!A145,\"\")","v":"2 CA 02 AWG Vão 40m "},{"$f":"IF( [1]GeralMinuta!B145 <>\"\", [1]GeralMinuta!B145,\"\")","v":200}]
[{"$f":"IF( [1]GeralMinuta!A146 <>\"\", [1]GeralMinuta!A146,\"\")","v":"2 CA 1/0 AWG Vão 40m "},{"$f":"IF( [1]GeralMinuta!B146 <>\"\", [1]GeralMinuta!B146,\"\")","v":320}]
[{"$f":"IF( [1]GeralMinuta!A147 <>\"\", [1]GeralMinuta!A147,\"\")","v":"2 CA 2/0 AWG Vão 40m "},{"$f":"IF( [1]GeralMinuta!B147 <>\"\", [1]GeralMinuta!B147,\"\")","v":402}]
[{"$f":"IF( [1]GeralMinuta!A148 <>\"\", [1]GeralMinuta!A148,\"\")","v":"2 CA 4/0 AWG Vão 40m "},{"$f":"IF( [1]GeralMinuta!B148 <>\"\", [1]GeralMinuta!B148,\"\")","v":640}]
[{"$f":"IF( [1]GeralMinuta!A149 <>\"\", [1]GeralMinuta!A149,\"\")","v":""},{"$f":"IF( [1]GeralMinuta!B149 <>\"\", [1]GeralMinuta!B149,\"\")","v":""}]
[{"$f":"IF( [1]GeralMinuta!A150 <>\"\", [1]GeralMinuta!A150,\"\")","v":"2 CAA 04 AWG Vão 40m RGE"},{"$f":"IF( [1]GeralMinuta!B150 <>\"\", [1]GeralMinuta!B150,\"\")","v":150}]
[{"$f":"IF( [1]GeralMinuta!A151 <>\"\", [1]GeralMinuta!A151,\"\")","v":"2 CAA 02 AWG Vão 40m RGE"},{"$f":"IF( [1]GeralMinuta!B151 <>\"\", [1]GeralMinuta!B151,\"\")","v":238}]
[{"$f":"IF( [1]GeralMinuta!A152 <>\"\", [1]GeralMinuta!A152,\"\")","v":"2 CAA 1/0 AWG Vão 40m RGE"},{"$f":"IF( [1]GeralMinuta!B152 <>\"\", [1]GeralMinuta!B152,\"\")","v":380}]
[{"$f":"IF( [1]GeralMinuta!A153 <>\"\", [1]GeralMinuta!A153,\"\")","v":"2 CAA 2/0 AWG Vão 40m RGE"},{"$f":"IF( [1]GeralMinuta!B153 <>\"\", [1]GeralMinuta!B153,\"\")","v":480}]
[{"$f":"IF( [1]GeralMinuta!A154 <>\"\", [1]GeralMinuta!A154,\"\")","v":"2 CAA 4/0 AWG Vão 40m RGE"},{"$f":"IF( [1]GeralMinuta!B154 <>\"\", [1]GeralMinuta!B154,\"\")","v":762}]
[{"$f":"IF( [1]GeralMinuta!A155 <>\"\", [1]GeralMinuta!A155,\"\")","v":""},{"$f":"IF( [1]GeralMinuta!B155 <>\"\", [1]GeralMinuta!B155,\"\")","v":""}]
[{"$f":"IF( [1]GeralMinuta!A156 <>\"\", [1]GeralMinuta!A156,\"\")","v":"2 CAA 04 AWG Vão 80m "},{"$f":"IF( [1]GeralMinuta!B156 <>\"\", [1]GeralMinuta!B156,\"\")","v":270}]
[{"$f":"IF( [1]GeralMinuta!A157 <>\"\", [1]GeralMinuta!A157,\"\")","v":"2 CAA 02 AWG Vão 80m "},{"$f":"IF( [1]GeralMinuta!B157 <>\"\", [1]GeralMinuta!B157,\"\")","v":382}]
[{"$f":"IF( [1]GeralMinuta!A158 <>\"\", [1]GeralMinuta!A158,\"\")","v":"2 CAA 1/0 AWG Vão 80m "},{"$f":"IF( [1]GeralMinuta!B158 <>\"\", [1]GeralMinuta!B158,\"\")","v":550}]
[{"$f":"IF( [1]GeralMinuta!A159 <>\"\", [1]GeralMinuta!A159,\"\")","v":"2 CAA 2/0 AWG Vão 80m "},{"$f":"IF( [1]GeralMinuta!B159 <>\"\", [1]GeralMinuta!B159,\"\")","v":692}]
[{"$f":"IF( [1]GeralMinuta!A160 <>\"\", [1]GeralMinuta!A160,\"\")","v":"2 CAA 4/0 AWG Vão 80m "},{"$f":"IF( [1]GeralMinuta!B160 <>\"\", [1]GeralMinuta!B160,\"\")","v":1102}]
[{"$f":"IF( [1]GeralMinuta!A161 <>\"\", [1]GeralMinuta!A161,\"\")","v":"2 CAA 336,4 MCM Vão 80m "},{"$f":"IF( [1]GeralMinuta!B161 <>\"\", [1]GeralMinuta!B161,\"\")","v":1752}]
[{"$f":"IF( [1]GeralMinuta!A162 <>\"\", [1]GeralMinuta!A162,\"\")","v":""},{"$f":"IF( [1]GeralMinuta!B162 <>\"\", [1]GeralMinuta!B162,\"\")","v":""}]
[{"$f":"IF( [1]GeralMinuta!A163 <>\"\", [1]GeralMinuta!A163,\"\")","v":"2 CAA 04 AWG Vão 80m RGE"},{"$f":"IF( [1]GeralMinuta!B163 <>\"\", [1]GeralMinuta!B163,\"\")","v":270}]
[{"$f":"IF( [1]GeralMinuta!A164 <>\"\", [1]GeralMinuta!A164,\"\")","v":"2 CAA 02 AWG Vão 80m RGE"},{"$f":"IF( [1]GeralMinuta!B164 <>\"\", [1]GeralMinuta!B164,\"\")","v":384}]
[{"$f":"IF( [1]GeralMinuta!A165 <>\"\", [1]GeralMinuta!A165,\"\")","v":"2 CAA 1/0 AWG Vão 80m RGE"},{"$f":"IF( [1]GeralMinuta!B165 <>\"\", [1]GeralMinuta!B165,\"\")","v":610}]
[{"$f":"IF( [1]GeralMinuta!A166 <>\"\", [1]GeralMinuta!A166,\"\")","v":"2 CAA 2/0 AWG Vão 80m RGE"},{"$f":"IF( [1]GeralMinuta!B166 <>\"\", [1]GeralMinuta!B166,\"\")","v":768}]
[{"$f":"IF( [1]GeralMinuta!A167 <>\"\", [1]GeralMinuta!A167,\"\")","v":"2 CAA 4/0 AWG Vão 80m RGE"},{"$f":"IF( [1]GeralMinuta!B167 <>\"\", [1]GeralMinuta!B167,\"\")","v":1222}]
[{"$f":"IF( [1]GeralMinuta!A168 <>\"\", [1]GeralMinuta!A168,\"\")","v":"2 CAA 336,4 MCM Vão 80m RGE"},{"$f":"IF( [1]GeralMinuta!B168 <>\"\", [1]GeralMinuta!B168,\"\")","v":1944}]
[{"$f":"IF( [1]GeralMinuta!A169 <>\"\", [1]GeralMinuta!A169,\"\")","v":""},{"$f":"IF( [1]GeralMinuta!B169 <>\"\", [1]GeralMinuta!B169,\"\")","v":""}]
[{"$f":"IF( [1]GeralMinuta!A170 <>\"\", [1]GeralMinuta!A170,\"\")","v":"2 CAA 04 AWG Vão 120m "},{"$f":"IF( [1]GeralMinuta!B170 <>\"\", [1]GeralMinuta!B170,\"\")","v":350}]
[{"$f":"IF( [1]GeralMinuta!A171 <>\"\", [1]GeralMinuta!A171,\"\")","v":"2 CAA 02 AWG Vão 120m "},{"$f":"IF( [1]GeralMinuta!B171 <>\"\", [1]GeralMinuta!B171,\"\")","v":494}]
[{"$f":"IF( [1]GeralMinuta!A172 <>\"\", [1]GeralMinuta!A172,\"\")","v":"2 CAA 1/0 AWG Vão 120m "},{"$f":"IF( [1]GeralMinuta!B172 <>\"\", [1]GeralMinuta!B172,\"\")","v":710}]
[{"$f":"IF( [1]GeralMinuta!A173 <>\"\", [1]GeralMinuta!A173,\"\")","v":"2 CAA 2/0 AWG Vão 120m "},{"$f":"IF( [1]GeralMinuta!B173 <>\"\", [1]GeralMinuta!B173,\"\")","v":856}]
[{"$f":"IF( [1]GeralMinuta!A174 <>\"\", [1]GeralMinuta!A174,\"\")","v":"2 CAA 4/0 AWG Vão 120m "},{"$f":"IF( [1]GeralMinuta!B174 <>\"\", [1]GeralMinuta!B174,\"\")","v":1304}]
[{"$f":"IF( [1]GeralMinuta!A175 <>\"\", [1]GeralMinuta!A175,\"\")","v":"2 CAA 336,4 MCM Vão 120m "},{"$f":"IF( [1]GeralMinuta!B175 <>\"\", [1]GeralMinuta!B175,\"\")","v":2070}]
[{"$f":"IF( [1]GeralMinuta!A176 <>\"\", [1]GeralMinuta!A176,\"\")","v":""},{"$f":"IF( [1]GeralMinuta!B176 <>\"\", [1]GeralMinuta!B176,\"\")","v":""}]
[{"$f":"IF( [1]GeralMinuta!A177 <>\"\", [1]GeralMinuta!A177,\"\")","v":"2 CAA 04 AWG Vão 120m RGE"},{"$f":"IF( [1]GeralMinuta!B177 <>\"\", [1]GeralMinuta!B177,\"\")","v":350}]
[{"$f":"IF( [1]GeralMinuta!A178 <>\"\", [1]GeralMinuta!A178,\"\")","v":"2 CAA 02 AWG Vão 120m RGE"},{"$f":"IF( [1]GeralMinuta!B178 <>\"\", [1]GeralMinuta!B178,\"\")","v":494}]
[{"$f":"IF( [1]GeralMinuta!A179 <>\"\", [1]GeralMinuta!A179,\"\")","v":"2 CAA 1/0 AWG Vão 120m RGE"},{"$f":"IF( [1]GeralMinuta!B179 <>\"\", [1]GeralMinuta!B179,\"\")","v":710}]
[{"$f":"IF( [1]GeralMinuta!A180 <>\"\", [1]GeralMinuta!A180,\"\")","v":"2 CAA 2/0 AWG Vão 120m RGE"},{"$f":"IF( [1]GeralMinuta!B180 <>\"\", [1]GeralMinuta!B180,\"\")","v":886}]
[{"$f":"IF( [1]GeralMinuta!A181 <>\"\", [1]GeralMinuta!A181,\"\")","v":"2 CAA 4/0 AWG Vão 120m RGE"},{"$f":"IF( [1]GeralMinuta!B181 <>\"\", [1]GeralMinuta!B181,\"\")","v":1410}]
[{"$f":"IF( [1]GeralMinuta!A182 <>\"\", [1]GeralMinuta!A182,\"\")","v":"2 CAA 336,4 MCM Vão 120m RGE"},{"$f":"IF( [1]GeralMinuta!B182 <>\"\", [1]GeralMinuta!B182,\"\")","v":2240}]
[{"$f":"IF( [1]GeralMinuta!A183 <>\"\", [1]GeralMinuta!A183,\"\")","v":""},{"$f":"IF( [1]GeralMinuta!B183 <>\"\", [1]GeralMinuta!B183,\"\")","v":""}]
[{"$f":"IF( [1]GeralMinuta!A184 <>\"\", [1]GeralMinuta!A184,\"\")","v":"2 CU 06 AWG Vão 35m  "},{"$f":"IF( [1]GeralMinuta!B184 <>\"\", [1]GeralMinuta!B184,\"\")","v":112}]
[{"$f":"IF( [1]GeralMinuta!A185 <>\"\", [1]GeralMinuta!A185,\"\")","v":"2 CU 02 AWG Vão 35m  "},{"$f":"IF( [1]GeralMinuta!B185 <>\"\", [1]GeralMinuta!B185,\"\")","v":282}]
[{"$f":"IF( [1]GeralMinuta!A186 <>\"\", [1]GeralMinuta!A186,\"\")","v":"2 CU 1/0 AWG Vão 35m  "},{"$f":"IF( [1]GeralMinuta!B186 <>\"\", [1]GeralMinuta!B186,\"\")","v":416}]
[{"$f":"IF( [1]GeralMinuta!A187 <>\"\", [1]GeralMinuta!A187,\"\")","v":"2 CU 2/0 AWG Vão 35m  "},{"$f":"IF( [1]GeralMinuta!B187 <>\"\", [1]GeralMinuta!B187,\"\")","v":514}]
[{"$f":"IF( [1]GeralMinuta!A188 <>\"\", [1]GeralMinuta!A188,\"\")","v":"2 CU 4/0 AWG Vão 35m  "},{"$f":"IF( [1]GeralMinuta!B188 <>\"\", [1]GeralMinuta!B188,\"\")","v":792}]
[{"$f":"IF( [1]GeralMinuta!A189 <>\"\", [1]GeralMinuta!A189,\"\")","v":""},{"$f":"IF( [1]GeralMinuta!B189 <>\"\", [1]GeralMinuta!B189,\"\")","v":""}]
[{"$f":"IF( [1]GeralMinuta!A190 <>\"\", [1]GeralMinuta!A190,\"\")","v":"1 CU 06 AWG Vão 35m  RGE"},{"$f":"IF( [1]GeralMinuta!B190 <>\"\", [1]GeralMinuta!B190,\"\")","v":56}]
[{"$f":"IF( [1]GeralMinuta!A191 <>\"\", [1]GeralMinuta!A191,\"\")","v":"1 CU 02 AWG Vão 35m  RGE"},{"$f":"IF( [1]GeralMinuta!B191 <>\"\", [1]GeralMinuta!B191,\"\")","v":141}]
[{"$f":"IF( [1]GeralMinuta!A192 <>\"\", [1]GeralMinuta!A192,\"\")","v":"1 CU 1/0 AWG Vão 35m  RGE"},{"$f":"IF( [1]GeralMinuta!B192 <>\"\", [1]GeralMinuta!B192,\"\")","v":208}]
[{"$f":"IF( [1]GeralMinuta!A193 <>\"\", [1]GeralMinuta!A193,\"\")","v":"1 CU 2/0 AWG Vão 35m  RGE"},{"$f":"IF( [1]GeralMinuta!B193 <>\"\", [1]GeralMinuta!B193,\"\")","v":257}]
[{"$f":"IF( [1]GeralMinuta!A194 <>\"\", [1]GeralMinuta!A194,\"\")","v":"1 CU 4/0 AWG Vão 35m  RGE"},{"$f":"IF( [1]GeralMinuta!B194 <>\"\", [1]GeralMinuta!B194,\"\")","v":396}]
[{"$f":"IF( [1]GeralMinuta!A195 <>\"\", [1]GeralMinuta!A195,\"\")","v":""},{"$f":"IF( [1]GeralMinuta!B195 <>\"\", [1]GeralMinuta!B195,\"\")","v":""}]
[{"$f":"IF( [1]GeralMinuta!A196 <>\"\", [1]GeralMinuta!A196,\"\")","v":"1 CA 02 AWG Vão 35m "},{"$f":"IF( [1]GeralMinuta!B196 <>\"\", [1]GeralMinuta!B196,\"\")","v":60}]
[{"$f":"IF( [1]GeralMinuta!A197 <>\"\", [1]GeralMinuta!A197,\"\")","v":"1 CA 1/0 AWG Vão 35m "},{"$f":"IF( [1]GeralMinuta!B197 <>\"\", [1]GeralMinuta!B197,\"\")","v":96}]
[{"$f":"IF( [1]GeralMinuta!A198 <>\"\", [1]GeralMinuta!A198,\"\")","v":"1 CA 2/0 AWG Vão 35m "},{"$f":"IF( [1]GeralMinuta!B198 <>\"\", [1]GeralMinuta!B198,\"\")","v":121}]
[{"$f":"IF( [1]GeralMinuta!A199 <>\"\", [1]GeralMinuta!A199,\"\")","v":"1 CA 4/0 AWG Vão 35m "},{"$f":"IF( [1]GeralMinuta!B199 <>\"\", [1]GeralMinuta!B199,\"\")","v":194}]
[{"$f":"IF( [1]GeralMinuta!A200 <>\"\", [1]GeralMinuta!A200,\"\")","v":"1 CA 336,4 MCM Vão 35m "},{"$f":"IF( [1]GeralMinuta!B200 <>\"\", [1]GeralMinuta!B200,\"\")","v":308}]
[{"$f":"IF( [1]GeralMinuta!A201 <>\"\", [1]GeralMinuta!A201,\"\")","v":"1 CA 477 MCM Vão 35m "},{"$f":"IF( [1]GeralMinuta!B201 <>\"\", [1]GeralMinuta!B201,\"\")","v":435}]
[{"$f":"IF( [1]GeralMinuta!A202 <>\"\", [1]GeralMinuta!A202,\"\")","v":""},{"$f":"IF( [1]GeralMinuta!B202 <>\"\", [1]GeralMinuta!B202,\"\")","v":""}]
[{"$f":"IF( [1]GeralMinuta!A203 <>\"\", [1]GeralMinuta!A203,\"\")","v":"1 CA 02 AWG Vão 35m RGE"},{"$f":"IF( [1]GeralMinuta!B203 <>\"\", [1]GeralMinuta!B203,\"\")","v":75}]
[{"$f":"IF( [1]GeralMinuta!A204 <>\"\", [1]GeralMinuta!A204,\"\")","v":"1 CA 1/0 AWG Vão 35m RGE"},{"$f":"IF( [1]GeralMinuta!B204 <>\"\", [1]GeralMinuta!B204,\"\")","v":119}]
[{"$f":"IF( [1]GeralMinuta!A205 <>\"\", [1]GeralMinuta!A205,\"\")","v":"1 CA 2/0 AWG Vão 35m RGE"},{"$f":"IF( [1]GeralMinuta!B205 <>\"\", [1]GeralMinuta!B205,\"\")","v":150}]
[{"$f":"IF( [1]GeralMinuta!A206 <>\"\", [1]GeralMinuta!A206,\"\")","v":"1 CA 4/0 AWG Vão 35m RGE"},{"$f":"IF( [1]GeralMinuta!B206 <>\"\", [1]GeralMinuta!B206,\"\")","v":240}]
[{"$f":"IF( [1]GeralMinuta!A207 <>\"\", [1]GeralMinuta!A207,\"\")","v":"1 CA 336,4 MCM Vão 35m RGE"},{"$f":"IF( [1]GeralMinuta!B207 <>\"\", [1]GeralMinuta!B207,\"\")","v":381}]
[{"$f":"IF( [1]GeralMinuta!A208 <>\"\", [1]GeralMinuta!A208,\"\")","v":"1 CA 477 MCM Vão 35m RGE"},{"$f":"IF( [1]GeralMinuta!B208 <>\"\", [1]GeralMinuta!B208,\"\")","v":539}]
[{"$f":"IF( [1]GeralMinuta!A209 <>\"\", [1]GeralMinuta!A209,\"\")","v":""},{"$f":"IF( [1]GeralMinuta!B209 <>\"\", [1]GeralMinuta!B209,\"\")","v":""}]
[{"$f":"IF( [1]GeralMinuta!A210 <>\"\", [1]GeralMinuta!A210,\"\")","v":"1 CA 02 AWG Vão 80m "},{"$f":"IF( [1]GeralMinuta!B210 <>\"\", [1]GeralMinuta!B210,\"\")","v":133}]
[{"$f":"IF( [1]GeralMinuta!A211 <>\"\", [1]GeralMinuta!A211,\"\")","v":"1 CA 1/0 AWG Vão 80m "},{"$f":"IF( [1]GeralMinuta!B211 <>\"\", [1]GeralMinuta!B211,\"\")","v":186}]
[{"$f":"IF( [1]GeralMinuta!A212 <>\"\", [1]GeralMinuta!A212,\"\")","v":"1 CA 2/0 AWG Vão 80m "},{"$f":"IF( [1]GeralMinuta!B212 <>\"\", [1]GeralMinuta!B212,\"\")","v":220}]
[{"$f":"IF( [1]GeralMinuta!A213 <>\"\", [1]GeralMinuta!A213,\"\")","v":"1 CA 4/0 AWG Vão 80m "},{"$f":"IF( [1]GeralMinuta!B213 <>\"\", [1]GeralMinuta!B213,\"\")","v":315}]
[{"$f":"IF( [1]GeralMinuta!A214 <>\"\", [1]GeralMinuta!A214,\"\")","v":"1 CA 336,4 MCM Vão 80m "},{"$f":"IF( [1]GeralMinuta!B214 <>\"\", [1]GeralMinuta!B214,\"\")","v":483}]
[{"$f":"IF( [1]GeralMinuta!A215 <>\"\", [1]GeralMinuta!A215,\"\")","v":"1 CA 477 MCM Vão 80m "},{"$f":"IF( [1]GeralMinuta!B215 <>\"\", [1]GeralMinuta!B215,\"\")","v":683}]
[{"$f":"IF( [1]GeralMinuta!A216 <>\"\", [1]GeralMinuta!A216,\"\")","v":""},{"$f":"IF( [1]GeralMinuta!B216 <>\"\", [1]GeralMinuta!B216,\"\")","v":""}]
[{"$f":"IF( [1]GeralMinuta!A217 <>\"\", [1]GeralMinuta!A217,\"\")","v":"1 CA 02 AWG Vão 80m RGE"},{"$f":"IF( [1]GeralMinuta!B217 <>\"\", [1]GeralMinuta!B217,\"\")","v":133}]
[{"$f":"IF( [1]GeralMinuta!A218 <>\"\", [1]GeralMinuta!A218,\"\")","v":"1 CA 1/0 AWG Vão 80m RGE"},{"$f":"IF( [1]GeralMinuta!B218 <>\"\", [1]GeralMinuta!B218,\"\")","v":186}]
[{"$f":"IF( [1]GeralMinuta!A219 <>\"\", [1]GeralMinuta!A219,\"\")","v":"1 CA 2/0 AWG Vão 80m RGE"},{"$f":"IF( [1]GeralMinuta!B219 <>\"\", [1]GeralMinuta!B219,\"\")","v":220}]
[{"$f":"IF( [1]GeralMinuta!A220 <>\"\", [1]GeralMinuta!A220,\"\")","v":"1 CA 4/0 AWG Vão 80m RGE"},{"$f":"IF( [1]GeralMinuta!B220 <>\"\", [1]GeralMinuta!B220,\"\")","v":343}]
[{"$f":"IF( [1]GeralMinuta!A221 <>\"\", [1]GeralMinuta!A221,\"\")","v":"1 CA 336,4 MCM Vão 80m RGE"},{"$f":"IF( [1]GeralMinuta!B221 <>\"\", [1]GeralMinuta!B221,\"\")","v":544}]
[{"$f":"IF( [1]GeralMinuta!A222 <>\"\", [1]GeralMinuta!A222,\"\")","v":"1 CA 477 MCM Vão 80m RGE"},{"$f":"IF( [1]GeralMinuta!B222 <>\"\", [1]GeralMinuta!B222,\"\")","v":770}]
[{"$f":"IF( [1]GeralMinuta!A223 <>\"\", [1]GeralMinuta!A223,\"\")","v":""},{"$f":"IF( [1]GeralMinuta!B223 <>\"\", [1]GeralMinuta!B223,\"\")","v":""}]
[{"$f":"IF( [1]GeralMinuta!A224 <>\"\", [1]GeralMinuta!A224,\"\")","v":"1 CAA 04 AWG Vão 40m "},{"$f":"IF( [1]GeralMinuta!B224 <>\"\", [1]GeralMinuta!B224,\"\")","v":63}]
[{"$f":"IF( [1]GeralMinuta!A225 <>\"\", [1]GeralMinuta!A225,\"\")","v":"1 CAA 02 AWG Vão 40m "},{"$f":"IF( [1]GeralMinuta!B225 <>\"\", [1]GeralMinuta!B225,\"\")","v":100}]
[{"$f":"IF( [1]GeralMinuta!A226 <>\"\", [1]GeralMinuta!A226,\"\")","v":"1 CAA 1/0 AWG Vão 40m "},{"$f":"IF( [1]GeralMinuta!B226 <>\"\", [1]GeralMinuta!B226,\"\")","v":160}]
[{"$f":"IF( [1]GeralMinuta!A227 <>\"\", [1]GeralMinuta!A227,\"\")","v":"1 CAA 2/0 AWG Vão 40m "},{"$f":"IF( [1]GeralMinuta!B227 <>\"\", [1]GeralMinuta!B227,\"\")","v":201}]
[{"$f":"IF( [1]GeralMinuta!A228 <>\"\", [1]GeralMinuta!A228,\"\")","v":"1 CAA 4/0 AWG Vão 40m "},{"$f":"IF( [1]GeralMinuta!B228 <>\"\", [1]GeralMinuta!B228,\"\")","v":320}]
[{"$f":"IF( [1]GeralMinuta!A229 <>\"\", [1]GeralMinuta!A229,\"\")","v":""},{"$f":"IF( [1]GeralMinuta!B229 <>\"\", [1]GeralMinuta!B229,\"\")","v":""}]
[{"$f":"IF( [1]GeralMinuta!A230 <>\"\", [1]GeralMinuta!A230,\"\")","v":"1 CAA 04 AWG Vão 40m RGE"},{"$f":"IF( [1]GeralMinuta!B230 <>\"\", [1]GeralMinuta!B230,\"\")","v":75}]
[{"$f":"IF( [1]GeralMinuta!A231 <>\"\", [1]GeralMinuta!A231,\"\")","v":"1 CAA 02 AWG Vão 40m RGE"},{"$f":"IF( [1]GeralMinuta!B231 <>\"\", [1]GeralMinuta!B231,\"\")","v":119}]
[{"$f":"IF( [1]GeralMinuta!A232 <>\"\", [1]GeralMinuta!A232,\"\")","v":"1 CAA 1/0 AWG Vão 40m RGE"},{"$f":"IF( [1]GeralMinuta!B232 <>\"\", [1]GeralMinuta!B232,\"\")","v":190}]
[{"$f":"IF( [1]GeralMinuta!A233 <>\"\", [1]GeralMinuta!A233,\"\")","v":"1 CAA 2/0 AWG Vão 40m RGE"},{"$f":"IF( [1]GeralMinuta!B233 <>\"\", [1]GeralMinuta!B233,\"\")","v":240}]
[{"$f":"IF( [1]GeralMinuta!A234 <>\"\", [1]GeralMinuta!A234,\"\")","v":"1 CAA 4/0 AWG Vão 40m RGE"},{"$f":"IF( [1]GeralMinuta!B234 <>\"\", [1]GeralMinuta!B234,\"\")","v":381}]
[{"$f":"IF( [1]GeralMinuta!A235 <>\"\", [1]GeralMinuta!A235,\"\")","v":""},{"$f":"IF( [1]GeralMinuta!B235 <>\"\", [1]GeralMinuta!B235,\"\")","v":""}]
[{"$f":"IF( [1]GeralMinuta!A236 <>\"\", [1]GeralMinuta!A236,\"\")","v":"1 CAA 04 AWG Vão 80m "},{"$f":"IF( [1]GeralMinuta!B236 <>\"\", [1]GeralMinuta!B236,\"\")","v":135}]
[{"$f":"IF( [1]GeralMinuta!A237 <>\"\", [1]GeralMinuta!A237,\"\")","v":"1 CAA 02 AWG Vão 80m "},{"$f":"IF( [1]GeralMinuta!B237 <>\"\", [1]GeralMinuta!B237,\"\")","v":191}]
[{"$f":"IF( [1]GeralMinuta!A238 <>\"\", [1]GeralMinuta!A238,\"\")","v":"1 CAA 1/0 AWG Vão 80m "},{"$f":"IF( [1]GeralMinuta!B238 <>\"\", [1]GeralMinuta!B238,\"\")","v":275}]
[{"$f":"IF( [1]GeralMinuta!A239 <>\"\", [1]GeralMinuta!A239,\"\")","v":"1 CAA 2/0 AWG Vão 80m "},{"$f":"IF( [1]GeralMinuta!B239 <>\"\", [1]GeralMinuta!B239,\"\")","v":346}]
[{"$f":"IF( [1]GeralMinuta!A240 <>\"\", [1]GeralMinuta!A240,\"\")","v":"1 CAA 4/0 AWG Vão 80m "},{"$f":"IF( [1]GeralMinuta!B240 <>\"\", [1]GeralMinuta!B240,\"\")","v":551}]
[{"$f":"IF( [1]GeralMinuta!A241 <>\"\", [1]GeralMinuta!A241,\"\")","v":"1 CAA 336,4 MCM Vão 80m "},{"$f":"IF( [1]GeralMinuta!B241 <>\"\", [1]GeralMinuta!B241,\"\")","v":876}]
[{"$f":"IF( [1]GeralMinuta!A242 <>\"\", [1]GeralMinuta!A242,\"\")","v":""},{"$f":"IF( [1]GeralMinuta!B242 <>\"\", [1]GeralMinuta!B242,\"\")","v":""}]
[{"$f":"IF( [1]GeralMinuta!A243 <>\"\", [1]GeralMinuta!A243,\"\")","v":"1 CAA 04 AWG Vão 80m RGE"},{"$f":"IF( [1]GeralMinuta!B243 <>\"\", [1]GeralMinuta!B243,\"\")","v":135}]
[{"$f":"IF( [1]GeralMinuta!A244 <>\"\", [1]GeralMinuta!A244,\"\")","v":"1 CAA 02 AWG Vão 80m RGE"},{"$f":"IF( [1]GeralMinuta!B244 <>\"\", [1]GeralMinuta!B244,\"\")","v":192}]
[{"$f":"IF( [1]GeralMinuta!A245 <>\"\", [1]GeralMinuta!A245,\"\")","v":"1 CAA 1/0 AWG Vão 80m RGE"},{"$f":"IF( [1]GeralMinuta!B245 <>\"\", [1]GeralMinuta!B245,\"\")","v":305}]
[{"$f":"IF( [1]GeralMinuta!A246 <>\"\", [1]GeralMinuta!A246,\"\")","v":"1 CAA 2/0 AWG Vão 80m RGE"},{"$f":"IF( [1]GeralMinuta!B246 <>\"\", [1]GeralMinuta!B246,\"\")","v":384}]
[{"$f":"IF( [1]GeralMinuta!A247 <>\"\", [1]GeralMinuta!A247,\"\")","v":"1 CAA 4/0 AWG Vão 80m RGE"},{"$f":"IF( [1]GeralMinuta!B247 <>\"\", [1]GeralMinuta!B247,\"\")","v":611}]
[{"$f":"IF( [1]GeralMinuta!A248 <>\"\", [1]GeralMinuta!A248,\"\")","v":"1 CAA 336,4 MCM Vão 80m RGE"},{"$f":"IF( [1]GeralMinuta!B248 <>\"\", [1]GeralMinuta!B248,\"\")","v":972}]
[{"$f":"IF( [1]GeralMinuta!A249 <>\"\", [1]GeralMinuta!A249,\"\")","v":""},{"$f":"IF( [1]GeralMinuta!B249 <>\"\", [1]GeralMinuta!B249,\"\")","v":""}]
[{"$f":"IF( [1]GeralMinuta!A250 <>\"\", [1]GeralMinuta!A250,\"\")","v":"1 CAA 04 AWG Vão 120m "},{"$f":"IF( [1]GeralMinuta!B250 <>\"\", [1]GeralMinuta!B250,\"\")","v":175}]
[{"$f":"IF( [1]GeralMinuta!A251 <>\"\", [1]GeralMinuta!A251,\"\")","v":"1 CAA 02 AWG Vão 120m "},{"$f":"IF( [1]GeralMinuta!B251 <>\"\", [1]GeralMinuta!B251,\"\")","v":247}]
[{"$f":"IF( [1]GeralMinuta!A252 <>\"\", [1]GeralMinuta!A252,\"\")","v":"1 CAA 1/0 AWG Vão 120m "},{"$f":"IF( [1]GeralMinuta!B252 <>\"\", [1]GeralMinuta!B252,\"\")","v":355}]
[{"$f":"IF( [1]GeralMinuta!A253 <>\"\", [1]GeralMinuta!A253,\"\")","v":"1 CAA 2/0 AWG Vão 120m "},{"$f":"IF( [1]GeralMinuta!B253 <>\"\", [1]GeralMinuta!B253,\"\")","v":428}]
[{"$f":"IF( [1]GeralMinuta!A254 <>\"\", [1]GeralMinuta!A254,\"\")","v":"1 CAA 4/0 AWG Vão 120m "},{"$f":"IF( [1]GeralMinuta!B254 <>\"\", [1]GeralMinuta!B254,\"\")","v":652}]
[{"$f":"IF( [1]GeralMinuta!A255 <>\"\", [1]GeralMinuta!A255,\"\")","v":"1 CAA 336,4 MCM Vão 120m "},{"$f":"IF( [1]GeralMinuta!B255 <>\"\", [1]GeralMinuta!B255,\"\")","v":1035}]
[{"$f":"IF( [1]GeralMinuta!A256 <>\"\", [1]GeralMinuta!A256,\"\")","v":""},{"$f":"IF( [1]GeralMinuta!B256 <>\"\", [1]GeralMinuta!B256,\"\")","v":""}]
[{"$f":"IF( [1]GeralMinuta!A257 <>\"\", [1]GeralMinuta!A257,\"\")","v":"1 CAA 04 AWG Vão 120m RGE"},{"$f":"IF( [1]GeralMinuta!B257 <>\"\", [1]GeralMinuta!B257,\"\")","v":175}]
[{"$f":"IF( [1]GeralMinuta!A258 <>\"\", [1]GeralMinuta!A258,\"\")","v":"1 CAA 02 AWG Vão 120m RGE"},{"$f":"IF( [1]GeralMinuta!B258 <>\"\", [1]GeralMinuta!B258,\"\")","v":247}]
[{"$f":"IF( [1]GeralMinuta!A259 <>\"\", [1]GeralMinuta!A259,\"\")","v":"1 CAA 1/0 AWG Vão 120m RGE"},{"$f":"IF( [1]GeralMinuta!B259 <>\"\", [1]GeralMinuta!B259,\"\")","v":355}]
[{"$f":"IF( [1]GeralMinuta!A260 <>\"\", [1]GeralMinuta!A260,\"\")","v":"1 CAA 2/0 AWG Vão 120m RGE"},{"$f":"IF( [1]GeralMinuta!B260 <>\"\", [1]GeralMinuta!B260,\"\")","v":443}]
[{"$f":"IF( [1]GeralMinuta!A261 <>\"\", [1]GeralMinuta!A261,\"\")","v":"1 CAA 4/0 AWG Vão 120m RGE"},{"$f":"IF( [1]GeralMinuta!B261 <>\"\", [1]GeralMinuta!B261,\"\")","v":705}]
[{"$f":"IF( [1]GeralMinuta!A262 <>\"\", [1]GeralMinuta!A262,\"\")","v":"1 CAA 336,4 MCM Vão 120m RGE"},{"$f":"IF( [1]GeralMinuta!B262 <>\"\", [1]GeralMinuta!B262,\"\")","v":1120}]
[{"$f":"IF( [1]GeralMinuta!A263 <>\"\", [1]GeralMinuta!A263,\"\")","v":""},{"$f":"IF( [1]GeralMinuta!B263 <>\"\", [1]GeralMinuta!B263,\"\")","v":""}]
[{"$f":"IF( [1]GeralMinuta!A264 <>\"\", [1]GeralMinuta!A264,\"\")","v":"1 CU 06 AWG Vão 35m  "},{"$f":"IF( [1]GeralMinuta!B264 <>\"\", [1]GeralMinuta!B264,\"\")","v":56}]
[{"$f":"IF( [1]GeralMinuta!A265 <>\"\", [1]GeralMinuta!A265,\"\")","v":"1 CU 02 AWG Vão 35m  "},{"$f":"IF( [1]GeralMinuta!B265 <>\"\", [1]GeralMinuta!B265,\"\")","v":141}]
[{"$f":"IF( [1]GeralMinuta!A266 <>\"\", [1]GeralMinuta!A266,\"\")","v":"1 CU 1/0 AWG Vão 35m  "},{"$f":"IF( [1]GeralMinuta!B266 <>\"\", [1]GeralMinuta!B266,\"\")","v":208}]
[{"$f":"IF( [1]GeralMinuta!A267 <>\"\", [1]GeralMinuta!A267,\"\")","v":"1 CU 2/0 AWG Vão 35m  "},{"$f":"IF( [1]GeralMinuta!B267 <>\"\", [1]GeralMinuta!B267,\"\")","v":257}]
[{"$f":"IF( [1]GeralMinuta!A268 <>\"\", [1]GeralMinuta!A268,\"\")","v":"1 CU 4/0 AWG Vão 35m  "},{"$f":"IF( [1]GeralMinuta!B268 <>\"\", [1]GeralMinuta!B268,\"\")","v":396}]
[{"$f":"IF( [1]GeralMinuta!A269 <>\"\", [1]GeralMinuta!A269,\"\")","v":""},{"$f":"IF( [1]GeralMinuta!B269 <>\"\", [1]GeralMinuta!B269,\"\")","v":""}]
[{"$f":"IF( [1]GeralMinuta!A270 <>\"\", [1]GeralMinuta!A270,\"\")","v":""},{"$f":"IF( [1]GeralMinuta!B270 <>\"\", [1]GeralMinuta!B270,\"\")","v":""}]
[{"$f":"IF( [1]GeralMinuta!A271 <>\"\", [1]GeralMinuta!A271,\"\")","v":""},{"$f":"IF( [1]GeralMinuta!B271 <>\"\", [1]GeralMinuta!B271,\"\")","v":""}]
[{"$f":"IF( [1]GeralMinuta!A272 <>\"\", [1]GeralMinuta!A272,\"\")","v":""},{"$f":"IF( [1]GeralMinuta!B272 <>\"\", [1]GeralMinuta!B272,\"\")","v":""}]
[{"$f":"IF( [1]GeralMinuta!A273 <>\"\", [1]GeralMinuta!A273,\"\")","v":""},{"$f":"IF( [1]GeralMinuta!B273 <>\"\", [1]GeralMinuta!B273,\"\")","v":""}]
[{"$f":"IF( [1]GeralMinuta!A274 <>\"\", [1]GeralMinuta!A274,\"\")","v":""},{"$f":"IF( [1]GeralMinuta!B274 <>\"\", [1]GeralMinuta!B274,\"\")","v":""}]
[{"$f":"IF( [1]GeralMinuta!A275 <>\"\", [1]GeralMinuta!A275,\"\")","v":""},{"$f":"IF( [1]GeralMinuta!B275 <>\"\", [1]GeralMinuta!B275,\"\")","v":""}]
[{"$f":"IF( [1]GeralMinuta!A276 <>\"\", [1]GeralMinuta!A276,\"\")","v":""},{"$f":"IF( [1]GeralMinuta!B276 <>\"\", [1]GeralMinuta!B276,\"\")","v":""}]
[{"$f":"IF( [1]GeralMinuta!A277 <>\"\", [1]GeralMinuta!A277,\"\")","v":""},{"$f":"IF( [1]GeralMinuta!B277 <>\"\", [1]GeralMinuta!B277,\"\")","v":""}]
[{"$f":"IF( [1]GeralMinuta!A278 <>\"\", [1]GeralMinuta!A278,\"\")","v":""},{"$f":"IF( [1]GeralMinuta!B278 <>\"\", [1]GeralMinuta!B278,\"\")","v":""}]
[{"$f":"IF( [1]GeralMinuta!A279 <>\"\", [1]GeralMinuta!A279,\"\")","v":""},{"$f":"IF( [1]GeralMinuta!B279 <>\"\", [1]GeralMinuta!B279,\"\")","v":""}]
[{"$f":"IF( [1]GeralMinuta!A280 <>\"\", [1]GeralMinuta!A280,\"\")","v":""},{"$f":"IF( [1]GeralMinuta!B280 <>\"\", [1]GeralMinuta!B280,\"\")","v":""}]
[{"$f":"IF( [1]GeralMinuta!A281 <>\"\", [1]GeralMinuta!A281,\"\")","v":""},{"$f":"IF( [1]GeralMinuta!B281 <>\"\", [1]GeralMinuta!B281,\"\")","v":""}]
[{"$f":"IF( [1]GeralMinuta!A282 <>\"\", [1]GeralMinuta!A282,\"\")","v":""},{"$f":"IF( [1]GeralMinuta!B282 <>\"\", [1]GeralMinuta!B282,\"\")","v":""}]
[{"$f":"IF( [1]GeralMinuta!A283 <>\"\", [1]GeralMinuta!A283,\"\")","v":""},{"$f":"IF( [1]GeralMinuta!B283 <>\"\", [1]GeralMinuta!B283,\"\")","v":""}]
[{"$f":"IF( [1]GeralMinuta!A284 <>\"\", [1]GeralMinuta!A284,\"\")","v":""},{"$f":"IF( [1]GeralMinuta!B284 <>\"\", [1]GeralMinuta!B284,\"\")","v":""}]
[{"$f":"IF( [1]GeralMinuta!A285 <>\"\", [1]GeralMinuta!A285,\"\")","v":""},{"$f":"IF( [1]GeralMinuta!B285 <>\"\", [1]GeralMinuta!B285,\"\")","v":""}]
[{"$f":"IF( [1]GeralMinuta!A286 <>\"\", [1]GeralMinuta!A286,\"\")","v":""},{"$f":"IF( [1]GeralMinuta!B286 <>\"\", [1]GeralMinuta!B286,\"\")","v":""}]
[{"$f":"IF( [1]GeralMinuta!A287 <>\"\", [1]GeralMinuta!A287,\"\")","v":""},{"$f":"IF( [1]GeralMinuta!B287 <>\"\", [1]GeralMinuta!B287,\"\")","v":""}]
[{"$f":"IF( [1]GeralMinuta!A288 <>\"\", [1]GeralMinuta!A288,\"\")","v":""},{"$f":"IF( [1]GeralMinuta!B288 <>\"\", [1]GeralMinuta!B288,\"\")","v":""}]
[{"$f":"IF( [1]GeralMinuta!A289 <>\"\", [1]GeralMinuta!A289,\"\")","v":""},{"$f":"IF( [1]GeralMinuta!B289 <>\"\", [1]GeralMinuta!B289,\"\")","v":""}]
[{"$f":"IF( [1]GeralMinuta!A290 <>\"\", [1]GeralMinuta!A290,\"\")","v":""},{"$f":"IF( [1]GeralMinuta!B290 <>\"\", [1]GeralMinuta!B290,\"\")","v":""}]
[{"$f":"IF( [1]GeralMinuta!A291 <>\"\", [1]GeralMinuta!A291,\"\")","v":""},{"$f":"IF( [1]GeralMinuta!B291 <>\"\", [1]GeralMinuta!B291,\"\")","v":""}]
[{"$f":"IF( [1]GeralMinuta!A292 <>\"\", [1]GeralMinuta!A292,\"\")","v":""},{"$f":"IF( [1]GeralMinuta!B292 <>\"\", [1]GeralMinuta!B292,\"\")","v":""}]
[{"$f":"IF( [1]GeralMinuta!A293 <>\"\", [1]GeralMinuta!A293,\"\")","v":""},{"$f":"IF( [1]GeralMinuta!B293 <>\"\", [1]GeralMinuta!B293,\"\")","v":""}]
[{"$f":"IF( [1]GeralMinuta!A294 <>\"\", [1]GeralMinuta!A294,\"\")","v":""},{"$f":"IF( [1]GeralMinuta!B294 <>\"\", [1]GeralMinuta!B294,\"\")","v":""}]
[{"$f":"IF( [1]GeralMinuta!A295 <>\"\", [1]GeralMinuta!A295,\"\")","v":""},{"$f":"IF( [1]GeralMinuta!B295 <>\"\", [1]GeralMinuta!B295,\"\")","v":""}]
[{"$f":"IF( [1]GeralMinuta!A296 <>\"\", [1]GeralMinuta!A296,\"\")","v":""},{"$f":"IF( [1]GeralMinuta!B296 <>\"\", [1]GeralMinuta!B296,\"\")","v":""}]
[{"$f":"IF( [1]GeralMinuta!A297 <>\"\", [1]GeralMinuta!A297,\"\")","v":""},{"$f":"IF( [1]GeralMinuta!B297 <>\"\", [1]GeralMinuta!B297,\"\")","v":""}]
[{"$f":"IF( [1]GeralMinuta!A298 <>\"\", [1]GeralMinuta!A298,\"\")","v":""},{"$f":"IF( [1]GeralMinuta!B298 <>\"\", [1]GeralMinuta!B298,\"\")","v":""}]
[{"$f":"IF( [1]GeralMinuta!A299 <>\"\", [1]GeralMinuta!A299,\"\")","v":""},{"$f":"IF( [1]GeralMinuta!B299 <>\"\", [1]GeralMinuta!B299,\"\")","v":""}]
[{"$f":"IF( [1]GeralMinuta!A300 <>\"\", [1]GeralMinuta!A300,\"\")","v":""},{"$f":"IF( [1]GeralMinuta!B300 <>\"\", [1]GeralMinuta!B300,\"\")","v":""}]
[{"$f":"IF( [1]GeralMinuta!A301 <>\"\", [1]GeralMinuta!A301,\"\")","v":""},{"$f":"IF( [1]GeralMinuta!B301 <>\"\", [1]GeralMinuta!B301,\"\")","v":""}]
[{"$f":"IF( [1]GeralMinuta!A302 <>\"\", [1]GeralMinuta!A302,\"\")","v":""},{"$f":"IF( [1]GeralMinuta!B302 <>\"\", [1]GeralMinuta!B302,\"\")","v":""}]
[{"$f":"IF( [1]GeralMinuta!A303 <>\"\", [1]GeralMinuta!A303,\"\")","v":""},{"$f":"IF( [1]GeralMinuta!B303 <>\"\", [1]GeralMinuta!B303,\"\")","v":""}]
[{"$f":"IF( [1]GeralMinuta!A304 <>\"\", [1]GeralMinuta!A304,\"\")","v":""},{"$f":"IF( [1]GeralMinuta!B304 <>\"\", [1]GeralMinuta!B304,\"\")","v":""}]
[{"$f":"IF( [1]GeralMinuta!A305 <>\"\", [1]GeralMinuta!A305,\"\")","v":""},{"$f":"IF( [1]GeralMinuta!B305 <>\"\", [1]GeralMinuta!B305,\"\")","v":""}]
[{"$f":"IF( [1]GeralMinuta!A306 <>\"\", [1]GeralMinuta!A306,\"\")","v":""},{"$f":"IF( [1]GeralMinuta!B306 <>\"\", [1]GeralMinuta!B306,\"\")","v":""}]
[{"$f":"IF( [1]GeralMinuta!A307 <>\"\", [1]GeralMinuta!A307,\"\")","v":""},{"$f":"IF( [1]GeralMinuta!B307 <>\"\", [1]GeralMinuta!B307,\"\")","v":""}]
[{"$f":"IF( [1]GeralMinuta!A308 <>\"\", [1]GeralMinuta!A308,\"\")","v":""},{"$f":"IF( [1]GeralMinuta!B308 <>\"\", [1]GeralMinuta!B308,\"\")","v":""}]
[{"$f":"IF( [1]GeralMinuta!A309 <>\"\", [1]GeralMinuta!A309,\"\")","v":""},{"$f":"IF( [1]GeralMinuta!B309 <>\"\", [1]GeralMinuta!B309,\"\")","v":""}]
[{"$f":"IF( [1]GeralMinuta!A310 <>\"\", [1]GeralMinuta!A310,\"\")","v":""},{"$f":"IF( [1]GeralMinuta!B310 <>\"\", [1]GeralMinuta!B310,\"\")","v":""}]
[{"$f":"IF( [1]GeralMinuta!A311 <>\"\", [1]GeralMinuta!A311,\"\")","v":""},{"$f":"IF( [1]GeralMinuta!B311 <>\"\", [1]GeralMinuta!B311,\"\")","v":""}]
[{"$f":"IF( [1]GeralMinuta!A312 <>\"\", [1]GeralMinuta!A312,\"\")","v":""},{"$f":"IF( [1]GeralMinuta!B312 <>\"\", [1]GeralMinuta!B312,\"\")","v":""}]
[{"$f":"IF( [1]GeralMinuta!A313 <>\"\", [1]GeralMinuta!A313,\"\")","v":""},{"$f":"IF( [1]GeralMinuta!B313 <>\"\", [1]GeralMinuta!B313,\"\")","v":""}]
[{"$f":"IF( [1]GeralMinuta!A314 <>\"\", [1]GeralMinuta!A314,\"\")","v":""},{"$f":"IF( [1]GeralMinuta!B314 <>\"\", [1]GeralMinuta!B314,\"\")","v":""}]
[{"$f":"IF( [1]GeralMinuta!A315 <>\"\", [1]GeralMinuta!A315,\"\")","v":""},{"$f":"IF( [1]GeralMinuta!B315 <>\"\", [1]GeralMinuta!B315,\"\")","v":""}]
[{"$f":"IF( [1]GeralMinuta!A316 <>\"\", [1]GeralMinuta!A316,\"\")","v":""},{"$f":"IF( [1]GeralMinuta!B316 <>\"\", [1]GeralMinuta!B316,\"\")","v":""}]
[{"$f":"IF( [1]GeralMinuta!A317 <>\"\", [1]GeralMinuta!A317,\"\")","v":""},{"$f":"IF( [1]GeralMinuta!B317 <>\"\", [1]GeralMinuta!B317,\"\")","v":""}]
[{"$f":"IF( [1]GeralMinuta!A318 <>\"\", [1]GeralMinuta!A318,\"\")","v":""},{"$f":"IF( [1]GeralMinuta!B318 <>\"\", [1]GeralMinuta!B318,\"\")","v":""}]
[{"$f":"IF( [1]GeralMinuta!A319 <>\"\", [1]GeralMinuta!A319,\"\")","v":""},{"$f":"IF( [1]GeralMinuta!B319 <>\"\", [1]GeralMinuta!B319,\"\")","v":""}]
[{"$f":"IF( [1]GeralMinuta!A320 <>\"\", [1]GeralMinuta!A320,\"\")","v":""},{"$f":"IF( [1]GeralMinuta!B320 <>\"\", [1]GeralMinuta!B320,\"\")","v":""}]
[{"$f":"IF( [1]GeralMinuta!A321 <>\"\", [1]GeralMinuta!A321,\"\")","v":""},{"$f":"IF( [1]GeralMinuta!B321 <>\"\", [1]GeralMinuta!B321,\"\")","v":""}]
[{"$f":"IF( [1]GeralMinuta!A322 <>\"\", [1]GeralMinuta!A322,\"\")","v":""},{"$f":"IF( [1]GeralMinuta!B322 <>\"\", [1]GeralMinuta!B322,\"\")","v":""}]
[{"$f":"IF( [1]GeralMinuta!A323 <>\"\", [1]GeralMinuta!A323,\"\")","v":""},{"$f":"IF( [1]GeralMinuta!B323 <>\"\", [1]GeralMinuta!B323,\"\")","v":""}]
[{"$f":"IF( [1]GeralMinuta!A324 <>\"\", [1]GeralMinuta!A324,\"\")","v":""},{"$f":"IF( [1]GeralMinuta!B324 <>\"\", [1]GeralMinuta!B324,\"\")","v":""}]
[{"$f":"IF( [1]GeralMinuta!A325 <>\"\", [1]GeralMinuta!A325,\"\")","v":""},{"$f":"IF( [1]GeralMinuta!B325 <>\"\", [1]GeralMinuta!B325,\"\")","v":""}]
[{"$f":"IF( [1]GeralMinuta!A326 <>\"\", [1]GeralMinuta!A326,\"\")","v":""},{"$f":"IF( [1]GeralMinuta!B326 <>\"\", [1]GeralMinuta!B326,\"\")","v":""}]
[{"$f":"IF( [1]GeralMinuta!A327 <>\"\", [1]GeralMinuta!A327,\"\")","v":""},{"$f":"IF( [1]GeralMinuta!B327 <>\"\", [1]GeralMinuta!B327,\"\")","v":""}]
[{"$f":"IF( [1]GeralMinuta!A328 <>\"\", [1]GeralMinuta!A328,\"\")","v":""},{"$f":"IF( [1]GeralMinuta!B328 <>\"\", [1]GeralMinuta!B328,\"\")","v":""}]
[{"$f":"IF( [1]GeralMinuta!A329 <>\"\", [1]GeralMinuta!A329,\"\")","v":""},{"$f":"IF( [1]GeralMinuta!B329 <>\"\", [1]GeralMinuta!B329,\"\")","v":""}]
[{"$f":"IF( [1]GeralMinuta!A330 <>\"\", [1]GeralMinuta!A330,\"\")","v":""},{"$f":"IF( [1]GeralMinuta!B330 <>\"\", [1]GeralMinuta!B330,\"\")","v":""}]
[{"$f":"IF( [1]GeralMinuta!A331 <>\"\", [1]GeralMinuta!A331,\"\")","v":""},{"$f":"IF( [1]GeralMinuta!B331 <>\"\", [1]GeralMinuta!B331,\"\")","v":""}]
[{"$f":"IF( [1]GeralMinuta!A332 <>\"\", [1]GeralMinuta!A332,\"\")","v":""},{"$f":"IF( [1]GeralMinuta!B332 <>\"\", [1]GeralMinuta!B332,\"\")","v":""}]
[{"$f":"IF( [1]GeralMinuta!A333 <>\"\", [1]GeralMinuta!A333,\"\")","v":""},{"$f":"IF( [1]GeralMinuta!B333 <>\"\", [1]GeralMinuta!B333,\"\")","v":""}]
[{"$f":"IF( [1]GeralMinuta!A334 <>\"\", [1]GeralMinuta!A334,\"\")","v":""},{"$f":"IF( [1]GeralMinuta!B334 <>\"\", [1]GeralMinuta!B334,\"\")","v":""}]
[{"$f":"IF( [1]GeralMinuta!A335 <>\"\", [1]GeralMinuta!A335,\"\")","v":""},{"$f":"IF( [1]GeralMinuta!B335 <>\"\", [1]GeralMinuta!B335,\"\")","v":""}]
[{"$f":"IF( [1]GeralMinuta!A336 <>\"\", [1]GeralMinuta!A336,\"\")","v":""},{"$f":"IF( [1]GeralMinuta!B336 <>\"\", [1]GeralMinuta!B336,\"\")","v":""}]
[{"$f":"IF( [1]GeralMinuta!A337 <>\"\", [1]GeralMinuta!A337,\"\")","v":""},{"$f":"IF( [1]GeralMinuta!B337 <>\"\", [1]GeralMinuta!B337,\"\")","v":""}]
[{"$f":"IF( [1]GeralMinuta!A338 <>\"\", [1]GeralMinuta!A338,\"\")","v":""},{"$f":"IF( [1]GeralMinuta!B338 <>\"\", [1]GeralMinuta!B338,\"\")","v":""}]
[{"$f":"IF( [1]GeralMinuta!A339 <>\"\", [1]GeralMinuta!A339,\"\")","v":""},{"$f":"IF( [1]GeralMinuta!B339 <>\"\", [1]GeralMinuta!B339,\"\")","v":""}]
[{"$f":"IF( [1]GeralMinuta!A340 <>\"\", [1]GeralMinuta!A340,\"\")","v":""},{"$f":"IF( [1]GeralMinuta!B340 <>\"\", [1]GeralMinuta!B340,\"\")","v":""}]
[{"$f":"IF( [1]GeralMinuta!A341 <>\"\", [1]GeralMinuta!A341,\"\")","v":""},{"$f":"IF( [1]GeralMinuta!B341 <>\"\", [1]GeralMinuta!B341,\"\")","v":""}]
[{"$f":"IF( [1]GeralMinuta!A342 <>\"\", [1]GeralMinuta!A342,\"\")","v":""},{"$f":"IF( [1]GeralMinuta!B342 <>\"\", [1]GeralMinuta!B342,\"\")","v":""}]
[{"$f":"IF( [1]GeralMinuta!A343 <>\"\", [1]GeralMinuta!A343,\"\")","v":""},{"$f":"IF( [1]GeralMinuta!B343 <>\"\", [1]GeralMinuta!B343,\"\")","v":""}]
[{"$f":"IF( [1]GeralMinuta!A344 <>\"\", [1]GeralMinuta!A344,\"\")","v":""},{"$f":"IF( [1]GeralMinuta!B344 <>\"\", [1]GeralMinuta!B344,\"\")","v":""}]
[{"$f":"IF( [1]GeralMinuta!A345 <>\"\", [1]GeralMinuta!A345,\"\")","v":""},{"$f":"IF( [1]GeralMinuta!B345 <>\"\", [1]GeralMinuta!B345,\"\")","v":""}]
[{"$f":"IF( [1]GeralMinuta!A346 <>\"\", [1]GeralMinuta!A346,\"\")","v":""},{"$f":"IF( [1]GeralMinuta!B346 <>\"\", [1]GeralMinuta!B346,\"\")","v":""}]
[{"$f":"IF( [1]GeralMinuta!A347 <>\"\", [1]GeralMinuta!A347,\"\")","v":""},{"$f":"IF( [1]GeralMinuta!B347 <>\"\", [1]GeralMinuta!B347,\"\")","v":""}]
[{"$f":"IF( [1]GeralMinuta!A348 <>\"\", [1]GeralMinuta!A348,\"\")","v":""},{"$f":"IF( [1]GeralMinuta!B348 <>\"\", [1]GeralMinuta!B348,\"\")","v":""}]
[{"$f":"IF( [1]GeralMinuta!A349 <>\"\", [1]GeralMinuta!A349,\"\")","v":""},{"$f":"IF( [1]GeralMinuta!B349 <>\"\", [1]GeralMinuta!B349,\"\")","v":""}]
[{"$f":"IF( [1]GeralMinuta!A350 <>\"\", [1]GeralMinuta!A350,\"\")","v":""},{"$f":"IF( [1]GeralMinuta!B350 <>\"\", [1]GeralMinuta!B350,\"\")","v":""}]
[{"$f":"IF( [1]GeralMinuta!A351 <>\"\", [1]GeralMinuta!A351,\"\")","v":""},{"$f":"IF( [1]GeralMinuta!B351 <>\"\", [1]GeralMinuta!B351,\"\")","v":""}]
[{"$f":"IF( [1]GeralMinuta!A352 <>\"\", [1]GeralMinuta!A352,\"\")","v":""},{"$f":"IF( [1]GeralMinuta!B352 <>\"\", [1]GeralMinuta!B352,\"\")","v":""}]
[{"$f":"IF( [1]GeralMinuta!A353 <>\"\", [1]GeralMinuta!A353,\"\")","v":""},{"$f":"IF( [1]GeralMinuta!B353 <>\"\", [1]GeralMinuta!B353,\"\")","v":""}]
[{"$f":"IF( [1]GeralMinuta!A354 <>\"\", [1]GeralMinuta!A354,\"\")","v":""},{"$f":"IF( [1]GeralMinuta!B354 <>\"\", [1]GeralMinuta!B354,\"\")","v":""}]
[{"$f":"IF( [1]GeralMinuta!A355 <>\"\", [1]GeralMinuta!A355,\"\")","v":""},{"$f":"IF( [1]GeralMinuta!B355 <>\"\", [1]GeralMinuta!B355,\"\")","v":""}]
[{"$f":"IF( [1]GeralMinuta!A356 <>\"\", [1]GeralMinuta!A356,\"\")","v":""},{"$f":"IF( [1]GeralMinuta!B356 <>\"\", [1]GeralMinuta!B356,\"\")","v":""}]
[{"$f":"IF( [1]GeralMinuta!A357 <>\"\", [1]GeralMinuta!A357,\"\")","v":""},{"$f":"IF( [1]GeralMinuta!B357 <>\"\", [1]GeralMinuta!B357,\"\")","v":""}]
[{"$f":"IF( [1]GeralMinuta!A358 <>\"\", [1]GeralMinuta!A358,\"\")","v":""},{"$f":"IF( [1]GeralMinuta!B358 <>\"\", [1]GeralMinuta!B358,\"\")","v":""}]
[{"$f":"IF( [1]GeralMinuta!A359 <>\"\", [1]GeralMinuta!A359,\"\")","v":""},{"$f":"IF( [1]GeralMinuta!B359 <>\"\", [1]GeralMinuta!B359,\"\")","v":""}]
[{"$f":"IF( [1]GeralMinuta!A360 <>\"\", [1]GeralMinuta!A360,\"\")","v":""},{"$f":"IF( [1]GeralMinuta!B360 <>\"\", [1]GeralMinuta!B360,\"\")","v":""}]
[{"$f":"IF( [1]GeralMinuta!A361 <>\"\", [1]GeralMinuta!A361,\"\")","v":""},{"$f":"IF( [1]GeralMinuta!B361 <>\"\", [1]GeralMinuta!B361,\"\")","v":""}]
[{"$f":"IF( [1]GeralMinuta!A362 <>\"\", [1]GeralMinuta!A362,\"\")","v":""},{"$f":"IF( [1]GeralMinuta!B362 <>\"\", [1]GeralMinuta!B362,\"\")","v":""}]
[{"$f":"IF( [1]GeralMinuta!A363 <>\"\", [1]GeralMinuta!A363,\"\")","v":""},{"$f":"IF( [1]GeralMinuta!B363 <>\"\", [1]GeralMinuta!B363,\"\")","v":""}]
[{"$f":"IF( [1]GeralMinuta!A364 <>\"\", [1]GeralMinuta!A364,\"\")","v":""},{"$f":"IF( [1]GeralMinuta!B364 <>\"\", [1]GeralMinuta!B364,\"\")","v":""}]
[{"$f":"IF( [1]GeralMinuta!A365 <>\"\", [1]GeralMinuta!A365,\"\")","v":""},{"$f":"IF( [1]GeralMinuta!B365 <>\"\", [1]GeralMinuta!B365,\"\")","v":""}]
[{"$f":"IF( [1]GeralMinuta!A366 <>\"\", [1]GeralMinuta!A366,\"\")","v":""},{"$f":"IF( [1]GeralMinuta!B366 <>\"\", [1]GeralMinuta!B366,\"\")","v":""}]
[{"$f":"IF( [1]GeralMinuta!A367 <>\"\", [1]GeralMinuta!A367,\"\")","v":""},{"$f":"IF( [1]GeralMinuta!B367 <>\"\", [1]GeralMinuta!B367,\"\")","v":""}]
[{"$f":"IF( [1]GeralMinuta!A368 <>\"\", [1]GeralMinuta!A368,\"\")","v":""},{"$f":"IF( [1]GeralMinuta!B368 <>\"\", [1]GeralMinuta!B368,\"\")","v":""}]
[{"$f":"IF( [1]GeralMinuta!A369 <>\"\", [1]GeralMinuta!A369,\"\")","v":""},{"$f":"IF( [1]GeralMinuta!B369 <>\"\", [1]GeralMinuta!B369,\"\")","v":""}]
[{"$f":"IF( [1]GeralMinuta!A370 <>\"\", [1]GeralMinuta!A370,\"\")","v":""},{"$f":"IF( [1]GeralMinuta!B370 <>\"\", [1]GeralMinuta!B370,\"\")","v":""}]
[{"$f":"IF( [1]GeralMinuta!A371 <>\"\", [1]GeralMinuta!A371,\"\")","v":""},{"$f":"IF( [1]GeralMinuta!B371 <>\"\", [1]GeralMinuta!B371,\"\")","v":""}]
[{"$f":"IF( [1]GeralMinuta!A372 <>\"\", [1]GeralMinuta!A372,\"\")","v":""},{"$f":"IF( [1]GeralMinuta!B372 <>\"\", [1]GeralMinuta!B372,\"\")","v":""}]
[{"$f":"IF( [1]GeralMinuta!A373 <>\"\", [1]GeralMinuta!A373,\"\")","v":""},{"$f":"IF( [1]GeralMinuta!B373 <>\"\", [1]GeralMinuta!B373,\"\")","v":""}]
[{"$f":"IF( [1]GeralMinuta!A374 <>\"\", [1]GeralMinuta!A374,\"\")","v":""},{"$f":"IF( [1]GeralMinuta!B374 <>\"\", [1]GeralMinuta!B374,\"\")","v":""}]
[{"$f":"IF( [1]GeralMinuta!A375 <>\"\", [1]GeralMinuta!A375,\"\")","v":""},{"$f":"IF( [1]GeralMinuta!B375 <>\"\", [1]GeralMinuta!B375,\"\")","v":""}]
[{"$f":"IF( [1]GeralMinuta!A376 <>\"\", [1]GeralMinuta!A376,\"\")","v":""},{"$f":"IF( [1]GeralMinuta!B376 <>\"\", [1]GeralMinuta!B376,\"\")","v":""}]
[{"$f":"IF( [1]GeralMinuta!A377 <>\"\", [1]GeralMinuta!A377,\"\")","v":""},{"$f":"IF( [1]GeralMinuta!B377 <>\"\", [1]GeralMinuta!B377,\"\")","v":""}]
[{"$f":"IF( [1]GeralMinuta!A378 <>\"\", [1]GeralMinuta!A378,\"\")","v":""},{"$f":"IF( [1]GeralMinuta!B378 <>\"\", [1]GeralMinuta!B378,\"\")","v":""}]
[{"$f":"IF( [1]GeralMinuta!A379 <>\"\", [1]GeralMinuta!A379,\"\")","v":""},{"$f":"IF( [1]GeralMinuta!B379 <>\"\", [1]GeralMinuta!B379,\"\")","v":""}]
[{"$f":"IF( [1]GeralMinuta!A380 <>\"\", [1]GeralMinuta!A380,\"\")","v":""},{"$f":"IF( [1]GeralMinuta!B380 <>\"\", [1]GeralMinuta!B380,\"\")","v":""}]
[{"$f":"IF( [1]GeralMinuta!A381 <>\"\", [1]GeralMinuta!A381,\"\")","v":""},{"$f":"IF( [1]GeralMinuta!B381 <>\"\", [1]GeralMinuta!B381,\"\")","v":""}]
[{"$f":"IF( [1]GeralMinuta!A382 <>\"\", [1]GeralMinuta!A382,\"\")","v":""},{"$f":"IF( [1]GeralMinuta!B382 <>\"\", [1]GeralMinuta!B382,\"\")","v":""}]
[{"$f":"IF( [1]GeralMinuta!A383 <>\"\", [1]GeralMinuta!A383,\"\")","v":""},{"$f":"IF( [1]GeralMinuta!B383 <>\"\", [1]GeralMinuta!B383,\"\")","v":""}]
[{"$f":"IF( [1]GeralMinuta!A384 <>\"\", [1]GeralMinuta!A384,\"\")","v":""},{"$f":"IF( [1]GeralMinuta!B384 <>\"\", [1]GeralMinuta!B384,\"\")","v":""}]
[{"$f":"IF( [1]GeralMinuta!A385 <>\"\", [1]GeralMinuta!A385,\"\")","v":""},{"$f":"IF( [1]GeralMinuta!B385 <>\"\", [1]GeralMinuta!B385,\"\")","v":""}]
[{"$f":"IF( [1]GeralMinuta!A386 <>\"\", [1]GeralMinuta!A386,\"\")","v":""},{"$f":"IF( [1]GeralMinuta!B386 <>\"\", [1]GeralMinuta!B386,\"\")","v":""}]
[{"$f":"IF( [1]GeralMinuta!A387 <>\"\", [1]GeralMinuta!A387,\"\")","v":""},{"$f":"IF( [1]GeralMinuta!B387 <>\"\", [1]GeralMinuta!B387,\"\")","v":""}]
[{"$f":"IF( [1]GeralMinuta!A388 <>\"\", [1]GeralMinuta!A388,\"\")","v":""},{"$f":"IF( [1]GeralMinuta!B388 <>\"\", [1]GeralMinuta!B388,\"\")","v":""}]
[{"$f":"IF( [1]GeralMinuta!A389 <>\"\", [1]GeralMinuta!A389,\"\")","v":""},{"$f":"IF( [1]GeralMinuta!B389 <>\"\", [1]GeralMinuta!B389,\"\")","v":""}]
[{"$f":"IF( [1]GeralMinuta!A390 <>\"\", [1]GeralMinuta!A390,\"\")","v":""},{"$f":"IF( [1]GeralMinuta!B390 <>\"\", [1]GeralMinuta!B390,\"\")","v":""}]
[{"$f":"IF( [1]GeralMinuta!A391 <>\"\", [1]GeralMinuta!A391,\"\")","v":""},{"$f":"IF( [1]GeralMinuta!B391 <>\"\", [1]GeralMinuta!B391,\"\")","v":""}]
[{"$f":"IF( [1]GeralMinuta!A392 <>\"\", [1]GeralMinuta!A392,\"\")","v":""},{"$f":"IF( [1]GeralMinuta!B392 <>\"\", [1]GeralMinuta!B392,\"\")","v":""}]
[{"$f":"IF( [1]GeralMinuta!A393 <>\"\", [1]GeralMinuta!A393,\"\")","v":""},{"$f":"IF( [1]GeralMinuta!B393 <>\"\", [1]GeralMinuta!B393,\"\")","v":""}]
[{"$f":"IF( [1]GeralMinuta!A394 <>\"\", [1]GeralMinuta!A394,\"\")","v":""},{"$f":"IF( [1]GeralMinuta!B394 <>\"\", [1]GeralMinuta!B394,\"\")","v":""}]
[{"$f":"IF( [1]GeralMinuta!A395 <>\"\", [1]GeralMinuta!A395,\"\")","v":""},{"$f":"IF( [1]GeralMinuta!B395 <>\"\", [1]GeralMinuta!B395,\"\")","v":""}]
[{"$f":"IF( [1]GeralMinuta!A396 <>\"\", [1]GeralMinuta!A396,\"\")","v":""},{"$f":"IF( [1]GeralMinuta!B396 <>\"\", [1]GeralMinuta!B396,\"\")","v":""}]
[{"$f":"IF( [1]GeralMinuta!A397 <>\"\", [1]GeralMinuta!A397,\"\")","v":""},{"$f":"IF( [1]GeralMinuta!B397 <>\"\", [1]GeralMinuta!B397,\"\")","v":""}]
[{"$f":"IF( [1]GeralMinuta!A398 <>\"\", [1]GeralMinuta!A398,\"\")","v":""},{"$f":"IF( [1]GeralMinuta!B398 <>\"\", [1]GeralMinuta!B398,\"\")","v":""}]
[{"$f":"IF( [1]GeralMinuta!A399 <>\"\", [1]GeralMinuta!A399,\"\")","v":""},{"$f":"IF( [1]GeralMinuta!B399 <>\"\", [1]GeralMinuta!B399,\"\")","v":""}]
[{"$f":"IF( [1]GeralMinuta!A400 <>\"\", [1]GeralMinuta!A400,\"\")","v":""},{"$f":"IF( [1]GeralMinuta!B400 <>\"\", [1]GeralMinuta!B400,\"\")","v":""}]
[{"$f":"IF( [1]GeralMinuta!A401 <>\"\", [1]GeralMinuta!A401,\"\")","v":""},{"$f":"IF( [1]GeralMinuta!B401 <>\"\", [1]GeralMinuta!B401,\"\")","v":""}]
[{"$f":"IF( [1]GeralMinuta!A402 <>\"\", [1]GeralMinuta!A402,\"\")","v":""},{"$f":"IF( [1]GeralMinuta!B402 <>\"\", [1]GeralMinuta!B402,\"\")","v":""}]
[{"$f":"IF( [1]GeralMinuta!A403 <>\"\", [1]GeralMinuta!A403,\"\")","v":""},{"$f":"IF( [1]GeralMinuta!B403 <>\"\", [1]GeralMinuta!B403,\"\")","v":""}]
[{"$f":"IF( [1]GeralMinuta!A404 <>\"\", [1]GeralMinuta!A404,\"\")","v":""},{"$f":"IF( [1]GeralMinuta!B404 <>\"\", [1]GeralMinuta!B404,\"\")","v":""}]
[{"$f":"IF( [1]GeralMinuta!A405 <>\"\", [1]GeralMinuta!A405,\"\")","v":""},{"$f":"IF( [1]GeralMinuta!B405 <>\"\", [1]GeralMinuta!B405,\"\")","v":""}]
[{"$f":"IF( [1]GeralMinuta!A406 <>\"\", [1]GeralMinuta!A406,\"\")","v":""},{"$f":"IF( [1]GeralMinuta!B406 <>\"\", [1]GeralMinuta!B406,\"\")","v":""}]
[{"$f":"IF( [1]GeralMinuta!A407 <>\"\", [1]GeralMinuta!A407,\"\")","v":""},{"$f":"IF( [1]GeralMinuta!B407 <>\"\", [1]GeralMinuta!B407,\"\")","v":""}]
[{"$f":"IF( [1]GeralMinuta!A408 <>\"\", [1]GeralMinuta!A408,\"\")","v":""},{"$f":"IF( [1]GeralMinuta!B408 <>\"\", [1]GeralMinuta!B408,\"\")","v":""}]
[{"$f":"IF( [1]GeralMinuta!A409 <>\"\", [1]GeralMinuta!A409,\"\")","v":""},{"$f":"IF( [1]GeralMinuta!B409 <>\"\", [1]GeralMinuta!B409,\"\")","v":""}]
[{"$f":"IF( [1]GeralMinuta!A410 <>\"\", [1]GeralMinuta!A410,\"\")","v":""},{"$f":"IF( [1]GeralMinuta!B410 <>\"\", [1]GeralMinuta!B410,\"\")","v":""}]
[{"$f":"IF( [1]GeralMinuta!A411 <>\"\", [1]GeralMinuta!A411,\"\")","v":""},{"$f":"IF( [1]GeralMinuta!B411 <>\"\", [1]GeralMinuta!B411,\"\")","v":""}]
[{"$f":"IF( [1]GeralMinuta!A412 <>\"\", [1]GeralMinuta!A412,\"\")","v":""},{"$f":"IF( [1]GeralMinuta!B412 <>\"\", [1]GeralMinuta!B412,\"\")","v":""}]
[{"$f":"IF( [1]GeralMinuta!A413 <>\"\", [1]GeralMinuta!A413,\"\")","v":""},{"$f":"IF( [1]GeralMinuta!B413 <>\"\", [1]GeralMinuta!B413,\"\")","v":""}]
[{"$f":"IF( [1]GeralMinuta!A414 <>\"\", [1]GeralMinuta!A414,\"\")","v":""},{"$f":"IF( [1]GeralMinuta!B414 <>\"\", [1]GeralMinuta!B414,\"\")","v":""}]
[{"$f":"IF( [1]GeralMinuta!A415 <>\"\", [1]GeralMinuta!A415,\"\")","v":""},{"$f":"IF( [1]GeralMinuta!B415 <>\"\", [1]GeralMinuta!B415,\"\")","v":""}]
[{"$f":"IF( [1]GeralMinuta!A416 <>\"\", [1]GeralMinuta!A416,\"\")","v":""},{"$f":"IF( [1]GeralMinuta!B416 <>\"\", [1]GeralMinuta!B416,\"\")","v":""}]
[{"$f":"IF( [1]GeralMinuta!A417 <>\"\", [1]GeralMinuta!A417,\"\")","v":""},{"$f":"IF( [1]GeralMinuta!B417 <>\"\", [1]GeralMinuta!B417,\"\")","v":""}]
[{"$f":"IF( [1]GeralMinuta!A418 <>\"\", [1]GeralMinuta!A418,\"\")","v":""},{"$f":"IF( [1]GeralMinuta!B418 <>\"\", [1]GeralMinuta!B418,\"\")","v":""}]
[{"$f":"IF( [1]GeralMinuta!A419 <>\"\", [1]GeralMinuta!A419,\"\")","v":""},{"$f":"IF( [1]GeralMinuta!B419 <>\"\", [1]GeralMinuta!B419,\"\")","v":""}]
[{"$f":"IF( [1]GeralMinuta!A420 <>\"\", [1]GeralMinuta!A420,\"\")","v":""},{"$f":"IF( [1]GeralMinuta!B420 <>\"\", [1]GeralMinuta!B420,\"\")","v":""}]
[{"$f":"IF( [1]GeralMinuta!A421 <>\"\", [1]GeralMinuta!A421,\"\")","v":""},{"$f":"IF( [1]GeralMinuta!B421 <>\"\", [1]GeralMinuta!B421,\"\")","v":""}]
[{"$f":"IF( [1]GeralMinuta!A422 <>\"\", [1]GeralMinuta!A422,\"\")","v":""},{"$f":"IF( [1]GeralMinuta!B422 <>\"\", [1]GeralMinuta!B422,\"\")","v":""}]
[{"$f":"IF( [1]GeralMinuta!A423 <>\"\", [1]GeralMinuta!A423,\"\")","v":""},{"$f":"IF( [1]GeralMinuta!B423 <>\"\", [1]GeralMinuta!B423,\"\")","v":""}]
[{"$f":"IF( [1]GeralMinuta!A424 <>\"\", [1]GeralMinuta!A424,\"\")","v":""},{"$f":"IF( [1]GeralMinuta!B424 <>\"\", [1]GeralMinuta!B424,\"\")","v":""}]
[{"$f":"IF( [1]GeralMinuta!A425 <>\"\", [1]GeralMinuta!A425,\"\")","v":""},{"$f":"IF( [1]GeralMinuta!B425 <>\"\", [1]GeralMinuta!B425,\"\")","v":""}]
[{"$f":"IF( [1]GeralMinuta!A426 <>\"\", [1]GeralMinuta!A426,\"\")","v":""},{"$f":"IF( [1]GeralMinuta!B426 <>\"\", [1]GeralMinuta!B426,\"\")","v":""}]
[{"$f":"IF( [1]GeralMinuta!A427 <>\"\", [1]GeralMinuta!A427,\"\")","v":""},{"$f":"IF( [1]GeralMinuta!B427 <>\"\", [1]GeralMinuta!B427,\"\")","v":""}]
[{"$f":"IF( [1]GeralMinuta!A428 <>\"\", [1]GeralMinuta!A428,\"\")","v":""},{"$f":"IF( [1]GeralMinuta!B428 <>\"\", [1]GeralMinuta!B428,\"\")","v":""}]
[{"$f":"IF( [1]GeralMinuta!A429 <>\"\", [1]GeralMinuta!A429,\"\")","v":""},{"$f":"IF( [1]GeralMinuta!B429 <>\"\", [1]GeralMinuta!B429,\"\")","v":""}]
[{"$f":"IF( [1]GeralMinuta!A430 <>\"\", [1]GeralMinuta!A430,\"\")","v":""},{"$f":"IF( [1]GeralMinuta!B430 <>\"\", [1]GeralMinuta!B430,\"\")","v":""}]
[{"$f":"IF( [1]GeralMinuta!A431 <>\"\", [1]GeralMinuta!A431,\"\")","v":""},{"$f":"IF( [1]GeralMinuta!B431 <>\"\", [1]GeralMinuta!B431,\"\")","v":""}]
[{"$f":"IF( [1]GeralMinuta!A432 <>\"\", [1]GeralMinuta!A432,\"\")","v":""},{"$f":"IF( [1]GeralMinuta!B432 <>\"\", [1]GeralMinuta!B432,\"\")","v":""}]
[{"$f":"IF( [1]GeralMinuta!A433 <>\"\", [1]GeralMinuta!A433,\"\")","v":""},{"$f":"IF( [1]GeralMinuta!B433 <>\"\", [1]GeralMinuta!B433,\"\")","v":""}]
[{"$f":"IF( [1]GeralMinuta!A434 <>\"\", [1]GeralMinuta!A434,\"\")","v":""},{"$f":"IF( [1]GeralMinuta!B434 <>\"\", [1]GeralMinuta!B434,\"\")","v":""}]
[{"$f":"IF( [1]GeralMinuta!A435 <>\"\", [1]GeralMinuta!A435,\"\")","v":""},{"$f":"IF( [1]GeralMinuta!B435 <>\"\", [1]GeralMinuta!B435,\"\")","v":""}]
[{"$f":"IF( [1]GeralMinuta!A436 <>\"\", [1]GeralMinuta!A436,\"\")","v":""},{"$f":"IF( [1]GeralMinuta!B436 <>\"\", [1]GeralMinuta!B436,\"\")","v":""}]
[{"$f":"IF( [1]GeralMinuta!A437 <>\"\", [1]GeralMinuta!A437,\"\")","v":""},{"$f":"IF( [1]GeralMinuta!B437 <>\"\", [1]GeralMinuta!B437,\"\")","v":""}]
[{"$f":"IF( [1]GeralMinuta!A438 <>\"\", [1]GeralMinuta!A438,\"\")","v":""},{"$f":"IF( [1]GeralMinuta!B438 <>\"\", [1]GeralMinuta!B438,\"\")","v":""}]
[{"$f":"IF( [1]GeralMinuta!A439 <>\"\", [1]GeralMinuta!A439,\"\")","v":""},{"$f":"IF( [1]GeralMinuta!B439 <>\"\", [1]GeralMinuta!B439,\"\")","v":""}]
[{"$f":"IF( [1]GeralMinuta!A440 <>\"\", [1]GeralMinuta!A440,\"\")","v":""},{"$f":"IF( [1]GeralMinuta!B440 <>\"\", [1]GeralMinuta!B440,\"\")","v":""}]
[{"$f":"IF( [1]GeralMinuta!A441 <>\"\", [1]GeralMinuta!A441,\"\")","v":""},{"$f":"IF( [1]GeralMinuta!B441 <>\"\", [1]GeralMinuta!B441,\"\")","v":""}]
[{"$f":"IF( [1]GeralMinuta!A442 <>\"\", [1]GeralMinuta!A442,\"\")","v":""},{"$f":"IF( [1]GeralMinuta!B442 <>\"\", [1]GeralMinuta!B442,\"\")","v":""}]
[{"$f":"IF( [1]GeralMinuta!A443 <>\"\", [1]GeralMinuta!A443,\"\")","v":""},{"$f":"IF( [1]GeralMinuta!B443 <>\"\", [1]GeralMinuta!B443,\"\")","v":""}]
[{"$f":"IF( [1]GeralMinuta!A444 <>\"\", [1]GeralMinuta!A444,\"\")","v":""},{"$f":"IF( [1]GeralMinuta!B444 <>\"\", [1]GeralMinuta!B444,\"\")","v":""}]
[{"$f":"IF( [1]GeralMinuta!A445 <>\"\", [1]GeralMinuta!A445,\"\")","v":""},{"$f":"IF( [1]GeralMinuta!B445 <>\"\", [1]GeralMinuta!B445,\"\")","v":""}]
[{"$f":"IF( [1]GeralMinuta!A446 <>\"\", [1]GeralMinuta!A446,\"\")","v":""},{"$f":"IF( [1]GeralMinuta!B446 <>\"\", [1]GeralMinuta!B446,\"\")","v":""}]
[{"$f":"IF( [1]GeralMinuta!A447 <>\"\", [1]GeralMinuta!A447,\"\")","v":""},{"$f":"IF( [1]GeralMinuta!B447 <>\"\", [1]GeralMinuta!B447,\"\")","v":""}]
[{"$f":"IF( [1]GeralMinuta!A448 <>\"\", [1]GeralMinuta!A448,\"\")","v":""},{"$f":"IF( [1]GeralMinuta!B448 <>\"\", [1]GeralMinuta!B448,\"\")","v":""}]
[{"$f":"IF( [1]GeralMinuta!A449 <>\"\", [1]GeralMinuta!A449,\"\")","v":""},{"$f":"IF( [1]GeralMinuta!B449 <>\"\", [1]GeralMinuta!B449,\"\")","v":""}]
[{"$f":"IF( [1]GeralMinuta!A450 <>\"\", [1]GeralMinuta!A450,\"\")","v":""},{"$f":"IF( [1]GeralMinuta!B450 <>\"\", [1]GeralMinuta!B450,\"\")","v":""}]
[{"$f":"IF( [1]GeralMinuta!A451 <>\"\", [1]GeralMinuta!A451,\"\")","v":""},{"$f":"IF( [1]GeralMinuta!B451 <>\"\", [1]GeralMinuta!B451,\"\")","v":""}]
[{"$f":"IF( [1]GeralMinuta!A452 <>\"\", [1]GeralMinuta!A452,\"\")","v":""},{"$f":"IF( [1]GeralMinuta!B452 <>\"\", [1]GeralMinuta!B452,\"\")","v":""}]
[{"$f":"IF( [1]GeralMinuta!A453 <>\"\", [1]GeralMinuta!A453,\"\")","v":""},{"$f":"IF( [1]GeralMinuta!B453 <>\"\", [1]GeralMinuta!B453,\"\")","v":""}]
[{"$f":"IF( [1]GeralMinuta!A454 <>\"\", [1]GeralMinuta!A454,\"\")","v":""},{"$f":"IF( [1]GeralMinuta!B454 <>\"\", [1]GeralMinuta!B454,\"\")","v":""}]
[{"$f":"IF( [1]GeralMinuta!A455 <>\"\", [1]GeralMinuta!A455,\"\")","v":""},{"$f":"IF( [1]GeralMinuta!B455 <>\"\", [1]GeralMinuta!B455,\"\")","v":""}]
[{"$f":"IF( [1]GeralMinuta!A456 <>\"\", [1]GeralMinuta!A456,\"\")","v":""},{"$f":"IF( [1]GeralMinuta!B456 <>\"\", [1]GeralMinuta!B456,\"\")","v":""}]
[{"$f":"IF( [1]GeralMinuta!A457 <>\"\", [1]GeralMinuta!A457,\"\")","v":""},{"$f":"IF( [1]GeralMinuta!B457 <>\"\", [1]GeralMinuta!B457,\"\")","v":""}]
[{"$f":"IF( [1]GeralMinuta!A458 <>\"\", [1]GeralMinuta!A458,\"\")","v":""},{"$f":"IF( [1]GeralMinuta!B458 <>\"\", [1]GeralMinuta!B458,\"\")","v":""}]
[{"$f":"IF( [1]GeralMinuta!A459 <>\"\", [1]GeralMinuta!A459,\"\")","v":""},{"$f":"IF( [1]GeralMinuta!B459 <>\"\", [1]GeralMinuta!B459,\"\")","v":""}]
[{"$f":"IF( [1]GeralMinuta!A460 <>\"\", [1]GeralMinuta!A460,\"\")","v":""},{"$f":"IF( [1]GeralMinuta!B460 <>\"\", [1]GeralMinuta!B460,\"\")","v":""}]
[{"$f":"IF( [1]GeralMinuta!A461 <>\"\", [1]GeralMinuta!A461,\"\")","v":""},{"$f":"IF( [1]GeralMinuta!B461 <>\"\", [1]GeralMinuta!B461,\"\")","v":""}]
[{"$f":"IF( [1]GeralMinuta!A462 <>\"\", [1]GeralMinuta!A462,\"\")","v":""},{"$f":"IF( [1]GeralMinuta!B462 <>\"\", [1]GeralMinuta!B462,\"\")","v":""}]
[{"$f":"IF( [1]GeralMinuta!A463 <>\"\", [1]GeralMinuta!A463,\"\")","v":""},{"$f":"IF( [1]GeralMinuta!B463 <>\"\", [1]GeralMinuta!B463,\"\")","v":""}]
[{"$f":"IF( [1]GeralMinuta!A464 <>\"\", [1]GeralMinuta!A464,\"\")","v":""},{"$f":"IF( [1]GeralMinuta!B464 <>\"\", [1]GeralMinuta!B464,\"\")","v":""}]
[{"$f":"IF( [1]GeralMinuta!A465 <>\"\", [1]GeralMinuta!A465,\"\")","v":""},{"$f":"IF( [1]GeralMinuta!B465 <>\"\", [1]GeralMinuta!B465,\"\")","v":""}]
[{"$f":"IF( [1]GeralMinuta!A466 <>\"\", [1]GeralMinuta!A466,\"\")","v":""},{"$f":"IF( [1]GeralMinuta!B466 <>\"\", [1]GeralMinuta!B466,\"\")","v":""}]
[{"$f":"IF( [1]GeralMinuta!A467 <>\"\", [1]GeralMinuta!A467,\"\")","v":""},{"$f":"IF( [1]GeralMinuta!B467 <>\"\", [1]GeralMinuta!B467,\"\")","v":""}]
[{"$f":"IF( [1]GeralMinuta!A468 <>\"\", [1]GeralMinuta!A468,\"\")","v":""},{"$f":"IF( [1]GeralMinuta!B468 <>\"\", [1]GeralMinuta!B468,\"\")","v":""}]
[{"$f":"IF( [1]GeralMinuta!A469 <>\"\", [1]GeralMinuta!A469,\"\")","v":""},{"$f":"IF( [1]GeralMinuta!B469 <>\"\", [1]GeralMinuta!B469,\"\")","v":""}]
[{"$f":"IF( [1]GeralMinuta!A470 <>\"\", [1]GeralMinuta!A470,\"\")","v":""},{"$f":"IF( [1]GeralMinuta!B470 <>\"\", [1]GeralMinuta!B470,\"\")","v":""}]
[{"$f":"IF( [1]GeralMinuta!A471 <>\"\", [1]GeralMinuta!A471,\"\")","v":""},{"$f":"IF( [1]GeralMinuta!B471 <>\"\", [1]GeralMinuta!B471,\"\")","v":""}]
[{"$f":"IF( [1]GeralMinuta!A472 <>\"\", [1]GeralMinuta!A472,\"\")","v":""},{"$f":"IF( [1]GeralMinuta!B472 <>\"\", [1]GeralMinuta!B472,\"\")","v":""}]
[{"$f":"IF( [1]GeralMinuta!A473 <>\"\", [1]GeralMinuta!A473,\"\")","v":""},{"$f":"IF( [1]GeralMinuta!B473 <>\"\", [1]GeralMinuta!B473,\"\")","v":""}]
[{"$f":"IF( [1]GeralMinuta!A474 <>\"\", [1]GeralMinuta!A474,\"\")","v":""},{"$f":"IF( [1]GeralMinuta!B474 <>\"\", [1]GeralMinuta!B474,\"\")","v":""}]
[{"$f":"IF( [1]GeralMinuta!A475 <>\"\", [1]GeralMinuta!A475,\"\")","v":""},{"$f":"IF( [1]GeralMinuta!B475 <>\"\", [1]GeralMinuta!B475,\"\")","v":""}]
[{"$f":"IF( [1]GeralMinuta!A476 <>\"\", [1]GeralMinuta!A476,\"\")","v":""},{"$f":"IF( [1]GeralMinuta!B476 <>\"\", [1]GeralMinuta!B476,\"\")","v":""}]
[{"$f":"IF( [1]GeralMinuta!A477 <>\"\", [1]GeralMinuta!A477,\"\")","v":""},{"$f":"IF( [1]GeralMinuta!B477 <>\"\", [1]GeralMinuta!B477,\"\")","v":""}]
[{"$f":"IF( [1]GeralMinuta!A478 <>\"\", [1]GeralMinuta!A478,\"\")","v":""},{"$f":"IF( [1]GeralMinuta!B478 <>\"\", [1]GeralMinuta!B478,\"\")","v":""}]
[{"$f":"IF( [1]GeralMinuta!A479 <>\"\", [1]GeralMinuta!A479,\"\")","v":""},{"$f":"IF( [1]GeralMinuta!B479 <>\"\", [1]GeralMinuta!B479,\"\")","v":""}]
[{"$f":"IF( [1]GeralMinuta!A480 <>\"\", [1]GeralMinuta!A480,\"\")","v":""},{"$f":"IF( [1]GeralMinuta!B480 <>\"\", [1]GeralMinuta!B480,\"\")","v":""}]
[{"$f":"IF( [1]GeralMinuta!A481 <>\"\", [1]GeralMinuta!A481,\"\")","v":""},{"$f":"IF( [1]GeralMinuta!B481 <>\"\", [1]GeralMinuta!B481,\"\")","v":""}]
[{"$f":"IF( [1]GeralMinuta!A482 <>\"\", [1]GeralMinuta!A482,\"\")","v":""},{"$f":"IF( [1]GeralMinuta!B482 <>\"\", [1]GeralMinuta!B482,\"\")","v":""}]
[{"$f":"IF( [1]GeralMinuta!A483 <>\"\", [1]GeralMinuta!A483,\"\")","v":""},{"$f":"IF( [1]GeralMinuta!B483 <>\"\", [1]GeralMinuta!B483,\"\")","v":""}]
[{"$f":"IF( [1]GeralMinuta!A484 <>\"\", [1]GeralMinuta!A484,\"\")","v":""},{"$f":"IF( [1]GeralMinuta!B484 <>\"\", [1]GeralMinuta!B484,\"\")","v":""}]
[{"$f":"IF( [1]GeralMinuta!A485 <>\"\", [1]GeralMinuta!A485,\"\")","v":""},{"$f":"IF( [1]GeralMinuta!B485 <>\"\", [1]GeralMinuta!B485,\"\")","v":""}]
[{"$f":"IF( [1]GeralMinuta!A486 <>\"\", [1]GeralMinuta!A486,\"\")","v":""},{"$f":"IF( [1]GeralMinuta!B486 <>\"\", [1]GeralMinuta!B486,\"\")","v":""}]
[{"$f":"IF( [1]GeralMinuta!A487 <>\"\", [1]GeralMinuta!A487,\"\")","v":""},{"$f":"IF( [1]GeralMinuta!B487 <>\"\", [1]GeralMinuta!B487,\"\")","v":""}]
[{"$f":"IF( [1]GeralMinuta!A488 <>\"\", [1]GeralMinuta!A488,\"\")","v":""},{"$f":"IF( [1]GeralMinuta!B488 <>\"\", [1]GeralMinuta!B488,\"\")","v":""}]
[{"$f":"IF( [1]GeralMinuta!A489 <>\"\", [1]GeralMinuta!A489,\"\")","v":""},{"$f":"IF( [1]GeralMinuta!B489 <>\"\", [1]GeralMinuta!B489,\"\")","v":""}]
[{"$f":"IF( [1]GeralMinuta!A490 <>\"\", [1]GeralMinuta!A490,\"\")","v":""},{"$f":"IF( [1]GeralMinuta!B490 <>\"\", [1]GeralMinuta!B490,\"\")","v":""}]
[{"$f":"IF( [1]GeralMinuta!A491 <>\"\", [1]GeralMinuta!A491,\"\")","v":""},{"$f":"IF( [1]GeralMinuta!B491 <>\"\", [1]GeralMinuta!B491,\"\")","v":""}]
[{"$f":"IF( [1]GeralMinuta!A492 <>\"\", [1]GeralMinuta!A492,\"\")","v":""},{"$f":"IF( [1]GeralMinuta!B492 <>\"\", [1]GeralMinuta!B492,\"\")","v":""}]
[{"$f":"IF( [1]GeralMinuta!A493 <>\"\", [1]GeralMinuta!A493,\"\")","v":""},{"$f":"IF( [1]GeralMinuta!B493 <>\"\", [1]GeralMinuta!B493,\"\")","v":""}]
[{"$f":"IF( [1]GeralMinuta!A494 <>\"\", [1]GeralMinuta!A494,\"\")","v":""},{"$f":"IF( [1]GeralMinuta!B494 <>\"\", [1]GeralMinuta!B494,\"\")","v":""}]
[{"$f":"IF( [1]GeralMinuta!A495 <>\"\", [1]GeralMinuta!A495,\"\")","v":""},{"$f":"IF( [1]GeralMinuta!B495 <>\"\", [1]GeralMinuta!B495,\"\")","v":""}]
[{"$f":"IF( [1]GeralMinuta!A496 <>\"\", [1]GeralMinuta!A496,\"\")","v":""},{"$f":"IF( [1]GeralMinuta!B496 <>\"\", [1]GeralMinuta!B496,\"\")","v":""}]
[{"$f":"IF( [1]GeralMinuta!A497 <>\"\", [1]GeralMinuta!A497,\"\")","v":""},{"$f":"IF( [1]GeralMinuta!B497 <>\"\", [1]GeralMinuta!B497,\"\")","v":""}]
[{"$f":"IF( [1]GeralMinuta!A498 <>\"\", [1]GeralMinuta!A498,\"\")","v":""},{"$f":"IF( [1]GeralMinuta!B498 <>\"\", [1]GeralMinuta!B498,\"\")","v":""}]
[{"$f":"IF( [1]GeralMinuta!A499 <>\"\", [1]GeralMinuta!A499,\"\")","v":""},{"$f":"IF( [1]GeralMinuta!B499 <>\"\", [1]GeralMinuta!B499,\"\")","v":""}]
[{"$f":"IF( [1]GeralMinuta!A500 <>\"\", [1]GeralMinuta!A500,\"\")","v":""},{"$f":"IF( [1]GeralMinuta!B500 <>\"\", [1]GeralMinuta!B500,\"\")","v":""}]

{"sheet":"Pre_Geral","index":9,"n_rows":55,"n_cols":28,"rows_kept":55,"cut":false,"hidden":true,"merged":[]}
[null,"ESFORÇO 1",null,null,"ESFORÇO 2",null,null,"ESFORÇO 3",null,null,"ESFORÇO 4",null,null,"ESFORÇO 5",null,null,"TOTAL"]
["LOCAL",{"$f":"Calculo_Esforco_Poste_Geral!J3","v":0},null,1,{"$f":"D2","v":1},null,{"$f":"D2","v":1},{"$f":"D2","v":1},null,1,{"$f":"G2","v":1},null,1,{"$f":"J2","v":1},null,1,{"$f":"SQRT((B18*B18)+(B19*B19))","v":100.6541146204876},"02A","URBANO"]
["POSTE",{"$f":"Calculo_Esforco_Poste_Geral!D3","v":11},{"$f":"B3-(B3*0.1+0.6)","v":9.3000000000000007},{"$f":"IF(B5>0,C5-(C5*B8/100),0)","v":110},{"$f":"B3","v":11},{"$f":"E3-(E3*0.1+0.6)","v":9.3000000000000007},{"$f":"IF(E5>0,F5-(F5*E8/100),0)","v":0},{"$f":"B3","v":11},{"$f":"H3-(H3*0.1+0.6)","v":9.3000000000000007},{"$f":"IF(H5>0,I5-(I5*H8/100),0)","v":110},{"$f":"E3","v":11},{"$f":"K3-(K3*0.1+0.6)","v":9.3000000000000007},{"$f":"IF(K5>0,L5-(L5*K8/100),0)","v":0},{"$f":"H3","v":11},{"$f":"N3-(N3*0.1+0.6)","v":9.3000000000000007},{"$f":"IF(N5>0,O5-(O5*N8/100),0)","v":0},null,"10A","RURAL"]
["ÂNGULO",{"$f":"Calculo_Esforco_Poste_Geral!Y6","v":180},{"$f":"RADIANS(B4)","v":3.1415926535897931},{"$f":"IF(B6>0,C6-(C6*B8/100),0)","v":0},{"$f":"Calculo_Esforco_Poste_Geral!AA6","v":290},{"$f":"RADIANS(E4)","v":5.0614548307835561},{"$f":"IF(E6>0,F6-(F6*E8/100),0)","v":0},{"$f":"Calculo_Esforco_Poste_Geral!AC6","v":500},{"$f":"RADIANS(H4)","v":8.7266462599716483},{"$f":"IF(H6>0,I6-(I6*H8/100),0)","v":0},{"$f":"Calculo_Esforco_Poste_Geral!AE6","v":410},{"$f":"RADIANS(K4)","v":7.1558499331767509},{"$f":"IF(K6>0,L6-(L6*K8/100),0)","v":0},{"$f":"Calculo_Esforco_Poste_Geral!AG6","v":370},{"$f":"RADIANS(N4)","v":6.457718232379019},{"$f":"IF(N6>0,O6-(O6*N8/100),0)","v":0},null,"20A"]
["PRIMÁRIA",{"$f":"Calculo_Esforco_Poste_Geral!D7","v":110},{"$f":"B5","v":110},{"$f":"D3*(C3-(B9/100))/C3","v":110},{"$f":"Calculo_Esforco_Poste_Geral!F7","v":0},{"$f":"E5","v":0},{"$f":"G3*(F3-(E9/100))/F3","v":0},{"$f":"Calculo_Esforco_Poste_Geral!H7","v":110},{"$f":"H5","v":110},{"$f":"J3*(I3-(H9/100))/I3","v":110},{"$f":"Calculo_Esforco_Poste_Geral!J7","v":0},{"$f":"K5","v":0},{"$f":"M3*(L3-(K9/100))/L3","v":0},{"$f":"Calculo_Esforco_Poste_Geral!L7","v":0},{"$f":"N5","v":0},{"$f":"P3*(O3-(N9/100))/O3","v":0},null,"40A"]
["Geral PRIMÁRIA",{"$f":"Calculo_Esforco_Poste_Geral!D8","v":0},{"$f":"VLOOKUP(B6,Geral,2,0)","v":{"$error":"#N/A"}},{"$f":"D4*(C3-(B9/100))/C3","v":0},{"$f":"Calculo_Esforco_Poste_Geral!F8","v":0},{"$f":"E6","v":0},{"$f":"G4*(F3-(E9/100))/F3","v":0},{"$f":"Calculo_Esforco_Poste_Geral!H8","v":0},{"$f":"H6","v":0},{"$f":"J4*(I3-(H9/100))/I3","v":0},{"$f":"Calculo_Esforco_Poste_Geral!J8","v":0},{"$f":"K6","v":0},{"$f":"M4*(L3-(K9/100))/L3","v":0},{"$f":"Calculo_Esforco_Poste_Geral!L8","v":0},{"$f":"N6","v":0},{"$f":"P4*(O3-(N9/100))/O3","v":0}]
[]
["REDUZIR T PRI",{"$f":"Calculo_Esforco_Poste_Geral!D9","v":0},null,null,{"$f":"Calculo_Esforco_Poste_Geral!F9","v":0},null,null,{"$f":"Calculo_Esforco_Poste_Geral!H9","v":0},null,null,{"$f":"Calculo_Esforco_Poste_Geral!J9","v":0},null,null,{"$f":"Calculo_Esforco_Poste_Geral!L9","v":0}]
["DISTÂNCIA TOPO CM",{"$f":"IF(Calculo_Esforco_Poste_Geral!D10>0,Calculo_Esforco_Poste_Geral!D10,0)","v":0},null,null,{"$f":"IF(Calculo_Esforco_Poste_Geral!F10>0,Calculo_Esforco_Poste_Geral!F10,0)","v":0},null,null,{"$f":"IF(Calculo_Esforco_Poste_Geral!H10>0,Calculo_Esforco_Poste_Geral!H10,0)","v":0},null,null,{"$f":"IF(Calculo_Esforco_Poste_Geral!J10>0,Calculo_Esforco_Poste_Geral!J10,0)","v":0},null,null,{"$f":"IF(Calculo_Esforco_Poste_Geral!L10>0,Calculo_Esforco_Poste_Geral!L10,0)","v":0}]
["Geral",{"$f":"Calculo_Esforco_Poste_Geral!D12","v":110},{"$f":"B10","v":110},{"$f":"IF(B10>0,((C10)-(C10*B13/100))*(B12/100)/C3,0)","v":85.161290322580641},{"$f":"Calculo_Esforco_Poste_Geral!F12","v":110},{"$f":"E10","v":110},{"$f":"IF(E10>0,((F10)-(F10*E13/100))*(E12/100)/F3,0)","v":85.161290322580641},{"$f":"Calculo_Esforco_Poste_Geral!H12","v":0},{"$f":"H10","v":0},{"$f":"IF(H10>0,((I10)-(I10*H13/100))*(H12/100)/I3,0)","v":0},{"$f":"Calculo_Esforco_Poste_Geral!J12","v":0},{"$f":"K10","v":0},{"$f":"IF(K10>0,((L10)-(L10*K13/100))*(K12/100)/L3,0)","v":0},{"$f":"Calculo_Esforco_Poste_Geral!L12","v":110},{"$f":"N10","v":110},{"$f":"IF(N10>0,((O10)-(O10*N13/100))*(N12/100)/O3,0)","v":85.161290322580641},null,"33A"]
["FASE",{"$f":"Calculo_Esforco_Poste_Geral!D11","v":110},{"$f":"B11","v":110},{"$f":"IF(B11>0,((C11)-(C11*B13/100))*(B12/100)/C3,0)","v":85.161290322580641},{"$f":"Calculo_Esforco_Poste_Geral!F11","v":110},{"$f":"E11","v":110},{"$f":"IF(E11>0,((F11)-(F11*E13/100))*(E12/100)/F3,0)","v":85.161290322580641},{"$f":"Calculo_Esforco_Poste_Geral!H11","v":0},{"$f":"H11","v":0},{"$f":"IF(H11>0,((I11)-(I11*H13/100))*(H12/100)/I3,0)","v":0},{"$f":"Calculo_Esforco_Poste_Geral!J11","v":0},{"$f":"K11","v":0},{"$f":"IF(K11>0,((L11)-(L11*K13/100))*(K12/100)/L3,0)","v":0},{"$f":"Calculo_Esforco_Poste_Geral!L11","v":110},{"$f":"N11","v":110},{"$f":"IF(N11>0,((O11)-(O11*N13/100))*(N12/100)/O3,0)","v":85.161290322580641},null,"47A"]
["DISTÂNCIA SOLO CM",{"$f":"IF(Calculo_Esforco_Poste_Geral!D14>0,Calculo_Esforco_Poste_Geral!D14,720)","v":720},null,null,{"$f":"IF(Calculo_Esforco_Poste_Geral!F14>0,Calculo_Esforco_Poste_Geral!F14,720)","v":720},null,null,{"$f":"IF(Calculo_Esforco_Poste_Geral!H14>0,Calculo_Esforco_Poste_Geral!H14,720)","v":720},null,null,{"$f":"IF(Calculo_Esforco_Poste_Geral!J14>0,Calculo_Esforco_Poste_Geral!J14,720)","v":720},null,null,{"$f":"IF(Calculo_Esforco_Poste_Geral!L14>0,Calculo_Esforco_Poste_Geral!L14,720)","v":720}]
["RED TENSAO SEC",{"$f":"Calculo_Esforco_Poste_Geral!D13","v":0},null,null,{"$f":"Calculo_Esforco_Poste_Geral!F13","v":0},null,null,{"$f":"Calculo_Esforco_Poste_Geral!H13","v":0},null,null,{"$f":"Calculo_Esforco_Poste_Geral!J13","v":0},null,null,{"$f":"Calculo_Esforco_Poste_Geral!L13","v":0}]
["TELESP",{"$f":"Calculo_Esforco_Poste_Geral!D15","v":0},{"$f":"IF(D2>0,B14,0)","v":0},{"$f":"C14*(B16/100)/(C3-0.2)","v":0},{"$f":"Calculo_Esforco_Poste_Geral!F15","v":0},{"$f":"IF(G2>0,E14,0)","v":0},{"$f":"F14*(E16/100)/(F3-0.2)","v":0},{"$f":"Calculo_Esforco_Poste_Geral!H15","v":0},{"$f":"IF(J2>0,H14,0)","v":0},{"$f":"I14*(H16/100)/(I3-0.2)","v":0},{"$f":"Calculo_Esforco_Poste_Geral!J15","v":100},{"$f":"IF(M2>0,K14,0)","v":100},{"$f":"L14*(K16/100)/(L3-0.2)","v":60.439560439560431},{"$f":"Calculo_Esforco_Poste_Geral!L15","v":0},{"$f":"IF(P2>0,N14,0)","v":0},{"$f":"O14*(N16/100)/(O3-0.2)","v":0},null,"06CU"]
["CABO",{"$f":"Calculo_Esforco_Poste_Geral!D16","v":0},{"$f":"IF(D2>0,B15,0)","v":0},{"$f":"C15*(B16/100)/(C3-0.2)","v":0},{"$f":"Calculo_Esforco_Poste_Geral!F16","v":0},{"$f":"IF(G2>0,E15,0)","v":0},{"$f":"F15*(E16/100)/(F3-0.2)","v":0},{"$f":"Calculo_Esforco_Poste_Geral!H16","v":0},{"$f":"IF(J2>0,H15,0)","v":0},{"$f":"I15*(H16/100)/(I3-0.2)","v":0},{"$f":"Calculo_Esforco_Poste_Geral!J16","v":0},{"$f":"IF(M2>0,K15,0)","v":0},{"$f":"L15*(K16/100)/(L3-0.2)","v":0},{"$f":"Calculo_Esforco_Poste_Geral!L16","v":0},{"$f":"IF(P2>0,N15,0)","v":0},{"$f":"O15*(N16/100)/(O3-0.2)","v":0},null,"02CU"]
["DISTÂNCIA SOLO CM",{"$f":"IF(Calculo_Esforco_Poste_Geral!D17>0,Calculo_Esforco_Poste_Geral!D17,550)","v":550},null,null,{"$f":"IF(Calculo_Esforco_Poste_Geral!F17>0,Calculo_Esforco_Poste_Geral!F17,550)","v":550},{"$f":"IF(Calculo_Esforco_Poste_Geral!F17>0,Calculo_Esforco_Poste_Geral!F17,550)","v":550},null,{"$f":"IF(Calculo_Esforco_Poste_Geral!H17>0,Calculo_Esforco_Poste_Geral!H17,550)","v":550},{"$f":"IF(Calculo_Esforco_Poste_Geral!H17>0,Calculo_Esforco_Poste_Geral!H17,550)","v":550},null,{"$f":"IF(Calculo_Esforco_Poste_Geral!J17>0,Calculo_Esforco_Poste_Geral!J17,550)","v":550},{"$f":"IF(Calculo_Esforco_Poste_Geral!J17>0,Calculo_Esforco_Poste_Geral!J17,550)","v":550},null,{"$f":"IF(Calculo_Esforco_Poste_Geral!L17>0,Calculo_Esforco_Poste_Geral!L17,550)","v":550},{"$f":"IF(Calculo_Esforco_Poste_Geral!L17>0,Calculo_Esforco_Poste_Geral!L17,550)","v":550}]
["SEMI TOTAL",null,{"$f":"D17","v":280.32258064516128},{"$f":"IF(D2>0,SUM(D5:D15),0)","v":280.32258064516128},null,{"$f":"G17","v":170.32258064516128},{"$f":"IF(G2>0,SUM(G5:G15),0)","v":170.32258064516128},null,{"$f":"J17","v":110},{"$f":"IF(J2>0,SUM(J5:J15),0)","v":110},null,{"$f":"M17","v":60.439560439560431},{"$f":"IF(M2>0,SUM(M5:M15),0)","v":60.439560439560431},null,{"$f":"P17","v":170.32258064516128},{"$f":"IF(P2>0,SUM(P5:P15),0)","v":170.32258064516128},null,"10CU"]
["COSENO",{"$f":"SUM(D18:P18)","v":-99.74891742654097},null,{"$f":"COS(C4)*D17","v":-280.32258064516128},null,null,{"$f":"COS(F4)*G17","v":58.253753443855878},null,null,{"$f":"COS(I4)*J17","v":-84.264888743087624},null,null,{"$f":"COS(L4)*M17","v":38.84980058545019},null,null,{"$f":"COS(O4)*P17","v":167.73499793240188},null,"20CU"]
["SENO",{"$f":"SUM(D19:P19)","v":-13.46863995611168},null,{"$f":"SIN(C4)*D17","v":3.4343677655341637E-14},null,null,{"$f":"SIN(F4)*G17","v":-160.05087218547084},null,null,{"$f":"SIN(I4)*J17","v":70.706637065519288},null,null,{"$f":"SIN(L4)*M17","v":46.299389419278874},null,null,{"$f":"SIN(O4)*P17","v":29.576205744560966},null,"40CU"]
["TOTAL",{"$f":"SQRT((B18*B18)+(B19*B19))","v":100.6541146204876},null,null,null,null,null,null,null,null,null,null,null,null,null,null,null,"04S",null,null,null,null,"ESFORÇO"]
["ÂNGULO",null,null,null,null,null,null,null,null,null,null,null,null,null,null,null,null,"02S"]
[null,null,null,null,null,null,null,null,null,null,null,null,null,null,null,null,null,"10S",null,null,null,{"$f":"V31","v":"ESFORÇO 1"},{"$f":"AA31","v":280.32258064516128}]
["OBSERVAÇÃO: ENTRAR COM DADOS SOMENTE NO CAMPO AMARELO",null,null,null,null,null,null,null,null,null,null,null,null,null,null,null,null,"40S",null,null,null,{"$f":"V33","v":"ESFORÇO 2"},{"$f":"AA33","v":170.32258064516131}]
["MAB",{"$f":"NOW()","v":"2022-07-21T04:50:22.360"},null,null,null,null,null,null,null,null,null,null,null,null,null,null,null,"33S",null,null,null,{"$f":"V35","v":"ESFORÇO 3"},{"$f":"AA35","v":110}]
[null,null,null,null,null,null,null,null,null,null,null,null,null,null,null,null,null,"47S",null,null,null,{"$f":"V37","v":"ESFORÇO 4"},{"$f":"AA37","v":60.439560439560438}]
[null,null,null,null,null,null,null,null,null,null,null,null,null,null,null,null,"ESFORÇO 1","70A",null,null,null,{"$f":"V39","v":"ESFORÇO 5"},{"$f":"AA39","v":170.32258064516128}]
[null,null,null,{"$f":"IF(B11>0,C11-(C11*B13/100),0)","v":110},null,null,null,null,null,null,null,null,null,null,null,null,"ESFORÇO 2","120A",null,null,null,{"$f":"V41","v":"TOTAL"},{"$f":"AA41","v":100.6541146204876}]
[null,null,null,{"$f":"D27*7.2/C3","v":85.161290322580641},null,null,null,null,null,null,null,null,null,null,null,null,"ESFORÇO 3","185A"]
[null,null,null,null,null,null,null,null,null,null,null,null,null,null,null,null,"ESFORÇO 4",0]
[null,null,null,null,null,null,null,null,null,null,null,null,null,null,null,null,"ESFORÇO 5",null,null,null,null,null,null,null,"X","Y"]
[null,null,null,null,null,null,null,null,null,null,null,null,null,null,null,null,"TOTAL",null,null,null,null,"ESFORÇO 1",null,null,{"$f":"D18","v":-280.32258064516128},{"$f":"D19","v":3.4343677655341637E-14},{"$f":"SQRT((Y31*Y31)+(Z31*Z31))","v":280.32258064516128},0]
[null,null,null,125,100,null,null,null,null,null,null,null,null,null,null,null,"ZERO",null,null,null,null,null,null,null,0,0]
[null,null,null,{"$f":"D32*E33/E32","v":12.5},10,null,null,null,null,null,null,null,null,null,null,null,null,null,null,null,null,"ESFORÇO 2",null,null,{"$f":"G18","v":58.253753443855878},{"$f":"G19","v":-160.05087218547084},{"$f":"SQRT((Y33*Y33)+(Z33*Z33))","v":170.32258064516131},0]
[null,null,null,{"$f":"D32-D33","v":112.5},null,null,null,null,null,null,null,null,null,null,null,null,null,null,null,null,null,null,null,null,0,0]
[null,null,null,{"$f":"D34*B12/100*C3","v":7533.0000000000009},null,null,null,null,null,null,null,null,null,null,null,null,null,null,null,null,null,"ESFORÇO 3",null,null,{"$f":"J18","v":-84.264888743087624},{"$f":"J19","v":70.706637065519288},{"$f":"SQRT((Y35*Y35)+(Z35*Z35))","v":110},0]
[null,null,null,null,null,null,null,null,null,null,null,null,null,null,null,null,null,null,null,null,null,null,null,null,0,0]
[null,null,null,null,null,null,null,null,null,null,null,null,null,null,null,null,null,null,null,null,null,"ESFORÇO 4",null,null,{"$f":"M18","v":38.84980058545019},{"$f":"M19","v":46.299389419278874},{"$f":"SQRT((Y37*Y37)+(Z37*Z37))","v":60.439560439560438},0]
[null,null,null,null,null,null,null,null,null,null,null,null,null,null,40,null,null,null,null,null,null,null,null,null,0,0]
[null,null,null,null,null,null,null,null,null,null,null,null,null,50,50,null,null,null,null,null,null,"ESFORÇO 5",null,null,{"$f":"P18","v":167.73499793240188},{"$f":"P19","v":29.576205744560966},{"$f":"SQRT((Y39*Y39)+(Z39*Z39))","v":170.32258064516128},0]
[null,null,null,null,null,null,null,null,null,null,null,null,null,0,0,null,null,null,null,null,null,null,null,null,0,0]
[null,null,null,null,null,null,null,null,null,null,null,null,null,null,null,null,null,null,null,null,null,"TOTAL",null,null,{"$f":"B18","v":-99.74891742654097},{"$f":"B19","v":-13.46863995611168},{"$f":"SQRT((Y41*Y41)+(Z41*Z41))","v":100.6541146204876},0]
[null,null,null,null,null,null,null,null,null,null,null,null,null,null,null,null,null,null,null,null,null,null,null,null,0,0]
[]
[null,null,null,null,null,null,null,null,null,null,null,null,null,null,null,null,null,null,null,null,null,"ZERO",null,null,0,0,{"$f":"SQRT((Y44*Y44)+(Z44*Z44))","v":0}]
[]
[]
[]
[]
[]
[]
[]
[]
[]
[]
[null,null,{"$f":"P20","v":0},{"$f":"P21","v":0}]

{"sheet":"PreAngulo_Geral","index":10,"n_rows":11,"n_cols":4,"rows_kept":11,"cut":false,"hidden":true,"merged":[]}
[{"$f":"Pre_Geral!Y41","v":-99.74891742654097},null,{"$f":"A1*A1","v":9949.8465277668893}]
[{"$f":"Pre_Geral!AA41","v":100.6541146204876},null,{"$f":"A2*A2","v":10131.250790034257}]
[{"$f":"Pre_Geral!Z41","v":-13.46863995611168},null,{"$f":"A3*A3","v":181.40426226736804}]
[]
[null,null,{"$f":"C1+C2-C3","v":19899.693055533779}]
[null,null,{"$f":"(2*A1*A2)","v":-20080.277935841215}]
[null,null,{"$f":"C5/C6","v":-0.99100685354632911}]
[null,null,{"$f":"-(C7)","v":0.99100685354632911}]
[null,null,{"$f":"COSH(C7)*360/PI()","v":175.62005956157788}]
[null,null,{"$f":"ACOS(C7)*180/PI()","v":172.31012157087147},{"$f":"360+C11","v":187.68987842912853}]
[null,null,{"$f":"ACOS(C7)*-180/PI()","v":-172.31012157087147},{"$f":"180-C11","v":352.3101215708715}]

{"sheet":"Calculo_Esforco_Poste_Geral","index":11,"n_rows":398,"n_cols":37,"rows_kept":398,"cut":false,"hidden":true,"merged":[[2,3,2,5],[2,9,2,11],[9,21,12,21],[18,3,18,5],[18,7,18,9],[21,7,21,9],[27,3,27,5],[28,3,28,5],[29,3,29,5],[30,3,30,5],[33,3,33,7],[34,3,34,7],[35,3,35,7],[36,3,36,7],[37,3,37,7],[40,3,40,7],[41,3,41,7],[42,3,42,7],[54,9,54,11],[55,3,55,7],[55,9,55,11],[43,3,43,7],[44,3,44,7],[46,3,46,7],[49,3,49,7],[49,9,49,13],[50,3,50,7],[56,3,56,7],[57,3,57,7],[58,3,58,7],[51,3,51,7],[52,3,52,7],[53,3,53,7],[54,3,54,7]]}
[null,null,null,null,null,null,null,null,null,null,null,null,null,null,null,"Secundária","PrimariaMinutaCpfl","NeutroMinutaCpfl",null,"Altura Poste"]
[null,null,70,null,null,null,null,null,null,null,null,null,null,null,null,{"$f":" [1]SecundariaMinutaCpfl!A1","v":""},{"$f":" [1]PrimariaMinutaCpfl!A1","v":""},{"$f":" [1]NeutroMinutaCpfl!A1","v":""},null,7]
[null,null,"ALTURA POSTE",11,null,null,null,null,null,null,null,null,null,null,null,{"$f":" [1]SecundariaMinutaCpfl!A2","v":"3 P 16 mm² Vão 35m "},{"$f":" [1]PrimariaMinutaCpfl!A2","v":"3 E 70 mm² Vão 35m "},{"$f":" [1]NeutroMinutaCpfl!A2","v":"1 CA 02 AWG Vão 35m "},null,8,"ÂNGULO"]
[null,null,"ESFORÇO",1,null,2,null,3,null,4,null,5,null,null,null,{"$f":" [1]SecundariaMinutaCpfl!A3","v":"3 P 25 mm² Vão 35m "},{"$f":" [1]PrimariaMinutaCpfl!A3","v":"3 E 185 mm² Vão 35m "},{"$f":" [1]NeutroMinutaCpfl!A3","v":"1 CA 1/0 AWG Vão 35m "},null,9]
[null,null,0,null,90,null,230,null,null,null,null,null,null,null,null,{"$f":" [1]SecundariaMinutaCpfl!A4","v":"3 P 35 mm² Vão 35m "},{"$f":" [1]PrimariaMinutaCpfl!A4","v":""},{"$f":" [1]NeutroMinutaCpfl!A4","v":"1 CA 2/0 AWG Vão 35m "},null,10]
[null,null,"ÂNGULO",0,null,110,null,320,null,230,null,190,null,null,null,{"$f":" [1]SecundariaMinutaCpfl!A5","v":"3 P 50 mm² Vão 35m "},{"$f":" [1]PrimariaMinutaCpfl!A5","v":"3 E 70 mm² Vão 80m "},{"$f":" [1]NeutroMinutaCpfl!A5","v":"1 CA 4/0 AWG Vão 35m "},null,11,null,null,null,null,{"$f":"D6+180","v":180},null,{"$f":"F6+180","v":290},null,{"$f":"H6+180","v":500},null,{"$f":"J6+180","v":410},null,{"$f":"L6+180","v":370},null,null,null,{"$f":" [1]Folha4!A2","v":"A02"}]
[null,null,"PRIMÁRIA",110,null,null,null,110,null,null,null,null,null,null,null,{"$f":" [1]SecundariaMinutaCpfl!A6","v":"3 P 70 mm² Vão 35m "},{"$f":" [1]PrimariaMinutaCpfl!A6","v":"3 E 185 mm² Vão 80m "},{"$f":" [1]NeutroMinutaCpfl!A6","v":"1 CA 336,4 MCM Vão 35m "},null,12,null,null,null,null,null,null,null,null,null,null,null,null,null,null,null,null,{"$f":" [1]Folha4!A3","v":"A10"}]
[null,null,"NEUTRO PRIM.",null,null,null,null,null,null,null,null,null,null,null,null,{"$f":" [1]SecundariaMinutaCpfl!A7","v":"3 P 120 mm² Vão 35m "},{"$f":" [1]PrimariaMinutaCpfl!A7","v":"3 CA 02 AWG Vão 35m "},{"$f":" [1]NeutroMinutaCpfl!A7","v":"1 CA 477 MCM Vão 35m "},null,13,null,null,null,null,null,null,null,null,null,null,null,null,null,null,null,null,{"$f":" [1]Folha4!A4","v":"A20"}]
[null,null,"RED. TENSÃO ",0,null,0,null,0,null,0,null,0,null,null,null,{"$f":" [1]SecundariaMinutaCpfl!A8","v":""},{"$f":" [1]PrimariaMinutaCpfl!A8","v":"3 CA 1/0 AWG Vão 35m "},{"$f":" [1]NeutroMinutaCpfl!A8","v":""},null,14,null,null,null,null,null,null,null,null,null,null,null,null,null,null,null,null,{"$f":" [1]Folha4!A5","v":"A40"}]
[null,null,"DISTÂNCIA PRIMÁRIA TOPO CM",0,null,0,null,0,null,0,null,0,null,null,null,{"$f":" [1]SecundariaMinutaCpfl!A9","v":"3 CA 02 AWG Vão 35m "},{"$f":" [1]PrimariaMinutaCpfl!A9","v":"3 CA 2/0 AWG Vão 35m "},{"$f":" [1]NeutroMinutaCpfl!A9","v":"1 CA 02 AWG Vão 80m "},null,15,null,null,null,null,null,null,null,null,null,null,null,null,null,null,null,null,{"$f":" [1]Folha4!A6","v":"A33"}]
[null,null,"SEC. FASE",110,null,110,null,null,null,null,null,110,null,null,null,{"$f":" [1]SecundariaMinutaCpfl!A10","v":"3 CA 1/0 AWG Vão 35m "},{"$f":" [1]PrimariaMinutaCpfl!A10","v":"3 CA 4/0 AWG Vão 35m "},{"$f":" [1]NeutroMinutaCpfl!A10","v":"1 CA 1/0 AWG Vão 80m "},null,16,null,null,null,{"$f":"IF(X12>180,X12-180,X12+180)","v":7.6898784291285267},null,null,null,null,null,null,null,null,null,null,null,null,{"$f":" [1]Folha4!A7","v":"A47"}]
[null,null,"SEC. NEUTRO",110,null,110,null,null,null,null,null,110,null,null,null,{"$f":" [1]SecundariaMinutaCpfl!A11","v":"3 CA 2/0 AWG Vão 35m "},{"$f":" [1]PrimariaMinutaCpfl!A11","v":"3 CA 336,4 MCM Vão 35m "},{"$f":" [1]NeutroMinutaCpfl!A11","v":"1 CA 2/0 AWG Vão 80m "},null,17,null,null,null,{"$f":"IF(PreAngulo_Geral!A3>0,PreAngulo_Geral!C10,PreAngulo_Geral!D10)","v":187.68987842912853},null,null,null,null,null,null,null,null,null,null,null,null,{"$f":" [1]Folha4!A8","v":"CU06"}]
[null,null,"RED. TENSÃO ",0,null,0,null,0,null,0,null,0,null,null,null,{"$f":" [1]SecundariaMinutaCpfl!A12","v":"3 CA 4/0 AWG Vão 35m "},{"$f":" [1]PrimariaMinutaCpfl!A12","v":"3 CA 477 MCM Vão 35m "},{"$f":" [1]NeutroMinutaCpfl!A12","v":"1 CA 4/0 AWG Vão 80m "},null,18,null,null,null,null,null,null,null,null,null,null,null,null,null,null,null,null,{"$f":" [1]Folha4!A9","v":"CU02"}]
[null,null,"DISTÂNCIA SECUNDÁRIA SOLO CM",720,null,720,null,720,null,720,null,720,null,null,null,{"$f":" [1]SecundariaMinutaCpfl!A13","v":"3 CA 336,4 MCM Vão 35m "},{"$f":" [1]PrimariaMinutaCpfl!A13","v":""},{"$f":" [1]NeutroMinutaCpfl!A13","v":"1 CA 336,4 MCM Vão 80m "},null,19,null,null,null,null,null,null,null,null,null,null,null,null,null,null,null,null,{"$f":" [1]Folha4!A10","v":"CU10"}]
[null,null,"TELEFONE",null,null,null,null,null,null,100,null,null,null,null,null,{"$f":" [1]SecundariaMinutaCpfl!A14","v":"3 CA 477 MCM Vão 35m "},{"$f":" [1]PrimariaMinutaCpfl!A14","v":"3 CA 02 AWG Vão 80m "},{"$f":" [1]NeutroMinutaCpfl!A14","v":"1 CA 477 MCM Vão 80m "},null,20,null,null,null,null,null,null,null,null,null,null,null,null,null,null,null,null,{"$f":" [1]Folha4!A11","v":"CU20"}]
[null,null,"TV CABO",null,null,null,null,null,null,null,null,null,null,null,null,{"$f":" [1]SecundariaMinutaCpfl!A15","v":""},{"$f":" [1]PrimariaMinutaCpfl!A15","v":"3 CA 1/0 AWG Vão 80m "},{"$f":" [1]NeutroMinutaCpfl!A15","v":""},null,null,null,null,null,null,null,null,null,null,null,null,null,null,null,null,null,null,{"$f":" [1]Folha4!A12","v":"CU40"}]
[null,null,"DISTÂNCIA TELEFONE/CABO SOLO CM",550,null,550,null,550,null,550,null,550,null,null,null,{"$f":" [1]SecundariaMinutaCpfl!A16","v":"3 CA 02 AWG Vão 80m "},{"$f":" [1]PrimariaMinutaCpfl!A16","v":"3 CA 2/0 AWG Vão 80m "},{"$f":" [1]NeutroMinutaCpfl!A16","v":"1 CAA 04 AWG Vão 40m "},null,null,null,null,null,null,null,null,null,null,null,null,null,null,null,null,null,null,{"$f":" [1]Folha4!A13","v":"S04"}]
[null,null,"SUB TOTAL",{"$f":"IF(L31=1,Pre_Geral!W22,\"Atualize: http;//www.mabjo.com.br\")","v":"Atualize: http;//www.mabjo.com.br"},null,{"$f":"IF(L31=1,Pre_Geral!W23,\"Atualize: http;//www.mabjo.com.br\")","v":"Atualize: http;//www.mabjo.com.br"},null,{"$f":"IF(L31=1,Pre_Geral!W24,\"Atualize: http;//www.mabjo.com.br\")","v":"Atualize: http;//www.mabjo.com.br"},null,{"$f":"IF(L31=1,Pre_Geral!W25,\"Atualize: http;//www.mabjo.com.br\")","v":"Atualize: http;//www.mabjo.com.br"},null,{"$f":"IF(L31=1,Pre_Geral!W26,\"Atualize: http;//www.mabjo.com.br\")","v":"Atualize: http;//www.mabjo.com.br"},null,null,null,{"$f":" [1]SecundariaMinutaCpfl!A17","v":"3 CA 1/0 AWG Vão 80m "},{"$f":" [1]PrimariaMinutaCpfl!A17","v":"3 CA 4/0 AWG Vão 80m "},{"$f":" [1]NeutroMinutaCpfl!A17","v":"1 CAA 02 AWG Vão 40m "},null,null,null,null,null,null,null,null,null,null,null,null,null,null,null,null,null,null,{"$f":" [1]Folha4!A14","v":"S02"}]
[null,null,"ESFORÇO RESULTANTE",{"$f":"IF(L31=1,Pre_Geral!W27,\"Atualize: http;//www.mabjo.com.br\")","v":"Atualize: http;//www.mabjo.com.br"},null,null,null,"ÂNGULO RESULTANTE",null,null,null,{"$f":"IF(D19>0.001,X11,0)","v":7.6898784291285267},null,null,null,{"$f":" [1]SecundariaMinutaCpfl!A18","v":"3 CA 2/0 AWG Vão 80m "},{"$f":" [1]PrimariaMinutaCpfl!A18","v":"3 CA 336,4 MCM Vão 80m "},{"$f":" [1]NeutroMinutaCpfl!A18","v":"1 CAA 1/0 AWG Vão 40m "},null,null,null,null,null,null,null,null,null,null,null,null,null,null,null,null,null,null,{"$f":" [1]Folha4!A15","v":"S10"}]
[null,null,null,null,null,null,null,null,null,null,null,null,null,null,null,{"$f":" [1]SecundariaMinutaCpfl!A19","v":"3 CA 4/0 AWG Vão 80m "},{"$f":" [1]PrimariaMinutaCpfl!A19","v":"3 CA 477 MCM Vão 80m "},{"$f":" [1]NeutroMinutaCpfl!A19","v":"1 CAA 2/0 AWG Vão 40m "},null,null,null,null,null,null,null,null,null,null,null,null,null,null,null,null,null,null,{"$f":" [1]Folha4!A16","v":"S40"}]
[null,null,"On Line http://www.mabjo.com.br/",null,null,null,null,null,null,null,null,{"$f":"NOW()","v":"2022-07-21T04:50:22.360"},null,null,"http://www.mabjo.com.br",{"$f":" [1]SecundariaMinutaCpfl!A20","v":"3 CA 336,4 MCM Vão 80m "},{"$f":" [1]PrimariaMinutaCpfl!A20","v":""},{"$f":" [1]NeutroMinutaCpfl!A20","v":"1 CAA 4/0 AWG Vão 40m "},null,null,null,null,null,null,null,null,null,null,null,null,null,null,null,null,null,null,{"$f":" [1]Folha4!A17","v":"S33"}]
[null,null,"PROJETOS E CONSTRUÇÕES ELÉTRICAS LOTEAMENTOS","LOTEAMENTOS EXECUTADOS",null,"Fone (19) 997352841",null,"projetos@mabjo.com.br",null,null,null,null,null,"Download Cálculo Mecânico Esforço Poste Atualizado","http://www.mabjo.com.br/",{"$f":" [1]SecundariaMinutaCpfl!A21","v":"3 CA 477 MCM Vão 80m "},{"$f":" [1]PrimariaMinutaCpfl!A21","v":"3 CAA 04 AWG Vão 40m "},{"$f":" [1]NeutroMinutaCpfl!A21","v":""},null,null,null,null,null,null,null,null,null,null,null,null,null,null,null,null,null,null,{"$f":" [1]Folha4!A18","v":"S47"}]
[null,null,{"$f":"CONCATENATE(\"Cálculo Esforço Poste : Plt, Pira, SC e Jg  - Versão\")","v":"Cálculo Esforço Poste : Plt, Pira, SC e Jg  - Versão"},null,null,null,null,null,null,null,null,null,null,{"$f":"O28","v":"2014-12-11"},null,{"$f":" [1]SecundariaMinutaCpfl!A22","v":""},{"$f":" [1]PrimariaMinutaCpfl!A22","v":"3 CAA 02 AWG Vão 40m "},{"$f":" [1]NeutroMinutaCpfl!A22","v":"1 CAA 04 AWG Vão 80m "},null,null,null,null,null,null,null,null,null,null,null,null,null,null,null,null,null,null,{"$f":" [1]Folha4!A19","v":"E70"}]
[null,null,{"$f":"N30","v":""},null,null,{"$f":"O30","v":"2018-06-05"},null,null,null,null,null,null,null,null,null,{"$f":" [1]SecundariaMinutaCpfl!A23","v":"3 CAA 04 AWG Vão 40m "},{"$f":" [1]PrimariaMinutaCpfl!A23","v":"3 CAA 1/0 AWG Vão 40m "},{"$f":" [1]NeutroMinutaCpfl!A23","v":"1 CAA 02 AWG Vão 80m "}]
[null,null,null,null,null,null,null,null,null,null,null,null,null,null,null,{"$f":" [1]SecundariaMinutaCpfl!A24","v":"3 CAA 02 AWG Vão 40m "},{"$f":" [1]PrimariaMinutaCpfl!A24","v":"3 CAA 2/0 AWG Vão 40m "},{"$f":" [1]NeutroMinutaCpfl!A24","v":"1 CAA 1/0 AWG Vão 80m "}]
[null,null,null,null,null,null,null,null,null,null,null,null,null,null,null,{"$f":" [1]SecundariaMinutaCpfl!A25","v":"3 CAA 1/0 AWG Vão 40m "},{"$f":" [1]PrimariaMinutaCpfl!A25","v":"3 CAA 4/0 AWG Vão 40m "},{"$f":" [1]NeutroMinutaCpfl!A25","v":"1 CAA 2/0 AWG Vão 80m "}]
[null,null,{"$f":"X12","v":187.68987842912853},null,null,null,null,null,null,null,null,null,null,null,null,{"$f":" [1]SecundariaMinutaCpfl!A26","v":"3 CAA 2/0 AWG Vão 40m "},{"$f":" [1]PrimariaMinutaCpfl!A26","v":""},{"$f":" [1]NeutroMinutaCpfl!A26","v":"1 CAA 4/0 AWG Vão 80m "},null,null,null,null,null,null,null,null,null,null,null,null,null,null,null,null,null,null,{"$f":" [1]Folha4!A20","v":"E185"}]
[null,null,"MEDIDA 1",12,null,null,null,{"$f":"PreAngulo_Geral!C10","v":172.31012157087147},null,null,null,null,null,"Esta Versão","2014-12-11",{"$f":" [1]SecundariaMinutaCpfl!A27","v":"3 CAA 4/0 AWG Vão 40m "},{"$f":" [1]PrimariaMinutaCpfl!A27","v":"3 CAA 04 AWG Vão 80m "},{"$f":" [1]NeutroMinutaCpfl!A27","v":"1 CAA 336,4 MCM Vão 80m "},null,null,null,null,null,null,null,null,null,null,null,null,null,null,null,null,null,null,{"$f":" [1]Folha4!A21","v":0}]
[null,null,"MEDIDA 2",15,null,null,null,{"$f":"PreAngulo_Geral!D10","v":187.68987842912853},null,"Dias Versão",null,{"$f":"O30-O28","v":1272},null,null,null,{"$f":" [1]SecundariaMinutaCpfl!A28","v":""},{"$f":" [1]PrimariaMinutaCpfl!A28","v":"3 CAA 02 AWG Vão 80m "},{"$f":" [1]NeutroMinutaCpfl!A28","v":""},null,null,null,null,null,null,null,null,null,null,null,null,null,null,null,null,null,null,{"$f":" [1]Folha4!A22","v":0}]
[null,null,"MEDIDA 3",10,null,null,null,null,null,"PreDiasAtualização",null,{"$f":"L21-O30","v":1507.2016476851859},null,{"$f":"IF([1]Mensagem!B3 <> \"\",[1]Mensagem!B3,\"\")","v":""},{"$f":"IF([1]Mensagem!C3 <> \"\",[1]Mensagem!C3,\"\")","v":"2018-06-05"},{"$f":" [1]SecundariaMinutaCpfl!A29","v":"3 CAA 04 AWG Vão 80m "},{"$f":" [1]PrimariaMinutaCpfl!A29","v":"3 CAA 1/0 AWG Vão 80m "},{"$f":" [1]NeutroMinutaCpfl!A29","v":"1 CAA 04 AWG Vão 120m "},null,null,null,null,null,null,null,null,null,null,null,null,null,null,null,null,null,null,{"$f":" [1]Folha4!A23","v":0}]
[null,null,"ÂNGULO",{"$f":"IF(D30>0,Plan3!C10,\"\")","v":41.649672273866805},null,null,null,null,null,"Dias Atualização",null,{"$f":"IF(AND(L29<360,L30<180),1,0)","v":0},null,{"$f":"IF([1]Mensagem!B4 <> \"\",[1]Mensagem!B4,\"\")","v":""},{"$f":"IF([1]Mensagem!C4 <> \"\",[1]Mensagem!C4,\"\")","v":"2018-06-05"},{"$f":" [1]SecundariaMinutaCpfl!A30","v":"3 CAA 02 AWG Vão 80m "},{"$f":" [1]PrimariaMinutaCpfl!A30","v":"3 CAA 2/0 AWG Vão 80m "},{"$f":" [1]NeutroMinutaCpfl!A30","v":"1 CAA 02 AWG Vão 120m "},null,null,null,null,null,null,null,null,null,null,null,null,null,null,null,null,null,null,{"$f":" [1]Folha4!A24","v":0}]
[null,null,null,null,null,null,null,null,null,null,null,null,null,{"$f":"IF([1]Mensagem!B5 <> \"\",[1]Mensagem!B5,\"\")","v":""},{"$f":"IF([1]Mensagem!C5 <> \"\",[1]Mensagem!C5,\"\")","v":""},{"$f":" [1]SecundariaMinutaCpfl!A31","v":"3 CAA 1/0 AWG Vão 80m "},{"$f":" [1]PrimariaMinutaCpfl!A31","v":"3 CAA 4/0 AWG Vão 80m "},{"$f":" [1]NeutroMinutaCpfl!A31","v":"1 CAA 1/0 AWG Vão 120m "},null,null,null,null,null,null,null,null,null,null,null,null,null,null,null,null,null,null,{"$f":" [1]Folha4!A25","v":0}]
[null,null,null,null,null,null,null,null,null,null,null,null,null,{"$f":"IF([1]Mensagem!B6 <> \"\",[1]Mensagem!B6,\"\")","v":""},{"$f":"IF([1]Mensagem!C6 <> \"\",[1]Mensagem!C6,\"\")","v":""},{"$f":" [1]SecundariaMinutaCpfl!A32","v":"3 CAA 2/0 AWG Vão 80m "},{"$f":" [1]PrimariaMinutaCpfl!A32","v":"3 CAA 336,4 MCM Vão 80m "},{"$f":" [1]NeutroMinutaCpfl!A32","v":"1 CAA 2/0 AWG Vão 120m "},null,null,0,null,null,null,null,null,null,null,null,null,null,null,null,null,null,null,{"$f":" [1]Folha4!A26","v":0}]
[null,null,"Coordenada X","Coordenada Y",null,null,null,null,null,null,null,null,null,{"$f":"IF([1]Mensagem!B7 <> \"\",[1]Mensagem!B7,\"\")","v":""},{"$f":"IF([1]Mensagem!C7 <> \"\",[1]Mensagem!C7,\"\")","v":""},{"$f":" [1]SecundariaMinutaCpfl!A33","v":"3 CAA 4/0 AWG Vão 80m "},{"$f":" [1]PrimariaMinutaCpfl!A33","v":""},{"$f":" [1]NeutroMinutaCpfl!A33","v":"1 CAA 4/0 AWG Vão 120m "},null,null,1,null,null,null,null,null,null,null,null,null,null,null,null,null,null,null,{"$f":" [1]Folha4!A27","v":0}]
[null,null,29829000,745407001,null,null,null,null,null,"Poste 1",null,null,null,{"$f":"IF([1]Mensagem!B8 <> \"\",[1]Mensagem!B8,\"\")","v":""},{"$f":"IF([1]Mensagem!C8 <> \"\",[1]Mensagem!C8,\"\")","v":""},{"$f":" [1]SecundariaMinutaCpfl!A34","v":"3 CAA 336,4 MCM Vão 80m "},{"$f":" [1]PrimariaMinutaCpfl!A34","v":"3 CAA 04 AWG Vão 120m "},{"$f":" [1]NeutroMinutaCpfl!A34","v":"1 CAA 336,4 MCM Vão 120m "},null,null,2,null,null,null,null,null,null,null,null,null,null,null,null,null,null,null,{"$f":" [1]Folha4!A28","v":0}]
[null,null,29229000,745406001,null,null,null,null,null,"Poste Meio",null,null,null,{"$f":"IF([1]Mensagem!B9 <> \"\",[1]Mensagem!B9,\"\")","v":""},{"$f":"IF([1]Mensagem!C9 <> \"\",[1]Mensagem!C9,\"\")","v":""},{"$f":" [1]SecundariaMinutaCpfl!A35","v":""},{"$f":" [1]PrimariaMinutaCpfl!A35","v":"3 CAA 02 AWG Vão 120m "},{"$f":" [1]NeutroMinutaCpfl!A35","v":""},null,null,3,null,null,null,null,null,null,null,null,null,null,null,null,null,null,null,{"$f":" [1]Folha4!A29","v":0}]
[null,null,"Distância Metros",{"$f":"Plan3!E26/100","v":6000.008333327547},null,null,null,null,null,null,null,null,null,{"$f":"IF([1]Mensagem!B10 <> \"\",[1]Mensagem!B10,\"\")","v":""},{"$f":"IF([1]Mensagem!C10 <> \"\",[1]Mensagem!C10,\"\")","v":""},{"$f":" [1]SecundariaMinutaCpfl!A36","v":"3 CAA 04 AWG Vão 120m "},{"$f":" [1]PrimariaMinutaCpfl!A36","v":"3 CAA 1/0 AWG Vão 120m "},{"$f":" [1]NeutroMinutaCpfl!A36","v":"1 CU 06 AWG Vão 35m  "},null,null,4,null,null,null,null,null,null,null,null,null,null,null,null,null,null,null,{"$f":" [1]Folha4!A30","v":0}]
[null,null,"Ângulo",{"$f":"Plan3!E29","v":89.904507122564127},null,null,null,null,null,null,null,null,null,{"$f":"IF([1]Mensagem!B11 <> \"\",[1]Mensagem!B11,\"\")","v":""},{"$f":"IF([1]Mensagem!C11 <> \"\",[1]Mensagem!C11,\"\")","v":""},{"$f":" [1]SecundariaMinutaCpfl!A37","v":"3 CAA 02 AWG Vão 120m "},{"$f":" [1]PrimariaMinutaCpfl!A37","v":"3 CAA 2/0 AWG Vão 120m "},{"$f":" [1]NeutroMinutaCpfl!A37","v":"1 CU 02 AWG Vão 35m  "},null,null,5,null,null,null,null,null,null,null,null,null,null,null,null,null,null,null,{"$f":" [1]Folha4!A31","v":0}]
[null,null,null,null,null,null,null,null,null,null,null,null,null,{"$f":"IF([1]Mensagem!B12 <> \"\",[1]Mensagem!B12,\"\")","v":""},{"$f":"IF([1]Mensagem!C12 <> \"\",[1]Mensagem!C12,\"\")","v":""},{"$f":" [1]SecundariaMinutaCpfl!A38","v":"3 CAA 1/0 AWG Vão 120m "},{"$f":" [1]PrimariaMinutaCpfl!A38","v":"3 CAA 4/0 AWG Vão 120m "},{"$f":" [1]NeutroMinutaCpfl!A38","v":"1 CU 1/0 AWG Vão 35m  "},null,null,6,null,null,null,null,null,null,null,null,null,null,null,null,null,null,null,{"$f":" [1]Folha4!A32","v":0}]
[null,null,null,null,null,null,null,null,null,null,null,null,null,{"$f":"IF([1]Mensagem!B13 <> \"\",[1]Mensagem!B13,\"\")","v":""},{"$f":"IF([1]Mensagem!C13 <> \"\",[1]Mensagem!C13,\"\")","v":""},{"$f":" [1]SecundariaMinutaCpfl!A39","v":"3 CAA 2/0 AWG Vão 120m "},{"$f":" [1]PrimariaMinutaCpfl!A39","v":"3 CAA 336,4 MCM Vão 120m "},{"$f":" [1]NeutroMinutaCpfl!A39","v":"1 CU 2/0 AWG Vão 35m  "},null,null,7,null,null,null,null,null,null,null,null,null,null,null,null,null,null,null,{"$f":" [1]Folha4!A33","v":0}]
[null,null,"Coordenada X","Coordenada Y",null,null,null,null,null,null,null,null,null,{"$f":"IF([1]Mensagem!B14 <> \"\",[1]Mensagem!B14,\"\")","v":""},{"$f":"IF([1]Mensagem!C14 <> \"\",[1]Mensagem!C14,\"\")","v":"Cálculo Esforço"},{"$f":" [1]SecundariaMinutaCpfl!A40","v":"3 CAA 4/0 AWG Vão 120m "},{"$f":" [1]PrimariaMinutaCpfl!A40","v":""},{"$f":" [1]NeutroMinutaCpfl!A40","v":"1 CU 4/0 AWG Vão 35m  "},null,null,8,null,null,null,null,null,null,null,null,null,null,null,null,null,null,null,{"$f":" [1]Folha4!A34","v":0}]
[null,null,{"$f":"C36","v":29229000},{"$f":"D36","v":745406001},null,null,null,null,null,"Poste Meio",null,null,null,{"$f":"IF([1]Mensagem!B15 <> \"\",[1]Mensagem!B15,\"\")","v":""},{"$f":"IF([1]Mensagem!C15 <> \"\",[1]Mensagem!C15,\"\")","v":"Customizado"},{"$f":" [1]SecundariaMinutaCpfl!A41","v":"3 CAA 336,4 MCM Vão 120m "},{"$f":" [1]PrimariaMinutaCpfl!A41","v":"3 15kv 240 mm² Vão 35m  "},{"$f":" [1]NeutroMinutaCpfl!A41","v":0},null,null,9,null,null,null,null,null,null,null,null,null,null,null,null,null,null,null,{"$f":" [1]Folha4!A35","v":0}]
[null,null,29279000,748406001,null,null,null,null,null,"Poste 3",null,null,null,{"$f":"IF([1]Mensagem!B16 <> \"\",[1]Mensagem!B16,\"\")","v":""},{"$f":"IF([1]Mensagem!C16 <> \"\",[1]Mensagem!C16,\"\")","v":"para cabos de"},{"$f":" [1]SecundariaMinutaCpfl!A42","v":""},{"$f":" [1]PrimariaMinutaCpfl!A42","v":"3 25kv 240 mm² Vão 35m  "},{"$f":" [1]NeutroMinutaCpfl!A42","v":0},null,null,10,null,null,null,null,null,null,null,null,null,null,null,null,null,null,null,{"$f":" [1]Folha4!A36","v":0}]
[null,null,"Distância Metros",{"$f":"Plan3!E41/100","v":30004.166377354995},null,null,null,null,null,null,null,null,null,{"$f":"IF([1]Mensagem!B17 <> \"\",[1]Mensagem!B17,\"\")","v":""},{"$f":"IF([1]Mensagem!C17 <> \"\",[1]Mensagem!C17,\"\")","v":"Telefonia e"},{"$f":" [1]SecundariaMinutaCpfl!A43","v":"3 15kv 240 mm² Vão 35m  "},{"$f":" [1]PrimariaMinutaCpfl!A43","v":"3 35kv 240 mm² Vão 35m  "},{"$f":" [1]NeutroMinutaCpfl!A43","v":0},null,null,11,null,null,null,null,null,null,null,null,null,null,null,null,null,null,null,{"$f":" [1]Folha4!A37","v":0}]
[null,null,"Ângulo",{"$f":"Plan3!E44","v":0.95484125387218866},null,null,null,null,null,null,null,null,null,{"$f":"IF([1]Mensagem!B18 <> \"\",[1]Mensagem!B18,\"\")","v":""},{"$f":"IF([1]Mensagem!C18 <> \"\",[1]Mensagem!C18,\"\")","v":"Comunicação"},{"$f":" [1]SecundariaMinutaCpfl!A44","v":"3 25kv 240 mm² Vão 35m  "},{"$f":" [1]PrimariaMinutaCpfl!A44","v":""},{"$f":" [1]NeutroMinutaCpfl!A44","v":0},null,null,12,null,null,null,null,null,null,null,null,null,null,null,null,null,null,null,{"$f":" [1]Folha4!A38","v":0}]
[null,null,null,null,null,null,null,null,null,null,null,null,null,{"$f":"IF([1]Mensagem!B19 <> \"\",[1]Mensagem!B19,\"\")","v":""},{"$f":"IF([1]Mensagem!C19 <> \"\",[1]Mensagem!C19,\"\")","v":"http://www.mabjo.com.br/Default.aspx"},{"$f":" [1]SecundariaMinutaCpfl!A45","v":"3 35kv 240 mm² Vão 35m  "},{"$f":" [1]PrimariaMinutaCpfl!A45","v":"3 CU 06 AWG Vão 35m  "},{"$f":" [1]NeutroMinutaCpfl!A45","v":0},null,null,13,null,null,null,null,null,null,null,null,null,null,null,null,null,null,null,{"$f":" [1]Folha4!A39","v":0}]
[null,null,"Ângulo Resultante",{"$f":"D45-D38","v":-88.949665868691937},null,null,null,null,null,null,null,null,null,{"$f":"IF([1]Mensagem!B20 <> \"\",[1]Mensagem!B20,\"\")","v":""},{"$f":"IF([1]Mensagem!C20 <> \"\",[1]Mensagem!C20,\"\")","v":""},{"$f":" [1]SecundariaMinutaCpfl!A46","v":""},{"$f":" [1]PrimariaMinutaCpfl!A46","v":"3 CU 02 AWG Vão 35m  "},{"$f":" [1]NeutroMinutaCpfl!A46","v":0},null,null,14,null,null,null,null,null,null,null,null,null,null,null,null,null,null,null,{"$f":" [1]Folha4!A40","v":0}]
[null,null,null,null,null,null,null,null,null,null,null,null,null,null,null,{"$f":" [1]SecundariaMinutaCpfl!A47","v":"3 CU 06 AWG Vão 35m  "},{"$f":" [1]PrimariaMinutaCpfl!A47","v":"3 CU 1/0 AWG Vão 35m  "},{"$f":" [1]NeutroMinutaCpfl!A47","v":0},null,null,15,null,null,null,null,null,null,null,null,null,null,null,null,null,null,null,{"$f":" [1]Folha4!A41","v":0}]
[null,null,null,null,null,null,null,null,null,null,null,null,null,null,null,{"$f":" [1]SecundariaMinutaCpfl!A48","v":"3 CU 02 AWG Vão 35m  "},{"$f":" [1]PrimariaMinutaCpfl!A48","v":"3 CU 2/0 AWG Vão 35m  "},{"$f":" [1]NeutroMinutaCpfl!A48","v":0},null,null,16,null,null,null,null,null,null,null,null,null,null,null,null,null,null,null,{"$f":" [1]Folha4!A42","v":0}]
[null,null,"Cálculo Flecha","Primário por Fase",null,null,null,null,null,null,null,null,null,null,null,{"$f":" [1]SecundariaMinutaCpfl!A49","v":"3 CU 1/0 AWG Vão 35m  "},{"$f":" [1]PrimariaMinutaCpfl!A49","v":"3 CU 4/0 AWG Vão 35m  "},{"$f":" [1]NeutroMinutaCpfl!A49","v":0},null,null,17,null,null,null,null,null,null,null,null,null,null,null,null,null,null,null,{"$f":" [1]Folha4!A43","v":0}]
[null,null,"Cabo","A02",null,null,null,null,null,null,null,null,null,null,null,{"$f":" [1]SecundariaMinutaCpfl!A50","v":"3 CU 2/0 AWG Vão 35m  "},{"$f":" [1]PrimariaMinutaCpfl!A50","v":""},{"$f":" [1]NeutroMinutaCpfl!A50","v":0},null,null,18,null,null,null,null,null,null,null,null,null,null,null,null,null,null,null,{"$f":" [1]Folha4!A44","v":0}]
[null,null,"Distância",100,null,null,null,null,null,null,null,null,null,null,null,{"$f":" [1]SecundariaMinutaCpfl!A51","v":"3 CU 4/0 AWG Vão 35m  "},{"$f":" [1]PrimariaMinutaCpfl!A51","v":"2 CA 02 AWG Vão 35m "},{"$f":" [1]NeutroMinutaCpfl!A51","v":0},null,null,18,null,null,null,null,null,null,null,null,null,null,null,null,null,null,null,{"$f":" [1]Folha4!A45","v":0}]
[null,null,"Redução Tensão %",20,null,null,null,null,null,null,null,null,null,null,null,{"$f":" [1]SecundariaMinutaCpfl!A52","v":""},{"$f":" [1]PrimariaMinutaCpfl!A52","v":"2 CA 1/0 AWG Vão 35m "},{"$f":" [1]NeutroMinutaCpfl!A52","v":0},null,null,null,null,null,null,null,null,null,null,null,null,null,null,null,null,null,null,{"$f":" [1]Folha4!A46","v":0}]
[null,null,"Amperes",{"$f":"VLOOKUP(D51,[1]Folha4!A2:G27,7,0)","v":138},null,null,null,null,null,"Esforço Trifásico",null,null,null,null,null,{"$f":" [1]SecundariaMinutaCpfl!A53","v":"2 CA 02 AWG Vão 35m "},{"$f":" [1]PrimariaMinutaCpfl!A53","v":"2 CA 2/0 AWG Vão 35m "},{"$f":" [1]NeutroMinutaCpfl!A53","v":0},null,null,null,null,null,null,null,null,null,null,null,null,null,null,null,null,null,null,{"$f":" [1]Folha4!A47","v":0}]
[null,null,"Esforço Urbano",{"$f":"N55-N57","v":76},null,null,null,null,null,{"$f":"D55*3","v":228},null,null,null,{"$f":"VLOOKUP(D51,[1]Folha4!A2:E27,2,0)","v":95},null,{"$f":" [1]SecundariaMinutaCpfl!A54","v":"2 CA 1/0 AWG Vão 35m "},{"$f":" [1]PrimariaMinutaCpfl!A54","v":"2 CA 4/0 AWG Vão 35m "},{"$f":" [1]NeutroMinutaCpfl!A54","v":0},null,null,null,null,null,null,null,null,null,null,null,null,null,null,null,null,null,null,{"$f":" [1]Folha4!A48","v":0}]
[null,null,"Esforço Rural",{"$f":"N56-N58","v":163.19999999999999},null,null,null,null,null,{"$f":"D56*3","v":489.59999999999997},null,null,null,{"$f":"VLOOKUP(D51,[1]Folha4!A2:E27,3,0)","v":204},null,{"$f":" [1]SecundariaMinutaCpfl!A55","v":"2 CA 2/0 AWG Vão 35m "},{"$f":" [1]PrimariaMinutaCpfl!A55","v":"2 CA 336,4 MCM Vão 35m "},{"$f":" [1]NeutroMinutaCpfl!A55","v":0},null,null,null,null,null,null,null,null,null,null,null,null,null,null,null,null,null,null,{"$f":" [1]Folha4!A49","v":0}]
[null,null,"Kg/m",{"$f":"VLOOKUP(D51,[1]Folha4!A1:F27,6,0)","v":9.1999999999999998E-2},null,null,null,null,null,null,null,null,null,{"$f":"D53*N55/100","v":19},null,{"$f":" [1]SecundariaMinutaCpfl!A56","v":"2 CA 4/0 AWG Vão 35m "},{"$f":" [1]PrimariaMinutaCpfl!A56","v":"2 CA 477 MCM Vão 35m "},{"$f":" [1]NeutroMinutaCpfl!A56","v":0},null,null,null,null,null,null,null,null,null,null,null,null,null,null,null,null,null,null,{"$f":" [1]Folha4!A50","v":0}]
[null,null,"Flecha Ubano",{"$f":"IF(D55>0,(D57*(D52*D52))/(8*D55),\"\")","v":1.513157894736842},null,null,null,null,null,null,null,null,null,{"$f":"D53*N56/100","v":40.799999999999997},null,{"$f":" [1]SecundariaMinutaCpfl!A57","v":"2 CA 336,4 MCM Vão 35m "},{"$f":" [1]PrimariaMinutaCpfl!A57","v":""},{"$f":" [1]NeutroMinutaCpfl!A57","v":0},null,null,18,null,null,null,null,null,null,null,null,null,null,null,null,null,null,null,{"$f":" [1]Folha4!A51","v":0}]
[null,null,"Flecha Rural",{"$f":"IF(D56>0,(D57*(D52*D52))/(8*D56),\"\")","v":0.70465686274509809},null,null,null,null,null,null,null,null,null,null,null,{"$f":" [1]SecundariaMinutaCpfl!A58","v":"2 CA 477 MCM Vão 35m "},{"$f":" [1]PrimariaMinutaCpfl!A58","v":"2 CA 02 AWG Vão 80m "},{"$f":" [1]NeutroMinutaCpfl!A58","v":0},null,null,18,null,null,null,null,null,null,null,null,null,null,null,null,null,null,null,{"$f":" [1]Folha4!A52","v":0}]
[null,null,null,null,null,null,null,null,null,null,null,null,null,null,null,{"$f":" [1]SecundariaMinutaCpfl!A59","v":""},{"$f":" [1]PrimariaMinutaCpfl!A59","v":"2 CA 1/0 AWG Vão 80m "},{"$f":" [1]NeutroMinutaCpfl!A59","v":0},null,null,18,null,null,null,null,null,null,null,null,null,null,null,null,null,null,null,{"$f":" [1]Folha4!A53","v":0}]
[null,null,null,null,null,null,null,null,null,null,null,null,null,null,null,{"$f":" [1]SecundariaMinutaCpfl!A60","v":"2 CA 02 AWG Vão 80m "},{"$f":" [1]PrimariaMinutaCpfl!A60","v":"2 CA 2/0 AWG Vão 80m "},{"$f":" [1]NeutroMinutaCpfl!A60","v":0},null,null,18,null,null,null,null,null,null,null,null,null,null,null,null,null,null,null,{"$f":" [1]Folha4!A54","v":0}]
[null,null,{"$f":"VLOOKUP(D51,[1]Folha4!A2:E27,2,0)","v":95},null,null,null,null,null,null,null,null,null,null,null,null,{"$f":" [1]SecundariaMinutaCpfl!A61","v":"2 CA 1/0 AWG Vão 80m "},{"$f":" [1]PrimariaMinutaCpfl!A61","v":"2 CA 4/0 AWG Vão 80m "},{"$f":" [1]NeutroMinutaCpfl!A61","v":0},null,null,18,null,null,null,null,null,null,null,null,null,null,null,null,null,null,null,{"$f":" [1]Folha4!A55","v":0}]
[null,null,null,null,null,null,null,null,null,null,null,null,null,null,null,{"$f":" [1]SecundariaMinutaCpfl!A62","v":"2 CA 2/0 AWG Vão 80m "},{"$f":" [1]PrimariaMinutaCpfl!A62","v":"2 CA 336,4 MCM Vão 80m "},{"$f":" [1]NeutroMinutaCpfl!A62","v":0},null,null,18,null,null,null,null,null,null,null,null,null,null,null,null,null,null,null,{"$f":" [1]Folha4!A56","v":0}]
[null,null,null,null,null,null,null,null,null,null,null,null,null,null,null,{"$f":" [1]SecundariaMinutaCpfl!A63","v":"2 CA 4/0 AWG Vão 80m "},{"$f":" [1]PrimariaMinutaCpfl!A63","v":"2 CA 477 MCM Vão 80m "},{"$f":" [1]NeutroMinutaCpfl!A63","v":0},null,null,18,null,null,null,null,null,null,null,null,null,null,null,null,null,null,null,{"$f":" [1]Folha4!A57","v":0}]
[null,null,null,null,null,null,null,null,null,null,null,null,null,null,null,{"$f":" [1]SecundariaMinutaCpfl!A64","v":"2 CA 336,4 MCM Vão 80m "},{"$f":" [1]PrimariaMinutaCpfl!A64","v":""},{"$f":" [1]NeutroMinutaCpfl!A64","v":0},null,null,18,null,null,null,null,null,null,null,null,null,null,null,null,null,null,null,{"$f":" [1]Folha4!A58","v":0}]
[null,null,null,null,null,null,null,null,null,null,null,null,null,null,null,{"$f":" [1]SecundariaMinutaCpfl!A65","v":"2 CA 477 MCM Vão 80m "},{"$f":" [1]PrimariaMinutaCpfl!A65","v":"2 CA 04 AWG Vão 40m "},{"$f":" [1]NeutroMinutaCpfl!A65","v":0},null,null,18,null,null,null,null,null,null,null,null,null,null,null,null,null,null,null,{"$f":" [1]Folha4!A59","v":0}]
[null,null,null,null,null,null,null,null,null,null,null,null,null,null,null,{"$f":" [1]SecundariaMinutaCpfl!A66","v":""},{"$f":" [1]PrimariaMinutaCpfl!A66","v":"2 CA 02 AWG Vão 40m "},{"$f":" [1]NeutroMinutaCpfl!A66","v":0},null,null,18,null,null,null,null,null,null,null,null,null,null,null,null,null,null,null,{"$f":" [1]Folha4!A60","v":0}]
[null,null,null,null,null,null,null,null,null,null,null,null,null,null,null,{"$f":" [1]SecundariaMinutaCpfl!A67","v":"2 CA 04 AWG Vão 40m "},{"$f":" [1]PrimariaMinutaCpfl!A67","v":"2 CA 1/0 AWG Vão 40m "},{"$f":" [1]NeutroMinutaCpfl!A67","v":0},null,null,18,null,null,null,null,null,null,null,null,null,null,null,null,null,null,null,{"$f":" [1]Folha4!A61","v":0}]
[null,null,null,null,null,null,null,null,null,null,null,null,null,null,null,{"$f":" [1]SecundariaMinutaCpfl!A68","v":"2 CA 02 AWG Vão 40m "},{"$f":" [1]PrimariaMinutaCpfl!A68","v":"2 CA 2/0 AWG Vão 40m "},{"$f":" [1]NeutroMinutaCpfl!A68","v":0},null,null,18,null,null,null,null,null,null,null,null,null,null,null,null,null,null,null,{"$f":" [1]Folha4!A62","v":0}]
[null,null,null,null,null,null,null,null,null,null,null,null,null,null,null,{"$f":" [1]SecundariaMinutaCpfl!A69","v":"2 CA 1/0 AWG Vão 40m "},{"$f":" [1]PrimariaMinutaCpfl!A69","v":"2 CA 4/0 AWG Vão 40m "},{"$f":" [1]NeutroMinutaCpfl!A69","v":0},null,null,18,null,null,null,null,null,null,null,null,null,null,null,null,null,null,null,{"$f":" [1]Folha4!A63","v":0}]
[null,null,null,null,null,null,null,null,null,null,null,null,null,null,null,{"$f":" [1]SecundariaMinutaCpfl!A70","v":"2 CA 2/0 AWG Vão 40m "},{"$f":" [1]PrimariaMinutaCpfl!A70","v":""},{"$f":" [1]NeutroMinutaCpfl!A70","v":0},null,null,18,null,null,null,null,null,null,null,null,null,null,null,null,null,null,null,{"$f":" [1]Folha4!A64","v":0}]
[null,null,null,null,null,null,null,null,null,null,null,null,null,null,null,{"$f":" [1]SecundariaMinutaCpfl!A71","v":"2 CA 4/0 AWG Vão 40m "},{"$f":" [1]PrimariaMinutaCpfl!A71","v":"2 CAA 04 AWG Vão 80m "},{"$f":" [1]NeutroMinutaCpfl!A71","v":0},null,null,18,null,null,null,null,null,null,null,null,null,null,null,null,null,null,null,{"$f":" [1]Folha4!A65","v":0}]
[null,null,null,null,null,null,null,null,null,null,null,null,null,null,null,{"$f":" [1]SecundariaMinutaCpfl!A72","v":""},{"$f":" [1]PrimariaMinutaCpfl!A72","v":"2 CAA 02 AWG Vão 80m "},{"$f":" [1]NeutroMinutaCpfl!A72","v":0},null,null,35,null,null,null,null,null,null,null,null,null,null,null,null,null,null,null,{"$f":" [1]Folha4!A66","v":0}]
[null,null,null,null,null,null,null,null,null,null,null,null,null,null,null,{"$f":" [1]SecundariaMinutaCpfl!A73","v":"2 CAA 04 AWG Vão 80m "},{"$f":" [1]PrimariaMinutaCpfl!A73","v":"2 CAA 1/0 AWG Vão 80m "},{"$f":" [1]NeutroMinutaCpfl!A73","v":0},null,null,36,null,null,null,null,null,null,null,null,null,null,null,null,null,null,null,{"$f":" [1]Folha4!A67","v":0}]
[null,null,null,null,null,null,null,null,null,null,null,null,null,null,null,{"$f":" [1]SecundariaMinutaCpfl!A74","v":"2 CAA 02 AWG Vão 80m "},{"$f":" [1]PrimariaMinutaCpfl!A74","v":"2 CAA 2/0 AWG Vão 80m "},{"$f":" [1]NeutroMinutaCpfl!A74","v":0},null,null,37,null,null,null,null,null,null,null,null,null,null,null,null,null,null,null,{"$f":" [1]Folha4!A68","v":0}]
[null,null,null,null,null,null,null,null,null,null,null,null,null,null,null,{"$f":" [1]SecundariaMinutaCpfl!A75","v":"2 CAA 1/0 AWG Vão 80m "},{"$f":" [1]PrimariaMinutaCpfl!A75","v":"2 CAA 4/0 AWG Vão 80m "},{"$f":" [1]NeutroMinutaCpfl!A75","v":0},null,null,38,null,null,null,null,null,null,null,null,null,null,null,null,null,null,null,{"$f":" [1]Folha4!A69","v":0}]
[null,null,null,null,null,null,null,null,null,null,null,null,null,null,null,{"$f":" [1]SecundariaMinutaCpfl!A76","v":"2 CAA 2/0 AWG Vão 80m "},{"$f":" [1]PrimariaMinutaCpfl!A76","v":"2 CAA 336,4 MCM Vão 80m "},{"$f":" [1]NeutroMinutaCpfl!A76","v":0},null,null,39,null,null,null,null,null,null,null,null,null,null,null,null,null,null,null,{"$f":" [1]Folha4!A70","v":0}]
[null,null,null,null,null,null,null,null,null,null,null,null,null,null,null,{"$f":" [1]SecundariaMinutaCpfl!A77","v":"2 CAA 4/0 AWG Vão 80m "},{"$f":" [1]PrimariaMinutaCpfl!A77","v":""},{"$f":" [1]NeutroMinutaCpfl!A77","v":0},null,null,40,null,null,null,null,null,null,null,null,null,null,null,null,null,null,null,{"$f":" [1]Folha4!A71","v":0}]
[null,null,null,null,null,null,null,null,null,null,null,null,null,null,null,{"$f":" [1]SecundariaMinutaCpfl!A78","v":"2 CAA 336,4 MCM Vão 80m "},{"$f":" [1]PrimariaMinutaCpfl!A78","v":"2 CAA 04 AWG Vão 120m "},{"$f":" [1]NeutroMinutaCpfl!A78","v":0},null,null,41,null,null,null,null,null,null,null,null,null,null,null,null,null,null,null,{"$f":" [1]Folha4!A72","v":0}]
[null,null,null,null,null,null,null,null,null,null,null,null,null,null,null,{"$f":" [1]SecundariaMinutaCpfl!A79","v":""},{"$f":" [1]PrimariaMinutaCpfl!A79","v":"2 CAA 02 AWG Vão 120m "},{"$f":" [1]NeutroMinutaCpfl!A79","v":0},null,null,42,null,null,null,null,null,null,null,null,null,null,null,null,null,null,null,{"$f":" [1]Folha4!A73","v":0}]
[null,null,null,null,null,null,null,null,null,null,null,null,null,null,null,{"$f":" [1]SecundariaMinutaCpfl!A80","v":"2 CAA 04 AWG Vão 120m "},{"$f":" [1]PrimariaMinutaCpfl!A80","v":"2 CAA 1/0 AWG Vão 120m "},{"$f":" [1]NeutroMinutaCpfl!A80","v":0},null,null,43,null,null,null,null,null,null,null,null,null,null,null,null,null,null,null,{"$f":" [1]Folha4!A74","v":0}]
[null,null,null,null,null,null,null,null,null,null,null,null,null,null,null,{"$f":" [1]SecundariaMinutaCpfl!A81","v":"2 CAA 02 AWG Vão 120m "},{"$f":" [1]PrimariaMinutaCpfl!A81","v":"2 CAA 2/0 AWG Vão 120m "},{"$f":" [1]NeutroMinutaCpfl!A81","v":0},null,null,44,null,null,null,null,null,null,null,null,null,null,null,null,null,null,null,{"$f":" [1]Folha4!A75","v":0}]
[null,null,null,null,null,null,null,null,null,null,null,null,null,null,null,{"$f":" [1]SecundariaMinutaCpfl!A82","v":"2 CAA 1/0 AWG Vão 120m "},{"$f":" [1]PrimariaMinutaCpfl!A82","v":"2 CAA 4/0 AWG Vão 120m "},{"$f":" [1]NeutroMinutaCpfl!A82","v":0},null,null,45,null,null,null,null,null,null,null,null,null,null,null,null,null,null,null,{"$f":" [1]Folha4!A76","v":0}]
[null,null,null,null,null,null,null,null,null,null,null,null,null,null,null,{"$f":" [1]SecundariaMinutaCpfl!A83","v":"2 CAA 2/0 AWG Vão 120m "},{"$f":" [1]PrimariaMinutaCpfl!A83","v":"2 CAA 336,4 MCM Vão 120m "},{"$f":" [1]NeutroMinutaCpfl!A83","v":0},null,null,46,null,null,null,null,null,null,null,null,null,null,null,null,null,null,null,{"$f":" [1]Folha4!A77","v":0}]
[null,null,null,null,null,null,null,null,null,null,null,null,null,null,null,{"$f":" [1]SecundariaMinutaCpfl!A84","v":"2 CAA 4/0 AWG Vão 120m "},{"$f":" [1]PrimariaMinutaCpfl!A84","v":""},{"$f":" [1]NeutroMinutaCpfl!A84","v":0},null,null,47,null,null,null,null,null,null,null,null,null,null,null,null,null,null,null,{"$f":" [1]Folha4!A78","v":0}]
[null,null,null,null,null,null,null,null,null,null,null,null,null,null,null,{"$f":" [1]SecundariaMinutaCpfl!A85","v":"2 CAA 336,4 MCM Vão 120m "},{"$f":" [1]PrimariaMinutaCpfl!A85","v":"2 CU 06 AWG Vão 35m  "},{"$f":" [1]NeutroMinutaCpfl!A85","v":0},null,null,48,null,null,null,null,null,null,null,null,null,null,null,null,null,null,null,{"$f":" [1]Folha4!A79","v":0}]
[null,null,null,null,null,null,null,null,null,null,null,null,null,null,null,{"$f":" [1]SecundariaMinutaCpfl!A86","v":""},{"$f":" [1]PrimariaMinutaCpfl!A86","v":"2 CU 02 AWG Vão 35m  "},{"$f":" [1]NeutroMinutaCpfl!A86","v":0},null,null,49,null,null,null,null,null,null,null,null,null,null,null,null,null,null,null,{"$f":" [1]Folha4!A80","v":0}]
[null,null,null,null,null,null,null,null,null,null,null,null,null,null,null,{"$f":" [1]SecundariaMinutaCpfl!A87","v":"2 CU 06 AWG Vão 35m  "},{"$f":" [1]PrimariaMinutaCpfl!A87","v":"2 CU 1/0 AWG Vão 35m  "},{"$f":" [1]NeutroMinutaCpfl!A87","v":0},null,null,50,null,null,null,null,null,null,null,null,null,null,null,null,null,null,null,{"$f":" [1]Folha4!A81","v":0}]
[null,null,null,null,null,null,null,null,null,null,null,null,null,null,null,{"$f":" [1]SecundariaMinutaCpfl!A88","v":"2 CU 02 AWG Vão 35m  "},{"$f":" [1]PrimariaMinutaCpfl!A88","v":"2 CU 2/0 AWG Vão 35m  "},{"$f":" [1]NeutroMinutaCpfl!A88","v":0},null,null,51,null,null,null,null,null,null,null,null,null,null,null,null,null,null,null,{"$f":" [1]Folha4!A82","v":0}]
[null,null,null,null,null,null,null,null,null,null,null,null,null,null,null,{"$f":" [1]SecundariaMinutaCpfl!A89","v":"2 CU 1/0 AWG Vão 35m  "},{"$f":" [1]PrimariaMinutaCpfl!A89","v":"2 CU 4/0 AWG Vão 35m  "},{"$f":" [1]NeutroMinutaCpfl!A89","v":0},null,null,52,null,null,null,null,null,null,null,null,null,null,null,null,null,null,null,{"$f":" [1]Folha4!A83","v":0}]
[null,null,null,null,null,null,null,null,null,null,null,null,null,null,null,{"$f":" [1]SecundariaMinutaCpfl!A90","v":"2 CU 2/0 AWG Vão 35m  "},{"$f":" [1]PrimariaMinutaCpfl!A90","v":""},{"$f":" [1]NeutroMinutaCpfl!A90","v":0},null,null,53,null,null,null,null,null,null,null,null,null,null,null,null,null,null,null,{"$f":" [1]Folha4!A84","v":0}]
[null,null,null,null,null,null,null,null,null,null,null,null,null,null,null,{"$f":" [1]SecundariaMinutaCpfl!A91","v":"2 CU 4/0 AWG Vão 35m  "},{"$f":" [1]PrimariaMinutaCpfl!A91","v":"1 CA 02 AWG Vão 35m "},{"$f":" [1]NeutroMinutaCpfl!A91","v":0},null,null,54,null,null,null,null,null,null,null,null,null,null,null,null,null,null,null,{"$f":" [1]Folha4!A85","v":0}]
[null,null,null,null,null,null,null,null,null,null,null,null,null,null,null,{"$f":" [1]SecundariaMinutaCpfl!A92","v":""},{"$f":" [1]PrimariaMinutaCpfl!A92","v":"1 CA 1/0 AWG Vão 35m "},{"$f":" [1]NeutroMinutaCpfl!A92","v":0},null,null,55,null,null,null,null,null,null,null,null,null,null,null,null,null,null,null,{"$f":" [1]Folha4!A86","v":0}]
[null,null,null,null,null,null,null,null,null,null,null,null,null,null,null,{"$f":" [1]SecundariaMinutaCpfl!A93","v":"1 CA 02 AWG Vão 35m "},{"$f":" [1]PrimariaMinutaCpfl!A93","v":"1 CA 2/0 AWG Vão 35m "},{"$f":" [1]NeutroMinutaCpfl!A93","v":0},null,null,56,null,null,null,null,null,null,null,null,null,null,null,null,null,null,null,{"$f":" [1]Folha4!A87","v":0}]
[null,null,null,null,null,null,null,null,null,null,null,null,null,null,null,{"$f":" [1]SecundariaMinutaCpfl!A94","v":"1 CA 1/0 AWG Vão 35m "},{"$f":" [1]PrimariaMinutaCpfl!A94","v":"1 CA 4/0 AWG Vão 35m "},{"$f":" [1]NeutroMinutaCpfl!A94","v":0},null,null,57,null,null,null,null,null,null,null,null,null,null,null,null,null,null,null,{"$f":" [1]Folha4!A88","v":0}]
[null,null,null,null,null,null,null,null,null,null,null,null,null,null,null,{"$f":" [1]SecundariaMinutaCpfl!A95","v":"1 CA 2/0 AWG Vão 35m "},{"$f":" [1]PrimariaMinutaCpfl!A95","v":"1 CA 336,4 MCM Vão 35m "},{"$f":" [1]NeutroMinutaCpfl!A95","v":0},null,null,58,null,null,null,null,null,null,null,null,null,null,null,null,null,null,null,{"$f":" [1]Folha4!A89","v":0}]
[null,null,null,null,null,null,null,null,null,null,null,null,null,null,null,{"$f":" [1]SecundariaMinutaCpfl!A96","v":"1 CA 4/0 AWG Vão 35m "},{"$f":" [1]PrimariaMinutaCpfl!A96","v":"1 CA 477 MCM Vão 35m "},{"$f":" [1]NeutroMinutaCpfl!A96","v":0},null,null,59,null,null,null,null,null,null,null,null,null,null,null,null,null,null,null,{"$f":" [1]Folha4!A90","v":0}]
[null,null,null,null,null,null,null,null,null,null,null,null,null,null,null,{"$f":" [1]SecundariaMinutaCpfl!A97","v":"1 CA 336,4 MCM Vão 35m "},{"$f":" [1]PrimariaMinutaCpfl!A97","v":""},{"$f":" [1]NeutroMinutaCpfl!A97","v":0},null,null,60,null,null,null,null,null,null,null,null,null,null,null,null,null,null,null,{"$f":" [1]Folha4!A91","v":0}]
[null,null,null,null,null,null,null,null,null,null,null,null,null,null,null,{"$f":" [1]SecundariaMinutaCpfl!A98","v":"1 CA 477 MCM Vão 35m "},{"$f":" [1]PrimariaMinutaCpfl!A98","v":"1 CA 02 AWG Vão 80m "},{"$f":" [1]NeutroMinutaCpfl!A98","v":0},null,null,61,null,null,null,null,null,null,null,null,null,null,null,null,null,null,null,{"$f":" [1]Folha4!A92","v":0}]
[null,null,null,null,null,null,null,null,null,null,null,null,null,null,null,{"$f":" [1]SecundariaMinutaCpfl!A99","v":""},{"$f":" [1]PrimariaMinutaCpfl!A99","v":"1 CA 1/0 AWG Vão 80m "},{"$f":" [1]NeutroMinutaCpfl!A99","v":0},null,null,62,null,null,null,null,null,null,null,null,null,null,null,null,null,null,null,{"$f":" [1]Folha4!A93","v":0}]
[null,null,null,null,null,null,null,null,null,null,null,null,null,null,null,{"$f":" [1]SecundariaMinutaCpfl!A100","v":"1 CA 02 AWG Vão 80m "},{"$f":" [1]PrimariaMinutaCpfl!A100","v":"1 CA 2/0 AWG Vão 80m "},{"$f":" [1]NeutroMinutaCpfl!A100","v":0},null,null,63,null,null,null,null,null,null,null,null,null,null,null,null,null,null,null,{"$f":" [1]Folha4!A94","v":0}]
[null,null,null,null,null,null,null,null,null,null,null,null,null,null,null,{"$f":" [1]SecundariaMinutaCpfl!A101","v":"1 CA 1/0 AWG Vão 80m "},{"$f":" [1]PrimariaMinutaCpfl!A101","v":"1 CA 4/0 AWG Vão 80m "},{"$f":" [1]NeutroMinutaCpfl!A101","v":0},null,null,64,null,null,null,null,null,null,null,null,null,null,null,null,null,null,null,{"$f":" [1]Folha4!A95","v":0}]
[null,null,null,null,null,null,null,null,null,null,null,null,null,null,null,{"$f":" [1]SecundariaMinutaCpfl!A102","v":"1 CA 2/0 AWG Vão 80m "},{"$f":" [1]PrimariaMinutaCpfl!A102","v":"1 CA 336,4 MCM Vão 80m "},{"$f":" [1]NeutroMinutaCpfl!A102","v":0},null,null,65,null,null,null,null,null,null,null,null,null,null,null,null,null,null,null,{"$f":" [1]Folha4!A96","v":0}]
[null,null,null,null,null,null,null,null,null,null,null,null,null,null,null,{"$f":" [1]SecundariaMinutaCpfl!A103","v":"1 CA 4/0 AWG Vão 80m "},{"$f":" [1]PrimariaMinutaCpfl!A103","v":"1 CA 477 MCM Vão 80m "},{"$f":" [1]NeutroMinutaCpfl!A103","v":0},null,null,66,null,null,null,null,null,null,null,null,null,null,null,null,null,null,null,{"$f":" [1]Folha4!A97","v":0}]
[null,null,null,null,null,null,null,null,null,null,null,null,null,null,null,{"$f":" [1]SecundariaMinutaCpfl!A104","v":"1 CA 336,4 MCM Vão 80m "},{"$f":" [1]PrimariaMinutaCpfl!A104","v":""},{"$f":" [1]NeutroMinutaCpfl!A104","v":0},null,null,67,null,null,null,null,null,null,null,null,null,null,null,null,null,null,null,{"$f":" [1]Folha4!A98","v":0}]
[null,null,null,null,null,null,null,null,null,null,null,null,null,null,null,{"$f":" [1]SecundariaMinutaCpfl!A105","v":"1 CA 477 MCM Vão 80m "},{"$f":" [1]PrimariaMinutaCpfl!A105","v":"1 CAA 04 AWG Vão 40m "},{"$f":" [1]NeutroMinutaCpfl!A105","v":0},null,null,68,null,null,null,null,null,null,null,null,null,null,null,null,null,null,null,{"$f":" [1]Folha4!A99","v":0}]
[null,null,null,null,null,null,null,null,null,null,null,null,null,null,null,{"$f":" [1]SecundariaMinutaCpfl!A106","v":""},{"$f":" [1]PrimariaMinutaCpfl!A106","v":"1 CAA 02 AWG Vão 40m "},{"$f":" [1]NeutroMinutaCpfl!A106","v":0},null,null,69,null,null,null,null,null,null,null,null,null,null,null,null,null,null,null,{"$f":" [1]Folha4!A100","v":0}]
[null,null,null,null,null,null,null,null,null,null,null,null,null,null,null,{"$f":" [1]SecundariaMinutaCpfl!A107","v":"1 CAA 04 AWG Vão 40m "},{"$f":" [1]PrimariaMinutaCpfl!A107","v":"1 CAA 1/0 AWG Vão 40m "},{"$f":" [1]NeutroMinutaCpfl!A107","v":0},null,null,70,null,null,null,null,null,null,null,null,null,null,null,null,null,null,null,{"$f":" [1]Folha4!A101","v":0}]
[null,null,null,null,null,null,null,null,null,null,null,null,null,null,null,{"$f":" [1]SecundariaMinutaCpfl!A108","v":"1 CAA 02 AWG Vão 40m "},{"$f":" [1]PrimariaMinutaCpfl!A108","v":"1 CAA 2/0 AWG Vão 40m "},{"$f":" [1]NeutroMinutaCpfl!A108","v":0},null,null,71,null,null,null,null,null,null,null,null,null,null,null,null,null,null,null,{"$f":" [1]Folha4!A102","v":0}]
[null,null,null,null,null,null,null,null,null,null,null,null,null,null,null,{"$f":" [1]SecundariaMinutaCpfl!A109","v":"1 CAA 1/0 AWG Vão 40m "},{"$f":" [1]PrimariaMinutaCpfl!A109","v":"1 CAA 4/0 AWG Vão 40m "},{"$f":" [1]NeutroMinutaCpfl!A109","v":0},null,null,72,null,null,null,null,null,null,null,null,null,null,null,null,null,null,null,{"$f":" [1]Folha4!A103","v":0}]
[null,null,null,null,null,null,null,null,null,null,null,null,null,null,null,{"$f":" [1]SecundariaMinutaCpfl!A110","v":"1 CAA 2/0 AWG Vão 40m "},{"$f":" [1]PrimariaMinutaCpfl!A110","v":""},{"$f":" [1]NeutroMinutaCpfl!A110","v":0},null,null,73,null,null,null,null,null,null,null,null,null,null,null,null,null,null,null,{"$f":" [1]Folha4!A104","v":0}]
[null,null,null,null,null,null,null,null,null,null,null,null,null,null,null,{"$f":" [1]SecundariaMinutaCpfl!A111","v":"1 CAA 4/0 AWG Vão 40m "},{"$f":" [1]PrimariaMinutaCpfl!A111","v":"1 CAA 04 AWG Vão 80m "},{"$f":" [1]NeutroMinutaCpfl!A111","v":0},null,null,74,null,null,null,null,null,null,null,null,null,null,null,null,null,null,null,{"$f":" [1]Folha4!A105","v":0}]
[null,null,null,null,null,null,null,null,null,null,null,null,null,null,null,{"$f":" [1]SecundariaMinutaCpfl!A112","v":""},{"$f":" [1]PrimariaMinutaCpfl!A112","v":"1 CAA 02 AWG Vão 80m "},{"$f":" [1]NeutroMinutaCpfl!A112","v":0},null,null,75,null,null,null,null,null,null,null,null,null,null,null,null,null,null,null,{"$f":" [1]Folha4!A106","v":0}]
[null,null,null,null,null,null,null,null,null,null,null,null,null,null,null,{"$f":" [1]SecundariaMinutaCpfl!A113","v":"1 CAA 04 AWG Vão 80m "},{"$f":" [1]PrimariaMinutaCpfl!A113","v":"1 CAA 1/0 AWG Vão 80m "},{"$f":" [1]NeutroMinutaCpfl!A113","v":0},null,null,76,null,null,null,null,null,null,null,null,null,null,null,null,null,null,null,{"$f":" [1]Folha4!A107","v":0}]
[null,null,null,null,null,null,null,null,null,null,null,null,null,null,null,{"$f":" [1]SecundariaMinutaCpfl!A114","v":"1 CAA 02 AWG Vão 80m "},{"$f":" [1]PrimariaMinutaCpfl!A114","v":"1 CAA 2/0 AWG Vão 80m "},{"$f":" [1]NeutroMinutaCpfl!A114","v":0},null,null,77,null,null,null,null,null,null,null,null,null,null,null,null,null,null,null,{"$f":" [1]Folha4!A108","v":0}]
[null,null,null,null,null,null,null,null,null,null,null,null,null,null,null,{"$f":" [1]SecundariaMinutaCpfl!A115","v":"1 CAA 1/0 AWG Vão 80m "},{"$f":" [1]PrimariaMinutaCpfl!A115","v":"1 CAA 4/0 AWG Vão 80m "},{"$f":" [1]NeutroMinutaCpfl!A115","v":0},null,null,78,null,null,null,null,null,null,null,null,null,null,null,null,null,null,null,{"$f":" [1]Folha4!A109","v":0}]
[null,null,null,null,null,null,null,null,null,null,null,null,null,null,null,{"$f":" [1]SecundariaMinutaCpfl!A116","v":"1 CAA 2/0 AWG Vão 80m "},{"$f":" [1]PrimariaMinutaCpfl!A116","v":"1 CAA 336,4 MCM Vão 80m "},{"$f":" [1]NeutroMinutaCpfl!A116","v":0},null,null,79,null,null,null,null,null,null,null,null,null,null,null,null,null,null,null,{"$f":" [1]Folha4!A110","v":0}]
[null,null,null,null,null,null,null,null,null,null,null,null,null,null,null,{"$f":" [1]SecundariaMinutaCpfl!A117","v":"1 CAA 4/0 AWG Vão 80m "},{"$f":" [1]PrimariaMinutaCpfl!A117","v":""},{"$f":" [1]NeutroMinutaCpfl!A117","v":0},null,null,80,null,null,null,null,null,null,null,null,null,null,null,null,null,null,null,{"$f":" [1]Folha4!A111","v":0}]
[null,null,null,null,null,null,null,null,null,null,null,null,null,null,null,{"$f":" [1]SecundariaMinutaCpfl!A118","v":"1 CAA 336,4 MCM Vão 80m "},{"$f":" [1]PrimariaMinutaCpfl!A118","v":"1 CAA 04 AWG Vão 120m "},{"$f":" [1]NeutroMinutaCpfl!A118","v":0},null,null,81,null,null,null,null,null,null,null,null,null,null,null,null,null,null,null,{"$f":" [1]Folha4!A112","v":0}]
[null,null,null,null,null,null,null,null,null,null,null,null,null,null,null,{"$f":" [1]SecundariaMinutaCpfl!A119","v":""},{"$f":" [1]PrimariaMinutaCpfl!A119","v":"1 CAA 02 AWG Vão 120m "},{"$f":" [1]NeutroMinutaCpfl!A119","v":0},null,null,82,null,null,null,null,null,null,null,null,null,null,null,null,null,null,null,{"$f":" [1]Folha4!A113","v":0}]
[null,null,null,null,null,null,null,null,null,null,null,null,null,null,null,{"$f":" [1]SecundariaMinutaCpfl!A120","v":"1 CAA 04 AWG Vão 120m "},{"$f":" [1]PrimariaMinutaCpfl!A120","v":"1 CAA 1/0 AWG Vão 120m "},{"$f":" [1]NeutroMinutaCpfl!A120","v":0},null,null,83,null,null,null,null,null,null,null,null,null,null,null,null,null,null,null,{"$f":" [1]Folha4!A114","v":0}]
[null,null,null,null,null,null,null,null,null,null,null,null,null,null,null,{"$f":" [1]SecundariaMinutaCpfl!A121","v":"1 CAA 02 AWG Vão 120m "},{"$f":" [1]PrimariaMinutaCpfl!A121","v":"1 CAA 2/0 AWG Vão 120m "},{"$f":" [1]NeutroMinutaCpfl!A121","v":0},null,null,84,null,null,null,null,null,null,null,null,null,null,null,null,null,null,null,{"$f":" [1]Folha4!A115","v":0}]
[null,null,null,null,null,null,null,null,null,null,null,null,null,null,null,{"$f":" [1]SecundariaMinutaCpfl!A122","v":"1 CAA 1/0 AWG Vão 120m "},{"$f":" [1]PrimariaMinutaCpfl!A122","v":"1 CAA 4/0 AWG Vão 120m "},{"$f":" [1]NeutroMinutaCpfl!A122","v":0},null,null,85,null,null,null,null,null,null,null,null,null,null,null,null,null,null,null,{"$f":" [1]Folha4!A116","v":0}]
[null,null,null,null,null,null,null,null,null,null,null,null,null,null,null,{"$f":" [1]SecundariaMinutaCpfl!A123","v":"1 CAA 2/0 AWG Vão 120m "},{"$f":" [1]PrimariaMinutaCpfl!A123","v":"1 CAA 336,4 MCM Vão 120m "},{"$f":" [1]NeutroMinutaCpfl!A123","v":0},null,null,86,null,null,null,null,null,null,null,null,null,null,null,null,null,null,null,{"$f":" [1]Folha4!A117","v":0}]
[null,null,null,null,null,null,null,null,null,null,null,null,null,null,null,{"$f":" [1]SecundariaMinutaCpfl!A124","v":"1 CAA 4/0 AWG Vão 120m "},{"$f":" [1]PrimariaMinutaCpfl!A124","v":""},{"$f":" [1]NeutroMinutaCpfl!A124","v":0},null,null,87,null,null,null,null,null,null,null,null,null,null,null,null,null,null,null,{"$f":" [1]Folha4!A118","v":0}]
[null,null,null,null,null,null,null,null,null,null,null,null,null,null,null,{"$f":" [1]SecundariaMinutaCpfl!A125","v":"1 CAA 336,4 MCM Vão 120m "},{"$f":" [1]PrimariaMinutaCpfl!A125","v":"1 CU 06 AWG Vão 35m  "},{"$f":" [1]NeutroMinutaCpfl!A125","v":0},null,null,88,null,null,null,null,null,null,null,null,null,null,null,null,null,null,null,{"$f":" [1]Folha4!A119","v":0}]
[null,null,null,null,null,null,null,null,null,null,null,null,null,null,null,{"$f":" [1]SecundariaMinutaCpfl!A126","v":""},{"$f":" [1]PrimariaMinutaCpfl!A126","v":"1 CU 02 AWG Vão 35m  "},{"$f":" [1]NeutroMinutaCpfl!A126","v":0},null,null,89,null,null,null,null,null,null,null,null,null,null,null,null,null,null,null,{"$f":" [1]Folha4!A120","v":0}]
[null,null,null,null,null,null,null,null,null,null,null,null,null,null,null,{"$f":" [1]SecundariaMinutaCpfl!A127","v":"1 CU 06 AWG Vão 35m  "},{"$f":" [1]PrimariaMinutaCpfl!A127","v":"1 CU 1/0 AWG Vão 35m  "},{"$f":" [1]NeutroMinutaCpfl!A127","v":0},null,null,90,null,null,null,null,null,null,null,null,null,null,null,null,null,null,null,{"$f":" [1]Folha4!A121","v":0}]
[null,null,null,null,null,null,null,null,null,null,null,null,null,null,null,{"$f":" [1]SecundariaMinutaCpfl!A128","v":"1 CU 02 AWG Vão 35m  "},{"$f":" [1]PrimariaMinutaCpfl!A128","v":"1 CU 2/0 AWG Vão 35m  "},{"$f":" [1]NeutroMinutaCpfl!A128","v":0},null,null,91,null,null,null,null,null,null,null,null,null,null,null,null,null,null,null,{"$f":" [1]Folha4!A122","v":0}]
[null,null,null,null,null,null,null,null,null,null,null,null,null,null,null,{"$f":" [1]SecundariaMinutaCpfl!A129","v":"1 CU 1/0 AWG Vão 35m  "},{"$f":" [1]PrimariaMinutaCpfl!A129","v":"1 CU 4/0 AWG Vão 35m  "},{"$f":" [1]NeutroMinutaCpfl!A129","v":0},null,null,92,null,null,null,null,null,null,null,null,null,null,null,null,null,null,null,{"$f":" [1]Folha4!A123","v":0}]
[null,null,null,null,null,null,null,null,null,null,null,null,null,null,null,{"$f":" [1]SecundariaMinutaCpfl!A130","v":"1 CU 2/0 AWG Vão 35m  "},{"$f":" [1]PrimariaMinutaCpfl!A130","v":0},{"$f":" [1]NeutroMinutaCpfl!A130","v":0},null,null,93,null,null,null,null,null,null,null,null,null,null,null,null,null,null,null,{"$f":" [1]Folha4!A124","v":0}]
[null,null,null,null,null,null,null,null,null,null,null,null,null,null,null,{"$f":" [1]SecundariaMinutaCpfl!A131","v":"1 CU 4/0 AWG Vão 35m  "},{"$f":" [1]PrimariaMinutaCpfl!A131","v":0},{"$f":" [1]NeutroMinutaCpfl!A131","v":0},null,null,94,null,null,null,null,null,null,null,null,null,null,null,null,null,null,null,{"$f":" [1]Folha4!A125","v":0}]
[null,null,null,null,null,null,null,null,null,null,null,null,null,null,null,{"$f":" [1]SecundariaMinutaCpfl!A132","v":0},{"$f":" [1]PrimariaMinutaCpfl!A132","v":0},{"$f":" [1]NeutroMinutaCpfl!A132","v":0},null,null,95,null,null,null,null,null,null,null,null,null,null,null,null,null,null,null,{"$f":" [1]Folha4!A126","v":0}]
[null,null,null,null,null,null,null,null,null,null,null,null,null,null,null,{"$f":" [1]SecundariaMinutaCpfl!A133","v":0},{"$f":" [1]PrimariaMinutaCpfl!A133","v":0},{"$f":" [1]NeutroMinutaCpfl!A133","v":0},null,null,96,null,null,null,null,null,null,null,null,null,null,null,null,null,null,null,{"$f":" [1]Folha4!A127","v":0}]
[null,null,null,null,null,null,null,null,null,null,null,null,null,null,null,{"$f":" [1]SecundariaMinutaCpfl!A134","v":0},{"$f":" [1]PrimariaMinutaCpfl!A134","v":0},{"$f":" [1]NeutroMinutaCpfl!A134","v":0},null,null,97,null,null,null,null,null,null,null,null,null,null,null,null,null,null,null,{"$f":" [1]Folha4!A128","v":0}]
[null,null,null,null,null,null,null,null,null,null,null,null,null,null,null,{"$f":" [1]SecundariaMinutaCpfl!A135","v":0},{"$f":" [1]PrimariaMinutaCpfl!A135","v":0},{"$f":" [1]NeutroMinutaCpfl!A135","v":0},null,null,98,null,null,null,null,null,null,null,null,null,null,null,null,null,null,null,{"$f":" [1]Folha4!A129","v":0}]
[null,null,null,null,null,null,null,null,null,null,null,null,null,null,null,{"$f":" [1]SecundariaMinutaCpfl!A136","v":0},{"$f":" [1]PrimariaMinutaCpfl!A136","v":0},{"$f":" [1]NeutroMinutaCpfl!A136","v":0},null,null,99,null,null,null,null,null,null,null,null,null,null,null,null,null,null,null,{"$f":" [1]Folha4!A130","v":0}]
[null,null,null,null,null,null,null,null,null,null,null,null,null,null,null,{"$f":" [1]SecundariaMinutaCpfl!A137","v":0},{"$f":" [1]PrimariaMinutaCpfl!A137","v":0},{"$f":" [1]NeutroMinutaCpfl!A137","v":0},null,null,100,null,null,null,null,null,null,null,null,null,null,null,null,null,null,null,{"$f":" [1]Folha4!A131","v":0}]
[null,null,null,null,null,null,null,null,null,null,null,null,null,null,null,{"$f":" [1]SecundariaMinutaCpfl!A138","v":0},{"$f":" [1]PrimariaMinutaCpfl!A138","v":0},{"$f":" [1]NeutroMinutaCpfl!A138","v":0},null,null,101,null,null,null,null,null,null,null,null,null,null,null,null,null,null,null,{"$f":" [1]Folha4!A132","v":0}]
[null,null,null,null,null,null,null,null,null,null,null,null,null,null,null,{"$f":" [1]SecundariaMinutaCpfl!A139","v":0},{"$f":" [1]PrimariaMinutaCpfl!A139","v":0},{"$f":" [1]NeutroMinutaCpfl!A139","v":0},null,null,102,null,null,null,null,null,null,null,null,null,null,null,null,null,null,null,{"$f":" [1]Folha4!A133","v":0}]
[null,null,null,null,null,null,null,null,null,null,null,null,null,null,null,{"$f":" [1]SecundariaMinutaCpfl!A140","v":0},{"$f":" [1]PrimariaMinutaCpfl!A140","v":0},{"$f":" [1]NeutroMinutaCpfl!A140","v":0},null,null,103,null,null,null,null,null,null,null,null,null,null,null,null,null,null,null,{"$f":" [1]Folha4!A134","v":0}]
[null,null,null,null,null,null,null,null,null,null,null,null,null,null,null,{"$f":" [1]SecundariaMinutaCpfl!A141","v":0},{"$f":" [1]PrimariaMinutaCpfl!A141","v":0},{"$f":" [1]NeutroMinutaCpfl!A141","v":0},null,null,104,null,null,null,null,null,null,null,null,null,null,null,null,null,null,null,{"$f":" [1]Folha4!A135","v":0}]
[null,null,null,null,null,null,null,null,null,null,null,null,null,null,null,{"$f":" [1]SecundariaMinutaCpfl!A142","v":0},{"$f":" [1]PrimariaMinutaCpfl!A142","v":0},{"$f":" [1]NeutroMinutaCpfl!A142","v":0},null,null,105,null,null,null,null,null,null,null,null,null,null,null,null,null,null,null,{"$f":" [1]Folha4!A136","v":0}]
[null,null,null,null,null,null,null,null,null,null,null,null,null,null,null,{"$f":" [1]SecundariaMinutaCpfl!A143","v":0},{"$f":" [1]PrimariaMinutaCpfl!A143","v":0},{"$f":" [1]NeutroMinutaCpfl!A143","v":0},null,null,106,null,null,null,null,null,null,null,null,null,null,null,null,null,null,null,{"$f":" [1]Folha4!A137","v":0}]
[null,null,null,null,null,null,null,null,null,null,null,null,null,null,null,{"$f":" [1]SecundariaMinutaCpfl!A144","v":0},{"$f":" [1]PrimariaMinutaCpfl!A144","v":0},{"$f":" [1]NeutroMinutaCpfl!A144","v":0},null,null,107,null,null,null,null,null,null,null,null,null,null,null,null,null,null,null,{"$f":" [1]Folha4!A138","v":0}]
[null,null,null,null,null,null,null,null,null,null,null,null,null,null,null,{"$f":" [1]SecundariaMinutaCpfl!A145","v":0},{"$f":" [1]PrimariaMinutaCpfl!A145","v":0},{"$f":" [1]NeutroMinutaCpfl!A145","v":0},null,null,108,null,null,null,null,null,null,null,null,null,null,null,null,null,null,null,{"$f":" [1]Folha4!A139","v":0}]
[null,null,null,null,null,null,null,null,null,null,null,null,null,null,null,{"$f":" [1]SecundariaMinutaCpfl!A146","v":0},{"$f":" [1]PrimariaMinutaCpfl!A146","v":0},{"$f":" [1]NeutroMinutaCpfl!A146","v":0},null,null,109,null,null,null,null,null,null,null,null,null,null,null,null,null,null,null,{"$f":" [1]Folha4!A140","v":0}]
[null,null,null,null,null,null,null,null,null,null,null,null,null,null,null,{"$f":" [1]SecundariaMinutaCpfl!A147","v":0},{"$f":" [1]PrimariaMinutaCpfl!A147","v":0},{"$f":" [1]NeutroMinutaCpfl!A147","v":0},null,null,110,null,null,null,null,null,null,null,null,null,null,null,null,null,null,null,{"$f":" [1]Folha4!A141","v":0}]
[null,null,null,null,null,null,null,null,null,null,null,null,null,null,null,{"$f":" [1]SecundariaMinutaCpfl!A148","v":0},{"$f":" [1]PrimariaMinutaCpfl!A148","v":0},{"$f":" [1]NeutroMinutaCpfl!A148","v":0},null,null,111,null,null,null,null,null,null,null,null,null,null,null,null,null,null,null,{"$f":" [1]Folha4!A142","v":0}]
[null,null,null,null,null,null,null,null,null,null,null,null,null,null,null,{"$f":" [1]SecundariaMinutaCpfl!A149","v":0},{"$f":" [1]PrimariaMinutaCpfl!A149","v":0},{"$f":" [1]NeutroMinutaCpfl!A149","v":0},null,null,112,null,null,null,null,null,null,null,null,null,null,null,null,null,null,null,{"$f":" [1]Folha4!A143","v":0}]
[null,null,null,null,null,null,null,null,null,null,null,null,null,null,null,{"$f":" [1]SecundariaMinutaCpfl!A150","v":0},{"$f":" [1]PrimariaMinutaCpfl!A150","v":0},{"$f":" [1]NeutroMinutaCpfl!A150","v":0},null,null,113,null,null,null,null,null,null,null,null,null,null,null,null,null,null,null,{"$f":" [1]Folha4!A144","v":0}]
[null,null,null,null,null,null,null,null,null,null,null,null,null,null,null,{"$f":" [1]SecundariaMinutaCpfl!A151","v":0},{"$f":" [1]PrimariaMinutaCpfl!A151","v":0},{"$f":" [1]NeutroMinutaCpfl!A151","v":0},null,null,114,null,null,null,null,null,null,null,null,null,null,null,null,null,null,null,{"$f":" [1]Folha4!A145","v":0}]
[null,null,null,null,null,null,null,null,null,null,null,null,null,null,null,{"$f":" [1]SecundariaMinutaCpfl!A152","v":0},{"$f":" [1]PrimariaMinutaCpfl!A152","v":0},{"$f":" [1]NeutroMinutaCpfl!A152","v":0},null,null,115,null,null,null,null,null,null,null,null,null,null,null,null,null,null,null,{"$f":" [1]Folha4!A146","v":0}]
[null,null,null,null,null,null,null,null,null,null,null,null,null,null,null,{"$f":" [1]SecundariaMinutaCpfl!A153","v":0},{"$f":" [1]PrimariaMinutaCpfl!A153","v":0},{"$f":" [1]NeutroMinutaCpfl!A153","v":0},null,null,116,null,null,null,null,null,null,null,null,null,null,null,null,null,null,null,{"$f":" [1]Folha4!A147","v":0}]
[null,null,null,null,null,null,null,null,null,null,null,null,null,null,null,{"$f":" [1]SecundariaMinutaCpfl!A154","v":0},{"$f":" [1]PrimariaMinutaCpfl!A154","v":0},{"$f":" [1]NeutroMinutaCpfl!A154","v":0},null,null,117,null,null,null,null,null,null,null,null,null,null,null,null,null,null,null,{"$f":" [1]Folha4!A148","v":0}]
[null,null,null,null,null,null,null,null,null,null,null,null,null,null,null,{"$f":" [1]SecundariaMinutaCpfl!A155","v":0},{"$f":" [1]PrimariaMinutaCpfl!A155","v":0},{"$f":" [1]NeutroMinutaCpfl!A155","v":0},null,null,118,null,null,null,null,null,null,null,null,null,null,null,null,null,null,null,{"$f":" [1]Folha4!A149","v":0}]
[null,null,null,null,null,null,null,null,null,null,null,null,null,null,null,{"$f":" [1]SecundariaMinutaCpfl!A156","v":0},{"$f":" [1]PrimariaMinutaCpfl!A156","v":0},{"$f":" [1]NeutroMinutaCpfl!A156","v":0},null,null,119,null,null,null,null,null,null,null,null,null,null,null,null,null,null,null,{"$f":" [1]Folha4!A150","v":0}]
[null,null,null,null,null,null,null,null,null,null,null,null,null,null,null,{"$f":" [1]SecundariaMinutaCpfl!A157","v":0},{"$f":" [1]PrimariaMinutaCpfl!A157","v":0},{"$f":" [1]NeutroMinutaCpfl!A157","v":0},null,null,120,null,null,null,null,null,null,null,null,null,null,null,null,null,null,null,{"$f":" [1]Folha4!A151","v":0}]
[null,null,null,null,null,null,null,null,null,null,null,null,null,null,null,{"$f":" [1]SecundariaMinutaCpfl!A158","v":0},{"$f":" [1]PrimariaMinutaCpfl!A158","v":0},{"$f":" [1]NeutroMinutaCpfl!A158","v":0},null,null,121,null,null,null,null,null,null,null,null,null,null,null,null,null,null,null,{"$f":" [1]Folha4!A152","v":0}]
[null,null,null,null,null,null,null,null,null,null,null,null,null,null,null,{"$f":" [1]SecundariaMinutaCpfl!A159","v":0},{"$f":" [1]PrimariaMinutaCpfl!A159","v":0},{"$f":" [1]NeutroMinutaCpfl!A159","v":0},null,null,122,null,null,null,null,null,null,null,null,null,null,null,null,null,null,null,{"$f":" [1]Folha4!A153","v":0}]
[null,null,null,null,null,null,null,null,null,null,null,null,null,null,null,{"$f":" [1]SecundariaMinutaCpfl!A160","v":0},{"$f":" [1]PrimariaMinutaCpfl!A160","v":0},{"$f":" [1]NeutroMinutaCpfl!A160","v":0},null,null,123,null,null,null,null,null,null,null,null,null,null,null,null,null,null,null,{"$f":" [1]Folha4!A154","v":0}]
[null,null,null,null,null,null,null,null,null,null,null,null,null,null,null,{"$f":" [1]SecundariaMinutaCpfl!A161","v":0},{"$f":" [1]PrimariaMinutaCpfl!A161","v":0},{"$f":" [1]NeutroMinutaCpfl!A161","v":0},null,null,124,null,null,null,null,null,null,null,null,null,null,null,null,null,null,null,{"$f":" [1]Folha4!A155","v":0}]
[null,null,null,null,null,null,null,null,null,null,null,null,null,null,null,{"$f":" [1]SecundariaMinutaCpfl!A162","v":0},{"$f":" [1]PrimariaMinutaCpfl!A162","v":0},{"$f":" [1]NeutroMinutaCpfl!A162","v":0},null,null,125,null,null,null,null,null,null,null,null,null,null,null,null,null,null,null,{"$f":" [1]Folha4!A156","v":0}]
[null,null,null,null,null,null,null,null,null,null,null,null,null,null,null,{"$f":" [1]SecundariaMinutaCpfl!A163","v":0},{"$f":" [1]PrimariaMinutaCpfl!A163","v":0},{"$f":" [1]NeutroMinutaCpfl!A163","v":0},null,null,126,null,null,null,null,null,null,null,null,null,null,null,null,null,null,null,{"$f":" [1]Folha4!A157","v":0}]
[null,null,null,null,null,null,null,null,null,null,null,null,null,null,null,{"$f":" [1]SecundariaMinutaCpfl!A164","v":0},{"$f":" [1]PrimariaMinutaCpfl!A164","v":0},{"$f":" [1]NeutroMinutaCpfl!A164","v":0},null,null,127,null,null,null,null,null,null,null,null,null,null,null,null,null,null,null,{"$f":" [1]Folha4!A158","v":0}]
[null,null,null,null,null,null,null,null,null,null,null,null,null,null,null,{"$f":" [1]SecundariaMinutaCpfl!A165","v":0},{"$f":" [1]PrimariaMinutaCpfl!A165","v":0},{"$f":" [1]NeutroMinutaCpfl!A165","v":0},null,null,128,null,null,null,null,null,null,null,null,null,null,null,null,null,null,null,{"$f":" [1]Folha4!A159","v":0}]
[null,null,null,null,null,null,null,null,null,null,null,null,null,null,null,{"$f":" [1]SecundariaMinutaCpfl!A166","v":0},{"$f":" [1]PrimariaMinutaCpfl!A166","v":0},{"$f":" [1]NeutroMinutaCpfl!A166","v":0},null,null,129,null,null,null,null,null,null,null,null,null,null,null,null,null,null,null,{"$f":" [1]Folha4!A160","v":0}]
[null,null,null,null,null,null,null,null,null,null,null,null,null,null,null,{"$f":" [1]SecundariaMinutaCpfl!A167","v":0},{"$f":" [1]PrimariaMinutaCpfl!A167","v":0},{"$f":" [1]NeutroMinutaCpfl!A167","v":0},null,null,130,null,null,null,null,null,null,null,null,null,null,null,null,null,null,null,{"$f":" [1]Folha4!A161","v":0}]
[null,null,null,null,null,null,null,null,null,null,null,null,null,null,null,{"$f":" [1]SecundariaMinutaCpfl!A168","v":0},{"$f":" [1]PrimariaMinutaCpfl!A168","v":0},{"$f":" [1]NeutroMinutaCpfl!A168","v":0},null,null,131,null,null,null,null,null,null,null,null,null,null,null,null,null,null,null,{"$f":" [1]Folha4!A162","v":0}]
[null,null,null,null,null,null,null,null,null,null,null,null,null,null,null,{"$f":" [1]SecundariaMinutaCpfl!A169","v":0},{"$f":" [1]PrimariaMinutaCpfl!A169","v":0},{"$f":" [1]NeutroMinutaCpfl!A169","v":0},null,null,132,null,null,null,null,null,null,null,null,null,null,null,null,null,null,null,{"$f":" [1]Folha4!A163","v":0}]
[null,null,null,null,null,null,null,null,null,null,null,null,null,null,null,{"$f":" [1]SecundariaMinutaCpfl!A170","v":0},{"$f":" [1]PrimariaMinutaCpfl!A170","v":0},{"$f":" [1]NeutroMinutaCpfl!A170","v":0},null,null,133,null,null,null,null,null,null,null,null,null,null,null,null,null,null,null,{"$f":" [1]Folha4!A164","v":0}]
[null,null,null,null,null,null,null,null,null,null,null,null,null,null,null,{"$f":" [1]SecundariaMinutaCpfl!A171","v":0},{"$f":" [1]PrimariaMinutaCpfl!A171","v":0},{"$f":" [1]NeutroMinutaCpfl!A171","v":0},null,null,134,null,null,null,null,null,null,null,null,null,null,null,null,null,null,null,{"$f":" [1]Folha4!A165","v":0}]
[null,null,null,null,null,null,null,null,null,null,null,null,null,null,null,{"$f":" [1]SecundariaMinutaCpfl!A172","v":0},{"$f":" [1]PrimariaMinutaCpfl!A172","v":0},{"$f":" [1]NeutroMinutaCpfl!A172","v":0},null,null,135,null,null,null,null,null,null,null,null,null,null,null,null,null,null,null,{"$f":" [1]Folha4!A166","v":0}]
[null,null,null,null,null,null,null,null,null,null,null,null,null,null,null,{"$f":" [1]SecundariaMinutaCpfl!A173","v":0},{"$f":" [1]PrimariaMinutaCpfl!A173","v":0},{"$f":" [1]NeutroMinutaCpfl!A173","v":0},null,null,136,null,null,null,null,null,null,null,null,null,null,null,null,null,null,null,{"$f":" [1]Folha4!A167","v":0}]
[null,null,null,null,null,null,null,null,null,null,null,null,null,null,null,{"$f":" [1]SecundariaMinutaCpfl!A174","v":0},{"$f":" [1]PrimariaMinutaCpfl!A174","v":0},{"$f":" [1]NeutroMinutaCpfl!A174","v":0},null,null,137,null,null,null,null,null,null,null,null,null,null,null,null,null,null,null,{"$f":" [1]Folha4!A168","v":0}]
[null,null,null,null,null,null,null,null,null,null,null,null,null,null,null,{"$f":" [1]SecundariaMinutaCpfl!A175","v":0},{"$f":" [1]PrimariaMinutaCpfl!A175","v":0},{"$f":" [1]NeutroMinutaCpfl!A175","v":0},null,null,138,null,null,null,null,null,null,null,null,null,null,null,null,null,null,null,{"$f":" [1]Folha4!A169","v":0}]
[null,null,null,null,null,null,null,null,null,null,null,null,null,null,null,{"$f":" [1]SecundariaMinutaCpfl!A176","v":0},{"$f":" [1]PrimariaMinutaCpfl!A176","v":0},{"$f":" [1]NeutroMinutaCpfl!A176","v":0},null,null,139,null,null,null,null,null,null,null,null,null,null,null,null,null,null,null,{"$f":" [1]Folha4!A170","v":0}]
[null,null,null,null,null,null,null,null,null,null,null,null,null,null,null,{"$f":" [1]SecundariaMinutaCpfl!A177","v":0},{"$f":" [1]PrimariaMinutaCpfl!A177","v":0},{"$f":" [1]NeutroMinutaCpfl!A177","v":0},null,null,140,null,null,null,null,null,null,null,null,null,null,null,null,null,null,null,{"$f":" [1]Folha4!A171","v":0}]
[null,null,null,null,null,null,null,null,null,null,null,null,null,null,null,{"$f":" [1]SecundariaMinutaCpfl!A178","v":0},{"$f":" [1]PrimariaMinutaCpfl!A178","v":0},{"$f":" [1]NeutroMinutaCpfl!A178","v":0},null,null,141,null,null,null,null,null,null,null,null,null,null,null,null,null,null,null,{"$f":" [1]Folha4!A172","v":0}]
[null,null,null,null,null,null,null,null,null,null,null,null,null,null,null,{"$f":" [1]SecundariaMinutaCpfl!A179","v":0},{"$f":" [1]PrimariaMinutaCpfl!A179","v":0},{"$f":" [1]NeutroMinutaCpfl!A179","v":0},null,null,142,null,null,null,null,null,null,null,null,null,null,null,null,null,null,null,{"$f":" [1]Folha4!A173","v":0}]
[null,null,null,null,null,null,null,null,null,null,null,null,null,null,null,{"$f":" [1]SecundariaMinutaCpfl!A180","v":0},{"$f":" [1]PrimariaMinutaCpfl!A180","v":0},{"$f":" [1]NeutroMinutaCpfl!A180","v":0},null,null,143,null,null,null,null,null,null,null,null,null,null,null,null,null,null,null,{"$f":" [1]Folha4!A174","v":0}]
[null,null,null,null,null,null,null,null,null,null,null,null,null,null,null,{"$f":" [1]SecundariaMinutaCpfl!A181","v":0},{"$f":" [1]PrimariaMinutaCpfl!A181","v":0},{"$f":" [1]NeutroMinutaCpfl!A181","v":0},null,null,144,null,null,null,null,null,null,null,null,null,null,null,null,null,null,null,{"$f":" [1]Folha4!A175","v":0}]
[null,null,null,null,null,null,null,null,null,null,null,null,null,null,null,{"$f":" [1]SecundariaMinutaCpfl!A182","v":0},{"$f":" [1]PrimariaMinutaCpfl!A182","v":0},{"$f":" [1]NeutroMinutaCpfl!A182","v":0},null,null,145,null,null,null,null,null,null,null,null,null,null,null,null,null,null,null,{"$f":" [1]Folha4!A176","v":0}]
[null,null,null,null,null,null,null,null,null,null,null,null,null,null,null,{"$f":" [1]SecundariaMinutaCpfl!A183","v":0},{"$f":" [1]PrimariaMinutaCpfl!A183","v":0},{"$f":" [1]NeutroMinutaCpfl!A183","v":0},null,null,146,null,null,null,null,null,null,null,null,null,null,null,null,null,null,null,{"$f":" [1]Folha4!A177","v":0}]
[null,null,null,null,null,null,null,null,null,null,null,null,null,null,null,{"$f":" [1]SecundariaMinutaCpfl!A184","v":0},{"$f":" [1]PrimariaMinutaCpfl!A184","v":0},{"$f":" [1]NeutroMinutaCpfl!A184","v":0},null,null,147,null,null,null,null,null,null,null,null,null,null,null,null,null,null,null,{"$f":" [1]Folha4!A178","v":0}]
[null,null,null,null,null,null,null,null,null,null,null,null,null,null,null,{"$f":" [1]SecundariaMinutaCpfl!A185","v":0},{"$f":" [1]PrimariaMinutaCpfl!A185","v":0},{"$f":" [1]NeutroMinutaCpfl!A185","v":0},null,null,148,null,null,null,null,null,null,null,null,null,null,null,null,null,null,null,{"$f":" [1]Folha4!A179","v":0}]
[null,null,null,null,null,null,null,null,null,null,null,null,null,null,null,{"$f":" [1]SecundariaMinutaCpfl!A186","v":0},{"$f":" [1]PrimariaMinutaCpfl!A186","v":0},{"$f":" [1]NeutroMinutaCpfl!A186","v":0},null,null,149,null,null,null,null,null,null,null,null,null,null,null,null,null,null,null,{"$f":" [1]Folha4!A180","v":0}]
[null,null,null,null,null,null,null,null,null,null,null,null,null,null,null,{"$f":" [1]SecundariaMinutaCpfl!A187","v":0},{"$f":" [1]PrimariaMinutaCpfl!A187","v":0},{"$f":" [1]NeutroMinutaCpfl!A187","v":0},null,null,150,null,null,null,null,null,null,null,null,null,null,null,null,null,null,null,{"$f":" [1]Folha4!A181","v":0}]
[null,null,null,null,null,null,null,null,null,null,null,null,null,null,null,{"$f":" [1]SecundariaMinutaCpfl!A188","v":0},{"$f":" [1]PrimariaMinutaCpfl!A188","v":0},{"$f":" [1]NeutroMinutaCpfl!A188","v":0},null,null,151,null,null,null,null,null,null,null,null,null,null,null,null,null,null,null,{"$f":" [1]Folha4!A182","v":0}]
[null,null,null,null,null,null,null,null,null,null,null,null,null,null,null,{"$f":" [1]SecundariaMinutaCpfl!A189","v":0},{"$f":" [1]PrimariaMinutaCpfl!A189","v":0},{"$f":" [1]NeutroMinutaCpfl!A189","v":0},null,null,152,null,null,null,null,null,null,null,null,null,null,null,null,null,null,null,{"$f":" [1]Folha4!A183","v":0}]
[null,null,null,null,null,null,null,null,null,null,null,null,null,null,null,{"$f":" [1]SecundariaMinutaCpfl!A190","v":0},{"$f":" [1]PrimariaMinutaCpfl!A190","v":0},{"$f":" [1]NeutroMinutaCpfl!A190","v":0},null,null,153,null,null,null,null,null,null,null,null,null,null,null,null,null,null,null,{"$f":" [1]Folha4!A184","v":0}]
[null,null,null,null,null,null,null,null,null,null,null,null,null,null,null,{"$f":" [1]SecundariaMinutaCpfl!A191","v":0},{"$f":" [1]PrimariaMinutaCpfl!A191","v":0},{"$f":" [1]NeutroMinutaCpfl!A191","v":0},null,null,154,null,null,null,null,null,null,null,null,null,null,null,null,null,null,null,{"$f":" [1]Folha4!A185","v":0}]
[null,null,null,null,null,null,null,null,null,null,null,null,null,null,null,{"$f":" [1]SecundariaMinutaCpfl!A192","v":0},{"$f":" [1]PrimariaMinutaCpfl!A192","v":0},{"$f":" [1]NeutroMinutaCpfl!A192","v":0},null,null,155,null,null,null,null,null,null,null,null,null,null,null,null,null,null,null,{"$f":" [1]Folha4!A186","v":0}]
[null,null,null,null,null,null,null,null,null,null,null,null,null,null,null,{"$f":" [1]SecundariaMinutaCpfl!A193","v":0},{"$f":" [1]PrimariaMinutaCpfl!A193","v":0},{"$f":" [1]NeutroMinutaCpfl!A193","v":0},null,null,156,null,null,null,null,null,null,null,null,null,null,null,null,null,null,null,{"$f":" [1]Folha4!A187","v":0}]
[null,null,null,null,null,null,null,null,null,null,null,null,null,null,null,{"$f":" [1]SecundariaMinutaCpfl!A194","v":0},{"$f":" [1]PrimariaMinutaCpfl!A194","v":0},{"$f":" [1]NeutroMinutaCpfl!A194","v":0},null,null,157,null,null,null,null,null,null,null,null,null,null,null,null,null,null,null,{"$f":" [1]Folha4!A188","v":0}]
[null,null,null,null,null,null,null,null,null,null,null,null,null,null,null,{"$f":" [1]SecundariaMinutaCpfl!A195","v":0},{"$f":" [1]PrimariaMinutaCpfl!A195","v":0},{"$f":" [1]NeutroMinutaCpfl!A195","v":0},null,null,158,null,null,null,null,null,null,null,null,null,null,null,null,null,null,null,{"$f":" [1]Folha4!A189","v":0}]
[null,null,null,null,null,null,null,null,null,null,null,null,null,null,null,{"$f":" [1]SecundariaMinutaCpfl!A196","v":0},{"$f":" [1]PrimariaMinutaCpfl!A196","v":0},{"$f":" [1]NeutroMinutaCpfl!A196","v":0},null,null,159,null,null,null,null,null,null,null,null,null,null,null,null,null,null,null,{"$f":" [1]Folha4!A190","v":0}]
[null,null,null,null,null,null,null,null,null,null,null,null,null,null,null,{"$f":" [1]SecundariaMinutaCpfl!A197","v":0},{"$f":" [1]PrimariaMinutaCpfl!A197","v":0},{"$f":" [1]NeutroMinutaCpfl!A197","v":0},null,null,160,null,null,null,null,null,null,null,null,null,null,null,null,null,null,null,{"$f":" [1]Folha4!A191","v":0}]
[null,null,null,null,null,null,null,null,null,null,null,null,null,null,null,{"$f":" [1]SecundariaMinutaCpfl!A198","v":0},{"$f":" [1]PrimariaMinutaCpfl!A198","v":0},{"$f":" [1]NeutroMinutaCpfl!A198","v":0},null,null,161,null,null,null,null,null,null,null,null,null,null,null,null,null,null,null,{"$f":" [1]Folha4!A192","v":0}]
[null,null,null,null,null,null,null,null,null,null,null,null,null,null,null,{"$f":" [1]SecundariaMinutaCpfl!A199","v":0},{"$f":" [1]PrimariaMinutaCpfl!A199","v":0},{"$f":" [1]NeutroMinutaCpfl!A199","v":0},null,null,162,null,null,null,null,null,null,null,null,null,null,null,null,null,null,null,{"$f":" [1]Folha4!A193","v":0}]
[null,null,null,null,null,null,null,null,null,null,null,null,null,null,null,{"$f":" [1]SecundariaMinutaCpfl!A200","v":0},{"$f":" [1]PrimariaMinutaCpfl!A200","v":0},{"$f":" [1]NeutroMinutaCpfl!A200","v":0},null,null,163,null,null,null,null,null,null,null,null,null,null,null,null,null,null,null,{"$f":" [1]Folha4!A194","v":0}]
[null,null,null,null,null,null,null,null,null,null,null,null,null,null,null,{"$f":" [1]SecundariaMinutaCpfl!A201","v":0},{"$f":" [1]PrimariaMinutaCpfl!A201","v":0},{"$f":" [1]NeutroMinutaCpfl!A201","v":0},null,null,164,null,null,null,null,null,null,null,null,null,null,null,null,null,null,null,{"$f":" [1]Folha4!A195","v":0}]
[null,null,null,null,null,null,null,null,null,null,null,null,null,null,null,{"$f":" [1]SecundariaMinutaCpfl!A202","v":0},{"$f":" [1]PrimariaMinutaCpfl!A202","v":0},{"$f":" [1]NeutroMinutaCpfl!A202","v":0},null,null,165,null,null,null,null,null,null,null,null,null,null,null,null,null,null,null,{"$f":" [1]Folha4!A196","v":0}]
[null,null,null,null,null,null,null,null,null,null,null,null,null,null,null,{"$f":" [1]SecundariaMinutaCpfl!A203","v":0},{"$f":" [1]PrimariaMinutaCpfl!A203","v":0},{"$f":" [1]NeutroMinutaCpfl!A203","v":0},null,null,166,null,null,null,null,null,null,null,null,null,null,null,null,null,null,null,{"$f":" [1]Folha4!A197","v":0}]
[null,null,null,null,null,null,null,null,null,null,null,null,null,null,null,{"$f":" [1]SecundariaMinutaCpfl!A204","v":0},{"$f":" [1]PrimariaMinutaCpfl!A204","v":0},{"$f":" [1]NeutroMinutaCpfl!A204","v":0},null,null,167,null,null,null,null,null,null,null,null,null,null,null,null,null,null,null,{"$f":" [1]Folha4!A198","v":0}]
[null,null,null,null,null,null,null,null,null,null,null,null,null,null,null,{"$f":" [1]SecundariaMinutaCpfl!A205","v":0},{"$f":" [1]PrimariaMinutaCpfl!A205","v":0},{"$f":" [1]NeutroMinutaCpfl!A205","v":0},null,null,168,null,null,null,null,null,null,null,null,null,null,null,null,null,null,null,{"$f":" [1]Folha4!A199","v":0}]
[null,null,null,null,null,null,null,null,null,null,null,null,null,null,null,{"$f":" [1]SecundariaMinutaCpfl!A206","v":0},{"$f":" [1]PrimariaMinutaCpfl!A206","v":0},{"$f":" [1]NeutroMinutaCpfl!A206","v":0},null,null,169,null,null,null,null,null,null,null,null,null,null,null,null,null,null,null,{"$f":" [1]Folha4!A200","v":0}]
[null,null,null,null,null,null,null,null,null,null,null,null,null,null,null,{"$f":" [1]SecundariaMinutaCpfl!A207","v":0},{"$f":" [1]PrimariaMinutaCpfl!A207","v":0},{"$f":" [1]NeutroMinutaCpfl!A207","v":0},null,null,170,null,null,null,null,null,null,null,null,null,null,null,null,null,null,null,{"$f":" [1]Folha4!A201","v":0}]
[null,null,null,null,null,null,null,null,null,null,null,null,null,null,null,{"$f":" [1]SecundariaMinutaCpfl!A208","v":0},{"$f":" [1]PrimariaMinutaCpfl!A208","v":0},{"$f":" [1]NeutroMinutaCpfl!A208","v":0},null,null,171,null,null,null,null,null,null,null,null,null,null,null,null,null,null,null,{"$f":" [1]Folha4!A202","v":0}]
[null,null,null,null,null,null,null,null,null,null,null,null,null,null,null,{"$f":" [1]SecundariaMinutaCpfl!A209","v":0},{"$f":" [1]PrimariaMinutaCpfl!A209","v":0},{"$f":" [1]NeutroMinutaCpfl!A209","v":0},null,null,172,null,null,null,null,null,null,null,null,null,null,null,null,null,null,null,{"$f":" [1]Folha4!A203","v":0}]
[null,null,null,null,null,null,null,null,null,null,null,null,null,null,null,{"$f":" [1]SecundariaMinutaCpfl!A210","v":0},{"$f":" [1]PrimariaMinutaCpfl!A210","v":0},{"$f":" [1]NeutroMinutaCpfl!A210","v":0},null,null,173,null,null,null,null,null,null,null,null,null,null,null,null,null,null,null,{"$f":" [1]Folha4!A204","v":0}]
[null,null,null,null,null,null,null,null,null,null,null,null,null,null,null,{"$f":" [1]SecundariaMinutaCpfl!A211","v":0},{"$f":" [1]PrimariaMinutaCpfl!A211","v":0},{"$f":" [1]NeutroMinutaCpfl!A211","v":0},null,null,174,null,null,null,null,null,null,null,null,null,null,null,null,null,null,null,{"$f":" [1]Folha4!A205","v":0}]
[null,null,null,null,null,null,null,null,null,null,null,null,null,null,null,{"$f":" [1]SecundariaMinutaCpfl!A212","v":0},{"$f":" [1]PrimariaMinutaCpfl!A212","v":0},{"$f":" [1]NeutroMinutaCpfl!A212","v":0},null,null,175,null,null,null,null,null,null,null,null,null,null,null,null,null,null,null,{"$f":" [1]Folha4!A206","v":0}]
[null,null,null,null,null,null,null,null,null,null,null,null,null,null,null,{"$f":" [1]SecundariaMinutaCpfl!A213","v":0},{"$f":" [1]PrimariaMinutaCpfl!A213","v":0},{"$f":" [1]NeutroMinutaCpfl!A213","v":0},null,null,176,null,null,null,null,null,null,null,null,null,null,null,null,null,null,null,{"$f":" [1]Folha4!A207","v":0}]
[null,null,null,null,null,null,null,null,null,null,null,null,null,null,null,{"$f":" [1]SecundariaMinutaCpfl!A214","v":0},{"$f":" [1]PrimariaMinutaCpfl!A214","v":0},{"$f":" [1]NeutroMinutaCpfl!A214","v":0},null,null,177,null,null,null,null,null,null,null,null,null,null,null,null,null,null,null,{"$f":" [1]Folha4!A208","v":0}]
[null,null,null,null,null,null,null,null,null,null,null,null,null,null,null,{"$f":" [1]SecundariaMinutaCpfl!A215","v":0},{"$f":" [1]PrimariaMinutaCpfl!A215","v":0},{"$f":" [1]NeutroMinutaCpfl!A215","v":0},null,null,178,null,null,null,null,null,null,null,null,null,null,null,null,null,null,null,{"$f":" [1]Folha4!A209","v":0}]
[null,null,null,null,null,null,null,null,null,null,null,null,null,null,null,{"$f":" [1]SecundariaMinutaCpfl!A216","v":0},{"$f":" [1]PrimariaMinutaCpfl!A216","v":0},{"$f":" [1]NeutroMinutaCpfl!A216","v":0},null,null,179,null,null,null,null,null,null,null,null,null,null,null,null,null,null,null,{"$f":" [1]Folha4!A210","v":0}]
[null,null,null,null,null,null,null,null,null,null,null,null,null,null,null,{"$f":" [1]SecundariaMinutaCpfl!A217","v":0},{"$f":" [1]PrimariaMinutaCpfl!A217","v":0},{"$f":" [1]NeutroMinutaCpfl!A217","v":0},null,null,180,null,null,null,null,null,null,null,null,null,null,null,null,null,null,null,{"$f":" [1]Folha4!A211","v":0}]
[null,null,null,null,null,null,null,null,null,null,null,null,null,null,null,{"$f":" [1]SecundariaMinutaCpfl!A218","v":0},{"$f":" [1]PrimariaMinutaCpfl!A218","v":0},{"$f":" [1]NeutroMinutaCpfl!A218","v":0},null,null,181,null,null,null,null,null,null,null,null,null,null,null,null,null,null,null,{"$f":" [1]Folha4!A212","v":0}]
[null,null,null,null,null,null,null,null,null,null,null,null,null,null,null,{"$f":" [1]SecundariaMinutaCpfl!A219","v":0},{"$f":" [1]PrimariaMinutaCpfl!A219","v":0},{"$f":" [1]NeutroMinutaCpfl!A219","v":0},null,null,182,null,null,null,null,null,null,null,null,null,null,null,null,null,null,null,{"$f":" [1]Folha4!A213","v":0}]
[null,null,null,null,null,null,null,null,null,null,null,null,null,null,null,{"$f":" [1]SecundariaMinutaCpfl!A220","v":0},{"$f":" [1]PrimariaMinutaCpfl!A220","v":0},{"$f":" [1]NeutroMinutaCpfl!A220","v":0},null,null,183,null,null,null,null,null,null,null,null,null,null,null,null,null,null,null,{"$f":" [1]Folha4!A214","v":0}]
[null,null,null,null,null,null,null,null,null,null,null,null,null,null,null,{"$f":" [1]SecundariaMinutaCpfl!A221","v":0},{"$f":" [1]PrimariaMinutaCpfl!A221","v":0},{"$f":" [1]NeutroMinutaCpfl!A221","v":0},null,null,184,null,null,null,null,null,null,null,null,null,null,null,null,null,null,null,{"$f":" [1]Folha4!A215","v":0}]
[null,null,null,null,null,null,null,null,null,null,null,null,null,null,null,{"$f":" [1]SecundariaMinutaCpfl!A222","v":0},{"$f":" [1]PrimariaMinutaCpfl!A222","v":0},{"$f":" [1]NeutroMinutaCpfl!A222","v":0},null,null,185,null,null,null,null,null,null,null,null,null,null,null,null,null,null,null,{"$f":" [1]Folha4!A216","v":0}]
[null,null,null,null,null,null,null,null,null,null,null,null,null,null,null,{"$f":" [1]SecundariaMinutaCpfl!A223","v":0},{"$f":" [1]PrimariaMinutaCpfl!A223","v":0},{"$f":" [1]NeutroMinutaCpfl!A223","v":0},null,null,186,null,null,null,null,null,null,null,null,null,null,null,null,null,null,null,{"$f":" [1]Folha4!A217","v":0}]
[null,null,null,null,null,null,null,null,null,null,null,null,null,null,null,{"$f":" [1]SecundariaMinutaCpfl!A224","v":0},{"$f":" [1]PrimariaMinutaCpfl!A224","v":0},{"$f":" [1]NeutroMinutaCpfl!A224","v":0},null,null,187,null,null,null,null,null,null,null,null,null,null,null,null,null,null,null,{"$f":" [1]Folha4!A218","v":0}]
[null,null,null,null,null,null,null,null,null,null,null,null,null,null,null,{"$f":" [1]SecundariaMinutaCpfl!A225","v":0},{"$f":" [1]PrimariaMinutaCpfl!A225","v":0},{"$f":" [1]NeutroMinutaCpfl!A225","v":0},null,null,188,null,null,null,null,null,null,null,null,null,null,null,null,null,null,null,{"$f":" [1]Folha4!A219","v":0}]
[null,null,null,null,null,null,null,null,null,null,null,null,null,null,null,{"$f":" [1]SecundariaMinutaCpfl!A226","v":0},{"$f":" [1]PrimariaMinutaCpfl!A226","v":0},{"$f":" [1]NeutroMinutaCpfl!A226","v":0},null,null,189,null,null,null,null,null,null,null,null,null,null,null,null,null,null,null,{"$f":" [1]Folha4!A220","v":0}]
[null,null,null,null,null,null,null,null,null,null,null,null,null,null,null,{"$f":" [1]SecundariaMinutaCpfl!A227","v":0},{"$f":" [1]PrimariaMinutaCpfl!A227","v":0},{"$f":" [1]NeutroMinutaCpfl!A227","v":0},null,null,190,null,null,null,null,null,null,null,null,null,null,null,null,null,null,null,{"$f":" [1]Folha4!A221","v":0}]
[null,null,null,null,null,null,null,null,null,null,null,null,null,null,null,{"$f":" [1]SecundariaMinutaCpfl!A228","v":0},{"$f":" [1]PrimariaMinutaCpfl!A228","v":0},{"$f":" [1]NeutroMinutaCpfl!A228","v":0},null,null,191,null,null,null,null,null,null,null,null,null,null,null,null,null,null,null,{"$f":" [1]Folha4!A222","v":0}]
[null,null,null,null,null,null,null,null,null,null,null,null,null,null,null,{"$f":" [1]SecundariaMinutaCpfl!A229","v":0},{"$f":" [1]PrimariaMinutaCpfl!A229","v":0},{"$f":" [1]NeutroMinutaCpfl!A229","v":0},null,null,192,null,null,null,null,null,null,null,null,null,null,null,null,null,null,null,{"$f":" [1]Folha4!A223","v":0}]
[null,null,null,null,null,null,null,null,null,null,null,null,null,null,null,{"$f":" [1]SecundariaMinutaCpfl!A230","v":0},{"$f":" [1]PrimariaMinutaCpfl!A230","v":0},{"$f":" [1]NeutroMinutaCpfl!A230","v":0},null,null,193,null,null,null,null,null,null,null,null,null,null,null,null,null,null,null,{"$f":" [1]Folha4!A224","v":0}]
[null,null,null,null,null,null,null,null,null,null,null,null,null,null,null,{"$f":" [1]SecundariaMinutaCpfl!A231","v":0},{"$f":" [1]PrimariaMinutaCpfl!A231","v":0},{"$f":" [1]NeutroMinutaCpfl!A231","v":0},null,null,194,null,null,null,null,null,null,null,null,null,null,null,null,null,null,null,{"$f":" [1]Folha4!A225","v":0}]
[null,null,null,null,null,null,null,null,null,null,null,null,null,null,null,{"$f":" [1]SecundariaMinutaCpfl!A232","v":0},{"$f":" [1]PrimariaMinutaCpfl!A232","v":0},{"$f":" [1]NeutroMinutaCpfl!A232","v":0},null,null,195,null,null,null,null,null,null,null,null,null,null,null,null,null,null,null,{"$f":" [1]Folha4!A226","v":0}]
[null,null,null,null,null,null,null,null,null,null,null,null,null,null,null,{"$f":" [1]SecundariaMinutaCpfl!A233","v":0},{"$f":" [1]PrimariaMinutaCpfl!A233","v":0},{"$f":" [1]NeutroMinutaCpfl!A233","v":0},null,null,196,null,null,null,null,null,null,null,null,null,null,null,null,null,null,null,{"$f":" [1]Folha4!A227","v":0}]
[null,null,null,null,null,null,null,null,null,null,null,null,null,null,null,{"$f":" [1]SecundariaMinutaCpfl!A234","v":0},{"$f":" [1]PrimariaMinutaCpfl!A234","v":0},{"$f":" [1]NeutroMinutaCpfl!A234","v":0},null,null,197,null,null,null,null,null,null,null,null,null,null,null,null,null,null,null,{"$f":" [1]Folha4!A228","v":0}]
[null,null,null,null,null,null,null,null,null,null,null,null,null,null,null,{"$f":" [1]SecundariaMinutaCpfl!A235","v":0},{"$f":" [1]PrimariaMinutaCpfl!A235","v":0},{"$f":" [1]NeutroMinutaCpfl!A235","v":0},null,null,198,null,null,null,null,null,null,null,null,null,null,null,null,null,null,null,{"$f":" [1]Folha4!A229","v":0}]
[null,null,null,null,null,null,null,null,null,null,null,null,null,null,null,{"$f":" [1]SecundariaMinutaCpfl!A236","v":0},{"$f":" [1]PrimariaMinutaCpfl!A236","v":0},{"$f":" [1]NeutroMinutaCpfl!A236","v":0},null,null,199,null,null,null,null,null,null,null,null,null,null,null,null,null,null,null,{"$f":" [1]Folha4!A230","v":0}]
[null,null,null,null,null,null,null,null,null,null,null,null,null,null,null,{"$f":" [1]SecundariaMinutaCpfl!A237","v":0},{"$f":" [1]PrimariaMinutaCpfl!A237","v":0},{"$f":" [1]NeutroMinutaCpfl!A237","v":0},null,null,200,null,null,null,null,null,null,null,null,null,null,null,null,null,null,null,{"$f":" [1]Folha4!A231","v":0}]
[null,null,null,null,null,null,null,null,null,null,null,null,null,null,null,{"$f":" [1]SecundariaMinutaCpfl!A238","v":0},{"$f":" [1]PrimariaMinutaCpfl!A238","v":0},{"$f":" [1]NeutroMinutaCpfl!A238","v":0},null,null,201,null,null,null,null,null,null,null,null,null,null,null,null,null,null,null,{"$f":" [1]Folha4!A232","v":0}]
[null,null,null,null,null,null,null,null,null,null,null,null,null,null,null,{"$f":" [1]SecundariaMinutaCpfl!A239","v":0},{"$f":" [1]PrimariaMinutaCpfl!A239","v":0},{"$f":" [1]NeutroMinutaCpfl!A239","v":0},null,null,202,null,null,null,null,null,null,null,null,null,null,null,null,null,null,null,{"$f":" [1]Folha4!A233","v":0}]
[null,null,null,null,null,null,null,null,null,null,null,null,null,null,null,{"$f":" [1]SecundariaMinutaCpfl!A240","v":0},{"$f":" [1]PrimariaMinutaCpfl!A240","v":0},{"$f":" [1]NeutroMinutaCpfl!A240","v":0},null,null,203,null,null,null,null,null,null,null,null,null,null,null,null,null,null,null,{"$f":" [1]Folha4!A234","v":0}]
[null,null,null,null,null,null,null,null,null,null,null,null,null,null,null,{"$f":" [1]SecundariaMinutaCpfl!A241","v":0},{"$f":" [1]PrimariaMinutaCpfl!A241","v":0},{"$f":" [1]NeutroMinutaCpfl!A241","v":0},null,null,204,null,null,null,null,null,null,null,null,null,null,null,null,null,null,null,{"$f":" [1]Folha4!A235","v":0}]
[null,null,null,null,null,null,null,null,null,null,null,null,null,null,null,{"$f":" [1]SecundariaMinutaCpfl!A242","v":0},{"$f":" [1]PrimariaMinutaCpfl!A242","v":0},{"$f":" [1]NeutroMinutaCpfl!A242","v":0},null,null,205,null,null,null,null,null,null,null,null,null,null,null,null,null,null,null,{"$f":" [1]Folha4!A236","v":0}]
[null,null,null,null,null,null,null,null,null,null,null,null,null,null,null,{"$f":" [1]SecundariaMinutaCpfl!A243","v":0},{"$f":" [1]PrimariaMinutaCpfl!A243","v":0},{"$f":" [1]NeutroMinutaCpfl!A243","v":0},null,null,206,null,null,null,null,null,null,null,null,null,null,null,null,null,null,null,{"$f":" [1]Folha4!A237","v":0}]
[null,null,null,null,null,null,null,null,null,null,null,null,null,null,null,{"$f":" [1]SecundariaMinutaCpfl!A244","v":0},{"$f":" [1]PrimariaMinutaCpfl!A244","v":0},{"$f":" [1]NeutroMinutaCpfl!A244","v":0},null,null,207,null,null,null,null,null,null,null,null,null,null,null,null,null,null,null,{"$f":" [1]Folha4!A238","v":0}]
[null,null,null,null,null,null,null,null,null,null,null,null,null,null,null,{"$f":" [1]SecundariaMinutaCpfl!A245","v":0},{"$f":" [1]PrimariaMinutaCpfl!A245","v":0},{"$f":" [1]NeutroMinutaCpfl!A245","v":0},null,null,208,null,null,null,null,null,null,null,null,null,null,null,null,null,null,null,{"$f":" [1]Folha4!A239","v":0}]
[null,null,null,null,null,null,null,null,null,null,null,null,null,null,null,{"$f":" [1]SecundariaMinutaCpfl!A246","v":0},{"$f":" [1]PrimariaMinutaCpfl!A246","v":0},{"$f":" [1]NeutroMinutaCpfl!A246","v":0},null,null,209,null,null,null,null,null,null,null,null,null,null,null,null,null,null,null,{"$f":" [1]Folha4!A240","v":0}]
[null,null,null,null,null,null,null,null,null,null,null,null,null,null,null,{"$f":" [1]SecundariaMinutaCpfl!A247","v":0},{"$f":" [1]PrimariaMinutaCpfl!A247","v":0},{"$f":" [1]NeutroMinutaCpfl!A247","v":0},null,null,210,null,null,null,null,null,null,null,null,null,null,null,null,null,null,null,{"$f":" [1]Folha4!A241","v":0}]
[null,null,null,null,null,null,null,null,null,null,null,null,null,null,null,{"$f":" [1]SecundariaMinutaCpfl!A248","v":0},{"$f":" [1]PrimariaMinutaCpfl!A248","v":0},{"$f":" [1]NeutroMinutaCpfl!A248","v":0},null,null,211,null,null,null,null,null,null,null,null,null,null,null,null,null,null,null,{"$f":" [1]Folha4!A242","v":0}]
[null,null,null,null,null,null,null,null,null,null,null,null,null,null,null,{"$f":" [1]SecundariaMinutaCpfl!A249","v":0},{"$f":" [1]PrimariaMinutaCpfl!A249","v":0},{"$f":" [1]NeutroMinutaCpfl!A249","v":0},null,null,212,null,null,null,null,null,null,null,null,null,null,null,null,null,null,null,{"$f":" [1]Folha4!A243","v":0}]
[null,null,null,null,null,null,null,null,null,null,null,null,null,null,null,{"$f":" [1]SecundariaMinutaCpfl!A250","v":0},{"$f":" [1]PrimariaMinutaCpfl!A250","v":0},{"$f":" [1]NeutroMinutaCpfl!A250","v":0},null,null,213,null,null,null,null,null,null,null,null,null,null,null,null,null,null,null,{"$f":" [1]Folha4!A244","v":0}]
[null,null,null,null,null,null,null,null,null,null,null,null,null,null,null,{"$f":" [1]SecundariaMinutaCpfl!A251","v":0},{"$f":" [1]PrimariaMinutaCpfl!A251","v":0},{"$f":" [1]NeutroMinutaCpfl!A251","v":0},null,null,214,null,null,null,null,null,null,null,null,null,null,null,null,null,null,null,{"$f":" [1]Folha4!A245","v":0}]
[null,null,null,null,null,null,null,null,null,null,null,null,null,null,null,{"$f":" [1]SecundariaMinutaCpfl!A252","v":0},{"$f":" [1]PrimariaMinutaCpfl!A252","v":0},{"$f":" [1]NeutroMinutaCpfl!A252","v":0},null,null,215,null,null,null,null,null,null,null,null,null,null,null,null,null,null,null,{"$f":" [1]Folha4!A246","v":0}]
[null,null,null,null,null,null,null,null,null,null,null,null,null,null,null,{"$f":" [1]SecundariaMinutaCpfl!A253","v":0},{"$f":" [1]PrimariaMinutaCpfl!A253","v":0},{"$f":" [1]NeutroMinutaCpfl!A253","v":0},null,null,216,null,null,null,null,null,null,null,null,null,null,null,null,null,null,null,{"$f":" [1]Folha4!A247","v":0}]
[null,null,null,null,null,null,null,null,null,null,null,null,null,null,null,{"$f":" [1]SecundariaMinutaCpfl!A254","v":0},{"$f":" [1]PrimariaMinutaCpfl!A254","v":0},{"$f":" [1]NeutroMinutaCpfl!A254","v":0},null,null,217,null,null,null,null,null,null,null,null,null,null,null,null,null,null,null,{"$f":" [1]Folha4!A248","v":0}]
[null,null,null,null,null,null,null,null,null,null,null,null,null,null,null,{"$f":" [1]SecundariaMinutaCpfl!A255","v":0},{"$f":" [1]PrimariaMinutaCpfl!A255","v":0},{"$f":" [1]NeutroMinutaCpfl!A255","v":0},null,null,218,null,null,null,null,null,null,null,null,null,null,null,null,null,null,null,{"$f":" [1]Folha4!A249","v":0}]
[null,null,null,null,null,null,null,null,null,null,null,null,null,null,null,{"$f":" [1]SecundariaMinutaCpfl!A256","v":0},{"$f":" [1]PrimariaMinutaCpfl!A256","v":0},{"$f":" [1]NeutroMinutaCpfl!A256","v":0},null,null,219,null,null,null,null,null,null,null,null,null,null,null,null,null,null,null,{"$f":" [1]Folha4!A250","v":0}]
[null,null,null,null,null,null,null,null,null,null,null,null,null,null,null,{"$f":" [1]SecundariaMinutaCpfl!A257","v":0},{"$f":" [1]PrimariaMinutaCpfl!A257","v":0},{"$f":" [1]NeutroMinutaCpfl!A257","v":0},null,null,220,null,null,null,null,null,null,null,null,null,null,null,null,null,null,null,{"$f":" [1]Folha4!A251","v":0}]
[null,null,null,null,null,null,null,null,null,null,null,null,null,null,null,{"$f":" [1]SecundariaMinutaCpfl!A258","v":0},{"$f":" [1]PrimariaMinutaCpfl!A258","v":0},{"$f":" [1]NeutroMinutaCpfl!A258","v":0},null,null,221,null,null,null,null,null,null,null,null,null,null,null,null,null,null,null,{"$f":" [1]Folha4!A252","v":0}]
[null,null,null,null,null,null,null,null,null,null,null,null,null,null,null,{"$f":" [1]SecundariaMinutaCpfl!A259","v":0},{"$f":" [1]PrimariaMinutaCpfl!A259","v":0},{"$f":" [1]NeutroMinutaCpfl!A259","v":0},null,null,222,null,null,null,null,null,null,null,null,null,null,null,null,null,null,null,{"$f":" [1]Folha4!A253","v":0}]
[null,null,null,null,null,null,null,null,null,null,null,null,null,null,null,{"$f":" [1]SecundariaMinutaCpfl!A260","v":0},{"$f":" [1]PrimariaMinutaCpfl!A260","v":0},{"$f":" [1]NeutroMinutaCpfl!A260","v":0},null,null,223,null,null,null,null,null,null,null,null,null,null,null,null,null,null,null,{"$f":" [1]Folha4!A254","v":0}]
[null,null,null,null,null,null,null,null,null,null,null,null,null,null,null,{"$f":" [1]SecundariaMinutaCpfl!A261","v":0},{"$f":" [1]PrimariaMinutaCpfl!A261","v":0},{"$f":" [1]NeutroMinutaCpfl!A261","v":0},null,null,224,null,null,null,null,null,null,null,null,null,null,null,null,null,null,null,{"$f":" [1]Folha4!A255","v":0}]
[null,null,null,null,null,null,null,null,null,null,null,null,null,null,null,{"$f":" [1]SecundariaMinutaCpfl!A262","v":0},{"$f":" [1]PrimariaMinutaCpfl!A262","v":0},{"$f":" [1]NeutroMinutaCpfl!A262","v":0},null,null,225,null,null,null,null,null,null,null,null,null,null,null,null,null,null,null,{"$f":" [1]Folha4!A256","v":0}]
[null,null,null,null,null,null,null,null,null,null,null,null,null,null,null,{"$f":" [1]SecundariaMinutaCpfl!A263","v":0},{"$f":" [1]PrimariaMinutaCpfl!A263","v":0},{"$f":" [1]NeutroMinutaCpfl!A263","v":0},null,null,226,null,null,null,null,null,null,null,null,null,null,null,null,null,null,null,{"$f":" [1]Folha4!A257","v":0}]
[null,null,null,null,null,null,null,null,null,null,null,null,null,null,null,{"$f":" [1]SecundariaMinutaCpfl!A264","v":0},{"$f":" [1]PrimariaMinutaCpfl!A264","v":0},{"$f":" [1]NeutroMinutaCpfl!A264","v":0},null,null,227,null,null,null,null,null,null,null,null,null,null,null,null,null,null,null,{"$f":" [1]Folha4!A258","v":0}]
[null,null,null,null,null,null,null,null,null,null,null,null,null,null,null,{"$f":" [1]SecundariaMinutaCpfl!A265","v":0},{"$f":" [1]PrimariaMinutaCpfl!A265","v":0},{"$f":" [1]NeutroMinutaCpfl!A265","v":0},null,null,228,null,null,null,null,null,null,null,null,null,null,null,null,null,null,null,{"$f":" [1]Folha4!A259","v":0}]
[null,null,null,null,null,null,null,null,null,null,null,null,null,null,null,{"$f":" [1]SecundariaMinutaCpfl!A266","v":0},{"$f":" [1]PrimariaMinutaCpfl!A266","v":0},{"$f":" [1]NeutroMinutaCpfl!A266","v":0},null,null,229,null,null,null,null,null,null,null,null,null,null,null,null,null,null,null,{"$f":" [1]Folha4!A260","v":0}]
[null,null,null,null,null,null,null,null,null,null,null,null,null,null,null,{"$f":" [1]SecundariaMinutaCpfl!A267","v":0},{"$f":" [1]PrimariaMinutaCpfl!A267","v":0},{"$f":" [1]NeutroMinutaCpfl!A267","v":0},null,null,230,null,null,null,null,null,null,null,null,null,null,null,null,null,null,null,{"$f":" [1]Folha4!A261","v":0}]
[null,null,null,null,null,null,null,null,null,null,null,null,null,null,null,{"$f":" [1]SecundariaMinutaCpfl!A268","v":0},{"$f":" [1]PrimariaMinutaCpfl!A268","v":0},{"$f":" [1]NeutroMinutaCpfl!A268","v":0},null,null,231,null,null,null,null,null,null,null,null,null,null,null,null,null,null,null,{"$f":" [1]Folha4!A262","v":0}]
[null,null,null,null,null,null,null,null,null,null,null,null,null,null,null,{"$f":" [1]SecundariaMinutaCpfl!A269","v":0},{"$f":" [1]PrimariaMinutaCpfl!A269","v":0},{"$f":" [1]NeutroMinutaCpfl!A269","v":0},null,null,232,null,null,null,null,null,null,null,null,null,null,null,null,null,null,null,{"$f":" [1]Folha4!A263","v":0}]
[null,null,null,null,null,null,null,null,null,null,null,null,null,null,null,{"$f":" [1]SecundariaMinutaCpfl!A270","v":0},{"$f":" [1]PrimariaMinutaCpfl!A270","v":0},{"$f":" [1]NeutroMinutaCpfl!A270","v":0},null,null,233,null,null,null,null,null,null,null,null,null,null,null,null,null,null,null,{"$f":" [1]Folha4!A264","v":0}]
[null,null,null,null,null,null,null,null,null,null,null,null,null,null,null,{"$f":" [1]SecundariaMinutaCpfl!A271","v":0},{"$f":" [1]PrimariaMinutaCpfl!A271","v":0},{"$f":" [1]NeutroMinutaCpfl!A271","v":0},null,null,234,null,null,null,null,null,null,null,null,null,null,null,null,null,null,null,{"$f":" [1]Folha4!A265","v":0}]
[null,null,null,null,null,null,null,null,null,null,null,null,null,null,null,{"$f":" [1]SecundariaMinutaCpfl!A272","v":0},{"$f":" [1]PrimariaMinutaCpfl!A272","v":0},{"$f":" [1]NeutroMinutaCpfl!A272","v":0},null,null,235,null,null,null,null,null,null,null,null,null,null,null,null,null,null,null,{"$f":" [1]Folha4!A266","v":0}]
[null,null,null,null,null,null,null,null,null,null,null,null,null,null,null,{"$f":" [1]SecundariaMinutaCpfl!A273","v":0},{"$f":" [1]PrimariaMinutaCpfl!A273","v":0},{"$f":" [1]NeutroMinutaCpfl!A273","v":0},null,null,236,null,null,null,null,null,null,null,null,null,null,null,null,null,null,null,{"$f":" [1]Folha4!A267","v":0}]
[null,null,null,null,null,null,null,null,null,null,null,null,null,null,null,{"$f":" [1]SecundariaMinutaCpfl!A274","v":0},{"$f":" [1]PrimariaMinutaCpfl!A274","v":0},{"$f":" [1]NeutroMinutaCpfl!A274","v":0},null,null,237,null,null,null,null,null,null,null,null,null,null,null,null,null,null,null,{"$f":" [1]Folha4!A268","v":0}]
[null,null,null,null,null,null,null,null,null,null,null,null,null,null,null,{"$f":" [1]SecundariaMinutaCpfl!A275","v":0},{"$f":" [1]PrimariaMinutaCpfl!A275","v":0},{"$f":" [1]NeutroMinutaCpfl!A275","v":0},null,null,238,null,null,null,null,null,null,null,null,null,null,null,null,null,null,null,{"$f":" [1]Folha4!A269","v":0}]
[null,null,null,null,null,null,null,null,null,null,null,null,null,null,null,{"$f":" [1]SecundariaMinutaCpfl!A276","v":0},{"$f":" [1]PrimariaMinutaCpfl!A276","v":0},{"$f":" [1]NeutroMinutaCpfl!A276","v":0},null,null,239,null,null,null,null,null,null,null,null,null,null,null,null,null,null,null,{"$f":" [1]Folha4!A270","v":0}]
[null,null,null,null,null,null,null,null,null,null,null,null,null,null,null,{"$f":" [1]SecundariaMinutaCpfl!A277","v":0},{"$f":" [1]PrimariaMinutaCpfl!A277","v":0},{"$f":" [1]NeutroMinutaCpfl!A277","v":0},null,null,240,null,null,null,null,null,null,null,null,null,null,null,null,null,null,null,{"$f":" [1]Folha4!A271","v":0}]
[null,null,null,null,null,null,null,null,null,null,null,null,null,null,null,{"$f":" [1]SecundariaMinutaCpfl!A278","v":0},{"$f":" [1]PrimariaMinutaCpfl!A278","v":0},{"$f":" [1]NeutroMinutaCpfl!A278","v":0},null,null,241,null,null,null,null,null,null,null,null,null,null,null,null,null,null,null,{"$f":" [1]Folha4!A272","v":0}]
[null,null,null,null,null,null,null,null,null,null,null,null,null,null,null,{"$f":" [1]SecundariaMinutaCpfl!A279","v":0},{"$f":" [1]PrimariaMinutaCpfl!A279","v":0},{"$f":" [1]NeutroMinutaCpfl!A279","v":0},null,null,242,null,null,null,null,null,null,null,null,null,null,null,null,null,null,null,{"$f":" [1]Folha4!A273","v":0}]
[null,null,null,null,null,null,null,null,null,null,null,null,null,null,null,{"$f":" [1]SecundariaMinutaCpfl!A280","v":0},{"$f":" [1]PrimariaMinutaCpfl!A280","v":0},{"$f":" [1]NeutroMinutaCpfl!A280","v":0},null,null,243,null,null,null,null,null,null,null,null,null,null,null,null,null,null,null,{"$f":" [1]Folha4!A274","v":0}]
[null,null,null,null,null,null,null,null,null,null,null,null,null,null,null,{"$f":" [1]SecundariaMinutaCpfl!A281","v":0},{"$f":" [1]PrimariaMinutaCpfl!A281","v":0},{"$f":" [1]NeutroMinutaCpfl!A281","v":0},null,null,244,null,null,null,null,null,null,null,null,null,null,null,null,null,null,null,{"$f":" [1]Folha4!A275","v":0}]
[null,null,null,null,null,null,null,null,null,null,null,null,null,null,null,{"$f":" [1]SecundariaMinutaCpfl!A282","v":0},{"$f":" [1]PrimariaMinutaCpfl!A282","v":0},{"$f":" [1]NeutroMinutaCpfl!A282","v":0},null,null,245,null,null,null,null,null,null,null,null,null,null,null,null,null,null,null,{"$f":" [1]Folha4!A276","v":0}]
[null,null,null,null,null,null,null,null,null,null,null,null,null,null,null,{"$f":" [1]SecundariaMinutaCpfl!A283","v":0},{"$f":" [1]PrimariaMinutaCpfl!A283","v":0},{"$f":" [1]NeutroMinutaCpfl!A283","v":0},null,null,246,null,null,null,null,null,null,null,null,null,null,null,null,null,null,null,{"$f":" [1]Folha4!A277","v":0}]
[null,null,null,null,null,null,null,null,null,null,null,null,null,null,null,{"$f":" [1]SecundariaMinutaCpfl!A284","v":0},{"$f":" [1]PrimariaMinutaCpfl!A284","v":0},{"$f":" [1]NeutroMinutaCpfl!A284","v":0},null,null,247,null,null,null,null,null,null,null,null,null,null,null,null,null,null,null,{"$f":" [1]Folha4!A278","v":0}]
[null,null,null,null,null,null,null,null,null,null,null,null,null,null,null,{"$f":" [1]SecundariaMinutaCpfl!A285","v":0},{"$f":" [1]PrimariaMinutaCpfl!A285","v":0},{"$f":" [1]NeutroMinutaCpfl!A285","v":0},null,null,248,null,null,null,null,null,null,null,null,null,null,null,null,null,null,null,{"$f":" [1]Folha4!A279","v":0}]
[null,null,null,null,null,null,null,null,null,null,null,null,null,null,null,{"$f":" [1]SecundariaMinutaCpfl!A286","v":0},{"$f":" [1]PrimariaMinutaCpfl!A286","v":0},{"$f":" [1]NeutroMinutaCpfl!A286","v":0},null,null,249,null,null,null,null,null,null,null,null,null,null,null,null,null,null,null,{"$f":" [1]Folha4!A280","v":0}]
[null,null,null,null,null,null,null,null,null,null,null,null,null,null,null,{"$f":" [1]SecundariaMinutaCpfl!A287","v":0},{"$f":" [1]PrimariaMinutaCpfl!A287","v":0},{"$f":" [1]NeutroMinutaCpfl!A287","v":0},null,null,250,null,null,null,null,null,null,null,null,null,null,null,null,null,null,null,{"$f":" [1]Folha4!A281","v":0}]
[null,null,null,null,null,null,null,null,null,null,null,null,null,null,null,{"$f":" [1]SecundariaMinutaCpfl!A288","v":0},{"$f":" [1]PrimariaMinutaCpfl!A288","v":0},{"$f":" [1]NeutroMinutaCpfl!A288","v":0},null,null,251,null,null,null,null,null,null,null,null,null,null,null,null,null,null,null,{"$f":" [1]Folha4!A282","v":0}]
[null,null,null,null,null,null,null,null,null,null,null,null,null,null,null,{"$f":" [1]SecundariaMinutaCpfl!A289","v":0},{"$f":" [1]PrimariaMinutaCpfl!A289","v":0},{"$f":" [1]NeutroMinutaCpfl!A289","v":0},null,null,252,null,null,null,null,null,null,null,null,null,null,null,null,null,null,null,{"$f":" [1]Folha4!A283","v":0}]
[null,null,null,null,null,null,null,null,null,null,null,null,null,null,null,{"$f":" [1]SecundariaMinutaCpfl!A290","v":0},{"$f":" [1]PrimariaMinutaCpfl!A290","v":0},{"$f":" [1]NeutroMinutaCpfl!A290","v":0},null,null,253,null,null,null,null,null,null,null,null,null,null,null,null,null,null,null,{"$f":" [1]Folha4!A284","v":0}]
[null,null,null,null,null,null,null,null,null,null,null,null,null,null,null,{"$f":" [1]SecundariaMinutaCpfl!A291","v":0},{"$f":" [1]PrimariaMinutaCpfl!A291","v":0},{"$f":" [1]NeutroMinutaCpfl!A291","v":0},null,null,254,null,null,null,null,null,null,null,null,null,null,null,null,null,null,null,{"$f":" [1]Folha4!A285","v":0}]
[null,null,null,null,null,null,null,null,null,null,null,null,null,null,null,{"$f":" [1]SecundariaMinutaCpfl!A292","v":0},{"$f":" [1]PrimariaMinutaCpfl!A292","v":0},{"$f":" [1]NeutroMinutaCpfl!A292","v":0},null,null,255,null,null,null,null,null,null,null,null,null,null,null,null,null,null,null,{"$f":" [1]Folha4!A286","v":0}]
[null,null,null,null,null,null,null,null,null,null,null,null,null,null,null,{"$f":" [1]SecundariaMinutaCpfl!A293","v":0},{"$f":" [1]PrimariaMinutaCpfl!A293","v":0},{"$f":" [1]NeutroMinutaCpfl!A293","v":0},null,null,256,null,null,null,null,null,null,null,null,null,null,null,null,null,null,null,{"$f":" [1]Folha4!A287","v":0}]
[null,null,null,null,null,null,null,null,null,null,null,null,null,null,null,{"$f":" [1]SecundariaMinutaCpfl!A294","v":0},{"$f":" [1]PrimariaMinutaCpfl!A294","v":0},{"$f":" [1]NeutroMinutaCpfl!A294","v":0},null,null,257,null,null,null,null,null,null,null,null,null,null,null,null,null,null,null,{"$f":" [1]Folha4!A288","v":0}]
[null,null,null,null,null,null,null,null,null,null,null,null,null,null,null,{"$f":" [1]SecundariaMinutaCpfl!A295","v":0},{"$f":" [1]PrimariaMinutaCpfl!A295","v":0},{"$f":" [1]NeutroMinutaCpfl!A295","v":0},null,null,258,null,null,null,null,null,null,null,null,null,null,null,null,null,null,null,{"$f":" [1]Folha4!A289","v":0}]
[null,null,null,null,null,null,null,null,null,null,null,null,null,null,null,{"$f":" [1]SecundariaMinutaCpfl!A296","v":0},{"$f":" [1]PrimariaMinutaCpfl!A296","v":0},{"$f":" [1]NeutroMinutaCpfl!A296","v":0},null,null,259,null,null,null,null,null,null,null,null,null,null,null,null,null,null,null,{"$f":" [1]Folha4!A290","v":0}]
[null,null,null,null,null,null,null,null,null,null,null,null,null,null,null,{"$f":" [1]SecundariaMinutaCpfl!A297","v":0},{"$f":" [1]PrimariaMinutaCpfl!A297","v":0},{"$f":" [1]NeutroMinutaCpfl!A297","v":0},null,null,260,null,null,null,null,null,null,null,null,null,null,null,null,null,null,null,{"$f":" [1]Folha4!A291","v":0}]
[null,null,null,null,null,null,null,null,null,null,null,null,null,null,null,{"$f":" [1]SecundariaMinutaCpfl!A298","v":0},{"$f":" [1]PrimariaMinutaCpfl!A298","v":0},{"$f":" [1]NeutroMinutaCpfl!A298","v":0},null,null,261,null,null,null,null,null,null,null,null,null,null,null,null,null,null,null,{"$f":" [1]Folha4!A292","v":0}]
[null,null,null,null,null,null,null,null,null,null,null,null,null,null,null,{"$f":" [1]SecundariaMinutaCpfl!A299","v":0},{"$f":" [1]PrimariaMinutaCpfl!A299","v":0},{"$f":" [1]NeutroMinutaCpfl!A299","v":0},null,null,262,null,null,null,null,null,null,null,null,null,null,null,null,null,null,null,{"$f":" [1]Folha4!A293","v":0}]
[null,null,null,null,null,null,null,null,null,null,null,null,null,null,null,{"$f":" [1]SecundariaMinutaCpfl!A300","v":0},{"$f":" [1]PrimariaMinutaCpfl!A300","v":0},{"$f":" [1]NeutroMinutaCpfl!A300","v":0},null,null,263,null,null,null,null,null,null,null,null,null,null,null,null,null,null,null,{"$f":" [1]Folha4!A294","v":0}]
[null,null,null,null,null,null,null,null,null,null,null,null,null,null,null,{"$f":" [1]SecundariaMinutaCpfl!A301","v":0},{"$f":" [1]PrimariaMinutaCpfl!A301","v":0},{"$f":" [1]NeutroMinutaCpfl!A301","v":0},null,null,264,null,null,null,null,null,null,null,null,null,null,null,null,null,null,null,{"$f":" [1]Folha4!A295","v":0}]
[null,null,null,null,null,null,null,null,null,null,null,null,null,null,null,{"$f":" [1]SecundariaMinutaCpfl!A302","v":0},{"$f":" [1]PrimariaMinutaCpfl!A302","v":0},{"$f":" [1]NeutroMinutaCpfl!A302","v":0},null,null,265]
[null,null,null,null,null,null,null,null,null,null,null,null,null,null,null,null,null,null,null,null,266]
[null,null,null,null,null,null,null,null,null,null,null,null,null,null,null,null,null,null,null,null,267]
[null,null,null,null,null,null,null,null,null,null,null,null,null,null,null,null,null,null,null,null,268]
[null,null,null,null,null,null,null,null,null,null,null,null,null,null,null,null,null,null,null,null,269]
[null,null,null,null,null,null,null,null,null,null,null,null,null,null,null,null,null,null,null,null,270]
[null,null,null,null,null,null,null,null,null,null,null,null,null,null,null,null,null,null,null,null,271]
[null,null,null,null,null,null,null,null,null,null,null,null,null,null,null,null,null,null,null,null,272]
[null,null,null,null,null,null,null,null,null,null,null,null,null,null,null,null,null,null,null,null,273]
[null,null,null,null,null,null,null,null,null,null,null,null,null,null,null,null,null,null,null,null,274]
[null,null,null,null,null,null,null,null,null,null,null,null,null,null,null,null,null,null,null,null,275]
[null,null,null,null,null,null,null,null,null,null,null,null,null,null,null,null,null,null,null,null,276]
[null,null,null,null,null,null,null,null,null,null,null,null,null,null,null,null,null,null,null,null,277]
[null,null,null,null,null,null,null,null,null,null,null,null,null,null,null,null,null,null,null,null,278]
[null,null,null,null,null,null,null,null,null,null,null,null,null,null,null,null,null,null,null,null,279]
[null,null,null,null,null,null,null,null,null,null,null,null,null,null,null,null,null,null,null,null,280]
[null,null,null,null,null,null,null,null,null,null,null,null,null,null,null,null,null,null,null,null,281]
[null,null,null,null,null,null,null,null,null,null,null,null,null,null,null,null,null,null,null,null,282]
[null,null,null,null,null,null,null,null,null,null,null,null,null,null,null,null,null,null,null,null,283]
[null,null,null,null,null,null,null,null,null,null,null,null,null,null,null,null,null,null,null,null,284]
[null,null,null,null,null,null,null,null,null,null,null,null,null,null,null,null,null,null,null,null,285]
[null,null,null,null,null,null,null,null,null,null,null,null,null,null,null,null,null,null,null,null,286]
[null,null,null,null,null,null,null,null,null,null,null,null,null,null,null,null,null,null,null,null,287]
[null,null,null,null,null,null,null,null,null,null,null,null,null,null,null,null,null,null,null,null,288]
[null,null,null,null,null,null,null,null,null,null,null,null,null,null,null,null,null,null,null,null,289]
[null,null,null,null,null,null,null,null,null,null,null,null,null,null,null,null,null,null,null,null,290]
[null,null,null,null,null,null,null,null,null,null,null,null,null,null,null,null,null,null,null,null,291]
[null,null,null,null,null,null,null,null,null,null,null,null,null,null,null,null,null,null,null,null,292]
[null,null,null,null,null,null,null,null,null,null,null,null,null,null,null,null,null,null,null,null,293]
[null,null,null,null,null,null,null,null,null,null,null,null,null,null,null,null,null,null,null,null,294]
[null,null,null,null,null,null,null,null,null,null,null,null,null,null,null,null,null,null,null,null,295]
[null,null,null,null,null,null,null,null,null,null,null,null,null,null,null,null,null,null,null,null,296]
[null,null,null,null,null,null,null,null,null,null,null,null,null,null,null,null,null,null,null,null,297]
[null,null,null,null,null,null,null,null,null,null,null,null,null,null,null,null,null,null,null,null,298]
[null,null,null,null,null,null,null,null,null,null,null,null,null,null,null,null,null,null,null,null,299]
[null,null,null,null,null,null,null,null,null,null,null,null,null,null,null,null,null,null,null,null,300]
[null,null,null,null,null,null,null,null,null,null,null,null,null,null,null,null,null,null,null,null,301]
[null,null,null,null,null,null,null,null,null,null,null,null,null,null,null,null,null,null,null,null,302]
[null,null,null,null,null,null,null,null,null,null,null,null,null,null,null,null,null,null,null,null,303]
[null,null,null,null,null,null,null,null,null,null,null,null,null,null,null,null,null,null,null,null,304]
[null,null,null,null,null,null,null,null,null,null,null,null,null,null,null,null,null,null,null,null,305]
[null,null,null,null,null,null,null,null,null,null,null,null,null,null,null,null,null,null,null,null,306]
[null,null,null,null,null,null,null,null,null,null,null,null,null,null,null,null,null,null,null,null,307]
[null,null,null,null,null,null,null,null,null,null,null,null,null,null,null,null,null,null,null,null,308]
[null,null,null,null,null,null,null,null,null,null,null,null,null,null,null,null,null,null,null,null,309]
[null,null,null,null,null,null,null,null,null,null,null,null,null,null,null,null,null,null,null,null,310]
[null,null,null,null,null,null,null,null,null,null,null,null,null,null,null,null,null,null,null,null,311]
[null,null,null,null,null,null,null,null,null,null,null,null,null,null,null,null,null,null,null,null,312]
[null,null,null,null,null,null,null,null,null,null,null,null,null,null,null,null,null,null,null,null,313]
[null,null,null,null,null,null,null,null,null,null,null,null,null,null,null,null,null,null,null,null,314]
[null,null,null,null,null,null,null,null,null,null,null,null,null,null,null,null,null,null,null,null,315]
[null,null,null,null,null,null,null,null,null,null,null,null,null,null,null,null,null,null,null,null,316]
[null,null,null,null,null,null,null,null,null,null,null,null,null,null,null,null,null,null,null,null,317]
[null,null,null,null,null,null,null,null,null,null,null,null,null,null,null,null,null,null,null,null,318]
[null,null,null,null,null,null,null,null,null,null,null,null,null,null,null,null,null,null,null,null,319]
[null,null,null,null,null,null,null,null,null,null,null,null,null,null,null,null,null,null,null,null,320]
[null,null,null,null,null,null,null,null,null,null,null,null,null,null,null,null,null,null,null,null,321]
[null,null,null,null,null,null,null,null,null,null,null,null,null,null,null,null,null,null,null,null,322]
[null,null,null,null,null,null,null,null,null,null,null,null,null,null,null,null,null,null,null,null,323]
[null,null,null,null,null,null,null,null,null,null,null,null,null,null,null,null,null,null,null,null,324]
[null,null,null,null,null,null,null,null,null,null,null,null,null,null,null,null,null,null,null,null,325]
[null,null,null,null,null,null,null,null,null,null,null,null,null,null,null,null,null,null,null,null,326]
[null,null,null,null,null,null,null,null,null,null,null,null,null,null,null,null,null,null,null,null,327]
[null,null,null,null,null,null,null,null,null,null,null,null,null,null,null,null,null,null,null,null,328]
[null,null,null,null,null,null,null,null,null,null,null,null,null,null,null,null,null,null,null,null,329]
[null,null,null,null,null,null,null,null,null,null,null,null,null,null,null,null,null,null,null,null,330]
[null,null,null,null,null,null,null,null,null,null,null,null,null,null,null,null,null,null,null,null,331]
[null,null,null,null,null,null,null,null,null,null,null,null,null,null,null,null,null,null,null,null,332]
[null,null,null,null,null,null,null,null,null,null,null,null,null,null,null,null,null,null,null,null,333]
[null,null,null,null,null,null,null,null,null,null,null,null,null,null,null,null,null,null,null,null,334]
[null,null,null,null,null,null,null,null,null,null,null,null,null,null,null,null,null,null,null,null,335]
[null,null,null,null,null,null,null,null,null,null,null,null,null,null,null,null,null,null,null,null,336]
[null,null,null,null,null,null,null,null,null,null,null,null,null,null,null,null,null,null,null,null,337]
[null,null,null,null,null,null,null,null,null,null,null,null,null,null,null,null,null,null,null,null,338]
[null,null,null,null,null,null,null,null,null,null,null,null,null,null,null,null,null,null,null,null,339]
[null,null,null,null,null,null,null,null,null,null,null,null,null,null,null,null,null,null,null,null,340]
[null,null,null,null,null,null,null,null,null,null,null,null,null,null,null,null,null,null,null,null,341]
[null,null,null,null,null,null,null,null,null,null,null,null,null,null,null,null,null,null,null,null,342]
[null,null,null,null,null,null,null,null,null,null,null,null,null,null,null,null,null,null,null,null,343]
[null,null,null,null,null,null,null,null,null,null,null,null,null,null,null,null,null,null,null,null,344]
[null,null,null,null,null,null,null,null,null,null,null,null,null,null,null,null,null,null,null,null,345]
[null,null,null,null,null,null,null,null,null,null,null,null,null,null,null,null,null,null,null,null,346]
[null,null,null,null,null,null,null,null,null,null,null,null,null,null,null,null,null,null,null,null,347]
[null,null,null,null,null,null,null,null,null,null,null,null,null,null,null,null,null,null,null,null,348]
[null,null,null,null,null,null,null,null,null,null,null,null,null,null,null,null,null,null,null,null,349]
[null,null,null,null,null,null,null,null,null,null,null,null,null,null,null,null,null,null,null,null,350]
[null,null,null,null,null,null,null,null,null,null,null,null,null,null,null,null,null,null,null,null,351]
[null,null,null,null,null,null,null,null,null,null,null,null,null,null,null,null,null,null,null,null,352]
[null,null,null,null,null,null,null,null,null,null,null,null,null,null,null,null,null,null,null,null,353]
[null,null,null,null,null,null,null,null,null,null,null,null,null,null,null,null,null,null,null,null,354]
[null,null,null,null,null,null,null,null,null,null,null,null,null,null,null,null,null,null,null,null,355]
[null,null,null,null,null,null,null,null,null,null,null,null,null,null,null,null,null,null,null,null,356]
[null,null,null,null,null,null,null,null,null,null,null,null,null,null,null,null,null,null,null,null,357]
[null,null,null,null,null,null,null,null,null,null,null,null,null,null,null,null,null,null,null,null,358]
[null,null,null,null,null,null,null,null,null,null,null,null,null,null,null,null,null,null,null,null,359]
[null,null,null,null,null,null,null,null,null,null,null,null,null,null,null,null,null,null,null,null,360]

{"sheet":"Completo_Esforço_CPFL_Paulista","index":12,"n_rows":398,"n_cols":37,"rows_kept":398,"cut":false,"hidden":false,"merged":[[9,21,12,21],[44,3,44,7],[30,3,30,5],[27,3,27,5],[28,3,28,5],[29,3,29,5],[33,3,33,7],[18,7,18,9],[40,3,40,7],[36,3,36,7],[42,3,42,7],[43,3,43,7],[23,7,23,11],[2,9,2,11],[34,3,34,7],[35,3,35,7],[2,3,2,5],[18,3,18,5],[21,7,21,9],[49,9,49,13],[51,3,51,7],[50,3,50,7],[57,3,57,7],[56,3,56,7],[55,9,55,11],[54,9,54,11],[53,3,53,7],[52,3,52,7],[54,3,54,7],[49,3,49,7],[46,3,46,7],[41,3,41,7],[37,3,37,7],[58,3,58,7],[55,3,55,7]]}
[null,null,null,null,null,null,null,null,null,null,null,null,null,null,null,"Secundária","PrimariaMinutaCpfl","NeutroMinutaCpfl",null,"Altura Poste"]
[null,null,70,null,null,null,null,null,null,null,null,null,null,null,null,{"$f":" [1]SecundariaMinutaCpfl!A1","v":""},{"$f":" [1]PrimariaMinutaCpfl!A1","v":""},{"$f":" [1]NeutroMinutaCpfl!A1","v":""},null,7]
[null,null,"ALTURA POSTE",11,null,null,null,null,null,"http://www.mabjo.com.br/",null,null,null,null,null,{"$f":" [1]SecundariaMinutaCpfl!A2","v":"3 P 16 mm² Vão 35m "},{"$f":" [1]PrimariaMinutaCpfl!A2","v":"3 E 70 mm² Vão 35m "},{"$f":" [1]NeutroMinutaCpfl!A2","v":"1 CA 02 AWG Vão 35m "},null,8,"ÂNGULO"]
[null,null,"ESFORÇO",1,null,2,null,3,null,4,null,5,null,null,null,{"$f":" [1]SecundariaMinutaCpfl!A3","v":"3 P 25 mm² Vão 35m "},{"$f":" [1]PrimariaMinutaCpfl!A3","v":"3 E 185 mm² Vão 35m "},{"$f":" [1]NeutroMinutaCpfl!A3","v":"1 CA 1/0 AWG Vão 35m "},null,9]
[null,null,0,null,90,null,230,null,null,null,null,null,null,null,null,{"$f":" [1]SecundariaMinutaCpfl!A4","v":"3 P 35 mm² Vão 35m "},{"$f":" [1]PrimariaMinutaCpfl!A4","v":""},{"$f":" [1]NeutroMinutaCpfl!A4","v":"1 CA 2/0 AWG Vão 35m "},null,10]
[null,null,"ÂNGULO",0,null,110,null,320,null,230,null,190,null,null,null,{"$f":" [1]SecundariaMinutaCpfl!A5","v":"3 P 50 mm² Vão 35m "},{"$f":" [1]PrimariaMinutaCpfl!A5","v":"3 E 70 mm² Vão 80m "},{"$f":" [1]NeutroMinutaCpfl!A5","v":"1 CA 4/0 AWG Vão 35m "},null,11,null,null,null,null,{"$f":"D6+180","v":180},null,{"$f":"F6+180","v":290},null,{"$f":"H6+180","v":500},null,{"$f":"J6+180","v":410},null,{"$f":"L6+180","v":370},null,null,null,{"$f":" [1]Folha4!A2","v":"A02"}]
[null,null,"PRIMÁRIA","3 E 70 mm² Vão 35m ",null,null,null,"3 E 185 mm² Vão 35m ",null,null,null,null,null,null,null,{"$f":" [1]SecundariaMinutaCpfl!A6","v":"3 P 70 mm² Vão 35m "},{"$f":" [1]PrimariaMinutaCpfl!A6","v":"3 E 185 mm² Vão 80m "},{"$f":" [1]NeutroMinutaCpfl!A6","v":"1 CA 336,4 MCM Vão 35m "},null,12,null,null,null,null,null,null,null,null,null,null,null,null,null,null,null,null,{"$f":" [1]Folha4!A3","v":"A10"}]
[null,null,"NEUTRO PRIM.",null,null,null,null,null,null,null,null,null,null,null,null,{"$f":" [1]SecundariaMinutaCpfl!A7","v":"3 P 120 mm² Vão 35m "},{"$f":" [1]PrimariaMinutaCpfl!A7","v":"3 CA 02 AWG Vão 35m "},{"$f":" [1]NeutroMinutaCpfl!A7","v":"1 CA 477 MCM Vão 35m "},null,13,null,null,null,null,null,null,null,null,null,null,null,null,null,null,null,null,{"$f":" [1]Folha4!A4","v":"A20"}]
[null,null,"RED. TENSÃO ",0,null,0,null,0,null,0,null,0,null,null,null,{"$f":" [1]SecundariaMinutaCpfl!A8","v":""},{"$f":" [1]PrimariaMinutaCpfl!A8","v":"3 CA 1/0 AWG Vão 35m "},{"$f":" [1]NeutroMinutaCpfl!A8","v":""},null,14,null,null,null,null,null,null,null,null,null,null,null,null,null,null,null,null,{"$f":" [1]Folha4!A5","v":"A40"}]
[null,null,"DISTÂNCIA PRIMÁRIA TOPO CM",0,null,0,null,0,null,0,null,0,null,null,null,{"$f":" [1]SecundariaMinutaCpfl!A9","v":"3 CA 02 AWG Vão 35m "},{"$f":" [1]PrimariaMinutaCpfl!A9","v":"3 CA 2/0 AWG Vão 35m "},{"$f":" [1]NeutroMinutaCpfl!A9","v":"1 CA 02 AWG Vão 80m "},null,15,null,null,null,null,null,null,null,null,null,null,null,null,null,null,null,null,{"$f":" [1]Folha4!A6","v":"A33"}]
[null,null,"SEC. FASE","3 P 50 mm² Vão 35m ",null,"3 P 70 mm² Vão 35m ",null,null,null,null,null,"3 P 50 mm² Vão 35m ",null,null,null,{"$f":" [1]SecundariaMinutaCpfl!A10","v":"3 CA 1/0 AWG Vão 35m "},{"$f":" [1]PrimariaMinutaCpfl!A10","v":"3 CA 4/0 AWG Vão 35m "},{"$f":" [1]NeutroMinutaCpfl!A10","v":"1 CA 1/0 AWG Vão 80m "},null,16,null,null,null,{"$f":"IF(X12>180,X12-180,X12+180)","v":339.54210665632507},null,null,null,null,null,null,null,null,null,null,null,null,{"$f":" [1]Folha4!A7","v":"A47"}]
[null,null,"SEC. NEUTRO","1 CA 02 AWG Vão 35m ",null,"1 CA 1/0 AWG Vão 35m ",null,null,null,null,null,"1 CA 1/0 AWG Vão 35m ",null,null,null,{"$f":" [1]SecundariaMinutaCpfl!A11","v":"3 CA 2/0 AWG Vão 35m "},{"$f":" [1]PrimariaMinutaCpfl!A11","v":"3 CA 336,4 MCM Vão 35m "},{"$f":" [1]NeutroMinutaCpfl!A11","v":"1 CA 2/0 AWG Vão 80m "},null,17,null,null,null,{"$f":"IF(PreAngulo_Paulista!A3>0,PreAngulo_Paulista!C10,PreAngulo_Paulista!D10)","v":159.54210665632507},null,null,null,null,null,null,null,null,null,null,null,null,{"$f":" [1]Folha4!A8","v":"CU06"}]
[null,null,"RED. TENSÃO ",0,null,0,null,0,null,0,null,0,null,null,null,{"$f":" [1]SecundariaMinutaCpfl!A12","v":"3 CA 4/0 AWG Vão 35m "},{"$f":" [1]PrimariaMinutaCpfl!A12","v":"3 CA 477 MCM Vão 35m "},{"$f":" [1]NeutroMinutaCpfl!A12","v":"1 CA 4/0 AWG Vão 80m "},null,18,null,null,null,null,null,null,null,null,null,null,null,null,null,null,null,null,{"$f":" [1]Folha4!A9","v":"CU02"}]
[null,null,"DISTÂNCIA SECUNDÁRIA SOLO CM",720,null,720,null,720,null,720,null,720,null,null,null,{"$f":" [1]SecundariaMinutaCpfl!A13","v":"3 CA 336,4 MCM Vão 35m "},{"$f":" [1]PrimariaMinutaCpfl!A13","v":""},{"$f":" [1]NeutroMinutaCpfl!A13","v":"1 CA 336,4 MCM Vão 80m "},null,19,null,null,null,null,null,null,null,null,null,null,null,null,null,null,null,null,{"$f":" [1]Folha4!A10","v":"CU10"}]
[null,null,"TELEFONE",null,null,null,null,null,null,100,null,null,null,null,null,{"$f":" [1]SecundariaMinutaCpfl!A14","v":"3 CA 477 MCM Vão 35m "},{"$f":" [1]PrimariaMinutaCpfl!A14","v":"3 CA 02 AWG Vão 80m "},{"$f":" [1]NeutroMinutaCpfl!A14","v":"1 CA 477 MCM Vão 80m "},null,20,null,null,null,null,null,null,null,null,null,null,null,null,null,null,null,null,{"$f":" [1]Folha4!A11","v":"CU20"}]
[null,null,"TV CABO",null,null,null,null,null,null,null,null,null,null,null,null,{"$f":" [1]SecundariaMinutaCpfl!A15","v":""},{"$f":" [1]PrimariaMinutaCpfl!A15","v":"3 CA 1/0 AWG Vão 80m "},{"$f":" [1]NeutroMinutaCpfl!A15","v":""},null,null,null,null,null,null,null,null,null,null,null,null,null,null,null,null,null,null,{"$f":" [1]Folha4!A12","v":"CU40"}]
[null,null,"DISTÂNCIA TELEFONE/CABO SOLO CM",550,null,550,null,550,null,550,null,550,null,null,null,{"$f":" [1]SecundariaMinutaCpfl!A16","v":"3 CA 02 AWG Vão 80m "},{"$f":" [1]PrimariaMinutaCpfl!A16","v":"3 CA 2/0 AWG Vão 80m "},{"$f":" [1]NeutroMinutaCpfl!A16","v":"1 CAA 04 AWG Vão 40m "},null,null,null,null,null,null,null,null,null,null,null,null,null,null,null,null,null,null,{"$f":" [1]Folha4!A13","v":"S04"}]
[null,null,"SUB TOTAL",{"$f":"IF(L31=1,Pre_Pta_Pir_Sta_Jag!W22,\"Atualize: http;//www.mabjo.com.br\")","v":540.22580645161293},null,{"$f":"IF(L31=1,Pre_Pta_Pir_Sta_Jag!W23,\"Atualize: http;//www.mabjo.com.br\")","v":241.54838709677421},null,{"$f":"IF(L31=1,Pre_Pta_Pir_Sta_Jag!W24,\"Atualize: http;//www.mabjo.com.br\")","v":648},null,{"$f":"IF(L31=1,Pre_Pta_Pir_Sta_Jag!W25,\"Atualize: http;//www.mabjo.com.br\")","v":60.439560439560438},null,{"$f":"IF(L31=1,Pre_Pta_Pir_Sta_Jag!W26,\"Atualize: http;//www.mabjo.com.br\")","v":195.09677419354838},null,null,null,{"$f":" [1]SecundariaMinutaCpfl!A17","v":"3 CA 1/0 AWG Vão 80m "},{"$f":" [1]PrimariaMinutaCpfl!A17","v":"3 CA 4/0 AWG Vão 80m "},{"$f":" [1]NeutroMinutaCpfl!A17","v":"1 CAA 02 AWG Vão 40m "},null,null,null,null,null,null,null,null,null,null,null,null,null,null,null,null,null,null,{"$f":" [1]Folha4!A14","v":"S02"}]
[null,null,"ESFORÇO RESULTANTE",{"$f":"IF(L31=1,Pre_Pta_Pir_Sta_Jag!W27,\"Atualize: http;//www.mabjo.com.br\")","v":771.69704525907878},null,null,null,"ÂNGULO RESULTANTE",null,null,null,{"$f":"IF(D19>0.001,X11,0)","v":339.54210665632507},null,null,null,{"$f":" [1]SecundariaMinutaCpfl!A18","v":"3 CA 2/0 AWG Vão 80m "},{"$f":" [1]PrimariaMinutaCpfl!A18","v":"3 CA 336,4 MCM Vão 80m "},{"$f":" [1]NeutroMinutaCpfl!A18","v":"1 CAA 1/0 AWG Vão 40m "},null,null,null,null,null,null,null,null,null,null,null,null,null,null,null,null,null,null,{"$f":" [1]Folha4!A15","v":"S10"}]
[null,null,null,null,null,null,null,null,null,null,null,null,null,null,null,{"$f":" [1]SecundariaMinutaCpfl!A19","v":"3 CA 4/0 AWG Vão 80m "},{"$f":" [1]PrimariaMinutaCpfl!A19","v":"3 CA 477 MCM Vão 80m "},{"$f":" [1]NeutroMinutaCpfl!A19","v":"1 CAA 2/0 AWG Vão 40m "},null,null,null,null,null,null,null,null,null,null,null,null,null,null,null,null,null,null,{"$f":" [1]Folha4!A16","v":"S40"}]
[null,null,"On Line http://www.mabjo.com.br/",null,null,null,null,null,null,null,null,{"$f":"NOW()","v":"2022-07-21T04:50:22.360"},null,null,"http://www.mabjo.com.br",{"$f":" [1]SecundariaMinutaCpfl!A20","v":"3 CA 336,4 MCM Vão 80m "},{"$f":" [1]PrimariaMinutaCpfl!A20","v":""},{"$f":" [1]NeutroMinutaCpfl!A20","v":"1 CAA 4/0 AWG Vão 40m "},null,null,null,null,null,null,null,null,null,null,null,null,null,null,null,null,null,null,{"$f":" [1]Folha4!A17","v":"S33"}]
[null,null,null,null,null,null,null,"contato@mabjo.com.br",null,null,null,null,null,"Download Cálculo Mecânico Esforço Poste Atualizado","http://www.mabjo.com.br/",{"$f":" [1]SecundariaMinutaCpfl!A21","v":"3 CA 477 MCM Vão 80m "},{"$f":" [1]PrimariaMinutaCpfl!A21","v":"3 CAA 04 AWG Vão 40m "},{"$f":" [1]NeutroMinutaCpfl!A21","v":""},null,null,null,null,null,null,null,null,null,null,null,null,null,null,null,null,null,null,{"$f":" [1]Folha4!A18","v":"S47"}]
[null,null,{"$f":"CONCATENATE(\"Cálculo Esforço Poste : Plt, Pira, SC e Jg  - Versão\")","v":"Cálculo Esforço Poste : Plt, Pira, SC e Jg  - Versão"},null,null,null,null,null,null,null,null,null,null,{"$f":"O28","v":"2016-11-30"},null,{"$f":" [1]SecundariaMinutaCpfl!A22","v":""},{"$f":" [1]PrimariaMinutaCpfl!A22","v":"3 CAA 02 AWG Vão 40m "},{"$f":" [1]NeutroMinutaCpfl!A22","v":"1 CAA 04 AWG Vão 80m "},null,null,null,null,null,null,null,null,null,null,null,null,null,null,null,null,null,null,{"$f":" [1]Folha4!A19","v":"E70"}]
[null,null,{"$f":"N30","v":""},null,null,{"$f":"O30","v":"2018-06-05"},null,"Cálculo customizado para fibra óptica e telefonia",null,null,null,null,null,null,null,{"$f":" [1]SecundariaMinutaCpfl!A23","v":"3 CAA 04 AWG Vão 40m "},{"$f":" [1]PrimariaMinutaCpfl!A23","v":"3 CAA 1/0 AWG Vão 40m "},{"$f":" [1]NeutroMinutaCpfl!A23","v":"1 CAA 02 AWG Vão 80m "}]
[null,null,null,null,null,null,null,null,null,null,null,null,null,null,null,{"$f":" [1]SecundariaMinutaCpfl!A24","v":"3 CAA 02 AWG Vão 40m "},{"$f":" [1]PrimariaMinutaCpfl!A24","v":"3 CAA 2/0 AWG Vão 40m "},{"$f":" [1]NeutroMinutaCpfl!A24","v":"1 CAA 1/0 AWG Vão 80m "}]
[null,null,null,null,null,null,null,null,null,null,null,null,null,null,null,{"$f":" [1]SecundariaMinutaCpfl!A25","v":"3 CAA 1/0 AWG Vão 40m "},{"$f":" [1]PrimariaMinutaCpfl!A25","v":"3 CAA 4/0 AWG Vão 40m "},{"$f":" [1]NeutroMinutaCpfl!A25","v":"1 CAA 2/0 AWG Vão 80m "}]
[null,null,{"$f":"X12","v":159.54210665632507},null,null,null,null,null,null,null,null,null,null,null,null,{"$f":" [1]SecundariaMinutaCpfl!A26","v":"3 CAA 2/0 AWG Vão 40m "},{"$f":" [1]PrimariaMinutaCpfl!A26","v":""},{"$f":" [1]NeutroMinutaCpfl!A26","v":"1 CAA 4/0 AWG Vão 80m "},null,null,null,null,null,null,null,null,null,null,null,null,null,null,null,null,null,null,{"$f":" [1]Folha4!A20","v":"E185"}]
[null,null,"MEDIDA 1",12,null,null,null,{"$f":"PreAngulo_Paulista!C10","v":159.54210665632507},null,null,null,null,null,"Esta Versão","2016-11-30",{"$f":" [1]SecundariaMinutaCpfl!A27","v":"3 CAA 4/0 AWG Vão 40m "},{"$f":" [1]PrimariaMinutaCpfl!A27","v":"3 CAA 04 AWG Vão 80m "},{"$f":" [1]NeutroMinutaCpfl!A27","v":"1 CAA 336,4 MCM Vão 80m "},null,null,null,null,null,null,null,null,null,null,null,null,null,null,null,null,null,null,{"$f":" [1]Folha4!A21","v":0}]
[null,null,"MEDIDA 2",15,null,null,null,{"$f":"PreAngulo_Paulista!D10","v":200.45789334367493},null,"Dias Versão",null,{"$f":"O30-O28","v":552},null,null,null,{"$f":" [1]SecundariaMinutaCpfl!A28","v":""},{"$f":" [1]PrimariaMinutaCpfl!A28","v":"3 CAA 02 AWG Vão 80m "},{"$f":" [1]NeutroMinutaCpfl!A28","v":""},null,null,null,null,null,null,null,null,null,null,null,null,null,null,null,null,null,null,{"$f":" [1]Folha4!A22","v":0}]
[null,null,"MEDIDA 3",10,null,null,null,null,null,"PreDiasAtualização",null,{"$f":"L21-O30","v":1507.2016476851859},null,{"$f":"IF([1]Mensagem!B3 <> \"\",[1]Mensagem!B3,\"\")","v":""},{"$f":"IF([1]Mensagem!C3 <> \"\",[1]Mensagem!C3,\"\")","v":"2018-06-05"},{"$f":" [1]SecundariaMinutaCpfl!A29","v":"3 CAA 04 AWG Vão 80m "},{"$f":" [1]PrimariaMinutaCpfl!A29","v":"3 CAA 1/0 AWG Vão 80m "},{"$f":" [1]NeutroMinutaCpfl!A29","v":"1 CAA 04 AWG Vão 120m "},null,null,null,null,null,null,null,null,null,null,null,null,null,null,null,null,null,null,{"$f":" [1]Folha4!A23","v":0}]
[null,null,"ÂNGULO",{"$f":"IF(D30>0,Plan3!C10,\"\")","v":41.649672273866805},null,null,null,null,null,"Dias Atualização",null,{"$f":"IF(AND(L29<3500,L30<3500),1,0)","v":1},null,{"$f":"IF([1]Mensagem!B4 <> \"\",[1]Mensagem!B4,\"\")","v":""},{"$f":"IF([1]Mensagem!C4 <> \"\",[1]Mensagem!C4,\"\")","v":"2018-06-05"},{"$f":" [1]SecundariaMinutaCpfl!A30","v":"3 CAA 02 AWG Vão 80m "},{"$f":" [1]PrimariaMinutaCpfl!A30","v":"3 CAA 2/0 AWG Vão 80m "},{"$f":" [1]NeutroMinutaCpfl!A30","v":"1 CAA 02 AWG Vão 120m "},null,null,null,null,null,null,null,null,null,null,null,null,null,null,null,null,null,null,{"$f":" [1]Folha4!A24","v":0}]
[null,null,null,null,null,null,null,null,null,null,null,null,null,{"$f":"IF([1]Mensagem!B5 <> \"\",[1]Mensagem!B5,\"\")","v":""},{"$f":"IF([1]Mensagem!C5 <> \"\",[1]Mensagem!C5,\"\")","v":""},{"$f":" [1]SecundariaMinutaCpfl!A31","v":"3 CAA 1/0 AWG Vão 80m "},{"$f":" [1]PrimariaMinutaCpfl!A31","v":"3 CAA 4/0 AWG Vão 80m "},{"$f":" [1]NeutroMinutaCpfl!A31","v":"1 CAA 1/0 AWG Vão 120m "},null,null,null,null,null,null,null,null,null,null,null,null,null,null,null,null,null,null,{"$f":" [1]Folha4!A25","v":0}]
[null,null,null,null,null,null,null,null,null,null,null,null,null,{"$f":"IF([1]Mensagem!B6 <> \"\",[1]Mensagem!B6,\"\")","v":""},{"$f":"IF([1]Mensagem!C6 <> \"\",[1]Mensagem!C6,\"\")","v":""},{"$f":" [1]SecundariaMinutaCpfl!A32","v":"3 CAA 2/0 AWG Vão 80m "},{"$f":" [1]PrimariaMinutaCpfl!A32","v":"3 CAA 336,4 MCM Vão 80m "},{"$f":" [1]NeutroMinutaCpfl!A32","v":"1 CAA 2/0 AWG Vão 120m "},null,null,0,null,null,null,null,null,null,null,null,null,null,null,null,null,null,null,{"$f":" [1]Folha4!A26","v":0}]
[null,null,"Coordenada X","Coordenada Y",null,null,null,null,null,null,null,null,null,{"$f":"IF([1]Mensagem!B7 <> \"\",[1]Mensagem!B7,\"\")","v":""},{"$f":"IF([1]Mensagem!C7 <> \"\",[1]Mensagem!C7,\"\")","v":""},{"$f":" [1]SecundariaMinutaCpfl!A33","v":"3 CAA 4/0 AWG Vão 80m "},{"$f":" [1]PrimariaMinutaCpfl!A33","v":""},{"$f":" [1]NeutroMinutaCpfl!A33","v":"1 CAA 4/0 AWG Vão 120m "},null,null,1,null,null,null,null,null,null,null,null,null,null,null,null,null,null,null,{"$f":" [1]Folha4!A27","v":0}]
[null,null,29829000,745407001,null,null,null,null,null,"Poste 1",null,null,null,{"$f":"IF([1]Mensagem!B8 <> \"\",[1]Mensagem!B8,\"\")","v":""},{"$f":"IF([1]Mensagem!C8 <> \"\",[1]Mensagem!C8,\"\")","v":""},{"$f":" [1]SecundariaMinutaCpfl!A34","v":"3 CAA 336,4 MCM Vão 80m "},{"$f":" [1]PrimariaMinutaCpfl!A34","v":"3 CAA 04 AWG Vão 120m "},{"$f":" [1]NeutroMinutaCpfl!A34","v":"1 CAA 336,4 MCM Vão 120m "},null,null,2,null,null,null,null,null,null,null,null,null,null,null,null,null,null,null,{"$f":" [1]Folha4!A28","v":0}]
[null,null,29229000,745406001,null,null,null,null,null,"Poste Meio",null,null,null,{"$f":"IF([1]Mensagem!B9 <> \"\",[1]Mensagem!B9,\"\")","v":""},{"$f":"IF([1]Mensagem!C9 <> \"\",[1]Mensagem!C9,\"\")","v":""},{"$f":" [1]SecundariaMinutaCpfl!A35","v":""},{"$f":" [1]PrimariaMinutaCpfl!A35","v":"3 CAA 02 AWG Vão 120m "},{"$f":" [1]NeutroMinutaCpfl!A35","v":""},null,null,3,null,null,null,null,null,null,null,null,null,null,null,null,null,null,null,{"$f":" [1]Folha4!A29","v":0}]
[null,null,"Distância Metros",{"$f":"Plan3!E26/100","v":6000.008333327547},null,null,null,null,null,null,null,null,null,{"$f":"IF([1]Mensagem!B10 <> \"\",[1]Mensagem!B10,\"\")","v":""},{"$f":"IF([1]Mensagem!C10 <> \"\",[1]Mensagem!C10,\"\")","v":""},{"$f":" [1]SecundariaMinutaCpfl!A36","v":"3 CAA 04 AWG Vão 120m "},{"$f":" [1]PrimariaMinutaCpfl!A36","v":"3 CAA 1/0 AWG Vão 120m "},{"$f":" [1]NeutroMinutaCpfl!A36","v":"1 CU 06 AWG Vão 35m  "},null,null,4,null,null,null,null,null,null,null,null,null,null,null,null,null,null,null,{"$f":" [1]Folha4!A30","v":0}]
[null,null,"Ângulo",{"$f":"Plan3!E29","v":89.904507122564127},null,null,null,null,null,null,null,null,null,{"$f":"IF([1]Mensagem!B11 <> \"\",[1]Mensagem!B11,\"\")","v":""},{"$f":"IF([1]Mensagem!C11 <> \"\",[1]Mensagem!C11,\"\")","v":""},{"$f":" [1]SecundariaMinutaCpfl!A37","v":"3 CAA 02 AWG Vão 120m "},{"$f":" [1]PrimariaMinutaCpfl!A37","v":"3 CAA 2/0 AWG Vão 120m "},{"$f":" [1]NeutroMinutaCpfl!A37","v":"1 CU 02 AWG Vão 35m  "},null,null,5,null,null,null,null,null,null,null,null,null,null,null,null,null,null,null,{"$f":" [1]Folha4!A31","v":0}]
[null,null,null,null,null,null,null,null,null,null,null,null,null,{"$f":"IF([1]Mensagem!B12 <> \"\",[1]Mensagem!B12,\"\")","v":""},{"$f":"IF([1]Mensagem!C12 <> \"\",[1]Mensagem!C12,\"\")","v":""},{"$f":" [1]SecundariaMinutaCpfl!A38","v":"3 CAA 1/0 AWG Vão 120m "},{"$f":" [1]PrimariaMinutaCpfl!A38","v":"3 CAA 4/0 AWG Vão 120m "},{"$f":" [1]NeutroMinutaCpfl!A38","v":"1 CU 1/0 AWG Vão 35m  "},null,null,6,null,null,null,null,null,null,null,null,null,null,null,null,null,null,null,{"$f":" [1]Folha4!A32","v":0}]
[null,null,null,null,null,null,null,null,null,null,null,null,null,{"$f":"IF([1]Mensagem!B13 <> \"\",[1]Mensagem!B13,\"\")","v":""},{"$f":"IF([1]Mensagem!C13 <> \"\",[1]Mensagem!C13,\"\")","v":""},{"$f":" [1]SecundariaMinutaCpfl!A39","v":"3 CAA 2/0 AWG Vão 120m "},{"$f":" [1]PrimariaMinutaCpfl!A39","v":"3 CAA 336,4 MCM Vão 120m "},{"$f":" [1]NeutroMinutaCpfl!A39","v":"1 CU 2/0 AWG Vão 35m  "},null,null,7,null,null,null,null,null,null,null,null,null,null,null,null,null,null,null,{"$f":" [1]Folha4!A33","v":0}]
[null,null,"Coordenada X","Coordenada Y",null,null,null,null,null,null,null,null,null,{"$f":"IF([1]Mensagem!B14 <> \"\",[1]Mensagem!B14,\"\")","v":""},{"$f":"IF([1]Mensagem!C14 <> \"\",[1]Mensagem!C14,\"\")","v":"Cálculo Esforço"},{"$f":" [1]SecundariaMinutaCpfl!A40","v":"3 CAA 4/0 AWG Vão 120m "},{"$f":" [1]PrimariaMinutaCpfl!A40","v":""},{"$f":" [1]NeutroMinutaCpfl!A40","v":"1 CU 4/0 AWG Vão 35m  "},null,null,8,null,null,null,null,null,null,null,null,null,null,null,null,null,null,null,{"$f":" [1]Folha4!A34","v":0}]
[null,null,{"$f":"C36","v":29229000},{"$f":"D36","v":745406001},null,null,null,null,null,"Poste Meio",null,null,null,{"$f":"IF([1]Mensagem!B15 <> \"\",[1]Mensagem!B15,\"\")","v":""},{"$f":"IF([1]Mensagem!C15 <> \"\",[1]Mensagem!C15,\"\")","v":"Customizado"},{"$f":" [1]SecundariaMinutaCpfl!A41","v":"3 CAA 336,4 MCM Vão 120m "},{"$f":" [1]PrimariaMinutaCpfl!A41","v":"3 15kv 240 mm² Vão 35m  "},{"$f":" [1]NeutroMinutaCpfl!A41","v":0},null,null,9,null,null,null,null,null,null,null,null,null,null,null,null,null,null,null,{"$f":" [1]Folha4!A35","v":0}]
[null,null,29279000,748406001,null,null,null,null,null,"Poste 3",null,null,null,{"$f":"IF([1]Mensagem!B16 <> \"\",[1]Mensagem!B16,\"\")","v":""},{"$f":"IF([1]Mensagem!C16 <> \"\",[1]Mensagem!C16,\"\")","v":"para cabos de"},{"$f":" [1]SecundariaMinutaCpfl!A42","v":""},{"$f":" [1]PrimariaMinutaCpfl!A42","v":"3 25kv 240 mm² Vão 35m  "},{"$f":" [1]NeutroMinutaCpfl!A42","v":0},null,null,10,null,null,null,null,null,null,null,null,null,null,null,null,null,null,null,{"$f":" [1]Folha4!A36","v":0}]
[null,null,"Distância Metros",{"$f":"Plan3!E41/100","v":30004.166377354995},null,null,null,null,null,null,null,null,null,{"$f":"IF([1]Mensagem!B17 <> \"\",[1]Mensagem!B17,\"\")","v":""},{"$f":"IF([1]Mensagem!C17 <> \"\",[1]Mensagem!C17,\"\")","v":"Telefonia e"},{"$f":" [1]SecundariaMinutaCpfl!A43","v":"3 15kv 240 mm² Vão 35m  "},{"$f":" [1]PrimariaMinutaCpfl!A43","v":"3 35kv 240 mm² Vão 35m  "},{"$f":" [1]NeutroMinutaCpfl!A43","v":0},null,null,11,null,null,null,null,null,null,null,null,null,null,null,null,null,null,null,{"$f":" [1]Folha4!A37","v":0}]
[null,null,"Ângulo",{"$f":"Plan3!E44","v":0.95484125387218866},null,null,null,null,null,null,null,null,null,{"$f":"IF([1]Mensagem!B18 <> \"\",[1]Mensagem!B18,\"\")","v":""},{"$f":"IF([1]Mensagem!C18 <> \"\",[1]Mensagem!C18,\"\")","v":"Comunicação"},{"$f":" [1]SecundariaMinutaCpfl!A44","v":"3 25kv 240 mm² Vão 35m  "},{"$f":" [1]PrimariaMinutaCpfl!A44","v":""},{"$f":" [1]NeutroMinutaCpfl!A44","v":0},null,null,12,null,null,null,null,null,null,null,null,null,null,null,null,null,null,null,{"$f":" [1]Folha4!A38","v":0}]
[null,null,null,null,null,null,null,null,null,null,null,null,null,{"$f":"IF([1]Mensagem!B19 <> \"\",[1]Mensagem!B19,\"\")","v":""},{"$f":"IF([1]Mensagem!C19 <> \"\",[1]Mensagem!C19,\"\")","v":"http://www.mabjo.com.br/Default.aspx"},{"$f":" [1]SecundariaMinutaCpfl!A45","v":"3 35kv 240 mm² Vão 35m  "},{"$f":" [1]PrimariaMinutaCpfl!A45","v":"3 CU 06 AWG Vão 35m  "},{"$f":" [1]NeutroMinutaCpfl!A45","v":0},null,null,13,null,null,null,null,null,null,null,null,null,null,null,null,null,null,null,{"$f":" [1]Folha4!A39","v":0}]
[null,null,"Ângulo Resultante",{"$f":"D45-D38","v":-88.949665868691937},null,null,null,null,null,null,null,null,null,{"$f":"IF([1]Mensagem!B20 <> \"\",[1]Mensagem!B20,\"\")","v":""},{"$f":"IF([1]Mensagem!C20 <> \"\",[1]Mensagem!C20,\"\")","v":""},{"$f":" [1]SecundariaMinutaCpfl!A46","v":""},{"$f":" [1]PrimariaMinutaCpfl!A46","v":"3 CU 02 AWG Vão 35m  "},{"$f":" [1]NeutroMinutaCpfl!A46","v":0},null,null,14,null,null,null,null,null,null,null,null,null,null,null,null,null,null,null,{"$f":" [1]Folha4!A40","v":0}]
[null,null,null,null,null,null,null,null,null,null,null,null,null,null,null,{"$f":" [1]SecundariaMinutaCpfl!A47","v":"3 CU 06 AWG Vão 35m  "},{"$f":" [1]PrimariaMinutaCpfl!A47","v":"3 CU 1/0 AWG Vão 35m  "},{"$f":" [1]NeutroMinutaCpfl!A47","v":0},null,null,15,null,null,null,null,null,null,null,null,null,null,null,null,null,null,null,{"$f":" [1]Folha4!A41","v":0}]
[null,null,null,null,null,null,null,null,null,null,null,null,null,null,null,{"$f":" [1]SecundariaMinutaCpfl!A48","v":"3 CU 02 AWG Vão 35m  "},{"$f":" [1]PrimariaMinutaCpfl!A48","v":"3 CU 2/0 AWG Vão 35m  "},{"$f":" [1]NeutroMinutaCpfl!A48","v":0},null,null,16,null,null,null,null,null,null,null,null,null,null,null,null,null,null,null,{"$f":" [1]Folha4!A42","v":0}]
[null,null,"Cálculo Flecha","Primário por Fase",null,null,null,null,null,null,null,null,null,null,null,{"$f":" [1]SecundariaMinutaCpfl!A49","v":"3 CU 1/0 AWG Vão 35m  "},{"$f":" [1]PrimariaMinutaCpfl!A49","v":"3 CU 4/0 AWG Vão 35m  "},{"$f":" [1]NeutroMinutaCpfl!A49","v":0},null,null,17,null,null,null,null,null,null,null,null,null,null,null,null,null,null,null,{"$f":" [1]Folha4!A43","v":0}]
[null,null,"Cabo","A33",null,null,null,null,null,null,null,null,null,null,null,{"$f":" [1]SecundariaMinutaCpfl!A50","v":"3 CU 2/0 AWG Vão 35m  "},{"$f":" [1]PrimariaMinutaCpfl!A50","v":""},{"$f":" [1]NeutroMinutaCpfl!A50","v":0},null,null,18,null,null,null,null,null,null,null,null,null,null,null,null,null,null,null,{"$f":" [1]Folha4!A44","v":0}]
[null,null,"Distância",80,null,null,null,null,null,null,null,null,null,null,null,{"$f":" [1]SecundariaMinutaCpfl!A51","v":"3 CU 4/0 AWG Vão 35m  "},{"$f":" [1]PrimariaMinutaCpfl!A51","v":"2 CA 02 AWG Vão 35m "},{"$f":" [1]NeutroMinutaCpfl!A51","v":0},null,null,18,null,null,null,null,null,null,null,null,null,null,null,null,null,null,null,{"$f":" [1]Folha4!A45","v":0}]
[null,null,"Redução Tensão %",null,null,null,null,null,null,null,null,null,null,null,null,{"$f":" [1]SecundariaMinutaCpfl!A52","v":""},{"$f":" [1]PrimariaMinutaCpfl!A52","v":"2 CA 1/0 AWG Vão 35m "},{"$f":" [1]NeutroMinutaCpfl!A52","v":0},null,null,null,null,null,null,null,null,null,null,null,null,null,null,null,null,null,null,{"$f":" [1]Folha4!A46","v":0}]
[null,null,"Amperes",{"$f":"VLOOKUP(D51,[1]Folha4!A2:G27,7,0)","v":395},null,null,null,null,null,"Esforço Trifásico",null,null,null,null,null,{"$f":" [1]SecundariaMinutaCpfl!A53","v":"2 CA 02 AWG Vão 35m "},{"$f":" [1]PrimariaMinutaCpfl!A53","v":"2 CA 2/0 AWG Vão 35m "},{"$f":" [1]NeutroMinutaCpfl!A53","v":0},null,null,null,null,null,null,null,null,null,null,null,null,null,null,null,null,null,null,{"$f":" [1]Folha4!A47","v":0}]
[null,null,"Esforço Urbano",{"$f":"N55-N57","v":258},null,null,null,null,null,{"$f":"D55*3","v":774},null,null,null,{"$f":"VLOOKUP(D51,[1]Folha4!A2:E27,2,0)","v":258},null,{"$f":" [1]SecundariaMinutaCpfl!A54","v":"2 CA 1/0 AWG Vão 35m "},{"$f":" [1]PrimariaMinutaCpfl!A54","v":"2 CA 4/0 AWG Vão 35m "},{"$f":" [1]NeutroMinutaCpfl!A54","v":0},null,null,null,null,null,null,null,null,null,null,null,null,null,null,null,null,null,null,{"$f":" [1]Folha4!A48","v":0}]
[null,null,"Esforço Rural",{"$f":"N56-N58","v":900},null,null,null,null,null,{"$f":"D56*3","v":2700},null,null,null,{"$f":"VLOOKUP(D51,[1]Folha4!A2:E27,3,0)","v":900},null,{"$f":" [1]SecundariaMinutaCpfl!A55","v":"2 CA 2/0 AWG Vão 35m "},{"$f":" [1]PrimariaMinutaCpfl!A55","v":"2 CA 336,4 MCM Vão 35m "},{"$f":" [1]NeutroMinutaCpfl!A55","v":0},null,null,null,null,null,null,null,null,null,null,null,null,null,null,null,null,null,null,{"$f":" [1]Folha4!A49","v":0}]
[null,null,"Kg/m",{"$f":"VLOOKUP(D51,[1]Folha4!A1:F27,6,0)","v":0.46800000000000003},null,null,null,null,null,null,null,null,null,{"$f":"D53*N55/100","v":0},null,{"$f":" [1]SecundariaMinutaCpfl!A56","v":"2 CA 4/0 AWG Vão 35m "},{"$f":" [1]PrimariaMinutaCpfl!A56","v":"2 CA 477 MCM Vão 35m "},{"$f":" [1]NeutroMinutaCpfl!A56","v":0},null,null,null,null,null,null,null,null,null,null,null,null,null,null,null,null,null,null,{"$f":" [1]Folha4!A50","v":0}]
[null,null,"Flecha Ubano",{"$f":"IF(D55>0,(D57*(D52*D52))/(8*D55),\"\")","v":1.4511627906976745},null,null,null,null,null,null,null,null,null,{"$f":"D53*N56/100","v":0},null,{"$f":" [1]SecundariaMinutaCpfl!A57","v":"2 CA 336,4 MCM Vão 35m "},{"$f":" [1]PrimariaMinutaCpfl!A57","v":""},{"$f":" [1]NeutroMinutaCpfl!A57","v":0},null,null,18,null,null,null,null,null,null,null,null,null,null,null,null,null,null,null,{"$f":" [1]Folha4!A51","v":0}]
[null,null,"Flecha Rural",{"$f":"IF(D56>0,(D57*(D52*D52))/(8*D56),\"\")","v":0.41600000000000004},null,null,null,null,null,null,null,null,null,null,null,{"$f":" [1]SecundariaMinutaCpfl!A58","v":"2 CA 477 MCM Vão 35m "},{"$f":" [1]PrimariaMinutaCpfl!A58","v":"2 CA 02 AWG Vão 80m "},{"$f":" [1]NeutroMinutaCpfl!A58","v":0},null,null,18,null,null,null,null,null,null,null,null,null,null,null,null,null,null,null,{"$f":" [1]Folha4!A52","v":0}]
[null,null,null,null,null,null,null,null,null,null,null,null,null,null,null,{"$f":" [1]SecundariaMinutaCpfl!A59","v":""},{"$f":" [1]PrimariaMinutaCpfl!A59","v":"2 CA 1/0 AWG Vão 80m "},{"$f":" [1]NeutroMinutaCpfl!A59","v":0},null,null,18,null,null,null,null,null,null,null,null,null,null,null,null,null,null,null,{"$f":" [1]Folha4!A53","v":0}]
[null,null,null,null,null,null,null,null,null,null,null,null,null,null,null,{"$f":" [1]SecundariaMinutaCpfl!A60","v":"2 CA 02 AWG Vão 80m "},{"$f":" [1]PrimariaMinutaCpfl!A60","v":"2 CA 2/0 AWG Vão 80m "},{"$f":" [1]NeutroMinutaCpfl!A60","v":0},null,null,18,null,null,null,null,null,null,null,null,null,null,null,null,null,null,null,{"$f":" [1]Folha4!A54","v":0}]
[null,null,{"$f":"VLOOKUP(D51,[1]Folha4!A2:E27,2,0)","v":258},null,null,null,null,null,null,null,null,null,null,null,null,{"$f":" [1]SecundariaMinutaCpfl!A61","v":"2 CA 1/0 AWG Vão 80m "},{"$f":" [1]PrimariaMinutaCpfl!A61","v":"2 CA 4/0 AWG Vão 80m "},{"$f":" [1]NeutroMinutaCpfl!A61","v":0},null,null,18,null,null,null,null,null,null,null,null,null,null,null,null,null,null,null,{"$f":" [1]Folha4!A55","v":0}]
[null,null,null,null,null,null,null,null,null,null,null,null,null,null,null,{"$f":" [1]SecundariaMinutaCpfl!A62","v":"2 CA 2/0 AWG Vão 80m "},{"$f":" [1]PrimariaMinutaCpfl!A62","v":"2 CA 336,4 MCM Vão 80m "},{"$f":" [1]NeutroMinutaCpfl!A62","v":0},null,null,18,null,null,null,null,null,null,null,null,null,null,null,null,null,null,null,{"$f":" [1]Folha4!A56","v":0}]
[null,null,null,null,null,null,null,null,null,null,null,null,null,null,null,{"$f":" [1]SecundariaMinutaCpfl!A63","v":"2 CA 4/0 AWG Vão 80m "},{"$f":" [1]PrimariaMinutaCpfl!A63","v":"2 CA 477 MCM Vão 80m "},{"$f":" [1]NeutroMinutaCpfl!A63","v":0},null,null,18,null,null,null,null,null,null,null,null,null,null,null,null,null,null,null,{"$f":" [1]Folha4!A57","v":0}]
[null,null,null,null,null,null,null,null,null,null,null,null,null,null,null,{"$f":" [1]SecundariaMinutaCpfl!A64","v":"2 CA 336,4 MCM Vão 80m "},{"$f":" [1]PrimariaMinutaCpfl!A64","v":""},{"$f":" [1]NeutroMinutaCpfl!A64","v":0},null,null,18,null,null,null,null,null,null,null,null,null,null,null,null,null,null,null,{"$f":" [1]Folha4!A58","v":0}]
[null,null,null,null,null,null,null,null,null,null,null,null,null,null,null,{"$f":" [1]SecundariaMinutaCpfl!A65","v":"2 CA 477 MCM Vão 80m "},{"$f":" [1]PrimariaMinutaCpfl!A65","v":"2 CA 04 AWG Vão 40m "},{"$f":" [1]NeutroMinutaCpfl!A65","v":0},null,null,18,null,null,null,null,null,null,null,null,null,null,null,null,null,null,null,{"$f":" [1]Folha4!A59","v":0}]
[null,null,null,null,null,null,null,null,null,null,null,null,null,null,null,{"$f":" [1]SecundariaMinutaCpfl!A66","v":""},{"$f":" [1]PrimariaMinutaCpfl!A66","v":"2 CA 02 AWG Vão 40m "},{"$f":" [1]NeutroMinutaCpfl!A66","v":0},null,null,18,null,null,null,null,null,null,null,null,null,null,null,null,null,null,null,{"$f":" [1]Folha4!A60","v":0}]
[null,null,null,null,null,null,null,null,null,null,null,null,null,null,null,{"$f":" [1]SecundariaMinutaCpfl!A67","v":"2 CA 04 AWG Vão 40m "},{"$f":" [1]PrimariaMinutaCpfl!A67","v":"2 CA 1/0 AWG Vão 40m "},{"$f":" [1]NeutroMinutaCpfl!A67","v":0},null,null,18,null,null,null,null,null,null,null,null,null,null,null,null,null,null,null,{"$f":" [1]Folha4!A61","v":0}]
[null,null,null,null,null,null,null,null,null,null,null,null,null,null,null,{"$f":" [1]SecundariaMinutaCpfl!A68","v":"2 CA 02 AWG Vão 40m "},{"$f":" [1]PrimariaMinutaCpfl!A68","v":"2 CA 2/0 AWG Vão 40m "},{"$f":" [1]NeutroMinutaCpfl!A68","v":0},null,null,18,null,null,null,null,null,null,null,null,null,null,null,null,null,null,null,{"$f":" [1]Folha4!A62","v":0}]
[null,null,null,null,null,null,null,null,null,null,null,null,null,null,null,{"$f":" [1]SecundariaMinutaCpfl!A69","v":"2 CA 1/0 AWG Vão 40m "},{"$f":" [1]PrimariaMinutaCpfl!A69","v":"2 CA 4/0 AWG Vão 40m "},{"$f":" [1]NeutroMinutaCpfl!A69","v":0},null,null,18,null,null,null,null,null,null,null,null,null,null,null,null,null,null,null,{"$f":" [1]Folha4!A63","v":0}]
[null,null,null,null,null,null,null,null,null,null,null,null,null,null,null,{"$f":" [1]SecundariaMinutaCpfl!A70","v":"2 CA 2/0 AWG Vão 40m "},{"$f":" [1]PrimariaMinutaCpfl!A70","v":""},{"$f":" [1]NeutroMinutaCpfl!A70","v":0},null,null,18,null,null,null,null,null,null,null,null,null,null,null,null,null,null,null,{"$f":" [1]Folha4!A64","v":0}]
[null,null,null,null,null,null,null,null,null,null,null,null,null,null,null,{"$f":" [1]SecundariaMinutaCpfl!A71","v":"2 CA 4/0 AWG Vão 40m "},{"$f":" [1]PrimariaMinutaCpfl!A71","v":"2 CAA 04 AWG Vão 80m "},{"$f":" [1]NeutroMinutaCpfl!A71","v":0},null,null,18,null,null,null,null,null,null,null,null,null,null,null,null,null,null,null,{"$f":" [1]Folha4!A65","v":0}]
[null,null,null,null,null,null,null,null,null,null,null,null,null,null,null,{"$f":" [1]SecundariaMinutaCpfl!A72","v":""},{"$f":" [1]PrimariaMinutaCpfl!A72","v":"2 CAA 02 AWG Vão 80m "},{"$f":" [1]NeutroMinutaCpfl!A72","v":0},null,null,35,null,null,null,null,null,null,null,null,null,null,null,null,null,null,null,{"$f":" [1]Folha4!A66","v":0}]
[null,null,null,null,null,null,null,null,null,null,null,null,null,null,null,{"$f":" [1]SecundariaMinutaCpfl!A73","v":"2 CAA 04 AWG Vão 80m "},{"$f":" [1]PrimariaMinutaCpfl!A73","v":"2 CAA 1/0 AWG Vão 80m "},{"$f":" [1]NeutroMinutaCpfl!A73","v":0},null,null,36,null,null,null,null,null,null,null,null,null,null,null,null,null,null,null,{"$f":" [1]Folha4!A67","v":0}]
[null,null,null,null,null,null,null,null,null,null,null,null,null,null,null,{"$f":" [1]SecundariaMinutaCpfl!A74","v":"2 CAA 02 AWG Vão 80m "},{"$f":" [1]PrimariaMinutaCpfl!A74","v":"2 CAA 2/0 AWG Vão 80m "},{"$f":" [1]NeutroMinutaCpfl!A74","v":0},null,null,37,null,null,null,null,null,null,null,null,null,null,null,null,null,null,null,{"$f":" [1]Folha4!A68","v":0}]
[null,null,null,null,null,null,null,null,null,null,null,null,null,null,null,{"$f":" [1]SecundariaMinutaCpfl!A75","v":"2 CAA 1/0 AWG Vão 80m "},{"$f":" [1]PrimariaMinutaCpfl!A75","v":"2 CAA 4/0 AWG Vão 80m "},{"$f":" [1]NeutroMinutaCpfl!A75","v":0},null,null,38,null,null,null,null,null,null,null,null,null,null,null,null,null,null,null,{"$f":" [1]Folha4!A69","v":0}]
[null,null,null,null,null,null,null,null,null,null,null,null,null,null,null,{"$f":" [1]SecundariaMinutaCpfl!A76","v":"2 CAA 2/0 AWG Vão 80m "},{"$f":" [1]PrimariaMinutaCpfl!A76","v":"2 CAA 336,4 MCM Vão 80m "},{"$f":" [1]NeutroMinutaCpfl!A76","v":0},null,null,39,null,null,null,null,null,null,null,null,null,null,null,null,null,null,null,{"$f":" [1]Folha4!A70","v":0}]
[null,null,null,null,null,null,null,null,null,null,null,null,null,null,null,{"$f":" [1]SecundariaMinutaCpfl!A77","v":"2 CAA 4/0 AWG Vão 80m "},{"$f":" [1]PrimariaMinutaCpfl!A77","v":""},{"$f":" [1]NeutroMinutaCpfl!A77","v":0},null,null,40,null,null,null,null,null,null,null,null,null,null,null,null,null,null,null,{"$f":" [1]Folha4!A71","v":0}]
[null,null,null,null,null,null,null,null,null,null,null,null,null,null,null,{"$f":" [1]SecundariaMinutaCpfl!A78","v":"2 CAA 336,4 MCM Vão 80m "},{"$f":" [1]PrimariaMinutaCpfl!A78","v":"2 CAA 04 AWG Vão 120m "},{"$f":" [1]NeutroMinutaCpfl!A78","v":0},null,null,41,null,null,null,null,null,null,null,null,null,null,null,null,null,null,null,{"$f":" [1]Folha4!A72","v":0}]
[null,null,null,null,null,null,null,null,null,null,null,null,null,null,null,{"$f":" [1]SecundariaMinutaCpfl!A79","v":""},{"$f":" [1]PrimariaMinutaCpfl!A79","v":"2 CAA 02 AWG Vão 120m "},{"$f":" [1]NeutroMinutaCpfl!A79","v":0},null,null,42,null,null,null,null,null,null,null,null,null,null,null,null,null,null,null,{"$f":" [1]Folha4!A73","v":0}]
[null,null,null,null,null,null,null,null,null,null,null,null,null,null,null,{"$f":" [1]SecundariaMinutaCpfl!A80","v":"2 CAA 04 AWG Vão 120m "},{"$f":" [1]PrimariaMinutaCpfl!A80","v":"2 CAA 1/0 AWG Vão 120m "},{"$f":" [1]NeutroMinutaCpfl!A80","v":0},null,null,43,null,null,null,null,null,null,null,null,null,null,null,null,null,null,null,{"$f":" [1]Folha4!A74","v":0}]
[null,null,null,null,null,null,null,null,null,null,null,null,null,null,null,{"$f":" [1]SecundariaMinutaCpfl!A81","v":"2 CAA 02 AWG Vão 120m "},{"$f":" [1]PrimariaMinutaCpfl!A81","v":"2 CAA 2/0 AWG Vão 120m "},{"$f":" [1]NeutroMinutaCpfl!A81","v":0},null,null,44,null,null,null,null,null,null,null,null,null,null,null,null,null,null,null,{"$f":" [1]Folha4!A75","v":0}]
[null,null,null,null,null,null,null,null,null,null,null,null,null,null,null,{"$f":" [1]SecundariaMinutaCpfl!A82","v":"2 CAA 1/0 AWG Vão 120m "},{"$f":" [1]PrimariaMinutaCpfl!A82","v":"2 CAA 4/0 AWG Vão 120m "},{"$f":" [1]NeutroMinutaCpfl!A82","v":0},null,null,45,null,null,null,null,null,null,null,null,null,null,null,null,null,null,null,{"$f":" [1]Folha4!A76","v":0}]
[null,null,null,null,null,null,null,null,null,null,null,null,null,null,null,{"$f":" [1]SecundariaMinutaCpfl!A83","v":"2 CAA 2/0 AWG Vão 120m "},{"$f":" [1]PrimariaMinutaCpfl!A83","v":"2 CAA 336,4 MCM Vão 120m "},{"$f":" [1]NeutroMinutaCpfl!A83","v":0},null,null,46,null,null,null,null,null,null,null,null,null,null,null,null,null,null,null,{"$f":" [1]Folha4!A77","v":0}]
[null,null,null,null,null,null,null,null,null,null,null,null,null,null,null,{"$f":" [1]SecundariaMinutaCpfl!A84","v":"2 CAA 4/0 AWG Vão 120m "},{"$f":" [1]PrimariaMinutaCpfl!A84","v":""},{"$f":" [1]NeutroMinutaCpfl!A84","v":0},null,null,47,null,null,null,null,null,null,null,null,null,null,null,null,null,null,null,{"$f":" [1]Folha4!A78","v":0}]
[null,null,null,null,null,null,null,null,null,null,null,null,null,null,null,{"$f":" [1]SecundariaMinutaCpfl!A85","v":"2 CAA 336,4 MCM Vão 120m "},{"$f":" [1]PrimariaMinutaCpfl!A85","v":"2 CU 06 AWG Vão 35m  "},{"$f":" [1]NeutroMinutaCpfl!A85","v":0},null,null,48,null,null,null,null,null,null,null,null,null,null,null,null,null,null,null,{"$f":" [1]Folha4!A79","v":0}]
[null,null,null,null,null,null,null,null,null,null,null,null,null,null,null,{"$f":" [1]SecundariaMinutaCpfl!A86","v":""},{"$f":" [1]PrimariaMinutaCpfl!A86","v":"2 CU 02 AWG Vão 35m  "},{"$f":" [1]NeutroMinutaCpfl!A86","v":0},null,null,49,null,null,null,null,null,null,null,null,null,null,null,null,null,null,null,{"$f":" [1]Folha4!A80","v":0}]
[null,null,null,null,null,null,null,null,null,null,null,null,null,null,null,{"$f":" [1]SecundariaMinutaCpfl!A87","v":"2 CU 06 AWG Vão 35m  "},{"$f":" [1]PrimariaMinutaCpfl!A87","v":"2 CU 1/0 AWG Vão 35m  "},{"$f":" [1]NeutroMinutaCpfl!A87","v":0},null,null,50,null,null,null,null,null,null,null,null,null,null,null,null,null,null,null,{"$f":" [1]Folha4!A81","v":0}]
[null,null,null,null,null,null,null,null,null,null,null,null,null,null,null,{"$f":" [1]SecundariaMinutaCpfl!A88","v":"2 CU 02 AWG Vão 35m  "},{"$f":" [1]PrimariaMinutaCpfl!A88","v":"2 CU 2/0 AWG Vão 35m  "},{"$f":" [1]NeutroMinutaCpfl!A88","v":0},null,null,51,null,null,null,null,null,null,null,null,null,null,null,null,null,null,null,{"$f":" [1]Folha4!A82","v":0}]
[null,null,null,null,null,null,null,null,null,null,null,null,null,null,null,{"$f":" [1]SecundariaMinutaCpfl!A89","v":"2 CU 1/0 AWG Vão 35m  "},{"$f":" [1]PrimariaMinutaCpfl!A89","v":"2 CU 4/0 AWG Vão 35m  "},{"$f":" [1]NeutroMinutaCpfl!A89","v":0},null,null,52,null,null,null,null,null,null,null,null,null,null,null,null,null,null,null,{"$f":" [1]Folha4!A83","v":0}]
[null,null,null,null,null,null,null,null,null,null,null,null,null,null,null,{"$f":" [1]SecundariaMinutaCpfl!A90","v":"2 CU 2/0 AWG Vão 35m  "},{"$f":" [1]PrimariaMinutaCpfl!A90","v":""},{"$f":" [1]NeutroMinutaCpfl!A90","v":0},null,null,53,null,null,null,null,null,null,null,null,null,null,null,null,null,null,null,{"$f":" [1]Folha4!A84","v":0}]
[null,null,null,null,null,null,null,null,null,null,null,null,null,null,null,{"$f":" [1]SecundariaMinutaCpfl!A91","v":"2 CU 4/0 AWG Vão 35m  "},{"$f":" [1]PrimariaMinutaCpfl!A91","v":"1 CA 02 AWG Vão 35m "},{"$f":" [1]NeutroMinutaCpfl!A91","v":0},null,null,54,null,null,null,null,null,null,null,null,null,null,null,null,null,null,null,{"$f":" [1]Folha4!A85","v":0}]
[null,null,null,null,null,null,null,null,null,null,null,null,null,null,null,{"$f":" [1]SecundariaMinutaCpfl!A92","v":""},{"$f":" [1]PrimariaMinutaCpfl!A92","v":"1 CA 1/0 AWG Vão 35m "},{"$f":" [1]NeutroMinutaCpfl!A92","v":0},null,null,55,null,null,null,null,null,null,null,null,null,null,null,null,null,null,null,{"$f":" [1]Folha4!A86","v":0}]
[null,null,null,null,null,null,null,null,null,null,null,null,null,null,null,{"$f":" [1]SecundariaMinutaCpfl!A93","v":"1 CA 02 AWG Vão 35m "},{"$f":" [1]PrimariaMinutaCpfl!A93","v":"1 CA 2/0 AWG Vão 35m "},{"$f":" [1]NeutroMinutaCpfl!A93","v":0},null,null,56,null,null,null,null,null,null,null,null,null,null,null,null,null,null,null,{"$f":" [1]Folha4!A87","v":0}]
[null,null,null,null,null,null,null,null,null,null,null,null,null,null,null,{"$f":" [1]SecundariaMinutaCpfl!A94","v":"1 CA 1/0 AWG Vão 35m "},{"$f":" [1]PrimariaMinutaCpfl!A94","v":"1 CA 4/0 AWG Vão 35m "},{"$f":" [1]NeutroMinutaCpfl!A94","v":0},null,null,57,null,null,null,null,null,null,null,null,null,null,null,null,null,null,null,{"$f":" [1]Folha4!A88","v":0}]
[null,null,null,null,null,null,null,null,null,null,null,null,null,null,null,{"$f":" [1]SecundariaMinutaCpfl!A95","v":"1 CA 2/0 AWG Vão 35m "},{"$f":" [1]PrimariaMinutaCpfl!A95","v":"1 CA 336,4 MCM Vão 35m "},{"$f":" [1]NeutroMinutaCpfl!A95","v":0},null,null,58,null,null,null,null,null,null,null,null,null,null,null,null,null,null,null,{"$f":" [1]Folha4!A89","v":0}]
[null,null,null,null,null,null,null,null,null,null,null,null,null,null,null,{"$f":" [1]SecundariaMinutaCpfl!A96","v":"1 CA 4/0 AWG Vão 35m "},{"$f":" [1]PrimariaMinutaCpfl!A96","v":"1 CA 477 MCM Vão 35m "},{"$f":" [1]NeutroMinutaCpfl!A96","v":0},null,null,59,null,null,null,null,null,null,null,null,null,null,null,null,null,null,null,{"$f":" [1]Folha4!A90","v":0}]
[null,null,null,null,null,null,null,null,null,null,null,null,null,null,null,{"$f":" [1]SecundariaMinutaCpfl!A97","v":"1 CA 336,4 MCM Vão 35m "},{"$f":" [1]PrimariaMinutaCpfl!A97","v":""},{"$f":" [1]NeutroMinutaCpfl!A97","v":0},null,null,60,null,null,null,null,null,null,null,null,null,null,null,null,null,null,null,{"$f":" [1]Folha4!A91","v":0}]
[null,null,null,null,null,null,null,null,null,null,null,null,null,null,null,{"$f":" [1]SecundariaMinutaCpfl!A98","v":"1 CA 477 MCM Vão 35m "},{"$f":" [1]PrimariaMinutaCpfl!A98","v":"1 CA 02 AWG Vão 80m "},{"$f":" [1]NeutroMinutaCpfl!A98","v":0},null,null,61,null,null,null,null,null,null,null,null,null,null,null,null,null,null,null,{"$f":" [1]Folha4!A92","v":0}]
[null,null,null,null,null,null,null,null,null,null,null,null,null,null,null,{"$f":" [1]SecundariaMinutaCpfl!A99","v":""},{"$f":" [1]PrimariaMinutaCpfl!A99","v":"1 CA 1/0 AWG Vão 80m "},{"$f":" [1]NeutroMinutaCpfl!A99","v":0},null,null,62,null,null,null,null,null,null,null,null,null,null,null,null,null,null,null,{"$f":" [1]Folha4!A93","v":0}]
[null,null,null,null,null,null,null,null,null,null,null,null,null,null,null,{"$f":" [1]SecundariaMinutaCpfl!A100","v":"1 CA 02 AWG Vão 80m "},{"$f":" [1]PrimariaMinutaCpfl!A100","v":"1 CA 2/0 AWG Vão 80m "},{"$f":" [1]NeutroMinutaCpfl!A100","v":0},null,null,63,null,null,null,null,null,null,null,null,null,null,null,null,null,null,null,{"$f":" [1]Folha4!A94","v":0}]
[null,null,null,null,null,null,null,null,null,null,null,null,null,null,null,{"$f":" [1]SecundariaMinutaCpfl!A101","v":"1 CA 1/0 AWG Vão 80m "},{"$f":" [1]PrimariaMinutaCpfl!A101","v":"1 CA 4/0 AWG Vão 80m "},{"$f":" [1]NeutroMinutaCpfl!A101","v":0},null,null,64,null,null,null,null,null,null,null,null,null,null,null,null,null,null,null,{"$f":" [1]Folha4!A95","v":0}]
[null,null,null,null,null,null,null,null,null,null,null,null,null,null,null,{"$f":" [1]SecundariaMinutaCpfl!A102","v":"1 CA 2/0 AWG Vão 80m "},{"$f":" [1]PrimariaMinutaCpfl!A102","v":"1 CA 336,4 MCM Vão 80m "},{"$f":" [1]NeutroMinutaCpfl!A102","v":0},null,null,65,null,null,null,null,null,null,null,null,null,null,null,null,null,null,null,{"$f":" [1]Folha4!A96","v":0}]
[null,null,null,null,null,null,null,null,null,null,null,null,null,null,null,{"$f":" [1]SecundariaMinutaCpfl!A103","v":"1 CA 4/0 AWG Vão 80m "},{"$f":" [1]PrimariaMinutaCpfl!A103","v":"1 CA 477 MCM Vão 80m "},{"$f":" [1]NeutroMinutaCpfl!A103","v":0},null,null,66,null,null,null,null,null,null,null,null,null,null,null,null,null,null,null,{"$f":" [1]Folha4!A97","v":0}]
[null,null,null,null,null,null,null,null,null,null,null,null,null,null,null,{"$f":" [1]SecundariaMinutaCpfl!A104","v":"1 CA 336,4 MCM Vão 80m "},{"$f":" [1]PrimariaMinutaCpfl!A104","v":""},{"$f":" [1]NeutroMinutaCpfl!A104","v":0},null,null,67,null,null,null,null,null,null,null,null,null,null,null,null,null,null,null,{"$f":" [1]Folha4!A98","v":0}]
[null,null,null,null,null,null,null,null,null,null,null,null,null,null,null,{"$f":" [1]SecundariaMinutaCpfl!A105","v":"1 CA 477 MCM Vão 80m "},{"$f":" [1]PrimariaMinutaCpfl!A105","v":"1 CAA 04 AWG Vão 40m "},{"$f":" [1]NeutroMinutaCpfl!A105","v":0},null,null,68,null,null,null,null,null,null,null,null,null,null,null,null,null,null,null,{"$f":" [1]Folha4!A99","v":0}]
[null,null,null,null,null,null,null,null,null,null,null,null,null,null,null,{"$f":" [1]SecundariaMinutaCpfl!A106","v":""},{"$f":" [1]PrimariaMinutaCpfl!A106","v":"1 CAA 02 AWG Vão 40m "},{"$f":" [1]NeutroMinutaCpfl!A106","v":0},null,null,69,null,null,null,null,null,null,null,null,null,null,null,null,null,null,null,{"$f":" [1]Folha4!A100","v":0}]
[null,null,null,null,null,null,null,null,null,null,null,null,null,null,null,{"$f":" [1]SecundariaMinutaCpfl!A107","v":"1 CAA 04 AWG Vão 40m "},{"$f":" [1]PrimariaMinutaCpfl!A107","v":"1 CAA 1/0 AWG Vão 40m "},{"$f":" [1]NeutroMinutaCpfl!A107","v":0},null,null,70,null,null,null,null,null,null,null,null,null,null,null,null,null,null,null,{"$f":" [1]Folha4!A101","v":0}]
[null,null,null,null,null,null,null,null,null,null,null,null,null,null,null,{"$f":" [1]SecundariaMinutaCpfl!A108","v":"1 CAA 02 AWG Vão 40m "},{"$f":" [1]PrimariaMinutaCpfl!A108","v":"1 CAA 2/0 AWG Vão 40m "},{"$f":" [1]NeutroMinutaCpfl!A108","v":0},null,null,71,null,null,null,null,null,null,null,null,null,null,null,null,null,null,null,{"$f":" [1]Folha4!A102","v":0}]
[null,null,null,null,null,null,null,null,null,null,null,null,null,null,null,{"$f":" [1]SecundariaMinutaCpfl!A109","v":"1 CAA 1/0 AWG Vão 40m "},{"$f":" [1]PrimariaMinutaCpfl!A109","v":"1 CAA 4/0 AWG Vão 40m "},{"$f":" [1]NeutroMinutaCpfl!A109","v":0},null,null,72,null,null,null,null,null,null,null,null,null,null,null,null,null,null,null,{"$f":" [1]Folha4!A103","v":0}]
[null,null,null,null,null,null,null,null,null,null,null,null,null,null,null,{"$f":" [1]SecundariaMinutaCpfl!A110","v":"1 CAA 2/0 AWG Vão 40m "},{"$f":" [1]PrimariaMinutaCpfl!A110","v":""},{"$f":" [1]NeutroMinutaCpfl!A110","v":0},null,null,73,null,null,null,null,null,null,null,null,null,null,null,null,null,null,null,{"$f":" [1]Folha4!A104","v":0}]
[null,null,null,null,null,null,null,null,null,null,null,null,null,null,null,{"$f":" [1]SecundariaMinutaCpfl!A111","v":"1 CAA 4/0 AWG Vão 40m "},{"$f":" [1]PrimariaMinutaCpfl!A111","v":"1 CAA 04 AWG Vão 80m "},{"$f":" [1]NeutroMinutaCpfl!A111","v":0},null,null,74,null,null,null,null,null,null,null,null,null,null,null,null,null,null,null,{"$f":" [1]Folha4!A105","v":0}]
[null,null,null,null,null,null,null,null,null,null,null,null,null,null,null,{"$f":" [1]SecundariaMinutaCpfl!A112","v":""},{"$f":" [1]PrimariaMinutaCpfl!A112","v":"1 CAA 02 AWG Vão 80m "},{"$f":" [1]NeutroMinutaCpfl!A112","v":0},null,null,75,null,null,null,null,null,null,null,null,null,null,null,null,null,null,null,{"$f":" [1]Folha4!A106","v":0}]
[null,null,null,null,null,null,null,null,null,null,null,null,null,null,null,{"$f":" [1]SecundariaMinutaCpfl!A113","v":"1 CAA 04 AWG Vão 80m "},{"$f":" [1]PrimariaMinutaCpfl!A113","v":"1 CAA 1/0 AWG Vão 80m "},{"$f":" [1]NeutroMinutaCpfl!A113","v":0},null,null,76,null,null,null,null,null,null,null,null,null,null,null,null,null,null,null,{"$f":" [1]Folha4!A107","v":0}]
[null,null,null,null,null,null,null,null,null,null,null,null,null,null,null,{"$f":" [1]SecundariaMinutaCpfl!A114","v":"1 CAA 02 AWG Vão 80m "},{"$f":" [1]PrimariaMinutaCpfl!A114","v":"1 CAA 2/0 AWG Vão 80m "},{"$f":" [1]NeutroMinutaCpfl!A114","v":0},null,null,77,null,null,null,null,null,null,null,null,null,null,null,null,null,null,null,{"$f":" [1]Folha4!A108","v":0}]
[null,null,null,null,null,null,null,null,null,null,null,null,null,null,null,{"$f":" [1]SecundariaMinutaCpfl!A115","v":"1 CAA 1/0 AWG Vão 80m "},{"$f":" [1]PrimariaMinutaCpfl!A115","v":"1 CAA 4/0 AWG Vão 80m "},{"$f":" [1]NeutroMinutaCpfl!A115","v":0},null,null,78,null,null,null,null,null,null,null,null,null,null,null,null,null,null,null,{"$f":" [1]Folha4!A109","v":0}]
[null,null,null,null,null,null,null,null,null,null,null,null,null,null,null,{"$f":" [1]SecundariaMinutaCpfl!A116","v":"1 CAA 2/0 AWG Vão 80m "},{"$f":" [1]PrimariaMinutaCpfl!A116","v":"1 CAA 336,4 MCM Vão 80m "},{"$f":" [1]NeutroMinutaCpfl!A116","v":0},null,null,79,null,null,null,null,null,null,null,null,null,null,null,null,null,null,null,{"$f":" [1]Folha4!A110","v":0}]
[null,null,null,null,null,null,null,null,null,null,null,null,null,null,null,{"$f":" [1]SecundariaMinutaCpfl!A117","v":"1 CAA 4/0 AWG Vão 80m "},{"$f":" [1]PrimariaMinutaCpfl!A117","v":""},{"$f":" [1]NeutroMinutaCpfl!A117","v":0},null,null,80,null,null,null,null,null,null,null,null,null,null,null,null,null,null,null,{"$f":" [1]Folha4!A111","v":0}]
[null,null,null,null,null,null,null,null,null,null,null,null,null,null,null,{"$f":" [1]SecundariaMinutaCpfl!A118","v":"1 CAA 336,4 MCM Vão 80m "},{"$f":" [1]PrimariaMinutaCpfl!A118","v":"1 CAA 04 AWG Vão 120m "},{"$f":" [1]NeutroMinutaCpfl!A118","v":0},null,null,81,null,null,null,null,null,null,null,null,null,null,null,null,null,null,null,{"$f":" [1]Folha4!A112","v":0}]
[null,null,null,null,null,null,null,null,null,null,null,null,null,null,null,{"$f":" [1]SecundariaMinutaCpfl!A119","v":""},{"$f":" [1]PrimariaMinutaCpfl!A119","v":"1 CAA 02 AWG Vão 120m "},{"$f":" [1]NeutroMinutaCpfl!A119","v":0},null,null,82,null,null,null,null,null,null,null,null,null,null,null,null,null,null,null,{"$f":" [1]Folha4!A113","v":0}]
[null,null,null,null,null,null,null,null,null,null,null,null,null,null,null,{"$f":" [1]SecundariaMinutaCpfl!A120","v":"1 CAA 04 AWG Vão 120m "},{"$f":" [1]PrimariaMinutaCpfl!A120","v":"1 CAA 1/0 AWG Vão 120m "},{"$f":" [1]NeutroMinutaCpfl!A120","v":0},null,null,83,null,null,null,null,null,null,null,null,null,null,null,null,null,null,null,{"$f":" [1]Folha4!A114","v":0}]
[null,null,null,null,null,null,null,null,null,null,null,null,null,null,null,{"$f":" [1]SecundariaMinutaCpfl!A121","v":"1 CAA 02 AWG Vão 120m "},{"$f":" [1]PrimariaMinutaCpfl!A121","v":"1 CAA 2/0 AWG Vão 120m "},{"$f":" [1]NeutroMinutaCpfl!A121","v":0},null,null,84,null,null,null,null,null,null,null,null,null,null,null,null,null,null,null,{"$f":" [1]Folha4!A115","v":0}]
[null,null,null,null,null,null,null,null,null,null,null,null,null,null,null,{"$f":" [1]SecundariaMinutaCpfl!A122","v":"1 CAA 1/0 AWG Vão 120m "},{"$f":" [1]PrimariaMinutaCpfl!A122","v":"1 CAA 4/0 AWG Vão 120m "},{"$f":" [1]NeutroMinutaCpfl!A122","v":0},null,null,85,null,null,null,null,null,null,null,null,null,null,null,null,null,null,null,{"$f":" [1]Folha4!A116","v":0}]
[null,null,null,null,null,null,null,null,null,null,null,null,null,null,null,{"$f":" [1]SecundariaMinutaCpfl!A123","v":"1 CAA 2/0 AWG Vão 120m "},{"$f":" [1]PrimariaMinutaCpfl!A123","v":"1 CAA 336,4 MCM Vão 120m "},{"$f":" [1]NeutroMinutaCpfl!A123","v":0},null,null,86,null,null,null,null,null,null,null,null,null,null,null,null,null,null,null,{"$f":" [1]Folha4!A117","v":0}]
[null,null,null,null,null,null,null,null,null,null,null,null,null,null,null,{"$f":" [1]SecundariaMinutaCpfl!A124","v":"1 CAA 4/0 AWG Vão 120m "},{"$f":" [1]PrimariaMinutaCpfl!A124","v":""},{"$f":" [1]NeutroMinutaCpfl!A124","v":0},null,null,87,null,null,null,null,null,null,null,null,null,null,null,null,null,null,null,{"$f":" [1]Folha4!A118","v":0}]
[null,null,null,null,null,null,null,null,null,null,null,null,null,null,null,{"$f":" [1]SecundariaMinutaCpfl!A125","v":"1 CAA 336,4 MCM Vão 120m "},{"$f":" [1]PrimariaMinutaCpfl!A125","v":"1 CU 06 AWG Vão 35m  "},{"$f":" [1]NeutroMinutaCpfl!A125","v":0},null,null,88,null,null,null,null,null,null,null,null,null,null,null,null,null,null,null,{"$f":" [1]Folha4!A119","v":0}]
[null,null,null,null,null,null,null,null,null,null,null,null,null,null,null,{"$f":" [1]SecundariaMinutaCpfl!A126","v":""},{"$f":" [1]PrimariaMinutaCpfl!A126","v":"1 CU 02 AWG Vão 35m  "},{"$f":" [1]NeutroMinutaCpfl!A126","v":0},null,null,89,null,null,null,null,null,null,null,null,null,null,null,null,null,null,null,{"$f":" [1]Folha4!A120","v":0}]
[null,null,null,null,null,null,null,null,null,null,null,null,null,null,null,{"$f":" [1]SecundariaMinutaCpfl!A127","v":"1 CU 06 AWG Vão 35m  "},{"$f":" [1]PrimariaMinutaCpfl!A127","v":"1 CU 1/0 AWG Vão 35m  "},{"$f":" [1]NeutroMinutaCpfl!A127","v":0},null,null,90,null,null,null,null,null,null,null,null,null,null,null,null,null,null,null,{"$f":" [1]Folha4!A121","v":0}]
[null,null,null,null,null,null,null,null,null,null,null,null,null,null,null,{"$f":" [1]SecundariaMinutaCpfl!A128","v":"1 CU 02 AWG Vão 35m  "},{"$f":" [1]PrimariaMinutaCpfl!A128","v":"1 CU 2/0 AWG Vão 35m  "},{"$f":" [1]NeutroMinutaCpfl!A128","v":0},null,null,91,null,null,null,null,null,null,null,null,null,null,null,null,null,null,null,{"$f":" [1]Folha4!A122","v":0}]
[null,null,null,null,null,null,null,null,null,null,null,null,null,null,null,{"$f":" [1]SecundariaMinutaCpfl!A129","v":"1 CU 1/0 AWG Vão 35m  "},{"$f":" [1]PrimariaMinutaCpfl!A129","v":"1 CU 4/0 AWG Vão 35m  "},{"$f":" [1]NeutroMinutaCpfl!A129","v":0},null,null,92,null,null,null,null,null,null,null,null,null,null,null,null,null,null,null,{"$f":" [1]Folha4!A123","v":0}]
[null,null,null,null,null,null,null,null,null,null,null,null,null,null,null,{"$f":" [1]SecundariaMinutaCpfl!A130","v":"1 CU 2/0 AWG Vão 35m  "},{"$f":" [1]PrimariaMinutaCpfl!A130","v":0},{"$f":" [1]NeutroMinutaCpfl!A130","v":0},null,null,93,null,null,null,null,null,null,null,null,null,null,null,null,null,null,null,{"$f":" [1]Folha4!A124","v":0}]
[null,null,null,null,null,null,null,null,null,null,null,null,null,null,null,{"$f":" [1]SecundariaMinutaCpfl!A131","v":"1 CU 4/0 AWG Vão 35m  "},{"$f":" [1]PrimariaMinutaCpfl!A131","v":0},{"$f":" [1]NeutroMinutaCpfl!A131","v":0},null,null,94,null,null,null,null,null,null,null,null,null,null,null,null,null,null,null,{"$f":" [1]Folha4!A125","v":0}]
[null,null,null,null,null,null,null,null,null,null,null,null,null,null,null,{"$f":" [1]SecundariaMinutaCpfl!A132","v":0},{"$f":" [1]PrimariaMinutaCpfl!A132","v":0},{"$f":" [1]NeutroMinutaCpfl!A132","v":0},null,null,95,null,null,null,null,null,null,null,null,null,null,null,null,null,null,null,{"$f":" [1]Folha4!A126","v":0}]
[null,null,null,null,null,null,null,null,null,null,null,null,null,null,null,{"$f":" [1]SecundariaMinutaCpfl!A133","v":0},{"$f":" [1]PrimariaMinutaCpfl!A133","v":0},{"$f":" [1]NeutroMinutaCpfl!A133","v":0},null,null,96,null,null,null,null,null,null,null,null,null,null,null,null,null,null,null,{"$f":" [1]Folha4!A127","v":0}]
[null,null,null,null,null,null,null,null,null,null,null,null,null,null,null,{"$f":" [1]SecundariaMinutaCpfl!A134","v":0},{"$f":" [1]PrimariaMinutaCpfl!A134","v":0},{"$f":" [1]NeutroMinutaCpfl!A134","v":0},null,null,97,null,null,null,null,null,null,null,null,null,null,null,null,null,null,null,{"$f":" [1]Folha4!A128","v":0}]
[null,null,null,null,null,null,null,null,null,null,null,null,null,null,null,{"$f":" [1]SecundariaMinutaCpfl!A135","v":0},{"$f":" [1]PrimariaMinutaCpfl!A135","v":0},{"$f":" [1]NeutroMinutaCpfl!A135","v":0},null,null,98,null,null,null,null,null,null,null,null,null,null,null,null,null,null,null,{"$f":" [1]Folha4!A129","v":0}]
[null,null,null,null,null,null,null,null,null,null,null,null,null,null,null,{"$f":" [1]SecundariaMinutaCpfl!A136","v":0},{"$f":" [1]PrimariaMinutaCpfl!A136","v":0},{"$f":" [1]NeutroMinutaCpfl!A136","v":0},null,null,99,null,null,null,null,null,null,null,null,null,null,null,null,null,null,null,{"$f":" [1]Folha4!A130","v":0}]
[null,null,null,null,null,null,null,null,null,null,null,null,null,null,null,{"$f":" [1]SecundariaMinutaCpfl!A137","v":0},{"$f":" [1]PrimariaMinutaCpfl!A137","v":0},{"$f":" [1]NeutroMinutaCpfl!A137","v":0},null,null,100,null,null,null,null,null,null,null,null,null,null,null,null,null,null,null,{"$f":" [1]Folha4!A131","v":0}]
[null,null,null,null,null,null,null,null,null,null,null,null,null,null,null,{"$f":" [1]SecundariaMinutaCpfl!A138","v":0},{"$f":" [1]PrimariaMinutaCpfl!A138","v":0},{"$f":" [1]NeutroMinutaCpfl!A138","v":0},null,null,101,null,null,null,null,null,null,null,null,null,null,null,null,null,null,null,{"$f":" [1]Folha4!A132","v":0}]
[null,null,null,null,null,null,null,null,null,null,null,null,null,null,null,{"$f":" [1]SecundariaMinutaCpfl!A139","v":0},{"$f":" [1]PrimariaMinutaCpfl!A139","v":0},{"$f":" [1]NeutroMinutaCpfl!A139","v":0},null,null,102,null,null,null,null,null,null,null,null,null,null,null,null,null,null,null,{"$f":" [1]Folha4!A133","v":0}]
[null,null,null,null,null,null,null,null,null,null,null,null,null,null,null,{"$f":" [1]SecundariaMinutaCpfl!A140","v":0},{"$f":" [1]PrimariaMinutaCpfl!A140","v":0},{"$f":" [1]NeutroMinutaCpfl!A140","v":0},null,null,103,null,null,null,null,null,null,null,null,null,null,null,null,null,null,null,{"$f":" [1]Folha4!A134","v":0}]
[null,null,null,null,null,null,null,null,null,null,null,null,null,null,null,{"$f":" [1]SecundariaMinutaCpfl!A141","v":0},{"$f":" [1]PrimariaMinutaCpfl!A141","v":0},{"$f":" [1]NeutroMinutaCpfl!A141","v":0},null,null,104,null,null,null,null,null,null,null,null,null,null,null,null,null,null,null,{"$f":" [1]Folha4!A135","v":0}]
[null,null,null,null,null,null,null,null,null,null,null,null,null,null,null,{"$f":" [1]SecundariaMinutaCpfl!A142","v":0},{"$f":" [1]PrimariaMinutaCpfl!A142","v":0},{"$f":" [1]NeutroMinutaCpfl!A142","v":0},null,null,105,null,null,null,null,null,null,null,null,null,null,null,null,null,null,null,{"$f":" [1]Folha4!A136","v":0}]
[null,null,null,null,null,null,null,null,null,null,null,null,null,null,null,{"$f":" [1]SecundariaMinutaCpfl!A143","v":0},{"$f":" [1]PrimariaMinutaCpfl!A143","v":0},{"$f":" [1]NeutroMinutaCpfl!A143","v":0},null,null,106,null,null,null,null,null,null,null,null,null,null,null,null,null,null,null,{"$f":" [1]Folha4!A137","v":0}]
[null,null,null,null,null,null,null,null,null,null,null,null,null,null,null,{"$f":" [1]SecundariaMinutaCpfl!A144","v":0},{"$f":" [1]PrimariaMinutaCpfl!A144","v":0},{"$f":" [1]NeutroMinutaCpfl!A144","v":0},null,null,107,null,null,null,null,null,null,null,null,null,null,null,null,null,null,null,{"$f":" [1]Folha4!A138","v":0}]
[null,null,null,null,null,null,null,null,null,null,null,null,null,null,null,{"$f":" [1]SecundariaMinutaCpfl!A145","v":0},{"$f":" [1]PrimariaMinutaCpfl!A145","v":0},{"$f":" [1]NeutroMinutaCpfl!A145","v":0},null,null,108,null,null,null,null,null,null,null,null,null,null,null,null,null,null,null,{"$f":" [1]Folha4!A139","v":0}]
[null,null,null,null,null,null,null,null,null,null,null,null,null,null,null,{"$f":" [1]SecundariaMinutaCpfl!A146","v":0},{"$f":" [1]PrimariaMinutaCpfl!A146","v":0},{"$f":" [1]NeutroMinutaCpfl!A146","v":0},null,null,109,null,null,null,null,null,null,null,null,null,null,null,null,null,null,null,{"$f":" [1]Folha4!A140","v":0}]
[null,null,null,null,null,null,null,null,null,null,null,null,null,null,null,{"$f":" [1]SecundariaMinutaCpfl!A147","v":0},{"$f":" [1]PrimariaMinutaCpfl!A147","v":0},{"$f":" [1]NeutroMinutaCpfl!A147","v":0},null,null,110,null,null,null,null,null,null,null,null,null,null,null,null,null,null,null,{"$f":" [1]Folha4!A141","v":0}]
[null,null,null,null,null,null,null,null,null,null,null,null,null,null,null,{"$f":" [1]SecundariaMinutaCpfl!A148","v":0},{"$f":" [1]PrimariaMinutaCpfl!A148","v":0},{"$f":" [1]NeutroMinutaCpfl!A148","v":0},null,null,111,null,null,null,null,null,null,null,null,null,null,null,null,null,null,null,{"$f":" [1]Folha4!A142","v":0}]
[null,null,null,null,null,null,null,null,null,null,null,null,null,null,null,{"$f":" [1]SecundariaMinutaCpfl!A149","v":0},{"$f":" [1]PrimariaMinutaCpfl!A149","v":0},{"$f":" [1]NeutroMinutaCpfl!A149","v":0},null,null,112,null,null,null,null,null,null,null,null,null,null,null,null,null,null,null,{"$f":" [1]Folha4!A143","v":0}]
[null,null,null,null,null,null,null,null,null,null,null,null,null,null,null,{"$f":" [1]SecundariaMinutaCpfl!A150","v":0},{"$f":" [1]PrimariaMinutaCpfl!A150","v":0},{"$f":" [1]NeutroMinutaCpfl!A150","v":0},null,null,113,null,null,null,null,null,null,null,null,null,null,null,null,null,null,null,{"$f":" [1]Folha4!A144","v":0}]
[null,null,null,null,null,null,null,null,null,null,null,null,null,null,null,{"$f":" [1]SecundariaMinutaCpfl!A151","v":0},{"$f":" [1]PrimariaMinutaCpfl!A151","v":0},{"$f":" [1]NeutroMinutaCpfl!A151","v":0},null,null,114,null,null,null,null,null,null,null,null,null,null,null,null,null,null,null,{"$f":" [1]Folha4!A145","v":0}]
[null,null,null,null,null,null,null,null,null,null,null,null,null,null,null,{"$f":" [1]SecundariaMinutaCpfl!A152","v":0},{"$f":" [1]PrimariaMinutaCpfl!A152","v":0},{"$f":" [1]NeutroMinutaCpfl!A152","v":0},null,null,115,null,null,null,null,null,null,null,null,null,null,null,null,null,null,null,{"$f":" [1]Folha4!A146","v":0}]
[null,null,null,null,null,null,null,null,null,null,null,null,null,null,null,{"$f":" [1]SecundariaMinutaCpfl!A153","v":0},{"$f":" [1]PrimariaMinutaCpfl!A153","v":0},{"$f":" [1]NeutroMinutaCpfl!A153","v":0},null,null,116,null,null,null,null,null,null,null,null,null,null,null,null,null,null,null,{"$f":" [1]Folha4!A147","v":0}]
[null,null,null,null,null,null,null,null,null,null,null,null,null,null,null,{"$f":" [1]SecundariaMinutaCpfl!A154","v":0},{"$f":" [1]PrimariaMinutaCpfl!A154","v":0},{"$f":" [1]NeutroMinutaCpfl!A154","v":0},null,null,117,null,null,null,null,null,null,null,null,null,null,null,null,null,null,null,{"$f":" [1]Folha4!A148","v":0}]
[null,null,null,null,null,null,null,null,null,null,null,null,null,null,null,{"$f":" [1]SecundariaMinutaCpfl!A155","v":0},{"$f":" [1]PrimariaMinutaCpfl!A155","v":0},{"$f":" [1]NeutroMinutaCpfl!A155","v":0},null,null,118,null,null,null,null,null,null,null,null,null,null,null,null,null,null,null,{"$f":" [1]Folha4!A149","v":0}]
[null,null,null,null,null,null,null,null,null,null,null,null,null,null,null,{"$f":" [1]SecundariaMinutaCpfl!A156","v":0},{"$f":" [1]PrimariaMinutaCpfl!A156","v":0},{"$f":" [1]NeutroMinutaCpfl!A156","v":0},null,null,119,null,null,null,null,null,null,null,null,null,null,null,null,null,null,null,{"$f":" [1]Folha4!A150","v":0}]
[null,null,null,null,null,null,null,null,null,null,null,null,null,null,null,{"$f":" [1]SecundariaMinutaCpfl!A157","v":0},{"$f":" [1]PrimariaMinutaCpfl!A157","v":0},{"$f":" [1]NeutroMinutaCpfl!A157","v":0},null,null,120,null,null,null,null,null,null,null,null,null,null,null,null,null,null,null,{"$f":" [1]Folha4!A151","v":0}]
[null,null,null,null,null,null,null,null,null,null,null,null,null,null,null,{"$f":" [1]SecundariaMinutaCpfl!A158","v":0},{"$f":" [1]PrimariaMinutaCpfl!A158","v":0},{"$f":" [1]NeutroMinutaCpfl!A158","v":0},null,null,121,null,null,null,null,null,null,null,null,null,null,null,null,null,null,null,{"$f":" [1]Folha4!A152","v":0}]
[null,null,null,null,null,null,null,null,null,null,null,null,null,null,null,{"$f":" [1]SecundariaMinutaCpfl!A159","v":0},{"$f":" [1]PrimariaMinutaCpfl!A159","v":0},{"$f":" [1]NeutroMinutaCpfl!A159","v":0},null,null,122,null,null,null,null,null,null,null,null,null,null,null,null,null,null,null,{"$f":" [1]Folha4!A153","v":0}]
[null,null,null,null,null,null,null,null,null,null,null,null,null,null,null,{"$f":" [1]SecundariaMinutaCpfl!A160","v":0},{"$f":" [1]PrimariaMinutaCpfl!A160","v":0},{"$f":" [1]NeutroMinutaCpfl!A160","v":0},null,null,123,null,null,null,null,null,null,null,null,null,null,null,null,null,null,null,{"$f":" [1]Folha4!A154","v":0}]
[null,null,null,null,null,null,null,null,null,null,null,null,null,null,null,{"$f":" [1]SecundariaMinutaCpfl!A161","v":0},{"$f":" [1]PrimariaMinutaCpfl!A161","v":0},{"$f":" [1]NeutroMinutaCpfl!A161","v":0},null,null,124,null,null,null,null,null,null,null,null,null,null,null,null,null,null,null,{"$f":" [1]Folha4!A155","v":0}]
[null,null,null,null,null,null,null,null,null,null,null,null,null,null,null,{"$f":" [1]SecundariaMinutaCpfl!A162","v":0},{"$f":" [1]PrimariaMinutaCpfl!A162","v":0},{"$f":" [1]NeutroMinutaCpfl!A162","v":0},null,null,125,null,null,null,null,null,null,null,null,null,null,null,null,null,null,null,{"$f":" [1]Folha4!A156","v":0}]
[null,null,null,null,null,null,null,null,null,null,null,null,null,null,null,{"$f":" [1]SecundariaMinutaCpfl!A163","v":0},{"$f":" [1]PrimariaMinutaCpfl!A163","v":0},{"$f":" [1]NeutroMinutaCpfl!A163","v":0},null,null,126,null,null,null,null,null,null,null,null,null,null,null,null,null,null,null,{"$f":" [1]Folha4!A157","v":0}]
[null,null,null,null,null,null,null,null,null,null,null,null,null,null,null,{"$f":" [1]SecundariaMinutaCpfl!A164","v":0},{"$f":" [1]PrimariaMinutaCpfl!A164","v":0},{"$f":" [1]NeutroMinutaCpfl!A164","v":0},null,null,127,null,null,null,null,null,null,null,null,null,null,null,null,null,null,null,{"$f":" [1]Folha4!A158","v":0}]
[null,null,null,null,null,null,null,null,null,null,null,null,null,null,null,{"$f":" [1]SecundariaMinutaCpfl!A165","v":0},{"$f":" [1]PrimariaMinutaCpfl!A165","v":0},{"$f":" [1]NeutroMinutaCpfl!A165","v":0},null,null,128,null,null,null,null,null,null,null,null,null,null,null,null,null,null,null,{"$f":" [1]Folha4!A159","v":0}]
[null,null,null,null,null,null,null,null,null,null,null,null,null,null,null,{"$f":" [1]SecundariaMinutaCpfl!A166","v":0},{"$f":" [1]PrimariaMinutaCpfl!A166","v":0},{"$f":" [1]NeutroMinutaCpfl!A166","v":0},null,null,129,null,null,null,null,null,null,null,null,null,null,null,null,null,null,null,{"$f":" [1]Folha4!A160","v":0}]
[null,null,null,null,null,null,null,null,null,null,null,null,null,null,null,{"$f":" [1]SecundariaMinutaCpfl!A167","v":0},{"$f":" [1]PrimariaMinutaCpfl!A167","v":0},{"$f":" [1]NeutroMinutaCpfl!A167","v":0},null,null,130,null,null,null,null,null,null,null,null,null,null,null,null,null,null,null,{"$f":" [1]Folha4!A161","v":0}]
[null,null,null,null,null,null,null,null,null,null,null,null,null,null,null,{"$f":" [1]SecundariaMinutaCpfl!A168","v":0},{"$f":" [1]PrimariaMinutaCpfl!A168","v":0},{"$f":" [1]NeutroMinutaCpfl!A168","v":0},null,null,131,null,null,null,null,null,null,null,null,null,null,null,null,null,null,null,{"$f":" [1]Folha4!A162","v":0}]
[null,null,null,null,null,null,null,null,null,null,null,null,null,null,null,{"$f":" [1]SecundariaMinutaCpfl!A169","v":0},{"$f":" [1]PrimariaMinutaCpfl!A169","v":0},{"$f":" [1]NeutroMinutaCpfl!A169","v":0},null,null,132,null,null,null,null,null,null,null,null,null,null,null,null,null,null,null,{"$f":" [1]Folha4!A163","v":0}]
[null,null,null,null,null,null,null,null,null,null,null,null,null,null,null,{"$f":" [1]SecundariaMinutaCpfl!A170","v":0},{"$f":" [1]PrimariaMinutaCpfl!A170","v":0},{"$f":" [1]NeutroMinutaCpfl!A170","v":0},null,null,133,null,null,null,null,null,null,null,null,null,null,null,null,null,null,null,{"$f":" [1]Folha4!A164","v":0}]
[null,null,null,null,null,null,null,null,null,null,null,null,null,null,null,{"$f":" [1]SecundariaMinutaCpfl!A171","v":0},{"$f":" [1]PrimariaMinutaCpfl!A171","v":0},{"$f":" [1]NeutroMinutaCpfl!A171","v":0},null,null,134,null,null,null,null,null,null,null,null,null,null,null,null,null,null,null,{"$f":" [1]Folha4!A165","v":0}]
[null,null,null,null,null,null,null,null,null,null,null,null,null,null,null,{"$f":" [1]SecundariaMinutaCpfl!A172","v":0},{"$f":" [1]PrimariaMinutaCpfl!A172","v":0},{"$f":" [1]NeutroMinutaCpfl!A172","v":0},null,null,135,null,null,null,null,null,null,null,null,null,null,null,null,null,null,null,{"$f":" [1]Folha4!A166","v":0}]
[null,null,null,null,null,null,null,null,null,null,null,null,null,null,null,{"$f":" [1]SecundariaMinutaCpfl!A173","v":0},{"$f":" [1]PrimariaMinutaCpfl!A173","v":0},{"$f":" [1]NeutroMinutaCpfl!A173","v":0},null,null,136,null,null,null,null,null,null,null,null,null,null,null,null,null,null,null,{"$f":" [1]Folha4!A167","v":0}]
[null,null,null,null,null,null,null,null,null,null,null,null,null,null,null,{"$f":" [1]SecundariaMinutaCpfl!A174","v":0},{"$f":" [1]PrimariaMinutaCpfl!A174","v":0},{"$f":" [1]NeutroMinutaCpfl!A174","v":0},null,null,137,null,null,null,null,null,null,null,null,null,null,null,null,null,null,null,{"$f":" [1]Folha4!A168","v":0}]
[null,null,null,null,null,null,null,null,null,null,null,null,null,null,null,{"$f":" [1]SecundariaMinutaCpfl!A175","v":0},{"$f":" [1]PrimariaMinutaCpfl!A175","v":0},{"$f":" [1]NeutroMinutaCpfl!A175","v":0},null,null,138,null,null,null,null,null,null,null,null,null,null,null,null,null,null,null,{"$f":" [1]Folha4!A169","v":0}]
[null,null,null,null,null,null,null,null,null,null,null,null,null,null,null,{"$f":" [1]SecundariaMinutaCpfl!A176","v":0},{"$f":" [1]PrimariaMinutaCpfl!A176","v":0},{"$f":" [1]NeutroMinutaCpfl!A176","v":0},null,null,139,null,null,null,null,null,null,null,null,null,null,null,null,null,null,null,{"$f":" [1]Folha4!A170","v":0}]
[null,null,null,null,null,null,null,null,null,null,null,null,null,null,null,{"$f":" [1]SecundariaMinutaCpfl!A177","v":0},{"$f":" [1]PrimariaMinutaCpfl!A177","v":0},{"$f":" [1]NeutroMinutaCpfl!A177","v":0},null,null,140,null,null,null,null,null,null,null,null,null,null,null,null,null,null,null,{"$f":" [1]Folha4!A171","v":0}]
[null,null,null,null,null,null,null,null,null,null,null,null,null,null,null,{"$f":" [1]SecundariaMinutaCpfl!A178","v":0},{"$f":" [1]PrimariaMinutaCpfl!A178","v":0},{"$f":" [1]NeutroMinutaCpfl!A178","v":0},null,null,141,null,null,null,null,null,null,null,null,null,null,null,null,null,null,null,{"$f":" [1]Folha4!A172","v":0}]
[null,null,null,null,null,null,null,null,null,null,null,null,null,null,null,{"$f":" [1]SecundariaMinutaCpfl!A179","v":0},{"$f":" [1]PrimariaMinutaCpfl!A179","v":0},{"$f":" [1]NeutroMinutaCpfl!A179","v":0},null,null,142,null,null,null,null,null,null,null,null,null,null,null,null,null,null,null,{"$f":" [1]Folha4!A173","v":0}]
[null,null,null,null,null,null,null,null,null,null,null,null,null,null,null,{"$f":" [1]SecundariaMinutaCpfl!A180","v":0},{"$f":" [1]PrimariaMinutaCpfl!A180","v":0},{"$f":" [1]NeutroMinutaCpfl!A180","v":0},null,null,143,null,null,null,null,null,null,null,null,null,null,null,null,null,null,null,{"$f":" [1]Folha4!A174","v":0}]
[null,null,null,null,null,null,null,null,null,null,null,null,null,null,null,{"$f":" [1]SecundariaMinutaCpfl!A181","v":0},{"$f":" [1]PrimariaMinutaCpfl!A181","v":0},{"$f":" [1]NeutroMinutaCpfl!A181","v":0},null,null,144,null,null,null,null,null,null,null,null,null,null,null,null,null,null,null,{"$f":" [1]Folha4!A175","v":0}]
[null,null,null,null,null,null,null,null,null,null,null,null,null,null,null,{"$f":" [1]SecundariaMinutaCpfl!A182","v":0},{"$f":" [1]PrimariaMinutaCpfl!A182","v":0},{"$f":" [1]NeutroMinutaCpfl!A182","v":0},null,null,145,null,null,null,null,null,null,null,null,null,null,null,null,null,null,null,{"$f":" [1]Folha4!A176","v":0}]
[null,null,null,null,null,null,null,null,null,null,null,null,null,null,null,{"$f":" [1]SecundariaMinutaCpfl!A183","v":0},{"$f":" [1]PrimariaMinutaCpfl!A183","v":0},{"$f":" [1]NeutroMinutaCpfl!A183","v":0},null,null,146,null,null,null,null,null,null,null,null,null,null,null,null,null,null,null,{"$f":" [1]Folha4!A177","v":0}]
[null,null,null,null,null,null,null,null,null,null,null,null,null,null,null,{"$f":" [1]SecundariaMinutaCpfl!A184","v":0},{"$f":" [1]PrimariaMinutaCpfl!A184","v":0},{"$f":" [1]NeutroMinutaCpfl!A184","v":0},null,null,147,null,null,null,null,null,null,null,null,null,null,null,null,null,null,null,{"$f":" [1]Folha4!A178","v":0}]
[null,null,null,null,null,null,null,null,null,null,null,null,null,null,null,{"$f":" [1]SecundariaMinutaCpfl!A185","v":0},{"$f":" [1]PrimariaMinutaCpfl!A185","v":0},{"$f":" [1]NeutroMinutaCpfl!A185","v":0},null,null,148,null,null,null,null,null,null,null,null,null,null,null,null,null,null,null,{"$f":" [1]Folha4!A179","v":0}]
[null,null,null,null,null,null,null,null,null,null,null,null,null,null,null,{"$f":" [1]SecundariaMinutaCpfl!A186","v":0},{"$f":" [1]PrimariaMinutaCpfl!A186","v":0},{"$f":" [1]NeutroMinutaCpfl!A186","v":0},null,null,149,null,null,null,null,null,null,null,null,null,null,null,null,null,null,null,{"$f":" [1]Folha4!A180","v":0}]
[null,null,null,null,null,null,null,null,null,null,null,null,null,null,null,{"$f":" [1]SecundariaMinutaCpfl!A187","v":0},{"$f":" [1]PrimariaMinutaCpfl!A187","v":0},{"$f":" [1]NeutroMinutaCpfl!A187","v":0},null,null,150,null,null,null,null,null,null,null,null,null,null,null,null,null,null,null,{"$f":" [1]Folha4!A181","v":0}]
[null,null,null,null,null,null,null,null,null,null,null,null,null,null,null,{"$f":" [1]SecundariaMinutaCpfl!A188","v":0},{"$f":" [1]PrimariaMinutaCpfl!A188","v":0},{"$f":" [1]NeutroMinutaCpfl!A188","v":0},null,null,151,null,null,null,null,null,null,null,null,null,null,null,null,null,null,null,{"$f":" [1]Folha4!A182","v":0}]
[null,null,null,null,null,null,null,null,null,null,null,null,null,null,null,{"$f":" [1]SecundariaMinutaCpfl!A189","v":0},{"$f":" [1]PrimariaMinutaCpfl!A189","v":0},{"$f":" [1]NeutroMinutaCpfl!A189","v":0},null,null,152,null,null,null,null,null,null,null,null,null,null,null,null,null,null,null,{"$f":" [1]Folha4!A183","v":0}]
[null,null,null,null,null,null,null,null,null,null,null,null,null,null,null,{"$f":" [1]SecundariaMinutaCpfl!A190","v":0},{"$f":" [1]PrimariaMinutaCpfl!A190","v":0},{"$f":" [1]NeutroMinutaCpfl!A190","v":0},null,null,153,null,null,null,null,null,null,null,null,null,null,null,null,null,null,null,{"$f":" [1]Folha4!A184","v":0}]
[null,null,null,null,null,null,null,null,null,null,null,null,null,null,null,{"$f":" [1]SecundariaMinutaCpfl!A191","v":0},{"$f":" [1]PrimariaMinutaCpfl!A191","v":0},{"$f":" [1]NeutroMinutaCpfl!A191","v":0},null,null,154,null,null,null,null,null,null,null,null,null,null,null,null,null,null,null,{"$f":" [1]Folha4!A185","v":0}]
[null,null,null,null,null,null,null,null,null,null,null,null,null,null,null,{"$f":" [1]SecundariaMinutaCpfl!A192","v":0},{"$f":" [1]PrimariaMinutaCpfl!A192","v":0},{"$f":" [1]NeutroMinutaCpfl!A192","v":0},null,null,155,null,null,null,null,null,null,null,null,null,null,null,null,null,null,null,{"$f":" [1]Folha4!A186","v":0}]
[null,null,null,null,null,null,null,null,null,null,null,null,null,null,null,{"$f":" [1]SecundariaMinutaCpfl!A193","v":0},{"$f":" [1]PrimariaMinutaCpfl!A193","v":0},{"$f":" [1]NeutroMinutaCpfl!A193","v":0},null,null,156,null,null,null,null,null,null,null,null,null,null,null,null,null,null,null,{"$f":" [1]Folha4!A187","v":0}]
[null,null,null,null,null,null,null,null,null,null,null,null,null,null,null,{"$f":" [1]SecundariaMinutaCpfl!A194","v":0},{"$f":" [1]PrimariaMinutaCpfl!A194","v":0},{"$f":" [1]NeutroMinutaCpfl!A194","v":0},null,null,157,null,null,null,null,null,null,null,null,null,null,null,null,null,null,null,{"$f":" [1]Folha4!A188","v":0}]
[null,null,null,null,null,null,null,null,null,null,null,null,null,null,null,{"$f":" [1]SecundariaMinutaCpfl!A195","v":0},{"$f":" [1]PrimariaMinutaCpfl!A195","v":0},{"$f":" [1]NeutroMinutaCpfl!A195","v":0},null,null,158,null,null,null,null,null,null,null,null,null,null,null,null,null,null,null,{"$f":" [1]Folha4!A189","v":0}]
[null,null,null,null,null,null,null,null,null,null,null,null,null,null,null,{"$f":" [1]SecundariaMinutaCpfl!A196","v":0},{"$f":" [1]PrimariaMinutaCpfl!A196","v":0},{"$f":" [1]NeutroMinutaCpfl!A196","v":0},null,null,159,null,null,null,null,null,null,null,null,null,null,null,null,null,null,null,{"$f":" [1]Folha4!A190","v":0}]
[null,null,null,null,null,null,null,null,null,null,null,null,null,null,null,{"$f":" [1]SecundariaMinutaCpfl!A197","v":0},{"$f":" [1]PrimariaMinutaCpfl!A197","v":0},{"$f":" [1]NeutroMinutaCpfl!A197","v":0},null,null,160,null,null,null,null,null,null,null,null,null,null,null,null,null,null,null,{"$f":" [1]Folha4!A191","v":0}]
[null,null,null,null,null,null,null,null,null,null,null,null,null,null,null,{"$f":" [1]SecundariaMinutaCpfl!A198","v":0},{"$f":" [1]PrimariaMinutaCpfl!A198","v":0},{"$f":" [1]NeutroMinutaCpfl!A198","v":0},null,null,161,null,null,null,null,null,null,null,null,null,null,null,null,null,null,null,{"$f":" [1]Folha4!A192","v":0}]
[null,null,null,null,null,null,null,null,null,null,null,null,null,null,null,{"$f":" [1]SecundariaMinutaCpfl!A199","v":0},{"$f":" [1]PrimariaMinutaCpfl!A199","v":0},{"$f":" [1]NeutroMinutaCpfl!A199","v":0},null,null,162,null,null,null,null,null,null,null,null,null,null,null,null,null,null,null,{"$f":" [1]Folha4!A193","v":0}]
[null,null,null,null,null,null,null,null,null,null,null,null,null,null,null,{"$f":" [1]SecundariaMinutaCpfl!A200","v":0},{"$f":" [1]PrimariaMinutaCpfl!A200","v":0},{"$f":" [1]NeutroMinutaCpfl!A200","v":0},null,null,163,null,null,null,null,null,null,null,null,null,null,null,null,null,null,null,{"$f":" [1]Folha4!A194","v":0}]
[null,null,null,null,null,null,null,null,null,null,null,null,null,null,null,{"$f":" [1]SecundariaMinutaCpfl!A201","v":0},{"$f":" [1]PrimariaMinutaCpfl!A201","v":0},{"$f":" [1]NeutroMinutaCpfl!A201","v":0},null,null,164,null,null,null,null,null,null,null,null,null,null,null,null,null,null,null,{"$f":" [1]Folha4!A195","v":0}]
[null,null,null,null,null,null,null,null,null,null,null,null,null,null,null,{"$f":" [1]SecundariaMinutaCpfl!A202","v":0},{"$f":" [1]PrimariaMinutaCpfl!A202","v":0},{"$f":" [1]NeutroMinutaCpfl!A202","v":0},null,null,165,null,null,null,null,null,null,null,null,null,null,null,null,null,null,null,{"$f":" [1]Folha4!A196","v":0}]
[null,null,null,null,null,null,null,null,null,null,null,null,null,null,null,{"$f":" [1]SecundariaMinutaCpfl!A203","v":0},{"$f":" [1]PrimariaMinutaCpfl!A203","v":0},{"$f":" [1]NeutroMinutaCpfl!A203","v":0},null,null,166,null,null,null,null,null,null,null,null,null,null,null,null,null,null,null,{"$f":" [1]Folha4!A197","v":0}]
[null,null,null,null,null,null,null,null,null,null,null,null,null,null,null,{"$f":" [1]SecundariaMinutaCpfl!A204","v":0},{"$f":" [1]PrimariaMinutaCpfl!A204","v":0},{"$f":" [1]NeutroMinutaCpfl!A204","v":0},null,null,167,null,null,null,null,null,null,null,null,null,null,null,null,null,null,null,{"$f":" [1]Folha4!A198","v":0}]
[null,null,null,null,null,null,null,null,null,null,null,null,null,null,null,{"$f":" [1]SecundariaMinutaCpfl!A205","v":0},{"$f":" [1]PrimariaMinutaCpfl!A205","v":0},{"$f":" [1]NeutroMinutaCpfl!A205","v":0},null,null,168,null,null,null,null,null,null,null,null,null,null,null,null,null,null,null,{"$f":" [1]Folha4!A199","v":0}]
[null,null,null,null,null,null,null,null,null,null,null,null,null,null,null,{"$f":" [1]SecundariaMinutaCpfl!A206","v":0},{"$f":" [1]PrimariaMinutaCpfl!A206","v":0},{"$f":" [1]NeutroMinutaCpfl!A206","v":0},null,null,169,null,null,null,null,null,null,null,null,null,null,null,null,null,null,null,{"$f":" [1]Folha4!A200","v":0}]
[null,null,null,null,null,null,null,null,null,null,null,null,null,null,null,{"$f":" [1]SecundariaMinutaCpfl!A207","v":0},{"$f":" [1]PrimariaMinutaCpfl!A207","v":0},{"$f":" [1]NeutroMinutaCpfl!A207","v":0},null,null,170,null,null,null,null,null,null,null,null,null,null,null,null,null,null,null,{"$f":" [1]Folha4!A201","v":0}]
[null,null,null,null,null,null,null,null,null,null,null,null,null,null,null,{"$f":" [1]SecundariaMinutaCpfl!A208","v":0},{"$f":" [1]PrimariaMinutaCpfl!A208","v":0},{"$f":" [1]NeutroMinutaCpfl!A208","v":0},null,null,171,null,null,null,null,null,null,null,null,null,null,null,null,null,null,null,{"$f":" [1]Folha4!A202","v":0}]
[null,null,null,null,null,null,null,null,null,null,null,null,null,null,null,{"$f":" [1]SecundariaMinutaCpfl!A209","v":0},{"$f":" [1]PrimariaMinutaCpfl!A209","v":0},{"$f":" [1]NeutroMinutaCpfl!A209","v":0},null,null,172,null,null,null,null,null,null,null,null,null,null,null,null,null,null,null,{"$f":" [1]Folha4!A203","v":0}]
[null,null,null,null,null,null,null,null,null,null,null,null,null,null,null,{"$f":" [1]SecundariaMinutaCpfl!A210","v":0},{"$f":" [1]PrimariaMinutaCpfl!A210","v":0},{"$f":" [1]NeutroMinutaCpfl!A210","v":0},null,null,173,null,null,null,null,null,null,null,null,null,null,null,null,null,null,null,{"$f":" [1]Folha4!A204","v":0}]
[null,null,null,null,null,null,null,null,null,null,null,null,null,null,null,{"$f":" [1]SecundariaMinutaCpfl!A211","v":0},{"$f":" [1]PrimariaMinutaCpfl!A211","v":0},{"$f":" [1]NeutroMinutaCpfl!A211","v":0},null,null,174,null,null,null,null,null,null,null,null,null,null,null,null,null,null,null,{"$f":" [1]Folha4!A205","v":0}]
[null,null,null,null,null,null,null,null,null,null,null,null,null,null,null,{"$f":" [1]SecundariaMinutaCpfl!A212","v":0},{"$f":" [1]PrimariaMinutaCpfl!A212","v":0},{"$f":" [1]NeutroMinutaCpfl!A212","v":0},null,null,175,null,null,null,null,null,null,null,null,null,null,null,null,null,null,null,{"$f":" [1]Folha4!A206","v":0}]
[null,null,null,null,null,null,null,null,null,null,null,null,null,null,null,{"$f":" [1]SecundariaMinutaCpfl!A213","v":0},{"$f":" [1]PrimariaMinutaCpfl!A213","v":0},{"$f":" [1]NeutroMinutaCpfl!A213","v":0},null,null,176,null,null,null,null,null,null,null,null,null,null,null,null,null,null,null,{"$f":" [1]Folha4!A207","v":0}]
[null,null,null,null,null,null,null,null,null,null,null,null,null,null,null,{"$f":" [1]SecundariaMinutaCpfl!A214","v":0},{"$f":" [1]PrimariaMinutaCpfl!A214","v":0},{"$f":" [1]NeutroMinutaCpfl!A214","v":0},null,null,177,null,null,null,null,null,null,null,null,null,null,null,null,null,null,null,{"$f":" [1]Folha4!A208","v":0}]
[null,null,null,null,null,null,null,null,null,null,null,null,null,null,null,{"$f":" [1]SecundariaMinutaCpfl!A215","v":0},{"$f":" [1]PrimariaMinutaCpfl!A215","v":0},{"$f":" [1]NeutroMinutaCpfl!A215","v":0},null,null,178,null,null,null,null,null,null,null,null,null,null,null,null,null,null,null,{"$f":" [1]Folha4!A209","v":0}]
[null,null,null,null,null,null,null,null,null,null,null,null,null,null,null,{"$f":" [1]SecundariaMinutaCpfl!A216","v":0},{"$f":" [1]PrimariaMinutaCpfl!A216","v":0},{"$f":" [1]NeutroMinutaCpfl!A216","v":0},null,null,179,null,null,null,null,null,null,null,null,null,null,null,null,null,null,null,{"$f":" [1]Folha4!A210","v":0}]
[null,null,null,null,null,null,null,null,null,null,null,null,null,null,null,{"$f":" [1]SecundariaMinutaCpfl!A217","v":0},{"$f":" [1]PrimariaMinutaCpfl!A217","v":0},{"$f":" [1]NeutroMinutaCpfl!A217","v":0},null,null,180,null,null,null,null,null,null,null,null,null,null,null,null,null,null,null,{"$f":" [1]Folha4!A211","v":0}]
[null,null,null,null,null,null,null,null,null,null,null,null,null,null,null,{"$f":" [1]SecundariaMinutaCpfl!A218","v":0},{"$f":" [1]PrimariaMinutaCpfl!A218","v":0},{"$f":" [1]NeutroMinutaCpfl!A218","v":0},null,null,181,null,null,null,null,null,null,null,null,null,null,null,null,null,null,null,{"$f":" [1]Folha4!A212","v":0}]
[null,null,null,null,null,null,null,null,null,null,null,null,null,null,null,{"$f":" [1]SecundariaMinutaCpfl!A219","v":0},{"$f":" [1]PrimariaMinutaCpfl!A219","v":0},{"$f":" [1]NeutroMinutaCpfl!A219","v":0},null,null,182,null,null,null,null,null,null,null,null,null,null,null,null,null,null,null,{"$f":" [1]Folha4!A213","v":0}]
[null,null,null,null,null,null,null,null,null,null,null,null,null,null,null,{"$f":" [1]SecundariaMinutaCpfl!A220","v":0},{"$f":" [1]PrimariaMinutaCpfl!A220","v":0},{"$f":" [1]NeutroMinutaCpfl!A220","v":0},null,null,183,null,null,null,null,null,null,null,null,null,null,null,null,null,null,null,{"$f":" [1]Folha4!A214","v":0}]
[null,null,null,null,null,null,null,null,null,null,null,null,null,null,null,{"$f":" [1]SecundariaMinutaCpfl!A221","v":0},{"$f":" [1]PrimariaMinutaCpfl!A221","v":0},{"$f":" [1]NeutroMinutaCpfl!A221","v":0},null,null,184,null,null,null,null,null,null,null,null,null,null,null,null,null,null,null,{"$f":" [1]Folha4!A215","v":0}]
[null,null,null,null,null,null,null,null,null,null,null,null,null,null,null,{"$f":" [1]SecundariaMinutaCpfl!A222","v":0},{"$f":" [1]PrimariaMinutaCpfl!A222","v":0},{"$f":" [1]NeutroMinutaCpfl!A222","v":0},null,null,185,null,null,null,null,null,null,null,null,null,null,null,null,null,null,null,{"$f":" [1]Folha4!A216","v":0}]
[null,null,null,null,null,null,null,null,null,null,null,null,null,null,null,{"$f":" [1]SecundariaMinutaCpfl!A223","v":0},{"$f":" [1]PrimariaMinutaCpfl!A223","v":0},{"$f":" [1]NeutroMinutaCpfl!A223","v":0},null,null,186,null,null,null,null,null,null,null,null,null,null,null,null,null,null,null,{"$f":" [1]Folha4!A217","v":0}]
[null,null,null,null,null,null,null,null,null,null,null,null,null,null,null,{"$f":" [1]SecundariaMinutaCpfl!A224","v":0},{"$f":" [1]PrimariaMinutaCpfl!A224","v":0},{"$f":" [1]NeutroMinutaCpfl!A224","v":0},null,null,187,null,null,null,null,null,null,null,null,null,null,null,null,null,null,null,{"$f":" [1]Folha4!A218","v":0}]
[null,null,null,null,null,null,null,null,null,null,null,null,null,null,null,{"$f":" [1]SecundariaMinutaCpfl!A225","v":0},{"$f":" [1]PrimariaMinutaCpfl!A225","v":0},{"$f":" [1]NeutroMinutaCpfl!A225","v":0},null,null,188,null,null,null,null,null,null,null,null,null,null,null,null,null,null,null,{"$f":" [1]Folha4!A219","v":0}]
[null,null,null,null,null,null,null,null,null,null,null,null,null,null,null,{"$f":" [1]SecundariaMinutaCpfl!A226","v":0},{"$f":" [1]PrimariaMinutaCpfl!A226","v":0},{"$f":" [1]NeutroMinutaCpfl!A226","v":0},null,null,189,null,null,null,null,null,null,null,null,null,null,null,null,null,null,null,{"$f":" [1]Folha4!A220","v":0}]
[null,null,null,null,null,null,null,null,null,null,null,null,null,null,null,{"$f":" [1]SecundariaMinutaCpfl!A227","v":0},{"$f":" [1]PrimariaMinutaCpfl!A227","v":0},{"$f":" [1]NeutroMinutaCpfl!A227","v":0},null,null,190,null,null,null,null,null,null,null,null,null,null,null,null,null,null,null,{"$f":" [1]Folha4!A221","v":0}]
[null,null,null,null,null,null,null,null,null,null,null,null,null,null,null,{"$f":" [1]SecundariaMinutaCpfl!A228","v":0},{"$f":" [1]PrimariaMinutaCpfl!A228","v":0},{"$f":" [1]NeutroMinutaCpfl!A228","v":0},null,null,191,null,null,null,null,null,null,null,null,null,null,null,null,null,null,null,{"$f":" [1]Folha4!A222","v":0}]
[null,null,null,null,null,null,null,null,null,null,null,null,null,null,null,{"$f":" [1]SecundariaMinutaCpfl!A229","v":0},{"$f":" [1]PrimariaMinutaCpfl!A229","v":0},{"$f":" [1]NeutroMinutaCpfl!A229","v":0},null,null,192,null,null,null,null,null,null,null,null,null,null,null,null,null,null,null,{"$f":" [1]Folha4!A223","v":0}]
[null,null,null,null,null,null,null,null,null,null,null,null,null,null,null,{"$f":" [1]SecundariaMinutaCpfl!A230","v":0},{"$f":" [1]PrimariaMinutaCpfl!A230","v":0},{"$f":" [1]NeutroMinutaCpfl!A230","v":0},null,null,193,null,null,null,null,null,null,null,null,null,null,null,null,null,null,null,{"$f":" [1]Folha4!A224","v":0}]
[null,null,null,null,null,null,null,null,null,null,null,null,null,null,null,{"$f":" [1]SecundariaMinutaCpfl!A231","v":0},{"$f":" [1]PrimariaMinutaCpfl!A231","v":0},{"$f":" [1]NeutroMinutaCpfl!A231","v":0},null,null,194,null,null,null,null,null,null,null,null,null,null,null,null,null,null,null,{"$f":" [1]Folha4!A225","v":0}]
[null,null,null,null,null,null,null,null,null,null,null,null,null,null,null,{"$f":" [1]SecundariaMinutaCpfl!A232","v":0},{"$f":" [1]PrimariaMinutaCpfl!A232","v":0},{"$f":" [1]NeutroMinutaCpfl!A232","v":0},null,null,195,null,null,null,null,null,null,null,null,null,null,null,null,null,null,null,{"$f":" [1]Folha4!A226","v":0}]
[null,null,null,null,null,null,null,null,null,null,null,null,null,null,null,{"$f":" [1]SecundariaMinutaCpfl!A233","v":0},{"$f":" [1]PrimariaMinutaCpfl!A233","v":0},{"$f":" [1]NeutroMinutaCpfl!A233","v":0},null,null,196,null,null,null,null,null,null,null,null,null,null,null,null,null,null,null,{"$f":" [1]Folha4!A227","v":0}]
[null,null,null,null,null,null,null,null,null,null,null,null,null,null,null,{"$f":" [1]SecundariaMinutaCpfl!A234","v":0},{"$f":" [1]PrimariaMinutaCpfl!A234","v":0},{"$f":" [1]NeutroMinutaCpfl!A234","v":0},null,null,197,null,null,null,null,null,null,null,null,null,null,null,null,null,null,null,{"$f":" [1]Folha4!A228","v":0}]
[null,null,null,null,null,null,null,null,null,null,null,null,null,null,null,{"$f":" [1]SecundariaMinutaCpfl!A235","v":0},{"$f":" [1]PrimariaMinutaCpfl!A235","v":0},{"$f":" [1]NeutroMinutaCpfl!A235","v":0},null,null,198,null,null,null,null,null,null,null,null,null,null,null,null,null,null,null,{"$f":" [1]Folha4!A229","v":0}]
[null,null,null,null,null,null,null,null,null,null,null,null,null,null,null,{"$f":" [1]SecundariaMinutaCpfl!A236","v":0},{"$f":" [1]PrimariaMinutaCpfl!A236","v":0},{"$f":" [1]NeutroMinutaCpfl!A236","v":0},null,null,199,null,null,null,null,null,null,null,null,null,null,null,null,null,null,null,{"$f":" [1]Folha4!A230","v":0}]
[null,null,null,null,null,null,null,null,null,null,null,null,null,null,null,{"$f":" [1]SecundariaMinutaCpfl!A237","v":0},{"$f":" [1]PrimariaMinutaCpfl!A237","v":0},{"$f":" [1]NeutroMinutaCpfl!A237","v":0},null,null,200,null,null,null,null,null,null,null,null,null,null,null,null,null,null,null,{"$f":" [1]Folha4!A231","v":0}]
[null,null,null,null,null,null,null,null,null,null,null,null,null,null,null,{"$f":" [1]SecundariaMinutaCpfl!A238","v":0},{"$f":" [1]PrimariaMinutaCpfl!A238","v":0},{"$f":" [1]NeutroMinutaCpfl!A238","v":0},null,null,201,null,null,null,null,null,null,null,null,null,null,null,null,null,null,null,{"$f":" [1]Folha4!A232","v":0}]
[null,null,null,null,null,null,null,null,null,null,null,null,null,null,null,{"$f":" [1]SecundariaMinutaCpfl!A239","v":0},{"$f":" [1]PrimariaMinutaCpfl!A239","v":0},{"$f":" [1]NeutroMinutaCpfl!A239","v":0},null,null,202,null,null,null,null,null,null,null,null,null,null,null,null,null,null,null,{"$f":" [1]Folha4!A233","v":0}]
[null,null,null,null,null,null,null,null,null,null,null,null,null,null,null,{"$f":" [1]SecundariaMinutaCpfl!A240","v":0},{"$f":" [1]PrimariaMinutaCpfl!A240","v":0},{"$f":" [1]NeutroMinutaCpfl!A240","v":0},null,null,203,null,null,null,null,null,null,null,null,null,null,null,null,null,null,null,{"$f":" [1]Folha4!A234","v":0}]
[null,null,null,null,null,null,null,null,null,null,null,null,null,null,null,{"$f":" [1]SecundariaMinutaCpfl!A241","v":0},{"$f":" [1]PrimariaMinutaCpfl!A241","v":0},{"$f":" [1]NeutroMinutaCpfl!A241","v":0},null,null,204,null,null,null,null,null,null,null,null,null,null,null,null,null,null,null,{"$f":" [1]Folha4!A235","v":0}]
[null,null,null,null,null,null,null,null,null,null,null,null,null,null,null,{"$f":" [1]SecundariaMinutaCpfl!A242","v":0},{"$f":" [1]PrimariaMinutaCpfl!A242","v":0},{"$f":" [1]NeutroMinutaCpfl!A242","v":0},null,null,205,null,null,null,null,null,null,null,null,null,null,null,null,null,null,null,{"$f":" [1]Folha4!A236","v":0}]
[null,null,null,null,null,null,null,null,null,null,null,null,null,null,null,{"$f":" [1]SecundariaMinutaCpfl!A243","v":0},{"$f":" [1]PrimariaMinutaCpfl!A243","v":0},{"$f":" [1]NeutroMinutaCpfl!A243","v":0},null,null,206,null,null,null,null,null,null,null,null,null,null,null,null,null,null,null,{"$f":" [1]Folha4!A237","v":0}]
[null,null,null,null,null,null,null,null,null,null,null,null,null,null,null,{"$f":" [1]SecundariaMinutaCpfl!A244","v":0},{"$f":" [1]PrimariaMinutaCpfl!A244","v":0},{"$f":" [1]NeutroMinutaCpfl!A244","v":0},null,null,207,null,null,null,null,null,null,null,null,null,null,null,null,null,null,null,{"$f":" [1]Folha4!A238","v":0}]
[null,null,null,null,null,null,null,null,null,null,null,null,null,null,null,{"$f":" [1]SecundariaMinutaCpfl!A245","v":0},{"$f":" [1]PrimariaMinutaCpfl!A245","v":0},{"$f":" [1]NeutroMinutaCpfl!A245","v":0},null,null,208,null,null,null,null,null,null,null,null,null,null,null,null,null,null,null,{"$f":" [1]Folha4!A239","v":0}]
[null,null,null,null,null,null,null,null,null,null,null,null,null,null,null,{"$f":" [1]SecundariaMinutaCpfl!A246","v":0},{"$f":" [1]PrimariaMinutaCpfl!A246","v":0},{"$f":" [1]NeutroMinutaCpfl!A246","v":0},null,null,209,null,null,null,null,null,null,null,null,null,null,null,null,null,null,null,{"$f":" [1]Folha4!A240","v":0}]
[null,null,null,null,null,null,null,null,null,null,null,null,null,null,null,{"$f":" [1]SecundariaMinutaCpfl!A247","v":0},{"$f":" [1]PrimariaMinutaCpfl!A247","v":0},{"$f":" [1]NeutroMinutaCpfl!A247","v":0},null,null,210,null,null,null,null,null,null,null,null,null,null,null,null,null,null,null,{"$f":" [1]Folha4!A241","v":0}]
[null,null,null,null,null,null,null,null,null,null,null,null,null,null,null,{"$f":" [1]SecundariaMinutaCpfl!A248","v":0},{"$f":" [1]PrimariaMinutaCpfl!A248","v":0},{"$f":" [1]NeutroMinutaCpfl!A248","v":0},null,null,211,null,null,null,null,null,null,null,null,null,null,null,null,null,null,null,{"$f":" [1]Folha4!A242","v":0}]
[null,null,null,null,null,null,null,null,null,null,null,null,null,null,null,{"$f":" [1]SecundariaMinutaCpfl!A249","v":0},{"$f":" [1]PrimariaMinutaCpfl!A249","v":0},{"$f":" [1]NeutroMinutaCpfl!A249","v":0},null,null,212,null,null,null,null,null,null,null,null,null,null,null,null,null,null,null,{"$f":" [1]Folha4!A243","v":0}]
[null,null,null,null,null,null,null,null,null,null,null,null,null,null,null,{"$f":" [1]SecundariaMinutaCpfl!A250","v":0},{"$f":" [1]PrimariaMinutaCpfl!A250","v":0},{"$f":" [1]NeutroMinutaCpfl!A250","v":0},null,null,213,null,null,null,null,null,null,null,null,null,null,null,null,null,null,null,{"$f":" [1]Folha4!A244","v":0}]
[null,null,null,null,null,null,null,null,null,null,null,null,null,null,null,{"$f":" [1]SecundariaMinutaCpfl!A251","v":0},{"$f":" [1]PrimariaMinutaCpfl!A251","v":0},{"$f":" [1]NeutroMinutaCpfl!A251","v":0},null,null,214,null,null,null,null,null,null,null,null,null,null,null,null,null,null,null,{"$f":" [1]Folha4!A245","v":0}]
[null,null,null,null,null,null,null,null,null,null,null,null,null,null,null,{"$f":" [1]SecundariaMinutaCpfl!A252","v":0},{"$f":" [1]PrimariaMinutaCpfl!A252","v":0},{"$f":" [1]NeutroMinutaCpfl!A252","v":0},null,null,215,null,null,null,null,null,null,null,null,null,null,null,null,null,null,null,{"$f":" [1]Folha4!A246","v":0}]
[null,null,null,null,null,null,null,null,null,null,null,null,null,null,null,{"$f":" [1]SecundariaMinutaCpfl!A253","v":0},{"$f":" [1]PrimariaMinutaCpfl!A253","v":0},{"$f":" [1]NeutroMinutaCpfl!A253","v":0},null,null,216,null,null,null,null,null,null,null,null,null,null,null,null,null,null,null,{"$f":" [1]Folha4!A247","v":0}]
[null,null,null,null,null,null,null,null,null,null,null,null,null,null,null,{"$f":" [1]SecundariaMinutaCpfl!A254","v":0},{"$f":" [1]PrimariaMinutaCpfl!A254","v":0},{"$f":" [1]NeutroMinutaCpfl!A254","v":0},null,null,217,null,null,null,null,null,null,null,null,null,null,null,null,null,null,null,{"$f":" [1]Folha4!A248","v":0}]
[null,null,null,null,null,null,null,null,null,null,null,null,null,null,null,{"$f":" [1]SecundariaMinutaCpfl!A255","v":0},{"$f":" [1]PrimariaMinutaCpfl!A255","v":0},{"$f":" [1]NeutroMinutaCpfl!A255","v":0},null,null,218,null,null,null,null,null,null,null,null,null,null,null,null,null,null,null,{"$f":" [1]Folha4!A249","v":0}]
[null,null,null,null,null,null,null,null,null,null,null,null,null,null,null,{"$f":" [1]SecundariaMinutaCpfl!A256","v":0},{"$f":" [1]PrimariaMinutaCpfl!A256","v":0},{"$f":" [1]NeutroMinutaCpfl!A256","v":0},null,null,219,null,null,null,null,null,null,null,null,null,null,null,null,null,null,null,{"$f":" [1]Folha4!A250","v":0}]
[null,null,null,null,null,null,null,null,null,null,null,null,null,null,null,{"$f":" [1]SecundariaMinutaCpfl!A257","v":0},{"$f":" [1]PrimariaMinutaCpfl!A257","v":0},{"$f":" [1]NeutroMinutaCpfl!A257","v":0},null,null,220,null,null,null,null,null,null,null,null,null,null,null,null,null,null,null,{"$f":" [1]Folha4!A251","v":0}]
[null,null,null,null,null,null,null,null,null,null,null,null,null,null,null,{"$f":" [1]SecundariaMinutaCpfl!A258","v":0},{"$f":" [1]PrimariaMinutaCpfl!A258","v":0},{"$f":" [1]NeutroMinutaCpfl!A258","v":0},null,null,221,null,null,null,null,null,null,null,null,null,null,null,null,null,null,null,{"$f":" [1]Folha4!A252","v":0}]
[null,null,null,null,null,null,null,null,null,null,null,null,null,null,null,{"$f":" [1]SecundariaMinutaCpfl!A259","v":0},{"$f":" [1]PrimariaMinutaCpfl!A259","v":0},{"$f":" [1]NeutroMinutaCpfl!A259","v":0},null,null,222,null,null,null,null,null,null,null,null,null,null,null,null,null,null,null,{"$f":" [1]Folha4!A253","v":0}]
[null,null,null,null,null,null,null,null,null,null,null,null,null,null,null,{"$f":" [1]SecundariaMinutaCpfl!A260","v":0},{"$f":" [1]PrimariaMinutaCpfl!A260","v":0},{"$f":" [1]NeutroMinutaCpfl!A260","v":0},null,null,223,null,null,null,null,null,null,null,null,null,null,null,null,null,null,null,{"$f":" [1]Folha4!A254","v":0}]
[null,null,null,null,null,null,null,null,null,null,null,null,null,null,null,{"$f":" [1]SecundariaMinutaCpfl!A261","v":0},{"$f":" [1]PrimariaMinutaCpfl!A261","v":0},{"$f":" [1]NeutroMinutaCpfl!A261","v":0},null,null,224,null,null,null,null,null,null,null,null,null,null,null,null,null,null,null,{"$f":" [1]Folha4!A255","v":0}]
[null,null,null,null,null,null,null,null,null,null,null,null,null,null,null,{"$f":" [1]SecundariaMinutaCpfl!A262","v":0},{"$f":" [1]PrimariaMinutaCpfl!A262","v":0},{"$f":" [1]NeutroMinutaCpfl!A262","v":0},null,null,225,null,null,null,null,null,null,null,null,null,null,null,null,null,null,null,{"$f":" [1]Folha4!A256","v":0}]
[null,null,null,null,null,null,null,null,null,null,null,null,null,null,null,{"$f":" [1]SecundariaMinutaCpfl!A263","v":0},{"$f":" [1]PrimariaMinutaCpfl!A263","v":0},{"$f":" [1]NeutroMinutaCpfl!A263","v":0},null,null,226,null,null,null,null,null,null,null,null,null,null,null,null,null,null,null,{"$f":" [1]Folha4!A257","v":0}]
[null,null,null,null,null,null,null,null,null,null,null,null,null,null,null,{"$f":" [1]SecundariaMinutaCpfl!A264","v":0},{"$f":" [1]PrimariaMinutaCpfl!A264","v":0},{"$f":" [1]NeutroMinutaCpfl!A264","v":0},null,null,227,null,null,null,null,null,null,null,null,null,null,null,null,null,null,null,{"$f":" [1]Folha4!A258","v":0}]
[null,null,null,null,null,null,null,null,null,null,null,null,null,null,null,{"$f":" [1]SecundariaMinutaCpfl!A265","v":0},{"$f":" [1]PrimariaMinutaCpfl!A265","v":0},{"$f":" [1]NeutroMinutaCpfl!A265","v":0},null,null,228,null,null,null,null,null,null,null,null,null,null,null,null,null,null,null,{"$f":" [1]Folha4!A259","v":0}]
[null,null,null,null,null,null,null,null,null,null,null,null,null,null,null,{"$f":" [1]SecundariaMinutaCpfl!A266","v":0},{"$f":" [1]PrimariaMinutaCpfl!A266","v":0},{"$f":" [1]NeutroMinutaCpfl!A266","v":0},null,null,229,null,null,null,null,null,null,null,null,null,null,null,null,null,null,null,{"$f":" [1]Folha4!A260","v":0}]
[null,null,null,null,null,null,null,null,null,null,null,null,null,null,null,{"$f":" [1]SecundariaMinutaCpfl!A267","v":0},{"$f":" [1]PrimariaMinutaCpfl!A267","v":0},{"$f":" [1]NeutroMinutaCpfl!A267","v":0},null,null,230,null,null,null,null,null,null,null,null,null,null,null,null,null,null,null,{"$f":" [1]Folha4!A261","v":0}]
[null,null,null,null,null,null,null,null,null,null,null,null,null,null,null,{"$f":" [1]SecundariaMinutaCpfl!A268","v":0},{"$f":" [1]PrimariaMinutaCpfl!A268","v":0},{"$f":" [1]NeutroMinutaCpfl!A268","v":0},null,null,231,null,null,null,null,null,null,null,null,null,null,null,null,null,null,null,{"$f":" [1]Folha4!A262","v":0}]
[null,null,null,null,null,null,null,null,null,null,null,null,null,null,null,{"$f":" [1]SecundariaMinutaCpfl!A269","v":0},{"$f":" [1]PrimariaMinutaCpfl!A269","v":0},{"$f":" [1]NeutroMinutaCpfl!A269","v":0},null,null,232,null,null,null,null,null,null,null,null,null,null,null,null,null,null,null,{"$f":" [1]Folha4!A263","v":0}]
[null,null,null,null,null,null,null,null,null,null,null,null,null,null,null,{"$f":" [1]SecundariaMinutaCpfl!A270","v":0},{"$f":" [1]PrimariaMinutaCpfl!A270","v":0},{"$f":" [1]NeutroMinutaCpfl!A270","v":0},null,null,233,null,null,null,null,null,null,null,null,null,null,null,null,null,null,null,{"$f":" [1]Folha4!A264","v":0}]
[null,null,null,null,null,null,null,null,null,null,null,null,null,null,null,{"$f":" [1]SecundariaMinutaCpfl!A271","v":0},{"$f":" [1]PrimariaMinutaCpfl!A271","v":0},{"$f":" [1]NeutroMinutaCpfl!A271","v":0},null,null,234,null,null,null,null,null,null,null,null,null,null,null,null,null,null,null,{"$f":" [1]Folha4!A265","v":0}]
[null,null,null,null,null,null,null,null,null,null,null,null,null,null,null,{"$f":" [1]SecundariaMinutaCpfl!A272","v":0},{"$f":" [1]PrimariaMinutaCpfl!A272","v":0},{"$f":" [1]NeutroMinutaCpfl!A272","v":0},null,null,235,null,null,null,null,null,null,null,null,null,null,null,null,null,null,null,{"$f":" [1]Folha4!A266","v":0}]
[null,null,null,null,null,null,null,null,null,null,null,null,null,null,null,{"$f":" [1]SecundariaMinutaCpfl!A273","v":0},{"$f":" [1]PrimariaMinutaCpfl!A273","v":0},{"$f":" [1]NeutroMinutaCpfl!A273","v":0},null,null,236,null,null,null,null,null,null,null,null,null,null,null,null,null,null,null,{"$f":" [1]Folha4!A267","v":0}]
[null,null,null,null,null,null,null,null,null,null,null,null,null,null,null,{"$f":" [1]SecundariaMinutaCpfl!A274","v":0},{"$f":" [1]PrimariaMinutaCpfl!A274","v":0},{"$f":" [1]NeutroMinutaCpfl!A274","v":0},null,null,237,null,null,null,null,null,null,null,null,null,null,null,null,null,null,null,{"$f":" [1]Folha4!A268","v":0}]
[null,null,null,null,null,null,null,null,null,null,null,null,null,null,null,{"$f":" [1]SecundariaMinutaCpfl!A275","v":0},{"$f":" [1]PrimariaMinutaCpfl!A275","v":0},{"$f":" [1]NeutroMinutaCpfl!A275","v":0},null,null,238,null,null,null,null,null,null,null,null,null,null,null,null,null,null,null,{"$f":" [1]Folha4!A269","v":0}]
[null,null,null,null,null,null,null,null,null,null,null,null,null,null,null,{"$f":" [1]SecundariaMinutaCpfl!A276","v":0},{"$f":" [1]PrimariaMinutaCpfl!A276","v":0},{"$f":" [1]NeutroMinutaCpfl!A276","v":0},null,null,239,null,null,null,null,null,null,null,null,null,null,null,null,null,null,null,{"$f":" [1]Folha4!A270","v":0}]
[null,null,null,null,null,null,null,null,null,null,null,null,null,null,null,{"$f":" [1]SecundariaMinutaCpfl!A277","v":0},{"$f":" [1]PrimariaMinutaCpfl!A277","v":0},{"$f":" [1]NeutroMinutaCpfl!A277","v":0},null,null,240,null,null,null,null,null,null,null,null,null,null,null,null,null,null,null,{"$f":" [1]Folha4!A271","v":0}]
[null,null,null,null,null,null,null,null,null,null,null,null,null,null,null,{"$f":" [1]SecundariaMinutaCpfl!A278","v":0},{"$f":" [1]PrimariaMinutaCpfl!A278","v":0},{"$f":" [1]NeutroMinutaCpfl!A278","v":0},null,null,241,null,null,null,null,null,null,null,null,null,null,null,null,null,null,null,{"$f":" [1]Folha4!A272","v":0}]
[null,null,null,null,null,null,null,null,null,null,null,null,null,null,null,{"$f":" [1]SecundariaMinutaCpfl!A279","v":0},{"$f":" [1]PrimariaMinutaCpfl!A279","v":0},{"$f":" [1]NeutroMinutaCpfl!A279","v":0},null,null,242,null,null,null,null,null,null,null,null,null,null,null,null,null,null,null,{"$f":" [1]Folha4!A273","v":0}]
[null,null,null,null,null,null,null,null,null,null,null,null,null,null,null,{"$f":" [1]SecundariaMinutaCpfl!A280","v":0},{"$f":" [1]PrimariaMinutaCpfl!A280","v":0},{"$f":" [1]NeutroMinutaCpfl!A280","v":0},null,null,243,null,null,null,null,null,null,null,null,null,null,null,null,null,null,null,{"$f":" [1]Folha4!A274","v":0}]
[null,null,null,null,null,null,null,null,null,null,null,null,null,null,null,{"$f":" [1]SecundariaMinutaCpfl!A281","v":0},{"$f":" [1]PrimariaMinutaCpfl!A281","v":0},{"$f":" [1]NeutroMinutaCpfl!A281","v":0},null,null,244,null,null,null,null,null,null,null,null,null,null,null,null,null,null,null,{"$f":" [1]Folha4!A275","v":0}]
[null,null,null,null,null,null,null,null,null,null,null,null,null,null,null,{"$f":" [1]SecundariaMinutaCpfl!A282","v":0},{"$f":" [1]PrimariaMinutaCpfl!A282","v":0},{"$f":" [1]NeutroMinutaCpfl!A282","v":0},null,null,245,null,null,null,null,null,null,null,null,null,null,null,null,null,null,null,{"$f":" [1]Folha4!A276","v":0}]
[null,null,null,null,null,null,null,null,null,null,null,null,null,null,null,{"$f":" [1]SecundariaMinutaCpfl!A283","v":0},{"$f":" [1]PrimariaMinutaCpfl!A283","v":0},{"$f":" [1]NeutroMinutaCpfl!A283","v":0},null,null,246,null,null,null,null,null,null,null,null,null,null,null,null,null,null,null,{"$f":" [1]Folha4!A277","v":0}]
[null,null,null,null,null,null,null,null,null,null,null,null,null,null,null,{"$f":" [1]SecundariaMinutaCpfl!A284","v":0},{"$f":" [1]PrimariaMinutaCpfl!A284","v":0},{"$f":" [1]NeutroMinutaCpfl!A284","v":0},null,null,247,null,null,null,null,null,null,null,null,null,null,null,null,null,null,null,{"$f":" [1]Folha4!A278","v":0}]
[null,null,null,null,null,null,null,null,null,null,null,null,null,null,null,{"$f":" [1]SecundariaMinutaCpfl!A285","v":0},{"$f":" [1]PrimariaMinutaCpfl!A285","v":0},{"$f":" [1]NeutroMinutaCpfl!A285","v":0},null,null,248,null,null,null,null,null,null,null,null,null,null,null,null,null,null,null,{"$f":" [1]Folha4!A279","v":0}]
[null,null,null,null,null,null,null,null,null,null,null,null,null,null,null,{"$f":" [1]SecundariaMinutaCpfl!A286","v":0},{"$f":" [1]PrimariaMinutaCpfl!A286","v":0},{"$f":" [1]NeutroMinutaCpfl!A286","v":0},null,null,249,null,null,null,null,null,null,null,null,null,null,null,null,null,null,null,{"$f":" [1]Folha4!A280","v":0}]
[null,null,null,null,null,null,null,null,null,null,null,null,null,null,null,{"$f":" [1]SecundariaMinutaCpfl!A287","v":0},{"$f":" [1]PrimariaMinutaCpfl!A287","v":0},{"$f":" [1]NeutroMinutaCpfl!A287","v":0},null,null,250,null,null,null,null,null,null,null,null,null,null,null,null,null,null,null,{"$f":" [1]Folha4!A281","v":0}]
[null,null,null,null,null,null,null,null,null,null,null,null,null,null,null,{"$f":" [1]SecundariaMinutaCpfl!A288","v":0},{"$f":" [1]PrimariaMinutaCpfl!A288","v":0},{"$f":" [1]NeutroMinutaCpfl!A288","v":0},null,null,251,null,null,null,null,null,null,null,null,null,null,null,null,null,null,null,{"$f":" [1]Folha4!A282","v":0}]
[null,null,null,null,null,null,null,null,null,null,null,null,null,null,null,{"$f":" [1]SecundariaMinutaCpfl!A289","v":0},{"$f":" [1]PrimariaMinutaCpfl!A289","v":0},{"$f":" [1]NeutroMinutaCpfl!A289","v":0},null,null,252,null,null,null,null,null,null,null,null,null,null,null,null,null,null,null,{"$f":" [1]Folha4!A283","v":0}]
[null,null,null,null,null,null,null,null,null,null,null,null,null,null,null,{"$f":" [1]SecundariaMinutaCpfl!A290","v":0},{"$f":" [1]PrimariaMinutaCpfl!A290","v":0},{"$f":" [1]NeutroMinutaCpfl!A290","v":0},null,null,253,null,null,null,null,null,null,null,null,null,null,null,null,null,null,null,{"$f":" [1]Folha4!A284","v":0}]
[null,null,null,null,null,null,null,null,null,null,null,null,null,null,null,{"$f":" [1]SecundariaMinutaCpfl!A291","v":0},{"$f":" [1]PrimariaMinutaCpfl!A291","v":0},{"$f":" [1]NeutroMinutaCpfl!A291","v":0},null,null,254,null,null,null,null,null,null,null,null,null,null,null,null,null,null,null,{"$f":" [1]Folha4!A285","v":0}]
[null,null,null,null,null,null,null,null,null,null,null,null,null,null,null,{"$f":" [1]SecundariaMinutaCpfl!A292","v":0},{"$f":" [1]PrimariaMinutaCpfl!A292","v":0},{"$f":" [1]NeutroMinutaCpfl!A292","v":0},null,null,255,null,null,null,null,null,null,null,null,null,null,null,null,null,null,null,{"$f":" [1]Folha4!A286","v":0}]
[null,null,null,null,null,null,null,null,null,null,null,null,null,null,null,{"$f":" [1]SecundariaMinutaCpfl!A293","v":0},{"$f":" [1]PrimariaMinutaCpfl!A293","v":0},{"$f":" [1]NeutroMinutaCpfl!A293","v":0},null,null,256,null,null,null,null,null,null,null,null,null,null,null,null,null,null,null,{"$f":" [1]Folha4!A287","v":0}]
[null,null,null,null,null,null,null,null,null,null,null,null,null,null,null,{"$f":" [1]SecundariaMinutaCpfl!A294","v":0},{"$f":" [1]PrimariaMinutaCpfl!A294","v":0},{"$f":" [1]NeutroMinutaCpfl!A294","v":0},null,null,257,null,null,null,null,null,null,null,null,null,null,null,null,null,null,null,{"$f":" [1]Folha4!A288","v":0}]
[null,null,null,null,null,null,null,null,null,null,null,null,null,null,null,{"$f":" [1]SecundariaMinutaCpfl!A295","v":0},{"$f":" [1]PrimariaMinutaCpfl!A295","v":0},{"$f":" [1]NeutroMinutaCpfl!A295","v":0},null,null,258,null,null,null,null,null,null,null,null,null,null,null,null,null,null,null,{"$f":" [1]Folha4!A289","v":0}]
[null,null,null,null,null,null,null,null,null,null,null,null,null,null,null,{"$f":" [1]SecundariaMinutaCpfl!A296","v":0},{"$f":" [1]PrimariaMinutaCpfl!A296","v":0},{"$f":" [1]NeutroMinutaCpfl!A296","v":0},null,null,259,null,null,null,null,null,null,null,null,null,null,null,null,null,null,null,{"$f":" [1]Folha4!A290","v":0}]
[null,null,null,null,null,null,null,null,null,null,null,null,null,null,null,{"$f":" [1]SecundariaMinutaCpfl!A297","v":0},{"$f":" [1]PrimariaMinutaCpfl!A297","v":0},{"$f":" [1]NeutroMinutaCpfl!A297","v":0},null,null,260,null,null,null,null,null,null,null,null,null,null,null,null,null,null,null,{"$f":" [1]Folha4!A291","v":0}]
[null,null,null,null,null,null,null,null,null,null,null,null,null,null,null,{"$f":" [1]SecundariaMinutaCpfl!A298","v":0},{"$f":" [1]PrimariaMinutaCpfl!A298","v":0},{"$f":" [1]NeutroMinutaCpfl!A298","v":0},null,null,261,null,null,null,null,null,null,null,null,null,null,null,null,null,null,null,{"$f":" [1]Folha4!A292","v":0}]
[null,null,null,null,null,null,null,null,null,null,null,null,null,null,null,{"$f":" [1]SecundariaMinutaCpfl!A299","v":0},{"$f":" [1]PrimariaMinutaCpfl!A299","v":0},{"$f":" [1]NeutroMinutaCpfl!A299","v":0},null,null,262,null,null,null,null,null,null,null,null,null,null,null,null,null,null,null,{"$f":" [1]Folha4!A293","v":0}]
[null,null,null,null,null,null,null,null,null,null,null,null,null,null,null,{"$f":" [1]SecundariaMinutaCpfl!A300","v":0},{"$f":" [1]PrimariaMinutaCpfl!A300","v":0},{"$f":" [1]NeutroMinutaCpfl!A300","v":0},null,null,263,null,null,null,null,null,null,null,null,null,null,null,null,null,null,null,{"$f":" [1]Folha4!A294","v":0}]
[null,null,null,null,null,null,null,null,null,null,null,null,null,null,null,{"$f":" [1]SecundariaMinutaCpfl!A301","v":0},{"$f":" [1]PrimariaMinutaCpfl!A301","v":0},{"$f":" [1]NeutroMinutaCpfl!A301","v":0},null,null,264,null,null,null,null,null,null,null,null,null,null,null,null,null,null,null,{"$f":" [1]Folha4!A295","v":0}]
[null,null,null,null,null,null,null,null,null,null,null,null,null,null,null,{"$f":" [1]SecundariaMinutaCpfl!A302","v":0},{"$f":" [1]PrimariaMinutaCpfl!A302","v":0},{"$f":" [1]NeutroMinutaCpfl!A302","v":0},null,null,265]
[null,null,null,null,null,null,null,null,null,null,null,null,null,null,null,null,null,null,null,null,266]
[null,null,null,null,null,null,null,null,null,null,null,null,null,null,null,null,null,null,null,null,267]
[null,null,null,null,null,null,null,null,null,null,null,null,null,null,null,null,null,null,null,null,268]
[null,null,null,null,null,null,null,null,null,null,null,null,null,null,null,null,null,null,null,null,269]
[null,null,null,null,null,null,null,null,null,null,null,null,null,null,null,null,null,null,null,null,270]
[null,null,null,null,null,null,null,null,null,null,null,null,null,null,null,null,null,null,null,null,271]
[null,null,null,null,null,null,null,null,null,null,null,null,null,null,null,null,null,null,null,null,272]
[null,null,null,null,null,null,null,null,null,null,null,null,null,null,null,null,null,null,null,null,273]
[null,null,null,null,null,null,null,null,null,null,null,null,null,null,null,null,null,null,null,null,274]
[null,null,null,null,null,null,null,null,null,null,null,null,null,null,null,null,null,null,null,null,275]
[null,null,null,null,null,null,null,null,null,null,null,null,null,null,null,null,null,null,null,null,276]
[null,null,null,null,null,null,null,null,null,null,null,null,null,null,null,null,null,null,null,null,277]
[null,null,null,null,null,null,null,null,null,null,null,null,null,null,null,null,null,null,null,null,278]
[null,null,null,null,null,null,null,null,null,null,null,null,null,null,null,null,null,null,null,null,279]
[null,null,null,null,null,null,null,null,null,null,null,null,null,null,null,null,null,null,null,null,280]
[null,null,null,null,null,null,null,null,null,null,null,null,null,null,null,null,null,null,null,null,281]
[null,null,null,null,null,null,null,null,null,null,null,null,null,null,null,null,null,null,null,null,282]
[null,null,null,null,null,null,null,null,null,null,null,null,null,null,null,null,null,null,null,null,283]
[null,null,null,null,null,null,null,null,null,null,null,null,null,null,null,null,null,null,null,null,284]
[null,null,null,null,null,null,null,null,null,null,null,null,null,null,null,null,null,null,null,null,285]
[null,null,null,null,null,null,null,null,null,null,null,null,null,null,null,null,null,null,null,null,286]
[null,null,null,null,null,null,null,null,null,null,null,null,null,null,null,null,null,null,null,null,287]
[null,null,null,null,null,null,null,null,null,null,null,null,null,null,null,null,null,null,null,null,288]
[null,null,null,null,null,null,null,null,null,null,null,null,null,null,null,null,null,null,null,null,289]
[null,null,null,null,null,null,null,null,null,null,null,null,null,null,null,null,null,null,null,null,290]
[null,null,null,null,null,null,null,null,null,null,null,null,null,null,null,null,null,null,null,null,291]
[null,null,null,null,null,null,null,null,null,null,null,null,null,null,null,null,null,null,null,null,292]
[null,null,null,null,null,null,null,null,null,null,null,null,null,null,null,null,null,null,null,null,293]
[null,null,null,null,null,null,null,null,null,null,null,null,null,null,null,null,null,null,null,null,294]
[null,null,null,null,null,null,null,null,null,null,null,null,null,null,null,null,null,null,null,null,295]
[null,null,null,null,null,null,null,null,null,null,null,null,null,null,null,null,null,null,null,null,296]
[null,null,null,null,null,null,null,null,null,null,null,null,null,null,null,null,null,null,null,null,297]
[null,null,null,null,null,null,null,null,null,null,null,null,null,null,null,null,null,null,null,null,298]
[null,null,null,null,null,null,null,null,null,null,null,null,null,null,null,null,null,null,null,null,299]
[null,null,null,null,null,null,null,null,null,null,null,null,null,null,null,null,null,null,null,null,300]
[null,null,null,null,null,null,null,null,null,null,null,null,null,null,null,null,null,null,null,null,301]
[null,null,null,null,null,null,null,null,null,null,null,null,null,null,null,null,null,null,null,null,302]
[null,null,null,null,null,null,null,null,null,null,null,null,null,null,null,null,null,null,null,null,303]
[null,null,null,null,null,null,null,null,null,null,null,null,null,null,null,null,null,null,null,null,304]
[null,null,null,null,null,null,null,null,null,null,null,null,null,null,null,null,null,null,null,null,305]
[null,null,null,null,null,null,null,null,null,null,null,null,null,null,null,null,null,null,null,null,306]
[null,null,null,null,null,null,null,null,null,null,null,null,null,null,null,null,null,null,null,null,307]
[null,null,null,null,null,null,null,null,null,null,null,null,null,null,null,null,null,null,null,null,308]
[null,null,null,null,null,null,null,null,null,null,null,null,null,null,null,null,null,null,null,null,309]
[null,null,null,null,null,null,null,null,null,null,null,null,null,null,null,null,null,null,null,null,310]
[null,null,null,null,null,null,null,null,null,null,null,null,null,null,null,null,null,null,null,null,311]
[null,null,null,null,null,null,null,null,null,null,null,null,null,null,null,null,null,null,null,null,312]
[null,null,null,null,null,null,null,null,null,null,null,null,null,null,null,null,null,null,null,null,313]
[null,null,null,null,null,null,null,null,null,null,null,null,null,null,null,null,null,null,null,null,314]
[null,null,null,null,null,null,null,null,null,null,null,null,null,null,null,null,null,null,null,null,315]
[null,null,null,null,null,null,null,null,null,null,null,null,null,null,null,null,null,null,null,null,316]
[null,null,null,null,null,null,null,null,null,null,null,null,null,null,null,null,null,null,null,null,317]
[null,null,null,null,null,null,null,null,null,null,null,null,null,null,null,null,null,null,null,null,318]
[null,null,null,null,null,null,null,null,null,null,null,null,null,null,null,null,null,null,null,null,319]
[null,null,null,null,null,null,null,null,null,null,null,null,null,null,null,null,null,null,null,null,320]
[null,null,null,null,null,null,null,null,null,null,null,null,null,null,null,null,null,null,null,null,321]
[null,null,null,null,null,null,null,null,null,null,null,null,null,null,null,null,null,null,null,null,322]
[null,null,null,null,null,null,null,null,null,null,null,null,null,null,null,null,null,null,null,null,323]
[null,null,null,null,null,null,null,null,null,null,null,null,null,null,null,null,null,null,null,null,324]
[null,null,null,null,null,null,null,null,null,null,null,null,null,null,null,null,null,null,null,null,325]
[null,null,null,null,null,null,null,null,null,null,null,null,null,null,null,null,null,null,null,null,326]
[null,null,null,null,null,null,null,null,null,null,null,null,null,null,null,null,null,null,null,null,327]
[null,null,null,null,null,null,null,null,null,null,null,null,null,null,null,null,null,null,null,null,328]
[null,null,null,null,null,null,null,null,null,null,null,null,null,null,null,null,null,null,null,null,329]
[null,null,null,null,null,null,null,null,null,null,null,null,null,null,null,null,null,null,null,null,330]
[null,null,null,null,null,null,null,null,null,null,null,null,null,null,null,null,null,null,null,null,331]
[null,null,null,null,null,null,null,null,null,null,null,null,null,null,null,null,null,null,null,null,332]
[null,null,null,null,null,null,null,null,null,null,null,null,null,null,null,null,null,null,null,null,333]
[null,null,null,null,null,null,null,null,null,null,null,null,null,null,null,null,null,null,null,null,334]
[null,null,null,null,null,null,null,null,null,null,null,null,null,null,null,null,null,null,null,null,335]
[null,null,null,null,null,null,null,null,null,null,null,null,null,null,null,null,null,null,null,null,336]
[null,null,null,null,null,null,null,null,null,null,null,null,null,null,null,null,null,null,null,null,337]
[null,null,null,null,null,null,null,null,null,null,null,null,null,null,null,null,null,null,null,null,338]
[null,null,null,null,null,null,null,null,null,null,null,null,null,null,null,null,null,null,null,null,339]
[null,null,null,null,null,null,null,null,null,null,null,null,null,null,null,null,null,null,null,null,340]
[null,null,null,null,null,null,null,null,null,null,null,null,null,null,null,null,null,null,null,null,341]
[null,null,null,null,null,null,null,null,null,null,null,null,null,null,null,null,null,null,null,null,342]
[null,null,null,null,null,null,null,null,null,null,null,null,null,null,null,null,null,null,null,null,343]
[null,null,null,null,null,null,null,null,null,null,null,null,null,null,null,null,null,null,null,null,344]
[null,null,null,null,null,null,null,null,null,null,null,null,null,null,null,null,null,null,null,null,345]
[null,null,null,null,null,null,null,null,null,null,null,null,null,null,null,null,null,null,null,null,346]
[null,null,null,null,null,null,null,null,null,null,null,null,null,null,null,null,null,null,null,null,347]
[null,null,null,null,null,null,null,null,null,null,null,null,null,null,null,null,null,null,null,null,348]
[null,null,null,null,null,null,null,null,null,null,null,null,null,null,null,null,null,null,null,null,349]
[null,null,null,null,null,null,null,null,null,null,null,null,null,null,null,null,null,null,null,null,350]
[null,null,null,null,null,null,null,null,null,null,null,null,null,null,null,null,null,null,null,null,351]
[null,null,null,null,null,null,null,null,null,null,null,null,null,null,null,null,null,null,null,null,352]
[null,null,null,null,null,null,null,null,null,null,null,null,null,null,null,null,null,null,null,null,353]
[null,null,null,null,null,null,null,null,null,null,null,null,null,null,null,null,null,null,null,null,354]
[null,null,null,null,null,null,null,null,null,null,null,null,null,null,null,null,null,null,null,null,355]
[null,null,null,null,null,null,null,null,null,null,null,null,null,null,null,null,null,null,null,null,356]
[null,null,null,null,null,null,null,null,null,null,null,null,null,null,null,null,null,null,null,null,357]
[null,null,null,null,null,null,null,null,null,null,null,null,null,null,null,null,null,null,null,null,358]
[null,null,null,null,null,null,null,null,null,null,null,null,null,null,null,null,null,null,null,null,359]
[null,null,null,null,null,null,null,null,null,null,null,null,null,null,null,null,null,null,null,null,360]

{"sheet":"Simplif_Esforço_CPPL_Paulista","index":13,"n_rows":398,"n_cols":37,"rows_kept":398,"cut":false,"hidden":false,"merged":[[57,3,57,7],[58,3,58,7],[54,9,54,11],[55,3,55,7],[55,9,55,11],[56,3,56,7],[53,3,53,7],[54,3,54,7],[50,3,50,7],[51,3,51,7],[52,3,52,7],[2,9,2,11],[42,3,42,7],[33,3,33,7],[34,3,34,7],[35,3,35,7],[2,3,2,5],[36,3,36,7],[28,3,28,5],[29,3,29,5],[30,3,30,5],[23,7,23,11],[49,9,49,13],[40,3,40,7],[41,3,41,7],[37,3,37,7],[43,3,43,7],[44,3,44,7],[46,3,46,7],[49,3,49,7],[9,21,12,21],[18,3,18,5],[18,7,18,9],[27,3,27,5],[21,7,21,9]]}
[null,null,null,null,null,null,null,null,null,null,null,null,null,null,null,"Secundária","PrimariaMinutaCpfl","NeutroMinutaCpfl",null,"Altura Poste"]
[null,null,70,null,null,null,null,null,null,null,null,null,null,null,null,{"$f":" [1]SecundariaMinutaCpfl!A1","v":""},{"$f":" [1]PrimariaMinutaCpfl!A1","v":""},{"$f":" [1]NeutroMinutaCpfl!A1","v":""},null,7]
[null,null,"ALTURA POSTE",11,null,null,null,null,null,"http://www.mabjo.com.br/",null,null,null,null,null,{"$f":" [1]SecundariaMinutaCpfl!A2","v":"3 P 16 mm² Vão 35m "},{"$f":" [1]PrimariaMinutaCpfl!A2","v":"3 E 70 mm² Vão 35m "},{"$f":" [1]NeutroMinutaCpfl!A2","v":"1 CA 02 AWG Vão 35m "},null,8,"ÂNGULO"]
[null,null,"ESFORÇO",1,null,2,null,3,null,4,null,5,null,null,null,{"$f":" [1]SecundariaMinutaCpfl!A3","v":"3 P 25 mm² Vão 35m "},{"$f":" [1]PrimariaMinutaCpfl!A3","v":"3 E 185 mm² Vão 35m "},{"$f":" [1]NeutroMinutaCpfl!A3","v":"1 CA 1/0 AWG Vão 35m "},null,9]
[null,null,0,null,90,null,230,null,null,null,null,null,null,null,null,{"$f":" [1]SecundariaMinutaCpfl!A4","v":"3 P 35 mm² Vão 35m "},{"$f":" [1]PrimariaMinutaCpfl!A4","v":""},{"$f":" [1]NeutroMinutaCpfl!A4","v":"1 CA 2/0 AWG Vão 35m "},null,10]
[null,null,"ÂNGULO",0,null,110,null,320,null,230,null,190,null,null,null,{"$f":" [1]SecundariaMinutaCpfl!A5","v":"3 P 50 mm² Vão 35m "},{"$f":" [1]PrimariaMinutaCpfl!A5","v":"3 E 70 mm² Vão 80m "},{"$f":" [1]NeutroMinutaCpfl!A5","v":"1 CA 4/0 AWG Vão 35m "},null,11,null,null,null,null,{"$f":"D6+180","v":180},null,{"$f":"F6+180","v":290},null,{"$f":"H6+180","v":500},null,{"$f":"J6+180","v":410},null,{"$f":"L6+180","v":370},null,null,null,{"$f":" [1]Folha4!A2","v":"A02"}]
[null,null,"PRIMÁRIA","3 E 70 mm² Vão 35m ",null,null,null,"3 E 185 mm² Vão 35m ",null,null,null,null,null,null,null,{"$f":" [1]SecundariaMinutaCpfl!A6","v":"3 P 70 mm² Vão 35m "},{"$f":" [1]PrimariaMinutaCpfl!A6","v":"3 E 185 mm² Vão 80m "},{"$f":" [1]NeutroMinutaCpfl!A6","v":"1 CA 336,4 MCM Vão 35m "},null,12,null,null,null,null,null,null,null,null,null,null,null,null,null,null,null,null,{"$f":" [1]Folha4!A3","v":"A10"}]
[null,null,"NEUTRO PRIM.",null,null,null,null,null,null,null,null,null,null,null,null,{"$f":" [1]SecundariaMinutaCpfl!A7","v":"3 P 120 mm² Vão 35m "},{"$f":" [1]PrimariaMinutaCpfl!A7","v":"3 CA 02 AWG Vão 35m "},{"$f":" [1]NeutroMinutaCpfl!A7","v":"1 CA 477 MCM Vão 35m "},null,13,null,null,null,null,null,null,null,null,null,null,null,null,null,null,null,null,{"$f":" [1]Folha4!A4","v":"A20"}]
[null,null,"RED. TENSÃO ",0,null,0,null,0,null,0,null,0,null,null,null,{"$f":" [1]SecundariaMinutaCpfl!A8","v":""},{"$f":" [1]PrimariaMinutaCpfl!A8","v":"3 CA 1/0 AWG Vão 35m "},{"$f":" [1]NeutroMinutaCpfl!A8","v":""},null,14,null,null,null,null,null,null,null,null,null,null,null,null,null,null,null,null,{"$f":" [1]Folha4!A5","v":"A40"}]
[null,null,"DISTÂNCIA PRIMÁRIA TOPO CM",0,null,0,null,0,null,0,null,0,null,null,null,{"$f":" [1]SecundariaMinutaCpfl!A9","v":"3 CA 02 AWG Vão 35m "},{"$f":" [1]PrimariaMinutaCpfl!A9","v":"3 CA 2/0 AWG Vão 35m "},{"$f":" [1]NeutroMinutaCpfl!A9","v":"1 CA 02 AWG Vão 80m "},null,15,null,null,null,null,null,null,null,null,null,null,null,null,null,null,null,null,{"$f":" [1]Folha4!A6","v":"A33"}]
[null,null,"SEC. FASE","3 P 50 mm² Vão 35m ",null,"3 P 70 mm² Vão 35m ",null,null,null,null,null,"3 P 50 mm² Vão 35m ",null,null,null,{"$f":" [1]SecundariaMinutaCpfl!A10","v":"3 CA 1/0 AWG Vão 35m "},{"$f":" [1]PrimariaMinutaCpfl!A10","v":"3 CA 4/0 AWG Vão 35m "},{"$f":" [1]NeutroMinutaCpfl!A10","v":"1 CA 1/0 AWG Vão 80m "},null,16,null,null,null,{"$f":"IF(X12>180,X12-180,X12+180)","v":339.54210665632507},null,null,null,null,null,null,null,null,null,null,null,null,{"$f":" [1]Folha4!A7","v":"A47"}]
[null,null,"SEC. NEUTRO","1 CA 02 AWG Vão 35m ",null,"1 CA 1/0 AWG Vão 35m ",null,null,null,null,null,"1 CA 1/0 AWG Vão 35m ",null,null,null,{"$f":" [1]SecundariaMinutaCpfl!A11","v":"3 CA 2/0 AWG Vão 35m "},{"$f":" [1]PrimariaMinutaCpfl!A11","v":"3 CA 336,4 MCM Vão 35m "},{"$f":" [1]NeutroMinutaCpfl!A11","v":"1 CA 2/0 AWG Vão 80m "},null,17,null,null,null,{"$f":"IF(Simpli_PreAngulo_Paulista!A3>0,Simpli_PreAngulo_Paulista!C10,Simpli_PreAngulo_Paulista!D10)","v":159.54210665632507},null,null,null,null,null,null,null,null,null,null,null,null,{"$f":" [1]Folha4!A8","v":"CU06"}]
[null,null,"RED. TENSÃO ",0,null,0,null,0,null,0,null,0,null,null,null,{"$f":" [1]SecundariaMinutaCpfl!A12","v":"3 CA 4/0 AWG Vão 35m "},{"$f":" [1]PrimariaMinutaCpfl!A12","v":"3 CA 477 MCM Vão 35m "},{"$f":" [1]NeutroMinutaCpfl!A12","v":"1 CA 4/0 AWG Vão 80m "},null,18,null,null,null,null,null,null,null,null,null,null,null,null,null,null,null,null,{"$f":" [1]Folha4!A9","v":"CU02"}]
[null,null,"DISTÂNCIA SECUNDÁRIA SOLO CM",720,null,720,null,720,null,720,null,720,null,null,null,{"$f":" [1]SecundariaMinutaCpfl!A13","v":"3 CA 336,4 MCM Vão 35m "},{"$f":" [1]PrimariaMinutaCpfl!A13","v":""},{"$f":" [1]NeutroMinutaCpfl!A13","v":"1 CA 336,4 MCM Vão 80m "},null,19,null,null,null,null,null,null,null,null,null,null,null,null,null,null,null,null,{"$f":" [1]Folha4!A10","v":"CU10"}]
[null,null,"TELEFONE",null,null,null,null,null,null,100,null,null,null,null,null,{"$f":" [1]SecundariaMinutaCpfl!A14","v":"3 CA 477 MCM Vão 35m "},{"$f":" [1]PrimariaMinutaCpfl!A14","v":"3 CA 02 AWG Vão 80m "},{"$f":" [1]NeutroMinutaCpfl!A14","v":"1 CA 477 MCM Vão 80m "},null,20,null,null,null,null,null,null,null,null,null,null,null,null,null,null,null,null,{"$f":" [1]Folha4!A11","v":"CU20"}]
[null,null,"TV CABO",null,null,null,null,null,null,null,null,null,null,null,null,{"$f":" [1]SecundariaMinutaCpfl!A15","v":""},{"$f":" [1]PrimariaMinutaCpfl!A15","v":"3 CA 1/0 AWG Vão 80m "},{"$f":" [1]NeutroMinutaCpfl!A15","v":""},null,null,null,null,null,null,null,null,null,null,null,null,null,null,null,null,null,null,{"$f":" [1]Folha4!A12","v":"CU40"}]
[null,null,"DISTÂNCIA TELEFONE/CABO SOLO CM",550,null,550,null,550,null,550,null,550,null,null,null,{"$f":" [1]SecundariaMinutaCpfl!A16","v":"3 CA 02 AWG Vão 80m "},{"$f":" [1]PrimariaMinutaCpfl!A16","v":"3 CA 2/0 AWG Vão 80m "},{"$f":" [1]NeutroMinutaCpfl!A16","v":"1 CAA 04 AWG Vão 40m "},null,null,null,null,null,null,null,null,null,null,null,null,null,null,null,null,null,null,{"$f":" [1]Folha4!A13","v":"S04"}]
[null,null,"SUB TOTAL",{"$f":"IF(L31=1,Simpli_Pre_Pta_Pir_Sta_Jag!W22,\"Atualize: http;//www.mabjo.com.br\")","v":540.22580645161293},null,{"$f":"IF(L31=1,Simpli_Pre_Pta_Pir_Sta_Jag!W23,\"Atualize: http;//www.mabjo.com.br\")","v":241.54838709677421},null,{"$f":"IF(L31=1,Simpli_Pre_Pta_Pir_Sta_Jag!W24,\"Atualize: http;//www.mabjo.com.br\")","v":648},null,{"$f":"IF(L31=1,Simpli_Pre_Pta_Pir_Sta_Jag!W25,\"Atualize: http;//www.mabjo.com.br\")","v":60.439560439560438},null,{"$f":"IF(L31=1,Simpli_Pre_Pta_Pir_Sta_Jag!W26,\"Atualize: http;//www.mabjo.com.br\")","v":195.09677419354838},null,null,null,{"$f":" [1]SecundariaMinutaCpfl!A17","v":"3 CA 1/0 AWG Vão 80m "},{"$f":" [1]PrimariaMinutaCpfl!A17","v":"3 CA 4/0 AWG Vão 80m "},{"$f":" [1]NeutroMinutaCpfl!A17","v":"1 CAA 02 AWG Vão 40m "},null,null,null,null,null,null,null,null,null,null,null,null,null,null,null,null,null,null,{"$f":" [1]Folha4!A14","v":"S02"}]
[null,null,"ESFORÇO RESULTANTE",{"$f":"IF(L31=1,Simpli_Pre_Pta_Pir_Sta_Jag!W27,\"Atualize: http;//www.mabjo.com.br\")","v":771.69704525907878},null,null,null,"ÂNGULO RESULTANTE",null,null,null,{"$f":"IF(D19>0.001,X11,0)","v":339.54210665632507},null,null,null,{"$f":" [1]SecundariaMinutaCpfl!A18","v":"3 CA 2/0 AWG Vão 80m "},{"$f":" [1]PrimariaMinutaCpfl!A18","v":"3 CA 336,4 MCM Vão 80m "},{"$f":" [1]NeutroMinutaCpfl!A18","v":"1 CAA 1/0 AWG Vão 40m "},null,null,null,null,null,null,null,null,null,null,null,null,null,null,null,null,null,null,{"$f":" [1]Folha4!A15","v":"S10"}]
[null,null,null,null,null,null,null,null,null,null,null,null,null,null,null,{"$f":" [1]SecundariaMinutaCpfl!A19","v":"3 CA 4/0 AWG Vão 80m "},{"$f":" [1]PrimariaMinutaCpfl!A19","v":"3 CA 477 MCM Vão 80m "},{"$f":" [1]NeutroMinutaCpfl!A19","v":"1 CAA 2/0 AWG Vão 40m "},null,null,null,null,null,null,null,null,null,null,null,null,null,null,null,null,null,null,{"$f":" [1]Folha4!A16","v":"S40"}]
[null,null,"On Line http://www.mabjo.com.br/",null,null,null,null,null,null,null,null,{"$f":"NOW()","v":"2022-07-21T04:50:22.360"},null,null,"http://www.mabjo.com.br",{"$f":" [1]SecundariaMinutaCpfl!A20","v":"3 CA 336,4 MCM Vão 80m "},{"$f":" [1]PrimariaMinutaCpfl!A20","v":""},{"$f":" [1]NeutroMinutaCpfl!A20","v":"1 CAA 4/0 AWG Vão 40m "},null,null,null,null,null,null,null,null,null,null,null,null,null,null,null,null,null,null,{"$f":" [1]Folha4!A17","v":"S33"}]
[null,null,null,null,null,null,null,"contato@mabjo.com.br",null,null,null,null,null,"Download Cálculo Mecânico Esforço Poste Atualizado","http://www.mabjo.com.br/",{"$f":" [1]SecundariaMinutaCpfl!A21","v":"3 CA 477 MCM Vão 80m "},{"$f":" [1]PrimariaMinutaCpfl!A21","v":"3 CAA 04 AWG Vão 40m "},{"$f":" [1]NeutroMinutaCpfl!A21","v":""},null,null,null,null,null,null,null,null,null,null,null,null,null,null,null,null,null,null,{"$f":" [1]Folha4!A18","v":"S47"}]
[null,null,{"$f":"CONCATENATE(\"Cálculo Esforço Poste : Plt, Pira, SC e Jg  - Versão\")","v":"Cálculo Esforço Poste : Plt, Pira, SC e Jg  - Versão"},null,null,null,null,null,null,null,null,null,null,{"$f":"O28","v":"2016-11-30"},null,{"$f":" [1]SecundariaMinutaCpfl!A22","v":""},{"$f":" [1]PrimariaMinutaCpfl!A22","v":"3 CAA 02 AWG Vão 40m "},{"$f":" [1]NeutroMinutaCpfl!A22","v":"1 CAA 04 AWG Vão 80m "},null,null,null,null,null,null,null,null,null,null,null,null,null,null,null,null,null,null,{"$f":" [1]Folha4!A19","v":"E70"}]
[null,null,{"$f":"N30","v":""},null,null,{"$f":"O30","v":"2018-06-05"},null,"Cálculo customizado para fibra óptica e telefonia",null,null,null,null,null,null,null,{"$f":" [1]SecundariaMinutaCpfl!A23","v":"3 CAA 04 AWG Vão 40m "},{"$f":" [1]PrimariaMinutaCpfl!A23","v":"3 CAA 1/0 AWG Vão 40m "},{"$f":" [1]NeutroMinutaCpfl!A23","v":"1 CAA 02 AWG Vão 80m "}]
[null,null,"Visite http://www.mabjo.com.br/",null,null,null,null,null,null,null,null,null,null,null,null,{"$f":" [1]SecundariaMinutaCpfl!A24","v":"3 CAA 02 AWG Vão 40m "},{"$f":" [1]PrimariaMinutaCpfl!A24","v":"3 CAA 2/0 AWG Vão 40m "},{"$f":" [1]NeutroMinutaCpfl!A24","v":"1 CAA 1/0 AWG Vão 80m "}]
[null,null,"Calculo Queda Tensão Loteamento aéreo e subt.",null,null,null,null,null,null,null,null,null,null,null,null,{"$f":" [1]SecundariaMinutaCpfl!A25","v":"3 CAA 1/0 AWG Vão 40m "},{"$f":" [1]PrimariaMinutaCpfl!A25","v":"3 CAA 4/0 AWG Vão 40m "},{"$f":" [1]NeutroMinutaCpfl!A25","v":"1 CAA 2/0 AWG Vão 80m "}]
[null,null,{"$f":"X12","v":159.54210665632507},null,null,null,null,null,null,null,null,null,null,null,null,{"$f":" [1]SecundariaMinutaCpfl!A26","v":"3 CAA 2/0 AWG Vão 40m "},{"$f":" [1]PrimariaMinutaCpfl!A26","v":""},{"$f":" [1]NeutroMinutaCpfl!A26","v":"1 CAA 4/0 AWG Vão 80m "},null,null,null,null,null,null,null,null,null,null,null,null,null,null,null,null,null,null,{"$f":" [1]Folha4!A20","v":"E185"}]
[null,null,"MEDIDA 1",11,null,null,null,{"$f":"Simpli_PreAngulo_Paulista!C10","v":159.54210665632507},null,null,null,null,null,"Esta Versão",{"$f":"Completo_Esforço_CPFL_Paulista!O28","v":42704},{"$f":" [1]SecundariaMinutaCpfl!A27","v":"3 CAA 4/0 AWG Vão 40m "},{"$f":" [1]PrimariaMinutaCpfl!A27","v":"3 CAA 04 AWG Vão 80m "},{"$f":" [1]NeutroMinutaCpfl!A27","v":"1 CAA 336,4 MCM Vão 80m "},null,null,null,null,null,null,null,null,null,null,null,null,null,null,null,null,null,null,{"$f":" [1]Folha4!A21","v":0}]
[null,null,"MEDIDA 2",11,null,null,null,{"$f":"Simpli_PreAngulo_Paulista!D10","v":200.45789334367493},null,"Dias Versão",null,{"$f":"O30-O28","v":552},null,null,null,{"$f":" [1]SecundariaMinutaCpfl!A28","v":""},{"$f":" [1]PrimariaMinutaCpfl!A28","v":"3 CAA 02 AWG Vão 80m "},{"$f":" [1]NeutroMinutaCpfl!A28","v":""},null,null,null,null,null,null,null,null,null,null,null,null,null,null,null,null,null,null,{"$f":" [1]Folha4!A22","v":0}]
[null,null,"MEDIDA 3",5,null,null,null,null,null,"PreDiasAtualização",null,{"$f":"L21-O30","v":1507.2016476851859},null,{"$f":"IF([1]Mensagem!B3 <> \"\",[1]Mensagem!B3,\"\")","v":""},{"$f":"IF([1]Mensagem!C3 <> \"\",[1]Mensagem!C3,\"\")","v":43256},{"$f":" [1]SecundariaMinutaCpfl!A29","v":"3 CAA 04 AWG Vão 80m "},{"$f":" [1]PrimariaMinutaCpfl!A29","v":"3 CAA 1/0 AWG Vão 80m "},{"$f":" [1]NeutroMinutaCpfl!A29","v":"1 CAA 04 AWG Vão 120m "},null,null,null,null,null,null,null,null,null,null,null,null,null,null,null,null,null,null,{"$f":" [1]Folha4!A23","v":0}]
[null,null,"ÂNGULO",{"$f":"IF(D30>0,Plan3!C10,\"\")","v":41.649672273866805},null,null,null,null,null,"Dias Atualização",null,{"$f":"Completo_Esforço_CPFL_Paulista!L31","v":1},null,{"$f":"IF([1]Mensagem!B4 <> \"\",[1]Mensagem!B4,\"\")","v":""},{"$f":"IF([1]Mensagem!C4 <> \"\",[1]Mensagem!C4,\"\")","v":43256},{"$f":" [1]SecundariaMinutaCpfl!A30","v":"3 CAA 02 AWG Vão 80m "},{"$f":" [1]PrimariaMinutaCpfl!A30","v":"3 CAA 2/0 AWG Vão 80m "},{"$f":" [1]NeutroMinutaCpfl!A30","v":"1 CAA 02 AWG Vão 120m "},null,null,null,null,null,null,null,null,null,null,null,null,null,null,null,null,null,null,{"$f":" [1]Folha4!A24","v":0}]
[null,null,null,null,null,null,null,null,null,null,null,null,null,{"$f":"IF([1]Mensagem!B5 <> \"\",[1]Mensagem!B5,\"\")","v":""},{"$f":"IF([1]Mensagem!C5 <> \"\",[1]Mensagem!C5,\"\")","v":""},{"$f":" [1]SecundariaMinutaCpfl!A31","v":"3 CAA 1/0 AWG Vão 80m "},{"$f":" [1]PrimariaMinutaCpfl!A31","v":"3 CAA 4/0 AWG Vão 80m "},{"$f":" [1]NeutroMinutaCpfl!A31","v":"1 CAA 1/0 AWG Vão 120m "},null,null,null,null,null,null,null,null,null,null,null,null,null,null,null,null,null,null,{"$f":" [1]Folha4!A25","v":0}]
[null,null,null,null,null,null,null,null,null,null,null,null,null,{"$f":"IF([1]Mensagem!B6 <> \"\",[1]Mensagem!B6,\"\")","v":""},{"$f":"IF([1]Mensagem!C6 <> \"\",[1]Mensagem!C6,\"\")","v":""},{"$f":" [1]SecundariaMinutaCpfl!A32","v":"3 CAA 2/0 AWG Vão 80m "},{"$f":" [1]PrimariaMinutaCpfl!A32","v":"3 CAA 336,4 MCM Vão 80m "},{"$f":" [1]NeutroMinutaCpfl!A32","v":"1 CAA 2/0 AWG Vão 120m "},null,null,0,null,null,null,null,null,null,null,null,null,null,null,null,null,null,null,{"$f":" [1]Folha4!A26","v":0}]
[null,null,"Coordenada X","Coordenada Y",null,null,null,null,null,null,null,null,null,{"$f":"IF([1]Mensagem!B7 <> \"\",[1]Mensagem!B7,\"\")","v":""},{"$f":"IF([1]Mensagem!C7 <> \"\",[1]Mensagem!C7,\"\")","v":""},{"$f":" [1]SecundariaMinutaCpfl!A33","v":"3 CAA 4/0 AWG Vão 80m "},{"$f":" [1]PrimariaMinutaCpfl!A33","v":""},{"$f":" [1]NeutroMinutaCpfl!A33","v":"1 CAA 4/0 AWG Vão 120m "},null,null,1,null,null,null,null,null,null,null,null,null,null,null,null,null,null,null,{"$f":" [1]Folha4!A27","v":0}]
[null,null,29829000,745407001,null,null,null,null,null,"Poste 1",null,null,null,{"$f":"IF([1]Mensagem!B8 <> \"\",[1]Mensagem!B8,\"\")","v":""},{"$f":"IF([1]Mensagem!C8 <> \"\",[1]Mensagem!C8,\"\")","v":""},{"$f":" [1]SecundariaMinutaCpfl!A34","v":"3 CAA 336,4 MCM Vão 80m "},{"$f":" [1]PrimariaMinutaCpfl!A34","v":"3 CAA 04 AWG Vão 120m "},{"$f":" [1]NeutroMinutaCpfl!A34","v":"1 CAA 336,4 MCM Vão 120m "},null,null,2,null,null,null,null,null,null,null,null,null,null,null,null,null,null,null,{"$f":" [1]Folha4!A28","v":0}]
[null,null,29229000,745406001,null,null,null,null,null,"Poste Meio",null,null,null,{"$f":"IF([1]Mensagem!B9 <> \"\",[1]Mensagem!B9,\"\")","v":""},{"$f":"IF([1]Mensagem!C9 <> \"\",[1]Mensagem!C9,\"\")","v":""},{"$f":" [1]SecundariaMinutaCpfl!A35","v":""},{"$f":" [1]PrimariaMinutaCpfl!A35","v":"3 CAA 02 AWG Vão 120m "},{"$f":" [1]NeutroMinutaCpfl!A35","v":""},null,null,3,null,null,null,null,null,null,null,null,null,null,null,null,null,null,null,{"$f":" [1]Folha4!A29","v":0}]
[null,null,"Distância Metros",{"$f":"Plan3!E26/100","v":6000.008333327547},null,null,null,null,null,null,null,null,null,{"$f":"IF([1]Mensagem!B10 <> \"\",[1]Mensagem!B10,\"\")","v":""},{"$f":"IF([1]Mensagem!C10 <> \"\",[1]Mensagem!C10,\"\")","v":""},{"$f":" [1]SecundariaMinutaCpfl!A36","v":"3 CAA 04 AWG Vão 120m "},{"$f":" [1]PrimariaMinutaCpfl!A36","v":"3 CAA 1/0 AWG Vão 120m "},{"$f":" [1]NeutroMinutaCpfl!A36","v":"1 CU 06 AWG Vão 35m  "},null,null,4,null,null,null,null,null,null,null,null,null,null,null,null,null,null,null,{"$f":" [1]Folha4!A30","v":0}]
[null,null,"Ângulo",{"$f":"Plan3!E29","v":89.904507122564127},null,null,null,null,null,null,null,null,null,{"$f":"IF([1]Mensagem!B11 <> \"\",[1]Mensagem!B11,\"\")","v":""},{"$f":"IF([1]Mensagem!C11 <> \"\",[1]Mensagem!C11,\"\")","v":""},{"$f":" [1]SecundariaMinutaCpfl!A37","v":"3 CAA 02 AWG Vão 120m "},{"$f":" [1]PrimariaMinutaCpfl!A37","v":"3 CAA 2/0 AWG Vão 120m "},{"$f":" [1]NeutroMinutaCpfl!A37","v":"1 CU 02 AWG Vão 35m  "},null,null,5,null,null,null,null,null,null,null,null,null,null,null,null,null,null,null,{"$f":" [1]Folha4!A31","v":0}]
[null,null,null,null,null,null,null,null,null,null,null,null,null,{"$f":"IF([1]Mensagem!B12 <> \"\",[1]Mensagem!B12,\"\")","v":""},{"$f":"IF([1]Mensagem!C12 <> \"\",[1]Mensagem!C12,\"\")","v":""},{"$f":" [1]SecundariaMinutaCpfl!A38","v":"3 CAA 1/0 AWG Vão 120m "},{"$f":" [1]PrimariaMinutaCpfl!A38","v":"3 CAA 4/0 AWG Vão 120m "},{"$f":" [1]NeutroMinutaCpfl!A38","v":"1 CU 1/0 AWG Vão 35m  "},null,null,6,null,null,null,null,null,null,null,null,null,null,null,null,null,null,null,{"$f":" [1]Folha4!A32","v":0}]
[null,null,null,null,null,null,null,null,null,null,null,null,null,{"$f":"IF([1]Mensagem!B13 <> \"\",[1]Mensagem!B13,\"\")","v":""},{"$f":"IF([1]Mensagem!C13 <> \"\",[1]Mensagem!C13,\"\")","v":""},{"$f":" [1]SecundariaMinutaCpfl!A39","v":"3 CAA 2/0 AWG Vão 120m "},{"$f":" [1]PrimariaMinutaCpfl!A39","v":"3 CAA 336,4 MCM Vão 120m "},{"$f":" [1]NeutroMinutaCpfl!A39","v":"1 CU 2/0 AWG Vão 35m  "},null,null,7,null,null,null,null,null,null,null,null,null,null,null,null,null,null,null,{"$f":" [1]Folha4!A33","v":0}]
[null,null,"Coordenada X","Coordenada Y",null,null,null,null,null,null,null,null,null,{"$f":"IF([1]Mensagem!B14 <> \"\",[1]Mensagem!B14,\"\")","v":""},{"$f":"IF([1]Mensagem!C14 <> \"\",[1]Mensagem!C14,\"\")","v":"Cálculo Esforço"},{"$f":" [1]SecundariaMinutaCpfl!A40","v":"3 CAA 4/0 AWG Vão 120m "},{"$f":" [1]PrimariaMinutaCpfl!A40","v":""},{"$f":" [1]NeutroMinutaCpfl!A40","v":"1 CU 4/0 AWG Vão 35m  "},null,null,8,null,null,null,null,null,null,null,null,null,null,null,null,null,null,null,{"$f":" [1]Folha4!A34","v":0}]
[null,null,{"$f":"C36","v":29229000},{"$f":"D36","v":745406001},null,null,null,null,null,"Poste Meio",null,null,null,{"$f":"IF([1]Mensagem!B15 <> \"\",[1]Mensagem!B15,\"\")","v":""},{"$f":"IF([1]Mensagem!C15 <> \"\",[1]Mensagem!C15,\"\")","v":"Customizado"},{"$f":" [1]SecundariaMinutaCpfl!A41","v":"3 CAA 336,4 MCM Vão 120m "},{"$f":" [1]PrimariaMinutaCpfl!A41","v":"3 15kv 240 mm² Vão 35m  "},{"$f":" [1]NeutroMinutaCpfl!A41","v":0},null,null,9,null,null,null,null,null,null,null,null,null,null,null,null,null,null,null,{"$f":" [1]Folha4!A35","v":0}]
[null,null,29279000,748406001,null,null,null,null,null,"Poste 3",null,null,null,{"$f":"IF([1]Mensagem!B16 <> \"\",[1]Mensagem!B16,\"\")","v":""},{"$f":"IF([1]Mensagem!C16 <> \"\",[1]Mensagem!C16,\"\")","v":"para cabos de"},{"$f":" [1]SecundariaMinutaCpfl!A42","v":""},{"$f":" [1]PrimariaMinutaCpfl!A42","v":"3 25kv 240 mm² Vão 35m  "},{"$f":" [1]NeutroMinutaCpfl!A42","v":0},null,null,10,null,null,null,null,null,null,null,null,null,null,null,null,null,null,null,{"$f":" [1]Folha4!A36","v":0}]
[null,null,"Distância Metros",{"$f":"Plan3!E41/100","v":30004.166377354995},null,null,null,null,null,null,null,null,null,{"$f":"IF([1]Mensagem!B17 <> \"\",[1]Mensagem!B17,\"\")","v":""},{"$f":"IF([1]Mensagem!C17 <> \"\",[1]Mensagem!C17,\"\")","v":"Telefonia e"},{"$f":" [1]SecundariaMinutaCpfl!A43","v":"3 15kv 240 mm² Vão 35m  "},{"$f":" [1]PrimariaMinutaCpfl!A43","v":"3 35kv 240 mm² Vão 35m  "},{"$f":" [1]NeutroMinutaCpfl!A43","v":0},null,null,11,null,null,null,null,null,null,null,null,null,null,null,null,null,null,null,{"$f":" [1]Folha4!A37","v":0}]
[null,null,"Ângulo",{"$f":"Plan3!E44","v":0.95484125387218866},null,null,null,null,null,null,null,null,null,{"$f":"IF([1]Mensagem!B18 <> \"\",[1]Mensagem!B18,\"\")","v":""},{"$f":"IF([1]Mensagem!C18 <> \"\",[1]Mensagem!C18,\"\")","v":"Comunicação"},{"$f":" [1]SecundariaMinutaCpfl!A44","v":"3 25kv 240 mm² Vão 35m  "},{"$f":" [1]PrimariaMinutaCpfl!A44","v":""},{"$f":" [1]NeutroMinutaCpfl!A44","v":0},null,null,12,null,null,null,null,null,null,null,null,null,null,null,null,null,null,null,{"$f":" [1]Folha4!A38","v":0}]
[null,null,null,null,null,null,null,null,null,null,null,null,null,{"$f":"IF([1]Mensagem!B19 <> \"\",[1]Mensagem!B19,\"\")","v":""},{"$f":"IF([1]Mensagem!C19 <> \"\",[1]Mensagem!C19,\"\")","v":"http://www.mabjo.com.br/Default.aspx"},{"$f":" [1]SecundariaMinutaCpfl!A45","v":"3 35kv 240 mm² Vão 35m  "},{"$f":" [1]PrimariaMinutaCpfl!A45","v":"3 CU 06 AWG Vão 35m  "},{"$f":" [1]NeutroMinutaCpfl!A45","v":0},null,null,13,null,null,null,null,null,null,null,null,null,null,null,null,null,null,null,{"$f":" [1]Folha4!A39","v":0}]
[null,null,"Ângulo Resultante",{"$f":"D45-D38","v":-88.949665868691937},null,null,null,null,null,null,null,null,null,{"$f":"IF([1]Mensagem!B20 <> \"\",[1]Mensagem!B20,\"\")","v":""},{"$f":"IF([1]Mensagem!C20 <> \"\",[1]Mensagem!C20,\"\")","v":""},{"$f":" [1]SecundariaMinutaCpfl!A46","v":""},{"$f":" [1]PrimariaMinutaCpfl!A46","v":"3 CU 02 AWG Vão 35m  "},{"$f":" [1]NeutroMinutaCpfl!A46","v":0},null,null,14,null,null,null,null,null,null,null,null,null,null,null,null,null,null,null,{"$f":" [1]Folha4!A40","v":0}]
[null,null,null,null,null,null,null,null,null,null,null,null,null,null,null,{"$f":" [1]SecundariaMinutaCpfl!A47","v":"3 CU 06 AWG Vão 35m  "},{"$f":" [1]PrimariaMinutaCpfl!A47","v":"3 CU 1/0 AWG Vão 35m  "},{"$f":" [1]NeutroMinutaCpfl!A47","v":0},null,null,15,null,null,null,null,null,null,null,null,null,null,null,null,null,null,null,{"$f":" [1]Folha4!A41","v":0}]
[null,null,null,null,null,null,null,null,null,null,null,null,null,null,null,{"$f":" [1]SecundariaMinutaCpfl!A48","v":"3 CU 02 AWG Vão 35m  "},{"$f":" [1]PrimariaMinutaCpfl!A48","v":"3 CU 2/0 AWG Vão 35m  "},{"$f":" [1]NeutroMinutaCpfl!A48","v":0},null,null,16,null,null,null,null,null,null,null,null,null,null,null,null,null,null,null,{"$f":" [1]Folha4!A42","v":0}]
[null,null,"Cálculo Flecha","Primário por Fase",null,null,null,null,null,null,null,null,null,null,null,{"$f":" [1]SecundariaMinutaCpfl!A49","v":"3 CU 1/0 AWG Vão 35m  "},{"$f":" [1]PrimariaMinutaCpfl!A49","v":"3 CU 4/0 AWG Vão 35m  "},{"$f":" [1]NeutroMinutaCpfl!A49","v":0},null,null,17,null,null,null,null,null,null,null,null,null,null,null,null,null,null,null,{"$f":" [1]Folha4!A43","v":0}]
[null,null,"Cabo","A02",null,null,null,null,null,null,null,null,null,null,null,{"$f":" [1]SecundariaMinutaCpfl!A50","v":"3 CU 2/0 AWG Vão 35m  "},{"$f":" [1]PrimariaMinutaCpfl!A50","v":""},{"$f":" [1]NeutroMinutaCpfl!A50","v":0},null,null,18,null,null,null,null,null,null,null,null,null,null,null,null,null,null,null,{"$f":" [1]Folha4!A44","v":0}]
[null,null,"Distância",100,null,null,null,null,null,null,null,null,null,null,null,{"$f":" [1]SecundariaMinutaCpfl!A51","v":"3 CU 4/0 AWG Vão 35m  "},{"$f":" [1]PrimariaMinutaCpfl!A51","v":"2 CA 02 AWG Vão 35m "},{"$f":" [1]NeutroMinutaCpfl!A51","v":0},null,null,18,null,null,null,null,null,null,null,null,null,null,null,null,null,null,null,{"$f":" [1]Folha4!A45","v":0}]
[null,null,"Redução Tensão %",20,null,null,null,null,null,null,null,null,null,null,null,{"$f":" [1]SecundariaMinutaCpfl!A52","v":""},{"$f":" [1]PrimariaMinutaCpfl!A52","v":"2 CA 1/0 AWG Vão 35m "},{"$f":" [1]NeutroMinutaCpfl!A52","v":0},null,null,null,null,null,null,null,null,null,null,null,null,null,null,null,null,null,null,{"$f":" [1]Folha4!A46","v":0}]
[null,null,"Amperes",{"$f":"VLOOKUP(D51,[1]Folha4!A2:G27,7,0)","v":138},null,null,null,null,null,"Esforço Trifásico",null,null,null,null,null,{"$f":" [1]SecundariaMinutaCpfl!A53","v":"2 CA 02 AWG Vão 35m "},{"$f":" [1]PrimariaMinutaCpfl!A53","v":"2 CA 2/0 AWG Vão 35m "},{"$f":" [1]NeutroMinutaCpfl!A53","v":0},null,null,null,null,null,null,null,null,null,null,null,null,null,null,null,null,null,null,{"$f":" [1]Folha4!A47","v":0}]
[null,null,"Esforço Urbano",{"$f":"N55-N57","v":76},null,null,null,null,null,{"$f":"D55*3","v":228},null,null,null,{"$f":"VLOOKUP(D51,[1]Folha4!A2:E27,2,0)","v":95},null,{"$f":" [1]SecundariaMinutaCpfl!A54","v":"2 CA 1/0 AWG Vão 35m "},{"$f":" [1]PrimariaMinutaCpfl!A54","v":"2 CA 4/0 AWG Vão 35m "},{"$f":" [1]NeutroMinutaCpfl!A54","v":0},null,null,null,null,null,null,null,null,null,null,null,null,null,null,null,null,null,null,{"$f":" [1]Folha4!A48","v":0}]
[null,null,"Esforço Rural",{"$f":"N56-N58","v":163.19999999999999},null,null,null,null,null,{"$f":"D56*3","v":489.59999999999997},null,null,null,{"$f":"VLOOKUP(D51,[1]Folha4!A2:E27,3,0)","v":204},null,{"$f":" [1]SecundariaMinutaCpfl!A55","v":"2 CA 2/0 AWG Vão 35m "},{"$f":" [1]PrimariaMinutaCpfl!A55","v":"2 CA 336,4 MCM Vão 35m "},{"$f":" [1]NeutroMinutaCpfl!A55","v":0},null,null,null,null,null,null,null,null,null,null,null,null,null,null,null,null,null,null,{"$f":" [1]Folha4!A49","v":0}]
[null,null,"Kg/m",{"$f":"VLOOKUP(D51,[1]Folha4!A1:F27,6,0)","v":9.1999999999999998E-2},null,null,null,null,null,null,null,null,null,{"$f":"D53*N55/100","v":19},null,{"$f":" [1]SecundariaMinutaCpfl!A56","v":"2 CA 4/0 AWG Vão 35m "},{"$f":" [1]PrimariaMinutaCpfl!A56","v":"2 CA 477 MCM Vão 35m "},{"$f":" [1]NeutroMinutaCpfl!A56","v":0},null,null,null,null,null,null,null,null,null,null,null,null,null,null,null,null,null,null,{"$f":" [1]Folha4!A50","v":0}]
[null,null,"Flecha Ubano",{"$f":"IF(D55>0,(D57*(D52*D52))/(8*D55),\"\")","v":1.513157894736842},null,null,null,null,null,null,null,null,null,{"$f":"D53*N56/100","v":40.799999999999997},null,{"$f":" [1]SecundariaMinutaCpfl!A57","v":"2 CA 336,4 MCM Vão 35m "},{"$f":" [1]PrimariaMinutaCpfl!A57","v":""},{"$f":" [1]NeutroMinutaCpfl!A57","v":0},null,null,18,null,null,null,null,null,null,null,null,null,null,null,null,null,null,null,{"$f":" [1]Folha4!A51","v":0}]
[null,null,"Flecha Rural",{"$f":"IF(D56>0,(D57*(D52*D52))/(8*D56),\"\")","v":0.70465686274509809},null,null,null,null,null,null,null,null,null,null,null,{"$f":" [1]SecundariaMinutaCpfl!A58","v":"2 CA 477 MCM Vão 35m "},{"$f":" [1]PrimariaMinutaCpfl!A58","v":"2 CA 02 AWG Vão 80m "},{"$f":" [1]NeutroMinutaCpfl!A58","v":0},null,null,18,null,null,null,null,null,null,null,null,null,null,null,null,null,null,null,{"$f":" [1]Folha4!A52","v":0}]
[null,null,null,null,null,null,null,null,null,null,null,null,null,null,null,{"$f":" [1]SecundariaMinutaCpfl!A59","v":""},{"$f":" [1]PrimariaMinutaCpfl!A59","v":"2 CA 1/0 AWG Vão 80m "},{"$f":" [1]NeutroMinutaCpfl!A59","v":0},null,null,18,null,null,null,null,null,null,null,null,null,null,null,null,null,null,null,{"$f":" [1]Folha4!A53","v":0}]
[null,null,null,null,null,null,null,null,null,null,null,null,null,null,null,{"$f":" [1]SecundariaMinutaCpfl!A60","v":"2 CA 02 AWG Vão 80m "},{"$f":" [1]PrimariaMinutaCpfl!A60","v":"2 CA 2/0 AWG Vão 80m "},{"$f":" [1]NeutroMinutaCpfl!A60","v":0},null,null,18,null,null,null,null,null,null,null,null,null,null,null,null,null,null,null,{"$f":" [1]Folha4!A54","v":0}]
[null,null,{"$f":"VLOOKUP(D51,[1]Folha4!A2:E27,2,0)","v":95},null,null,null,null,null,null,null,null,null,null,null,null,{"$f":" [1]SecundariaMinutaCpfl!A61","v":"2 CA 1/0 AWG Vão 80m "},{"$f":" [1]PrimariaMinutaCpfl!A61","v":"2 CA 4/0 AWG Vão 80m "},{"$f":" [1]NeutroMinutaCpfl!A61","v":0},null,null,18,null,null,null,null,null,null,null,null,null,null,null,null,null,null,null,{"$f":" [1]Folha4!A55","v":0}]
[null,null,null,null,null,null,null,null,null,null,null,null,null,null,null,{"$f":" [1]SecundariaMinutaCpfl!A62","v":"2 CA 2/0 AWG Vão 80m "},{"$f":" [1]PrimariaMinutaCpfl!A62","v":"2 CA 336,4 MCM Vão 80m "},{"$f":" [1]NeutroMinutaCpfl!A62","v":0},null,null,18,null,null,null,null,null,null,null,null,null,null,null,null,null,null,null,{"$f":" [1]Folha4!A56","v":0}]
[null,null,null,null,null,null,null,null,null,null,null,null,null,null,null,{"$f":" [1]SecundariaMinutaCpfl!A63","v":"2 CA 4/0 AWG Vão 80m "},{"$f":" [1]PrimariaMinutaCpfl!A63","v":"2 CA 477 MCM Vão 80m "},{"$f":" [1]NeutroMinutaCpfl!A63","v":0},null,null,18,null,null,null,null,null,null,null,null,null,null,null,null,null,null,null,{"$f":" [1]Folha4!A57","v":0}]
[null,null,null,null,null,null,null,null,null,null,null,null,null,null,null,{"$f":" [1]SecundariaMinutaCpfl!A64","v":"2 CA 336,4 MCM Vão 80m "},{"$f":" [1]PrimariaMinutaCpfl!A64","v":""},{"$f":" [1]NeutroMinutaCpfl!A64","v":0},null,null,18,null,null,null,null,null,null,null,null,null,null,null,null,null,null,null,{"$f":" [1]Folha4!A58","v":0}]
[null,null,null,null,null,null,null,null,null,null,null,null,null,null,null,{"$f":" [1]SecundariaMinutaCpfl!A65","v":"2 CA 477 MCM Vão 80m "},{"$f":" [1]PrimariaMinutaCpfl!A65","v":"2 CA 04 AWG Vão 40m "},{"$f":" [1]NeutroMinutaCpfl!A65","v":0},null,null,18,null,null,null,null,null,null,null,null,null,null,null,null,null,null,null,{"$f":" [1]Folha4!A59","v":0}]
[null,null,null,null,null,null,null,null,null,null,null,null,null,null,null,{"$f":" [1]SecundariaMinutaCpfl!A66","v":""},{"$f":" [1]PrimariaMinutaCpfl!A66","v":"2 CA 02 AWG Vão 40m "},{"$f":" [1]NeutroMinutaCpfl!A66","v":0},null,null,18,null,null,null,null,null,null,null,null,null,null,null,null,null,null,null,{"$f":" [1]Folha4!A60","v":0}]
[null,null,null,null,null,null,null,null,null,null,null,null,null,null,null,{"$f":" [1]SecundariaMinutaCpfl!A67","v":"2 CA 04 AWG Vão 40m "},{"$f":" [1]PrimariaMinutaCpfl!A67","v":"2 CA 1/0 AWG Vão 40m "},{"$f":" [1]NeutroMinutaCpfl!A67","v":0},null,null,18,null,null,null,null,null,null,null,null,null,null,null,null,null,null,null,{"$f":" [1]Folha4!A61","v":0}]
[null,null,null,null,null,null,null,null,null,null,null,null,null,null,null,{"$f":" [1]SecundariaMinutaCpfl!A68","v":"2 CA 02 AWG Vão 40m "},{"$f":" [1]PrimariaMinutaCpfl!A68","v":"2 CA 2/0 AWG Vão 40m "},{"$f":" [1]NeutroMinutaCpfl!A68","v":0},null,null,18,null,null,null,null,null,null,null,null,null,null,null,null,null,null,null,{"$f":" [1]Folha4!A62","v":0}]
[null,null,null,null,null,null,null,null,null,null,null,null,null,null,null,{"$f":" [1]SecundariaMinutaCpfl!A69","v":"2 CA 1/0 AWG Vão 40m "},{"$f":" [1]PrimariaMinutaCpfl!A69","v":"2 CA 4/0 AWG Vão 40m "},{"$f":" [1]NeutroMinutaCpfl!A69","v":0},null,null,18,null,null,null,null,null,null,null,null,null,null,null,null,null,null,null,{"$f":" [1]Folha4!A63","v":0}]
[null,null,null,null,null,null,null,null,null,null,null,null,null,null,null,{"$f":" [1]SecundariaMinutaCpfl!A70","v":"2 CA 2/0 AWG Vão 40m "},{"$f":" [1]PrimariaMinutaCpfl!A70","v":""},{"$f":" [1]NeutroMinutaCpfl!A70","v":0},null,null,18,null,null,null,null,null,null,null,null,null,null,null,null,null,null,null,{"$f":" [1]Folha4!A64","v":0}]
[null,null,null,null,null,null,null,null,null,null,null,null,null,null,null,{"$f":" [1]SecundariaMinutaCpfl!A71","v":"2 CA 4/0 AWG Vão 40m "},{"$f":" [1]PrimariaMinutaCpfl!A71","v":"2 CAA 04 AWG Vão 80m "},{"$f":" [1]NeutroMinutaCpfl!A71","v":0},null,null,18,null,null,null,null,null,null,null,null,null,null,null,null,null,null,null,{"$f":" [1]Folha4!A65","v":0}]
[null,null,null,null,null,null,null,null,null,null,null,null,null,null,null,{"$f":" [1]SecundariaMinutaCpfl!A72","v":""},{"$f":" [1]PrimariaMinutaCpfl!A72","v":"2 CAA 02 AWG Vão 80m "},{"$f":" [1]NeutroMinutaCpfl!A72","v":0},null,null,35,null,null,null,null,null,null,null,null,null,null,null,null,null,null,null,{"$f":" [1]Folha4!A66","v":0}]
[null,null,null,null,null,null,null,null,null,null,null,null,null,null,null,{"$f":" [1]SecundariaMinutaCpfl!A73","v":"2 CAA 04 AWG Vão 80m "},{"$f":" [1]PrimariaMinutaCpfl!A73","v":"2 CAA 1/0 AWG Vão 80m "},{"$f":" [1]NeutroMinutaCpfl!A73","v":0},null,null,36,null,null,null,null,null,null,null,null,null,null,null,null,null,null,null,{"$f":" [1]Folha4!A67","v":0}]
[null,null,null,null,null,null,null,null,null,null,null,null,null,null,null,{"$f":" [1]SecundariaMinutaCpfl!A74","v":"2 CAA 02 AWG Vão 80m "},{"$f":" [1]PrimariaMinutaCpfl!A74","v":"2 CAA 2/0 AWG Vão 80m "},{"$f":" [1]NeutroMinutaCpfl!A74","v":0},null,null,37,null,null,null,null,null,null,null,null,null,null,null,null,null,null,null,{"$f":" [1]Folha4!A68","v":0}]
[null,null,null,null,null,null,null,null,null,null,null,null,null,null,null,{"$f":" [1]SecundariaMinutaCpfl!A75","v":"2 CAA 1/0 AWG Vão 80m "},{"$f":" [1]PrimariaMinutaCpfl!A75","v":"2 CAA 4/0 AWG Vão 80m "},{"$f":" [1]NeutroMinutaCpfl!A75","v":0},null,null,38,null,null,null,null,null,null,null,null,null,null,null,null,null,null,null,{"$f":" [1]Folha4!A69","v":0}]
[null,null,null,null,null,null,null,null,null,null,null,null,null,null,null,{"$f":" [1]SecundariaMinutaCpfl!A76","v":"2 CAA 2/0 AWG Vão 80m "},{"$f":" [1]PrimariaMinutaCpfl!A76","v":"2 CAA 336,4 MCM Vão 80m "},{"$f":" [1]NeutroMinutaCpfl!A76","v":0},null,null,39,null,null,null,null,null,null,null,null,null,null,null,null,null,null,null,{"$f":" [1]Folha4!A70","v":0}]
[null,null,null,null,null,null,null,null,null,null,null,null,null,null,null,{"$f":" [1]SecundariaMinutaCpfl!A77","v":"2 CAA 4/0 AWG Vão 80m "},{"$f":" [1]PrimariaMinutaCpfl!A77","v":""},{"$f":" [1]NeutroMinutaCpfl!A77","v":0},null,null,40,null,null,null,null,null,null,null,null,null,null,null,null,null,null,null,{"$f":" [1]Folha4!A71","v":0}]
[null,null,null,null,null,null,null,null,null,null,null,null,null,null,null,{"$f":" [1]SecundariaMinutaCpfl!A78","v":"2 CAA 336,4 MCM Vão 80m "},{"$f":" [1]PrimariaMinutaCpfl!A78","v":"2 CAA 04 AWG Vão 120m "},{"$f":" [1]NeutroMinutaCpfl!A78","v":0},null,null,41,null,null,null,null,null,null,null,null,null,null,null,null,null,null,null,{"$f":" [1]Folha4!A72","v":0}]
[null,null,null,null,null,null,null,null,null,null,null,null,null,null,null,{"$f":" [1]SecundariaMinutaCpfl!A79","v":""},{"$f":" [1]PrimariaMinutaCpfl!A79","v":"2 CAA 02 AWG Vão 120m "},{"$f":" [1]NeutroMinutaCpfl!A79","v":0},null,null,42,null,null,null,null,null,null,null,null,null,null,null,null,null,null,null,{"$f":" [1]Folha4!A73","v":0}]
[null,null,null,null,null,null,null,null,null,null,null,null,null,null,null,{"$f":" [1]SecundariaMinutaCpfl!A80","v":"2 CAA 04 AWG Vão 120m "},{"$f":" [1]PrimariaMinutaCpfl!A80","v":"2 CAA 1/0 AWG Vão 120m "},{"$f":" [1]NeutroMinutaCpfl!A80","v":0},null,null,43,null,null,null,null,null,null,null,null,null,null,null,null,null,null,null,{"$f":" [1]Folha4!A74","v":0}]
[null,null,null,null,null,null,null,null,null,null,null,null,null,null,null,{"$f":" [1]SecundariaMinutaCpfl!A81","v":"2 CAA 02 AWG Vão 120m "},{"$f":" [1]PrimariaMinutaCpfl!A81","v":"2 CAA 2/0 AWG Vão 120m "},{"$f":" [1]NeutroMinutaCpfl!A81","v":0},null,null,44,null,null,null,null,null,null,null,null,null,null,null,null,null,null,null,{"$f":" [1]Folha4!A75","v":0}]
[null,null,null,null,null,null,null,null,null,null,null,null,null,null,null,{"$f":" [1]SecundariaMinutaCpfl!A82","v":"2 CAA 1/0 AWG Vão 120m "},{"$f":" [1]PrimariaMinutaCpfl!A82","v":"2 CAA 4/0 AWG Vão 120m "},{"$f":" [1]NeutroMinutaCpfl!A82","v":0},null,null,45,null,null,null,null,null,null,null,null,null,null,null,null,null,null,null,{"$f":" [1]Folha4!A76","v":0}]
[null,null,null,null,null,null,null,null,null,null,null,null,null,null,null,{"$f":" [1]SecundariaMinutaCpfl!A83","v":"2 CAA 2/0 AWG Vão 120m "},{"$f":" [1]PrimariaMinutaCpfl!A83","v":"2 CAA 336,4 MCM Vão 120m "},{"$f":" [1]NeutroMinutaCpfl!A83","v":0},null,null,46,null,null,null,null,null,null,null,null,null,null,null,null,null,null,null,{"$f":" [1]Folha4!A77","v":0}]
[null,null,null,null,null,null,null,null,null,null,null,null,null,null,null,{"$f":" [1]SecundariaMinutaCpfl!A84","v":"2 CAA 4/0 AWG Vão 120m "},{"$f":" [1]PrimariaMinutaCpfl!A84","v":""},{"$f":" [1]NeutroMinutaCpfl!A84","v":0},null,null,47,null,null,null,null,null,null,null,null,null,null,null,null,null,null,null,{"$f":" [1]Folha4!A78","v":0}]
[null,null,null,null,null,null,null,null,null,null,null,null,null,null,null,{"$f":" [1]SecundariaMinutaCpfl!A85","v":"2 CAA 336,4 MCM Vão 120m "},{"$f":" [1]PrimariaMinutaCpfl!A85","v":"2 CU 06 AWG Vão 35m  "},{"$f":" [1]NeutroMinutaCpfl!A85","v":0},null,null,48,null,null,null,null,null,null,null,null,null,null,null,null,null,null,null,{"$f":" [1]Folha4!A79","v":0}]
[null,null,null,null,null,null,null,null,null,null,null,null,null,null,null,{"$f":" [1]SecundariaMinutaCpfl!A86","v":""},{"$f":" [1]PrimariaMinutaCpfl!A86","v":"2 CU 02 AWG Vão 35m  "},{"$f":" [1]NeutroMinutaCpfl!A86","v":0},null,null,49,null,null,null,null,null,null,null,null,null,null,null,null,null,null,null,{"$f":" [1]Folha4!A80","v":0}]
[null,null,null,null,null,null,null,null,null,null,null,null,null,null,null,{"$f":" [1]SecundariaMinutaCpfl!A87","v":"2 CU 06 AWG Vão 35m  "},{"$f":" [1]PrimariaMinutaCpfl!A87","v":"2 CU 1/0 AWG Vão 35m  "},{"$f":" [1]NeutroMinutaCpfl!A87","v":0},null,null,50,null,null,null,null,null,null,null,null,null,null,null,null,null,null,null,{"$f":" [1]Folha4!A81","v":0}]
[null,null,null,null,null,null,null,null,null,null,null,null,null,null,null,{"$f":" [1]SecundariaMinutaCpfl!A88","v":"2 CU 02 AWG Vão 35m  "},{"$f":" [1]PrimariaMinutaCpfl!A88","v":"2 CU 2/0 AWG Vão 35m  "},{"$f":" [1]NeutroMinutaCpfl!A88","v":0},null,null,51,null,null,null,null,null,null,null,null,null,null,null,null,null,null,null,{"$f":" [1]Folha4!A82","v":0}]
[null,null,null,null,null,null,null,null,null,null,null,null,null,null,null,{"$f":" [1]SecundariaMinutaCpfl!A89","v":"2 CU 1/0 AWG Vão 35m  "},{"$f":" [1]PrimariaMinutaCpfl!A89","v":"2 CU 4/0 AWG Vão 35m  "},{"$f":" [1]NeutroMinutaCpfl!A89","v":0},null,null,52,null,null,null,null,null,null,null,null,null,null,null,null,null,null,null,{"$f":" [1]Folha4!A83","v":0}]
[null,null,null,null,null,null,null,null,null,null,null,null,null,null,null,{"$f":" [1]SecundariaMinutaCpfl!A90","v":"2 CU 2/0 AWG Vão 35m  "},{"$f":" [1]PrimariaMinutaCpfl!A90","v":""},{"$f":" [1]NeutroMinutaCpfl!A90","v":0},null,null,53,null,null,null,null,null,null,null,null,null,null,null,null,null,null,null,{"$f":" [1]Folha4!A84","v":0}]
[null,null,null,null,null,null,null,null,null,null,null,null,null,null,null,{"$f":" [1]SecundariaMinutaCpfl!A91","v":"2 CU 4/0 AWG Vão 35m  "},{"$f":" [1]PrimariaMinutaCpfl!A91","v":"1 CA 02 AWG Vão 35m "},{"$f":" [1]NeutroMinutaCpfl!A91","v":0},null,null,54,null,null,null,null,null,null,null,null,null,null,null,null,null,null,null,{"$f":" [1]Folha4!A85","v":0}]
[null,null,null,null,null,null,null,null,null,null,null,null,null,null,null,{"$f":" [1]SecundariaMinutaCpfl!A92","v":""},{"$f":" [1]PrimariaMinutaCpfl!A92","v":"1 CA 1/0 AWG Vão 35m "},{"$f":" [1]NeutroMinutaCpfl!A92","v":0},null,null,55,null,null,null,null,null,null,null,null,null,null,null,null,null,null,null,{"$f":" [1]Folha4!A86","v":0}]
[null,null,null,null,null,null,null,null,null,null,null,null,null,null,null,{"$f":" [1]SecundariaMinutaCpfl!A93","v":"1 CA 02 AWG Vão 35m "},{"$f":" [1]PrimariaMinutaCpfl!A93","v":"1 CA 2/0 AWG Vão 35m "},{"$f":" [1]NeutroMinutaCpfl!A93","v":0},null,null,56,null,null,null,null,null,null,null,null,null,null,null,null,null,null,null,{"$f":" [1]Folha4!A87","v":0}]
[null,null,null,null,null,null,null,null,null,null,null,null,null,null,null,{"$f":" [1]SecundariaMinutaCpfl!A94","v":"1 CA 1/0 AWG Vão 35m "},{"$f":" [1]PrimariaMinutaCpfl!A94","v":"1 CA 4/0 AWG Vão 35m "},{"$f":" [1]NeutroMinutaCpfl!A94","v":0},null,null,57,null,null,null,null,null,null,null,null,null,null,null,null,null,null,null,{"$f":" [1]Folha4!A88","v":0}]
[null,null,null,null,null,null,null,null,null,null,null,null,null,null,null,{"$f":" [1]SecundariaMinutaCpfl!A95","v":"1 CA 2/0 AWG Vão 35m "},{"$f":" [1]PrimariaMinutaCpfl!A95","v":"1 CA 336,4 MCM Vão 35m "},{"$f":" [1]NeutroMinutaCpfl!A95","v":0},null,null,58,null,null,null,null,null,null,null,null,null,null,null,null,null,null,null,{"$f":" [1]Folha4!A89","v":0}]
[null,null,null,null,null,null,null,null,null,null,null,null,null,null,null,{"$f":" [1]SecundariaMinutaCpfl!A96","v":"1 CA 4/0 AWG Vão 35m "},{"$f":" [1]PrimariaMinutaCpfl!A96","v":"1 CA 477 MCM Vão 35m "},{"$f":" [1]NeutroMinutaCpfl!A96","v":0},null,null,59,null,null,null,null,null,null,null,null,null,null,null,null,null,null,null,{"$f":" [1]Folha4!A90","v":0}]
[null,null,null,null,null,null,null,null,null,null,null,null,null,null,null,{"$f":" [1]SecundariaMinutaCpfl!A97","v":"1 CA 336,4 MCM Vão 35m "},{"$f":" [1]PrimariaMinutaCpfl!A97","v":""},{"$f":" [1]NeutroMinutaCpfl!A97","v":0},null,null,60,null,null,null,null,null,null,null,null,null,null,null,null,null,null,null,{"$f":" [1]Folha4!A91","v":0}]
[null,null,null,null,null,null,null,null,null,null,null,null,null,null,null,{"$f":" [1]SecundariaMinutaCpfl!A98","v":"1 CA 477 MCM Vão 35m "},{"$f":" [1]PrimariaMinutaCpfl!A98","v":"1 CA 02 AWG Vão 80m "},{"$f":" [1]NeutroMinutaCpfl!A98","v":0},null,null,61,null,null,null,null,null,null,null,null,null,null,null,null,null,null,null,{"$f":" [1]Folha4!A92","v":0}]
[null,null,null,null,null,null,null,null,null,null,null,null,null,null,null,{"$f":" [1]SecundariaMinutaCpfl!A99","v":""},{"$f":" [1]PrimariaMinutaCpfl!A99","v":"1 CA 1/0 AWG Vão 80m "},{"$f":" [1]NeutroMinutaCpfl!A99","v":0},null,null,62,null,null,null,null,null,null,null,null,null,null,null,null,null,null,null,{"$f":" [1]Folha4!A93","v":0}]
[null,null,null,null,null,null,null,null,null,null,null,null,null,null,null,{"$f":" [1]SecundariaMinutaCpfl!A100","v":"1 CA 02 AWG Vão 80m "},{"$f":" [1]PrimariaMinutaCpfl!A100","v":"1 CA 2/0 AWG Vão 80m "},{"$f":" [1]NeutroMinutaCpfl!A100","v":0},null,null,63,null,null,null,null,null,null,null,null,null,null,null,null,null,null,null,{"$f":" [1]Folha4!A94","v":0}]
[null,null,null,null,null,null,null,null,null,null,null,null,null,null,null,{"$f":" [1]SecundariaMinutaCpfl!A101","v":"1 CA 1/0 AWG Vão 80m "},{"$f":" [1]PrimariaMinutaCpfl!A101","v":"1 CA 4/0 AWG Vão 80m "},{"$f":" [1]NeutroMinutaCpfl!A101","v":0},null,null,64,null,null,null,null,null,null,null,null,null,null,null,null,null,null,null,{"$f":" [1]Folha4!A95","v":0}]
[null,null,null,null,null,null,null,null,null,null,null,null,null,null,null,{"$f":" [1]SecundariaMinutaCpfl!A102","v":"1 CA 2/0 AWG Vão 80m "},{"$f":" [1]PrimariaMinutaCpfl!A102","v":"1 CA 336,4 MCM Vão 80m "},{"$f":" [1]NeutroMinutaCpfl!A102","v":0},null,null,65,null,null,null,null,null,null,null,null,null,null,null,null,null,null,null,{"$f":" [1]Folha4!A96","v":0}]
[null,null,null,null,null,null,null,null,null,null,null,null,null,null,null,{"$f":" [1]SecundariaMinutaCpfl!A103","v":"1 CA 4/0 AWG Vão 80m "},{"$f":" [1]PrimariaMinutaCpfl!A103","v":"1 CA 477 MCM Vão 80m "},{"$f":" [1]NeutroMinutaCpfl!A103","v":0},null,null,66,null,null,null,null,null,null,null,null,null,null,null,null,null,null,null,{"$f":" [1]Folha4!A97","v":0}]
[null,null,null,null,null,null,null,null,null,null,null,null,null,null,null,{"$f":" [1]SecundariaMinutaCpfl!A104","v":"1 CA 336,4 MCM Vão 80m "},{"$f":" [1]PrimariaMinutaCpfl!A104","v":""},{"$f":" [1]NeutroMinutaCpfl!A104","v":0},null,null,67,null,null,null,null,null,null,null,null,null,null,null,null,null,null,null,{"$f":" [1]Folha4!A98","v":0}]
[null,null,null,null,null,null,null,null,null,null,null,null,null,null,null,{"$f":" [1]SecundariaMinutaCpfl!A105","v":"1 CA 477 MCM Vão 80m "},{"$f":" [1]PrimariaMinutaCpfl!A105","v":"1 CAA 04 AWG Vão 40m "},{"$f":" [1]NeutroMinutaCpfl!A105","v":0},null,null,68,null,null,null,null,null,null,null,null,null,null,null,null,null,null,null,{"$f":" [1]Folha4!A99","v":0}]
[null,null,null,null,null,null,null,null,null,null,null,null,null,null,null,{"$f":" [1]SecundariaMinutaCpfl!A106","v":""},{"$f":" [1]PrimariaMinutaCpfl!A106","v":"1 CAA 02 AWG Vão 40m "},{"$f":" [1]NeutroMinutaCpfl!A106","v":0},null,null,69,null,null,null,null,null,null,null,null,null,null,null,null,null,null,null,{"$f":" [1]Folha4!A100","v":0}]
[null,null,null,null,null,null,null,null,null,null,null,null,null,null,null,{"$f":" [1]SecundariaMinutaCpfl!A107","v":"1 CAA 04 AWG Vão 40m "},{"$f":" [1]PrimariaMinutaCpfl!A107","v":"1 CAA 1/0 AWG Vão 40m "},{"$f":" [1]NeutroMinutaCpfl!A107","v":0},null,null,70,null,null,null,null,null,null,null,null,null,null,null,null,null,null,null,{"$f":" [1]Folha4!A101","v":0}]
[null,null,null,null,null,null,null,null,null,null,null,null,null,null,null,{"$f":" [1]SecundariaMinutaCpfl!A108","v":"1 CAA 02 AWG Vão 40m "},{"$f":" [1]PrimariaMinutaCpfl!A108","v":"1 CAA 2/0 AWG Vão 40m "},{"$f":" [1]NeutroMinutaCpfl!A108","v":0},null,null,71,null,null,null,null,null,null,null,null,null,null,null,null,null,null,null,{"$f":" [1]Folha4!A102","v":0}]
[null,null,null,null,null,null,null,null,null,null,null,null,null,null,null,{"$f":" [1]SecundariaMinutaCpfl!A109","v":"1 CAA 1/0 AWG Vão 40m "},{"$f":" [1]PrimariaMinutaCpfl!A109","v":"1 CAA 4/0 AWG Vão 40m "},{"$f":" [1]NeutroMinutaCpfl!A109","v":0},null,null,72,null,null,null,null,null,null,null,null,null,null,null,null,null,null,null,{"$f":" [1]Folha4!A103","v":0}]
[null,null,null,null,null,null,null,null,null,null,null,null,null,null,null,{"$f":" [1]SecundariaMinutaCpfl!A110","v":"1 CAA 2/0 AWG Vão 40m "},{"$f":" [1]PrimariaMinutaCpfl!A110","v":""},{"$f":" [1]NeutroMinutaCpfl!A110","v":0},null,null,73,null,null,null,null,null,null,null,null,null,null,null,null,null,null,null,{"$f":" [1]Folha4!A104","v":0}]
[null,null,null,null,null,null,null,null,null,null,null,null,null,null,null,{"$f":" [1]SecundariaMinutaCpfl!A111","v":"1 CAA 4/0 AWG Vão 40m "},{"$f":" [1]PrimariaMinutaCpfl!A111","v":"1 CAA 04 AWG Vão 80m "},{"$f":" [1]NeutroMinutaCpfl!A111","v":0},null,null,74,null,null,null,null,null,null,null,null,null,null,null,null,null,null,null,{"$f":" [1]Folha4!A105","v":0}]
[null,null,null,null,null,null,null,null,null,null,null,null,null,null,null,{"$f":" [1]SecundariaMinutaCpfl!A112","v":""},{"$f":" [1]PrimariaMinutaCpfl!A112","v":"1 CAA 02 AWG Vão 80m "},{"$f":" [1]NeutroMinutaCpfl!A112","v":0},null,null,75,null,null,null,null,null,null,null,null,null,null,null,null,null,null,null,{"$f":" [1]Folha4!A106","v":0}]
[null,null,null,null,null,null,null,null,null,null,null,null,null,null,null,{"$f":" [1]SecundariaMinutaCpfl!A113","v":"1 CAA 04 AWG Vão 80m "},{"$f":" [1]PrimariaMinutaCpfl!A113","v":"1 CAA 1/0 AWG Vão 80m "},{"$f":" [1]NeutroMinutaCpfl!A113","v":0},null,null,76,null,null,null,null,null,null,null,null,null,null,null,null,null,null,null,{"$f":" [1]Folha4!A107","v":0}]
[null,null,null,null,null,null,null,null,null,null,null,null,null,null,null,{"$f":" [1]SecundariaMinutaCpfl!A114","v":"1 CAA 02 AWG Vão 80m "},{"$f":" [1]PrimariaMinutaCpfl!A114","v":"1 CAA 2/0 AWG Vão 80m "},{"$f":" [1]NeutroMinutaCpfl!A114","v":0},null,null,77,null,null,null,null,null,null,null,null,null,null,null,null,null,null,null,{"$f":" [1]Folha4!A108","v":0}]
[null,null,null,null,null,null,null,null,null,null,null,null,null,null,null,{"$f":" [1]SecundariaMinutaCpfl!A115","v":"1 CAA 1/0 AWG Vão 80m "},{"$f":" [1]PrimariaMinutaCpfl!A115","v":"1 CAA 4/0 AWG Vão 80m "},{"$f":" [1]NeutroMinutaCpfl!A115","v":0},null,null,78,null,null,null,null,null,null,null,null,null,null,null,null,null,null,null,{"$f":" [1]Folha4!A109","v":0}]
[null,null,null,null,null,null,null,null,null,null,null,null,null,null,null,{"$f":" [1]SecundariaMinutaCpfl!A116","v":"1 CAA 2/0 AWG Vão 80m "},{"$f":" [1]PrimariaMinutaCpfl!A116","v":"1 CAA 336,4 MCM Vão 80m "},{"$f":" [1]NeutroMinutaCpfl!A116","v":0},null,null,79,null,null,null,null,null,null,null,null,null,null,null,null,null,null,null,{"$f":" [1]Folha4!A110","v":0}]
[null,null,null,null,null,null,null,null,null,null,null,null,null,null,null,{"$f":" [1]SecundariaMinutaCpfl!A117","v":"1 CAA 4/0 AWG Vão 80m "},{"$f":" [1]PrimariaMinutaCpfl!A117","v":""},{"$f":" [1]NeutroMinutaCpfl!A117","v":0},null,null,80,null,null,null,null,null,null,null,null,null,null,null,null,null,null,null,{"$f":" [1]Folha4!A111","v":0}]
[null,null,null,null,null,null,null,null,null,null,null,null,null,null,null,{"$f":" [1]SecundariaMinutaCpfl!A118","v":"1 CAA 336,4 MCM Vão 80m "},{"$f":" [1]PrimariaMinutaCpfl!A118","v":"1 CAA 04 AWG Vão 120m "},{"$f":" [1]NeutroMinutaCpfl!A118","v":0},null,null,81,null,null,null,null,null,null,null,null,null,null,null,null,null,null,null,{"$f":" [1]Folha4!A112","v":0}]
[null,null,null,null,null,null,null,null,null,null,null,null,null,null,null,{"$f":" [1]SecundariaMinutaCpfl!A119","v":""},{"$f":" [1]PrimariaMinutaCpfl!A119","v":"1 CAA 02 AWG Vão 120m "},{"$f":" [1]NeutroMinutaCpfl!A119","v":0},null,null,82,null,null,null,null,null,null,null,null,null,null,null,null,null,null,null,{"$f":" [1]Folha4!A113","v":0}]
[null,null,null,null,null,null,null,null,null,null,null,null,null,null,null,{"$f":" [1]SecundariaMinutaCpfl!A120","v":"1 CAA 04 AWG Vão 120m "},{"$f":" [1]PrimariaMinutaCpfl!A120","v":"1 CAA 1/0 AWG Vão 120m "},{"$f":" [1]NeutroMinutaCpfl!A120","v":0},null,null,83,null,null,null,null,null,null,null,null,null,null,null,null,null,null,null,{"$f":" [1]Folha4!A114","v":0}]
[null,null,null,null,null,null,null,null,null,null,null,null,null,null,null,{"$f":" [1]SecundariaMinutaCpfl!A121","v":"1 CAA 02 AWG Vão 120m "},{"$f":" [1]PrimariaMinutaCpfl!A121","v":"1 CAA 2/0 AWG Vão 120m "},{"$f":" [1]NeutroMinutaCpfl!A121","v":0},null,null,84,null,null,null,null,null,null,null,null,null,null,null,null,null,null,null,{"$f":" [1]Folha4!A115","v":0}]
[null,null,null,null,null,null,null,null,null,null,null,null,null,null,null,{"$f":" [1]SecundariaMinutaCpfl!A122","v":"1 CAA 1/0 AWG Vão 120m "},{"$f":" [1]PrimariaMinutaCpfl!A122","v":"1 CAA 4/0 AWG Vão 120m "},{"$f":" [1]NeutroMinutaCpfl!A122","v":0},null,null,85,null,null,null,null,null,null,null,null,null,null,null,null,null,null,null,{"$f":" [1]Folha4!A116","v":0}]
[null,null,null,null,null,null,null,null,null,null,null,null,null,null,null,{"$f":" [1]SecundariaMinutaCpfl!A123","v":"1 CAA 2/0 AWG Vão 120m "},{"$f":" [1]PrimariaMinutaCpfl!A123","v":"1 CAA 336,4 MCM Vão 120m "},{"$f":" [1]NeutroMinutaCpfl!A123","v":0},null,null,86,null,null,null,null,null,null,null,null,null,null,null,null,null,null,null,{"$f":" [1]Folha4!A117","v":0}]
[null,null,null,null,null,null,null,null,null,null,null,null,null,null,null,{"$f":" [1]SecundariaMinutaCpfl!A124","v":"1 CAA 4/0 AWG Vão 120m "},{"$f":" [1]PrimariaMinutaCpfl!A124","v":""},{"$f":" [1]NeutroMinutaCpfl!A124","v":0},null,null,87,null,null,null,null,null,null,null,null,null,null,null,null,null,null,null,{"$f":" [1]Folha4!A118","v":0}]
[null,null,null,null,null,null,null,null,null,null,null,null,null,null,null,{"$f":" [1]SecundariaMinutaCpfl!A125","v":"1 CAA 336,4 MCM Vão 120m "},{"$f":" [1]PrimariaMinutaCpfl!A125","v":"1 CU 06 AWG Vão 35m  "},{"$f":" [1]NeutroMinutaCpfl!A125","v":0},null,null,88,null,null,null,null,null,null,null,null,null,null,null,null,null,null,null,{"$f":" [1]Folha4!A119","v":0}]
[null,null,null,null,null,null,null,null,null,null,null,null,null,null,null,{"$f":" [1]SecundariaMinutaCpfl!A126","v":""},{"$f":" [1]PrimariaMinutaCpfl!A126","v":"1 CU 02 AWG Vão 35m  "},{"$f":" [1]NeutroMinutaCpfl!A126","v":0},null,null,89,null,null,null,null,null,null,null,null,null,null,null,null,null,null,null,{"$f":" [1]Folha4!A120","v":0}]
[null,null,null,null,null,null,null,null,null,null,null,null,null,null,null,{"$f":" [1]SecundariaMinutaCpfl!A127","v":"1 CU 06 AWG Vão 35m  "},{"$f":" [1]PrimariaMinutaCpfl!A127","v":"1 CU 1/0 AWG Vão 35m  "},{"$f":" [1]NeutroMinutaCpfl!A127","v":0},null,null,90,null,null,null,null,null,null,null,null,null,null,null,null,null,null,null,{"$f":" [1]Folha4!A121","v":0}]
[null,null,null,null,null,null,null,null,null,null,null,null,null,null,null,{"$f":" [1]SecundariaMinutaCpfl!A128","v":"1 CU 02 AWG Vão 35m  "},{"$f":" [1]PrimariaMinutaCpfl!A128","v":"1 CU 2/0 AWG Vão 35m  "},{"$f":" [1]NeutroMinutaCpfl!A128","v":0},null,null,91,null,null,null,null,null,null,null,null,null,null,null,null,null,null,null,{"$f":" [1]Folha4!A122","v":0}]
[null,null,null,null,null,null,null,null,null,null,null,null,null,null,null,{"$f":" [1]SecundariaMinutaCpfl!A129","v":"1 CU 1/0 AWG Vão 35m  "},{"$f":" [1]PrimariaMinutaCpfl!A129","v":"1 CU 4/0 AWG Vão 35m  "},{"$f":" [1]NeutroMinutaCpfl!A129","v":0},null,null,92,null,null,null,null,null,null,null,null,null,null,null,null,null,null,null,{"$f":" [1]Folha4!A123","v":0}]
[null,null,null,null,null,null,null,null,null,null,null,null,null,null,null,{"$f":" [1]SecundariaMinutaCpfl!A130","v":"1 CU 2/0 AWG Vão 35m  "},{"$f":" [1]PrimariaMinutaCpfl!A130","v":0},{"$f":" [1]NeutroMinutaCpfl!A130","v":0},null,null,93,null,null,null,null,null,null,null,null,null,null,null,null,null,null,null,{"$f":" [1]Folha4!A124","v":0}]
[null,null,null,null,null,null,null,null,null,null,null,null,null,null,null,{"$f":" [1]SecundariaMinutaCpfl!A131","v":"1 CU 4/0 AWG Vão 35m  "},{"$f":" [1]PrimariaMinutaCpfl!A131","v":0},{"$f":" [1]NeutroMinutaCpfl!A131","v":0},null,null,94,null,null,null,null,null,null,null,null,null,null,null,null,null,null,null,{"$f":" [1]Folha4!A125","v":0}]
[null,null,null,null,null,null,null,null,null,null,null,null,null,null,null,{"$f":" [1]SecundariaMinutaCpfl!A132","v":0},{"$f":" [1]PrimariaMinutaCpfl!A132","v":0},{"$f":" [1]NeutroMinutaCpfl!A132","v":0},null,null,95,null,null,null,null,null,null,null,null,null,null,null,null,null,null,null,{"$f":" [1]Folha4!A126","v":0}]
[null,null,null,null,null,null,null,null,null,null,null,null,null,null,null,{"$f":" [1]SecundariaMinutaCpfl!A133","v":0},{"$f":" [1]PrimariaMinutaCpfl!A133","v":0},{"$f":" [1]NeutroMinutaCpfl!A133","v":0},null,null,96,null,null,null,null,null,null,null,null,null,null,null,null,null,null,null,{"$f":" [1]Folha4!A127","v":0}]
[null,null,null,null,null,null,null,null,null,null,null,null,null,null,null,{"$f":" [1]SecundariaMinutaCpfl!A134","v":0},{"$f":" [1]PrimariaMinutaCpfl!A134","v":0},{"$f":" [1]NeutroMinutaCpfl!A134","v":0},null,null,97,null,null,null,null,null,null,null,null,null,null,null,null,null,null,null,{"$f":" [1]Folha4!A128","v":0}]
[null,null,null,null,null,null,null,null,null,null,null,null,null,null,null,{"$f":" [1]SecundariaMinutaCpfl!A135","v":0},{"$f":" [1]PrimariaMinutaCpfl!A135","v":0},{"$f":" [1]NeutroMinutaCpfl!A135","v":0},null,null,98,null,null,null,null,null,null,null,null,null,null,null,null,null,null,null,{"$f":" [1]Folha4!A129","v":0}]
[null,null,null,null,null,null,null,null,null,null,null,null,null,null,null,{"$f":" [1]SecundariaMinutaCpfl!A136","v":0},{"$f":" [1]PrimariaMinutaCpfl!A136","v":0},{"$f":" [1]NeutroMinutaCpfl!A136","v":0},null,null,99,null,null,null,null,null,null,null,null,null,null,null,null,null,null,null,{"$f":" [1]Folha4!A130","v":0}]
[null,null,null,null,null,null,null,null,null,null,null,null,null,null,null,{"$f":" [1]SecundariaMinutaCpfl!A137","v":0},{"$f":" [1]PrimariaMinutaCpfl!A137","v":0},{"$f":" [1]NeutroMinutaCpfl!A137","v":0},null,null,100,null,null,null,null,null,null,null,null,null,null,null,null,null,null,null,{"$f":" [1]Folha4!A131","v":0}]
[null,null,null,null,null,null,null,null,null,null,null,null,null,null,null,{"$f":" [1]SecundariaMinutaCpfl!A138","v":0},{"$f":" [1]PrimariaMinutaCpfl!A138","v":0},{"$f":" [1]NeutroMinutaCpfl!A138","v":0},null,null,101,null,null,null,null,null,null,null,null,null,null,null,null,null,null,null,{"$f":" [1]Folha4!A132","v":0}]
[null,null,null,null,null,null,null,null,null,null,null,null,null,null,null,{"$f":" [1]SecundariaMinutaCpfl!A139","v":0},{"$f":" [1]PrimariaMinutaCpfl!A139","v":0},{"$f":" [1]NeutroMinutaCpfl!A139","v":0},null,null,102,null,null,null,null,null,null,null,null,null,null,null,null,null,null,null,{"$f":" [1]Folha4!A133","v":0}]
[null,null,null,null,null,null,null,null,null,null,null,null,null,null,null,{"$f":" [1]SecundariaMinutaCpfl!A140","v":0},{"$f":" [1]PrimariaMinutaCpfl!A140","v":0},{"$f":" [1]NeutroMinutaCpfl!A140","v":0},null,null,103,null,null,null,null,null,null,null,null,null,null,null,null,null,null,null,{"$f":" [1]Folha4!A134","v":0}]
[null,null,null,null,null,null,null,null,null,null,null,null,null,null,null,{"$f":" [1]SecundariaMinutaCpfl!A141","v":0},{"$f":" [1]PrimariaMinutaCpfl!A141","v":0},{"$f":" [1]NeutroMinutaCpfl!A141","v":0},null,null,104,null,null,null,null,null,null,null,null,null,null,null,null,null,null,null,{"$f":" [1]Folha4!A135","v":0}]
[null,null,null,null,null,null,null,null,null,null,null,null,null,null,null,{"$f":" [1]SecundariaMinutaCpfl!A142","v":0},{"$f":" [1]PrimariaMinutaCpfl!A142","v":0},{"$f":" [1]NeutroMinutaCpfl!A142","v":0},null,null,105,null,null,null,null,null,null,null,null,null,null,null,null,null,null,null,{"$f":" [1]Folha4!A136","v":0}]
[null,null,null,null,null,null,null,null,null,null,null,null,null,null,null,{"$f":" [1]SecundariaMinutaCpfl!A143","v":0},{"$f":" [1]PrimariaMinutaCpfl!A143","v":0},{"$f":" [1]NeutroMinutaCpfl!A143","v":0},null,null,106,null,null,null,null,null,null,null,null,null,null,null,null,null,null,null,{"$f":" [1]Folha4!A137","v":0}]
[null,null,null,null,null,null,null,null,null,null,null,null,null,null,null,{"$f":" [1]SecundariaMinutaCpfl!A144","v":0},{"$f":" [1]PrimariaMinutaCpfl!A144","v":0},{"$f":" [1]NeutroMinutaCpfl!A144","v":0},null,null,107,null,null,null,null,null,null,null,null,null,null,null,null,null,null,null,{"$f":" [1]Folha4!A138","v":0}]
[null,null,null,null,null,null,null,null,null,null,null,null,null,null,null,{"$f":" [1]SecundariaMinutaCpfl!A145","v":0},{"$f":" [1]PrimariaMinutaCpfl!A145","v":0},{"$f":" [1]NeutroMinutaCpfl!A145","v":0},null,null,108,null,null,null,null,null,null,null,null,null,null,null,null,null,null,null,{"$f":" [1]Folha4!A139","v":0}]
[null,null,null,null,null,null,null,null,null,null,null,null,null,null,null,{"$f":" [1]SecundariaMinutaCpfl!A146","v":0},{"$f":" [1]PrimariaMinutaCpfl!A146","v":0},{"$f":" [1]NeutroMinutaCpfl!A146","v":0},null,null,109,null,null,null,null,null,null,null,null,null,null,null,null,null,null,null,{"$f":" [1]Folha4!A140","v":0}]
[null,null,null,null,null,null,null,null,null,null,null,null,null,null,null,{"$f":" [1]SecundariaMinutaCpfl!A147","v":0},{"$f":" [1]PrimariaMinutaCpfl!A147","v":0},{"$f":" [1]NeutroMinutaCpfl!A147","v":0},null,null,110,null,null,null,null,null,null,null,null,null,null,null,null,null,null,null,{"$f":" [1]Folha4!A141","v":0}]
[null,null,null,null,null,null,null,null,null,null,null,null,null,null,null,{"$f":" [1]SecundariaMinutaCpfl!A148","v":0},{"$f":" [1]PrimariaMinutaCpfl!A148","v":0},{"$f":" [1]NeutroMinutaCpfl!A148","v":0},null,null,111,null,null,null,null,null,null,null,null,null,null,null,null,null,null,null,{"$f":" [1]Folha4!A142","v":0}]
[null,null,null,null,null,null,null,null,null,null,null,null,null,null,null,{"$f":" [1]SecundariaMinutaCpfl!A149","v":0},{"$f":" [1]PrimariaMinutaCpfl!A149","v":0},{"$f":" [1]NeutroMinutaCpfl!A149","v":0},null,null,112,null,null,null,null,null,null,null,null,null,null,null,null,null,null,null,{"$f":" [1]Folha4!A143","v":0}]
[null,null,null,null,null,null,null,null,null,null,null,null,null,null,null,{"$f":" [1]SecundariaMinutaCpfl!A150","v":0},{"$f":" [1]PrimariaMinutaCpfl!A150","v":0},{"$f":" [1]NeutroMinutaCpfl!A150","v":0},null,null,113,null,null,null,null,null,null,null,null,null,null,null,null,null,null,null,{"$f":" [1]Folha4!A144","v":0}]
[null,null,null,null,null,null,null,null,null,null,null,null,null,null,null,{"$f":" [1]SecundariaMinutaCpfl!A151","v":0},{"$f":" [1]PrimariaMinutaCpfl!A151","v":0},{"$f":" [1]NeutroMinutaCpfl!A151","v":0},null,null,114,null,null,null,null,null,null,null,null,null,null,null,null,null,null,null,{"$f":" [1]Folha4!A145","v":0}]
[null,null,null,null,null,null,null,null,null,null,null,null,null,null,null,{"$f":" [1]SecundariaMinutaCpfl!A152","v":0},{"$f":" [1]PrimariaMinutaCpfl!A152","v":0},{"$f":" [1]NeutroMinutaCpfl!A152","v":0},null,null,115,null,null,null,null,null,null,null,null,null,null,null,null,null,null,null,{"$f":" [1]Folha4!A146","v":0}]
[null,null,null,null,null,null,null,null,null,null,null,null,null,null,null,{"$f":" [1]SecundariaMinutaCpfl!A153","v":0},{"$f":" [1]PrimariaMinutaCpfl!A153","v":0},{"$f":" [1]NeutroMinutaCpfl!A153","v":0},null,null,116,null,null,null,null,null,null,null,null,null,null,null,null,null,null,null,{"$f":" [1]Folha4!A147","v":0}]
[null,null,null,null,null,null,null,null,null,null,null,null,null,null,null,{"$f":" [1]SecundariaMinutaCpfl!A154","v":0},{"$f":" [1]PrimariaMinutaCpfl!A154","v":0},{"$f":" [1]NeutroMinutaCpfl!A154","v":0},null,null,117,null,null,null,null,null,null,null,null,null,null,null,null,null,null,null,{"$f":" [1]Folha4!A148","v":0}]
[null,null,null,null,null,null,null,null,null,null,null,null,null,null,null,{"$f":" [1]SecundariaMinutaCpfl!A155","v":0},{"$f":" [1]PrimariaMinutaCpfl!A155","v":0},{"$f":" [1]NeutroMinutaCpfl!A155","v":0},null,null,118,null,null,null,null,null,null,null,null,null,null,null,null,null,null,null,{"$f":" [1]Folha4!A149","v":0}]
[null,null,null,null,null,null,null,null,null,null,null,null,null,null,null,{"$f":" [1]SecundariaMinutaCpfl!A156","v":0},{"$f":" [1]PrimariaMinutaCpfl!A156","v":0},{"$f":" [1]NeutroMinutaCpfl!A156","v":0},null,null,119,null,null,null,null,null,null,null,null,null,null,null,null,null,null,null,{"$f":" [1]Folha4!A150","v":0}]
[null,null,null,null,null,null,null,null,null,null,null,null,null,null,null,{"$f":" [1]SecundariaMinutaCpfl!A157","v":0},{"$f":" [1]PrimariaMinutaCpfl!A157","v":0},{"$f":" [1]NeutroMinutaCpfl!A157","v":0},null,null,120,null,null,null,null,null,null,null,null,null,null,null,null,null,null,null,{"$f":" [1]Folha4!A151","v":0}]
[null,null,null,null,null,null,null,null,null,null,null,null,null,null,null,{"$f":" [1]SecundariaMinutaCpfl!A158","v":0},{"$f":" [1]PrimariaMinutaCpfl!A158","v":0},{"$f":" [1]NeutroMinutaCpfl!A158","v":0},null,null,121,null,null,null,null,null,null,null,null,null,null,null,null,null,null,null,{"$f":" [1]Folha4!A152","v":0}]
[null,null,null,null,null,null,null,null,null,null,null,null,null,null,null,{"$f":" [1]SecundariaMinutaCpfl!A159","v":0},{"$f":" [1]PrimariaMinutaCpfl!A159","v":0},{"$f":" [1]NeutroMinutaCpfl!A159","v":0},null,null,122,null,null,null,null,null,null,null,null,null,null,null,null,null,null,null,{"$f":" [1]Folha4!A153","v":0}]
[null,null,null,null,null,null,null,null,null,null,null,null,null,null,null,{"$f":" [1]SecundariaMinutaCpfl!A160","v":0},{"$f":" [1]PrimariaMinutaCpfl!A160","v":0},{"$f":" [1]NeutroMinutaCpfl!A160","v":0},null,null,123,null,null,null,null,null,null,null,null,null,null,null,null,null,null,null,{"$f":" [1]Folha4!A154","v":0}]
[null,null,null,null,null,null,null,null,null,null,null,null,null,null,null,{"$f":" [1]SecundariaMinutaCpfl!A161","v":0},{"$f":" [1]PrimariaMinutaCpfl!A161","v":0},{"$f":" [1]NeutroMinutaCpfl!A161","v":0},null,null,124,null,null,null,null,null,null,null,null,null,null,null,null,null,null,null,{"$f":" [1]Folha4!A155","v":0}]
[null,null,null,null,null,null,null,null,null,null,null,null,null,null,null,{"$f":" [1]SecundariaMinutaCpfl!A162","v":0},{"$f":" [1]PrimariaMinutaCpfl!A162","v":0},{"$f":" [1]NeutroMinutaCpfl!A162","v":0},null,null,125,null,null,null,null,null,null,null,null,null,null,null,null,null,null,null,{"$f":" [1]Folha4!A156","v":0}]
[null,null,null,null,null,null,null,null,null,null,null,null,null,null,null,{"$f":" [1]SecundariaMinutaCpfl!A163","v":0},{"$f":" [1]PrimariaMinutaCpfl!A163","v":0},{"$f":" [1]NeutroMinutaCpfl!A163","v":0},null,null,126,null,null,null,null,null,null,null,null,null,null,null,null,null,null,null,{"$f":" [1]Folha4!A157","v":0}]
[null,null,null,null,null,null,null,null,null,null,null,null,null,null,null,{"$f":" [1]SecundariaMinutaCpfl!A164","v":0},{"$f":" [1]PrimariaMinutaCpfl!A164","v":0},{"$f":" [1]NeutroMinutaCpfl!A164","v":0},null,null,127,null,null,null,null,null,null,null,null,null,null,null,null,null,null,null,{"$f":" [1]Folha4!A158","v":0}]
[null,null,null,null,null,null,null,null,null,null,null,null,null,null,null,{"$f":" [1]SecundariaMinutaCpfl!A165","v":0},{"$f":" [1]PrimariaMinutaCpfl!A165","v":0},{"$f":" [1]NeutroMinutaCpfl!A165","v":0},null,null,128,null,null,null,null,null,null,null,null,null,null,null,null,null,null,null,{"$f":" [1]Folha4!A159","v":0}]
[null,null,null,null,null,null,null,null,null,null,null,null,null,null,null,{"$f":" [1]SecundariaMinutaCpfl!A166","v":0},{"$f":" [1]PrimariaMinutaCpfl!A166","v":0},{"$f":" [1]NeutroMinutaCpfl!A166","v":0},null,null,129,null,null,null,null,null,null,null,null,null,null,null,null,null,null,null,{"$f":" [1]Folha4!A160","v":0}]
[null,null,null,null,null,null,null,null,null,null,null,null,null,null,null,{"$f":" [1]SecundariaMinutaCpfl!A167","v":0},{"$f":" [1]PrimariaMinutaCpfl!A167","v":0},{"$f":" [1]NeutroMinutaCpfl!A167","v":0},null,null,130,null,null,null,null,null,null,null,null,null,null,null,null,null,null,null,{"$f":" [1]Folha4!A161","v":0}]
[null,null,null,null,null,null,null,null,null,null,null,null,null,null,null,{"$f":" [1]SecundariaMinutaCpfl!A168","v":0},{"$f":" [1]PrimariaMinutaCpfl!A168","v":0},{"$f":" [1]NeutroMinutaCpfl!A168","v":0},null,null,131,null,null,null,null,null,null,null,null,null,null,null,null,null,null,null,{"$f":" [1]Folha4!A162","v":0}]
[null,null,null,null,null,null,null,null,null,null,null,null,null,null,null,{"$f":" [1]SecundariaMinutaCpfl!A169","v":0},{"$f":" [1]PrimariaMinutaCpfl!A169","v":0},{"$f":" [1]NeutroMinutaCpfl!A169","v":0},null,null,132,null,null,null,null,null,null,null,null,null,null,null,null,null,null,null,{"$f":" [1]Folha4!A163","v":0}]
[null,null,null,null,null,null,null,null,null,null,null,null,null,null,null,{"$f":" [1]SecundariaMinutaCpfl!A170","v":0},{"$f":" [1]PrimariaMinutaCpfl!A170","v":0},{"$f":" [1]NeutroMinutaCpfl!A170","v":0},null,null,133,null,null,null,null,null,null,null,null,null,null,null,null,null,null,null,{"$f":" [1]Folha4!A164","v":0}]
[null,null,null,null,null,null,null,null,null,null,null,null,null,null,null,{"$f":" [1]SecundariaMinutaCpfl!A171","v":0},{"$f":" [1]PrimariaMinutaCpfl!A171","v":0},{"$f":" [1]NeutroMinutaCpfl!A171","v":0},null,null,134,null,null,null,null,null,null,null,null,null,null,null,null,null,null,null,{"$f":" [1]Folha4!A165","v":0}]
[null,null,null,null,null,null,null,null,null,null,null,null,null,null,null,{"$f":" [1]SecundariaMinutaCpfl!A172","v":0},{"$f":" [1]PrimariaMinutaCpfl!A172","v":0},{"$f":" [1]NeutroMinutaCpfl!A172","v":0},null,null,135,null,null,null,null,null,null,null,null,null,null,null,null,null,null,null,{"$f":" [1]Folha4!A166","v":0}]
[null,null,null,null,null,null,null,null,null,null,null,null,null,null,null,{"$f":" [1]SecundariaMinutaCpfl!A173","v":0},{"$f":" [1]PrimariaMinutaCpfl!A173","v":0},{"$f":" [1]NeutroMinutaCpfl!A173","v":0},null,null,136,null,null,null,null,null,null,null,null,null,null,null,null,null,null,null,{"$f":" [1]Folha4!A167","v":0}]
[null,null,null,null,null,null,null,null,null,null,null,null,null,null,null,{"$f":" [1]SecundariaMinutaCpfl!A174","v":0},{"$f":" [1]PrimariaMinutaCpfl!A174","v":0},{"$f":" [1]NeutroMinutaCpfl!A174","v":0},null,null,137,null,null,null,null,null,null,null,null,null,null,null,null,null,null,null,{"$f":" [1]Folha4!A168","v":0}]
[null,null,null,null,null,null,null,null,null,null,null,null,null,null,null,{"$f":" [1]SecundariaMinutaCpfl!A175","v":0},{"$f":" [1]PrimariaMinutaCpfl!A175","v":0},{"$f":" [1]NeutroMinutaCpfl!A175","v":0},null,null,138,null,null,null,null,null,null,null,null,null,null,null,null,null,null,null,{"$f":" [1]Folha4!A169","v":0}]
[null,null,null,null,null,null,null,null,null,null,null,null,null,null,null,{"$f":" [1]SecundariaMinutaCpfl!A176","v":0},{"$f":" [1]PrimariaMinutaCpfl!A176","v":0},{"$f":" [1]NeutroMinutaCpfl!A176","v":0},null,null,139,null,null,null,null,null,null,null,null,null,null,null,null,null,null,null,{"$f":" [1]Folha4!A170","v":0}]
[null,null,null,null,null,null,null,null,null,null,null,null,null,null,null,{"$f":" [1]SecundariaMinutaCpfl!A177","v":0},{"$f":" [1]PrimariaMinutaCpfl!A177","v":0},{"$f":" [1]NeutroMinutaCpfl!A177","v":0},null,null,140,null,null,null,null,null,null,null,null,null,null,null,null,null,null,null,{"$f":" [1]Folha4!A171","v":0}]
[null,null,null,null,null,null,null,null,null,null,null,null,null,null,null,{"$f":" [1]SecundariaMinutaCpfl!A178","v":0},{"$f":" [1]PrimariaMinutaCpfl!A178","v":0},{"$f":" [1]NeutroMinutaCpfl!A178","v":0},null,null,141,null,null,null,null,null,null,null,null,null,null,null,null,null,null,null,{"$f":" [1]Folha4!A172","v":0}]
[null,null,null,null,null,null,null,null,null,null,null,null,null,null,null,{"$f":" [1]SecundariaMinutaCpfl!A179","v":0},{"$f":" [1]PrimariaMinutaCpfl!A179","v":0},{"$f":" [1]NeutroMinutaCpfl!A179","v":0},null,null,142,null,null,null,null,null,null,null,null,null,null,null,null,null,null,null,{"$f":" [1]Folha4!A173","v":0}]
[null,null,null,null,null,null,null,null,null,null,null,null,null,null,null,{"$f":" [1]SecundariaMinutaCpfl!A180","v":0},{"$f":" [1]PrimariaMinutaCpfl!A180","v":0},{"$f":" [1]NeutroMinutaCpfl!A180","v":0},null,null,143,null,null,null,null,null,null,null,null,null,null,null,null,null,null,null,{"$f":" [1]Folha4!A174","v":0}]
[null,null,null,null,null,null,null,null,null,null,null,null,null,null,null,{"$f":" [1]SecundariaMinutaCpfl!A181","v":0},{"$f":" [1]PrimariaMinutaCpfl!A181","v":0},{"$f":" [1]NeutroMinutaCpfl!A181","v":0},null,null,144,null,null,null,null,null,null,null,null,null,null,null,null,null,null,null,{"$f":" [1]Folha4!A175","v":0}]
[null,null,null,null,null,null,null,null,null,null,null,null,null,null,null,{"$f":" [1]SecundariaMinutaCpfl!A182","v":0},{"$f":" [1]PrimariaMinutaCpfl!A182","v":0},{"$f":" [1]NeutroMinutaCpfl!A182","v":0},null,null,145,null,null,null,null,null,null,null,null,null,null,null,null,null,null,null,{"$f":" [1]Folha4!A176","v":0}]
[null,null,null,null,null,null,null,null,null,null,null,null,null,null,null,{"$f":" [1]SecundariaMinutaCpfl!A183","v":0},{"$f":" [1]PrimariaMinutaCpfl!A183","v":0},{"$f":" [1]NeutroMinutaCpfl!A183","v":0},null,null,146,null,null,null,null,null,null,null,null,null,null,null,null,null,null,null,{"$f":" [1]Folha4!A177","v":0}]
[null,null,null,null,null,null,null,null,null,null,null,null,null,null,null,{"$f":" [1]SecundariaMinutaCpfl!A184","v":0},{"$f":" [1]PrimariaMinutaCpfl!A184","v":0},{"$f":" [1]NeutroMinutaCpfl!A184","v":0},null,null,147,null,null,null,null,null,null,null,null,null,null,null,null,null,null,null,{"$f":" [1]Folha4!A178","v":0}]
[null,null,null,null,null,null,null,null,null,null,null,null,null,null,null,{"$f":" [1]SecundariaMinutaCpfl!A185","v":0},{"$f":" [1]PrimariaMinutaCpfl!A185","v":0},{"$f":" [1]NeutroMinutaCpfl!A185","v":0},null,null,148,null,null,null,null,null,null,null,null,null,null,null,null,null,null,null,{"$f":" [1]Folha4!A179","v":0}]
[null,null,null,null,null,null,null,null,null,null,null,null,null,null,null,{"$f":" [1]SecundariaMinutaCpfl!A186","v":0},{"$f":" [1]PrimariaMinutaCpfl!A186","v":0},{"$f":" [1]NeutroMinutaCpfl!A186","v":0},null,null,149,null,null,null,null,null,null,null,null,null,null,null,null,null,null,null,{"$f":" [1]Folha4!A180","v":0}]
[null,null,null,null,null,null,null,null,null,null,null,null,null,null,null,{"$f":" [1]SecundariaMinutaCpfl!A187","v":0},{"$f":" [1]PrimariaMinutaCpfl!A187","v":0},{"$f":" [1]NeutroMinutaCpfl!A187","v":0},null,null,150,null,null,null,null,null,null,null,null,null,null,null,null,null,null,null,{"$f":" [1]Folha4!A181","v":0}]
[null,null,null,null,null,null,null,null,null,null,null,null,null,null,null,{"$f":" [1]SecundariaMinutaCpfl!A188","v":0},{"$f":" [1]PrimariaMinutaCpfl!A188","v":0},{"$f":" [1]NeutroMinutaCpfl!A188","v":0},null,null,151,null,null,null,null,null,null,null,null,null,null,null,null,null,null,null,{"$f":" [1]Folha4!A182","v":0}]
[null,null,null,null,null,null,null,null,null,null,null,null,null,null,null,{"$f":" [1]SecundariaMinutaCpfl!A189","v":0},{"$f":" [1]PrimariaMinutaCpfl!A189","v":0},{"$f":" [1]NeutroMinutaCpfl!A189","v":0},null,null,152,null,null,null,null,null,null,null,null,null,null,null,null,null,null,null,{"$f":" [1]Folha4!A183","v":0}]
[null,null,null,null,null,null,null,null,null,null,null,null,null,null,null,{"$f":" [1]SecundariaMinutaCpfl!A190","v":0},{"$f":" [1]PrimariaMinutaCpfl!A190","v":0},{"$f":" [1]NeutroMinutaCpfl!A190","v":0},null,null,153,null,null,null,null,null,null,null,null,null,null,null,null,null,null,null,{"$f":" [1]Folha4!A184","v":0}]
[null,null,null,null,null,null,null,null,null,null,null,null,null,null,null,{"$f":" [1]SecundariaMinutaCpfl!A191","v":0},{"$f":" [1]PrimariaMinutaCpfl!A191","v":0},{"$f":" [1]NeutroMinutaCpfl!A191","v":0},null,null,154,null,null,null,null,null,null,null,null,null,null,null,null,null,null,null,{"$f":" [1]Folha4!A185","v":0}]
[null,null,null,null,null,null,null,null,null,null,null,null,null,null,null,{"$f":" [1]SecundariaMinutaCpfl!A192","v":0},{"$f":" [1]PrimariaMinutaCpfl!A192","v":0},{"$f":" [1]NeutroMinutaCpfl!A192","v":0},null,null,155,null,null,null,null,null,null,null,null,null,null,null,null,null,null,null,{"$f":" [1]Folha4!A186","v":0}]
[null,null,null,null,null,null,null,null,null,null,null,null,null,null,null,{"$f":" [1]SecundariaMinutaCpfl!A193","v":0},{"$f":" [1]PrimariaMinutaCpfl!A193","v":0},{"$f":" [1]NeutroMinutaCpfl!A193","v":0},null,null,156,null,null,null,null,null,null,null,null,null,null,null,null,null,null,null,{"$f":" [1]Folha4!A187","v":0}]
[null,null,null,null,null,null,null,null,null,null,null,null,null,null,null,{"$f":" [1]SecundariaMinutaCpfl!A194","v":0},{"$f":" [1]PrimariaMinutaCpfl!A194","v":0},{"$f":" [1]NeutroMinutaCpfl!A194","v":0},null,null,157,null,null,null,null,null,null,null,null,null,null,null,null,null,null,null,{"$f":" [1]Folha4!A188","v":0}]
[null,null,null,null,null,null,null,null,null,null,null,null,null,null,null,{"$f":" [1]SecundariaMinutaCpfl!A195","v":0},{"$f":" [1]PrimariaMinutaCpfl!A195","v":0},{"$f":" [1]NeutroMinutaCpfl!A195","v":0},null,null,158,null,null,null,null,null,null,null,null,null,null,null,null,null,null,null,{"$f":" [1]Folha4!A189","v":0}]
[null,null,null,null,null,null,null,null,null,null,null,null,null,null,null,{"$f":" [1]SecundariaMinutaCpfl!A196","v":0},{"$f":" [1]PrimariaMinutaCpfl!A196","v":0},{"$f":" [1]NeutroMinutaCpfl!A196","v":0},null,null,159,null,null,null,null,null,null,null,null,null,null,null,null,null,null,null,{"$f":" [1]Folha4!A190","v":0}]
[null,null,null,null,null,null,null,null,null,null,null,null,null,null,null,{"$f":" [1]SecundariaMinutaCpfl!A197","v":0},{"$f":" [1]PrimariaMinutaCpfl!A197","v":0},{"$f":" [1]NeutroMinutaCpfl!A197","v":0},null,null,160,null,null,null,null,null,null,null,null,null,null,null,null,null,null,null,{"$f":" [1]Folha4!A191","v":0}]
[null,null,null,null,null,null,null,null,null,null,null,null,null,null,null,{"$f":" [1]SecundariaMinutaCpfl!A198","v":0},{"$f":" [1]PrimariaMinutaCpfl!A198","v":0},{"$f":" [1]NeutroMinutaCpfl!A198","v":0},null,null,161,null,null,null,null,null,null,null,null,null,null,null,null,null,null,null,{"$f":" [1]Folha4!A192","v":0}]
[null,null,null,null,null,null,null,null,null,null,null,null,null,null,null,{"$f":" [1]SecundariaMinutaCpfl!A199","v":0},{"$f":" [1]PrimariaMinutaCpfl!A199","v":0},{"$f":" [1]NeutroMinutaCpfl!A199","v":0},null,null,162,null,null,null,null,null,null,null,null,null,null,null,null,null,null,null,{"$f":" [1]Folha4!A193","v":0}]
[null,null,null,null,null,null,null,null,null,null,null,null,null,null,null,{"$f":" [1]SecundariaMinutaCpfl!A200","v":0},{"$f":" [1]PrimariaMinutaCpfl!A200","v":0},{"$f":" [1]NeutroMinutaCpfl!A200","v":0},null,null,163,null,null,null,null,null,null,null,null,null,null,null,null,null,null,null,{"$f":" [1]Folha4!A194","v":0}]
[null,null,null,null,null,null,null,null,null,null,null,null,null,null,null,{"$f":" [1]SecundariaMinutaCpfl!A201","v":0},{"$f":" [1]PrimariaMinutaCpfl!A201","v":0},{"$f":" [1]NeutroMinutaCpfl!A201","v":0},null,null,164,null,null,null,null,null,null,null,null,null,null,null,null,null,null,null,{"$f":" [1]Folha4!A195","v":0}]
[null,null,null,null,null,null,null,null,null,null,null,null,null,null,null,{"$f":" [1]SecundariaMinutaCpfl!A202","v":0},{"$f":" [1]PrimariaMinutaCpfl!A202","v":0},{"$f":" [1]NeutroMinutaCpfl!A202","v":0},null,null,165,null,null,null,null,null,null,null,null,null,null,null,null,null,null,null,{"$f":" [1]Folha4!A196","v":0}]
[null,null,null,null,null,null,null,null,null,null,null,null,null,null,null,{"$f":" [1]SecundariaMinutaCpfl!A203","v":0},{"$f":" [1]PrimariaMinutaCpfl!A203","v":0},{"$f":" [1]NeutroMinutaCpfl!A203","v":0},null,null,166,null,null,null,null,null,null,null,null,null,null,null,null,null,null,null,{"$f":" [1]Folha4!A197","v":0}]
[null,null,null,null,null,null,null,null,null,null,null,null,null,null,null,{"$f":" [1]SecundariaMinutaCpfl!A204","v":0},{"$f":" [1]PrimariaMinutaCpfl!A204","v":0},{"$f":" [1]NeutroMinutaCpfl!A204","v":0},null,null,167,null,null,null,null,null,null,null,null,null,null,null,null,null,null,null,{"$f":" [1]Folha4!A198","v":0}]
[null,null,null,null,null,null,null,null,null,null,null,null,null,null,null,{"$f":" [1]SecundariaMinutaCpfl!A205","v":0},{"$f":" [1]PrimariaMinutaCpfl!A205","v":0},{"$f":" [1]NeutroMinutaCpfl!A205","v":0},null,null,168,null,null,null,null,null,null,null,null,null,null,null,null,null,null,null,{"$f":" [1]Folha4!A199","v":0}]
[null,null,null,null,null,null,null,null,null,null,null,null,null,null,null,{"$f":" [1]SecundariaMinutaCpfl!A206","v":0},{"$f":" [1]PrimariaMinutaCpfl!A206","v":0},{"$f":" [1]NeutroMinutaCpfl!A206","v":0},null,null,169,null,null,null,null,null,null,null,null,null,null,null,null,null,null,null,{"$f":" [1]Folha4!A200","v":0}]
[null,null,null,null,null,null,null,null,null,null,null,null,null,null,null,{"$f":" [1]SecundariaMinutaCpfl!A207","v":0},{"$f":" [1]PrimariaMinutaCpfl!A207","v":0},{"$f":" [1]NeutroMinutaCpfl!A207","v":0},null,null,170,null,null,null,null,null,null,null,null,null,null,null,null,null,null,null,{"$f":" [1]Folha4!A201","v":0}]
[null,null,null,null,null,null,null,null,null,null,null,null,null,null,null,{"$f":" [1]SecundariaMinutaCpfl!A208","v":0},{"$f":" [1]PrimariaMinutaCpfl!A208","v":0},{"$f":" [1]NeutroMinutaCpfl!A208","v":0},null,null,171,null,null,null,null,null,null,null,null,null,null,null,null,null,null,null,{"$f":" [1]Folha4!A202","v":0}]
[null,null,null,null,null,null,null,null,null,null,null,null,null,null,null,{"$f":" [1]SecundariaMinutaCpfl!A209","v":0},{"$f":" [1]PrimariaMinutaCpfl!A209","v":0},{"$f":" [1]NeutroMinutaCpfl!A209","v":0},null,null,172,null,null,null,null,null,null,null,null,null,null,null,null,null,null,null,{"$f":" [1]Folha4!A203","v":0}]
[null,null,null,null,null,null,null,null,null,null,null,null,null,null,null,{"$f":" [1]SecundariaMinutaCpfl!A210","v":0},{"$f":" [1]PrimariaMinutaCpfl!A210","v":0},{"$f":" [1]NeutroMinutaCpfl!A210","v":0},null,null,173,null,null,null,null,null,null,null,null,null,null,null,null,null,null,null,{"$f":" [1]Folha4!A204","v":0}]
[null,null,null,null,null,null,null,null,null,null,null,null,null,null,null,{"$f":" [1]SecundariaMinutaCpfl!A211","v":0},{"$f":" [1]PrimariaMinutaCpfl!A211","v":0},{"$f":" [1]NeutroMinutaCpfl!A211","v":0},null,null,174,null,null,null,null,null,null,null,null,null,null,null,null,null,null,null,{"$f":" [1]Folha4!A205","v":0}]
[null,null,null,null,null,null,null,null,null,null,null,null,null,null,null,{"$f":" [1]SecundariaMinutaCpfl!A212","v":0},{"$f":" [1]PrimariaMinutaCpfl!A212","v":0},{"$f":" [1]NeutroMinutaCpfl!A212","v":0},null,null,175,null,null,null,null,null,null,null,null,null,null,null,null,null,null,null,{"$f":" [1]Folha4!A206","v":0}]
[null,null,null,null,null,null,null,null,null,null,null,null,null,null,null,{"$f":" [1]SecundariaMinutaCpfl!A213","v":0},{"$f":" [1]PrimariaMinutaCpfl!A213","v":0},{"$f":" [1]NeutroMinutaCpfl!A213","v":0},null,null,176,null,null,null,null,null,null,null,null,null,null,null,null,null,null,null,{"$f":" [1]Folha4!A207","v":0}]
[null,null,null,null,null,null,null,null,null,null,null,null,null,null,null,{"$f":" [1]SecundariaMinutaCpfl!A214","v":0},{"$f":" [1]PrimariaMinutaCpfl!A214","v":0},{"$f":" [1]NeutroMinutaCpfl!A214","v":0},null,null,177,null,null,null,null,null,null,null,null,null,null,null,null,null,null,null,{"$f":" [1]Folha4!A208","v":0}]
[null,null,null,null,null,null,null,null,null,null,null,null,null,null,null,{"$f":" [1]SecundariaMinutaCpfl!A215","v":0},{"$f":" [1]PrimariaMinutaCpfl!A215","v":0},{"$f":" [1]NeutroMinutaCpfl!A215","v":0},null,null,178,null,null,null,null,null,null,null,null,null,null,null,null,null,null,null,{"$f":" [1]Folha4!A209","v":0}]
[null,null,null,null,null,null,null,null,null,null,null,null,null,null,null,{"$f":" [1]SecundariaMinutaCpfl!A216","v":0},{"$f":" [1]PrimariaMinutaCpfl!A216","v":0},{"$f":" [1]NeutroMinutaCpfl!A216","v":0},null,null,179,null,null,null,null,null,null,null,null,null,null,null,null,null,null,null,{"$f":" [1]Folha4!A210","v":0}]
[null,null,null,null,null,null,null,null,null,null,null,null,null,null,null,{"$f":" [1]SecundariaMinutaCpfl!A217","v":0},{"$f":" [1]PrimariaMinutaCpfl!A217","v":0},{"$f":" [1]NeutroMinutaCpfl!A217","v":0},null,null,180,null,null,null,null,null,null,null,null,null,null,null,null,null,null,null,{"$f":" [1]Folha4!A211","v":0}]
[null,null,null,null,null,null,null,null,null,null,null,null,null,null,null,{"$f":" [1]SecundariaMinutaCpfl!A218","v":0},{"$f":" [1]PrimariaMinutaCpfl!A218","v":0},{"$f":" [1]NeutroMinutaCpfl!A218","v":0},null,null,181,null,null,null,null,null,null,null,null,null,null,null,null,null,null,null,{"$f":" [1]Folha4!A212","v":0}]
[null,null,null,null,null,null,null,null,null,null,null,null,null,null,null,{"$f":" [1]SecundariaMinutaCpfl!A219","v":0},{"$f":" [1]PrimariaMinutaCpfl!A219","v":0},{"$f":" [1]NeutroMinutaCpfl!A219","v":0},null,null,182,null,null,null,null,null,null,null,null,null,null,null,null,null,null,null,{"$f":" [1]Folha4!A213","v":0}]
[null,null,null,null,null,null,null,null,null,null,null,null,null,null,null,{"$f":" [1]SecundariaMinutaCpfl!A220","v":0},{"$f":" [1]PrimariaMinutaCpfl!A220","v":0},{"$f":" [1]NeutroMinutaCpfl!A220","v":0},null,null,183,null,null,null,null,null,null,null,null,null,null,null,null,null,null,null,{"$f":" [1]Folha4!A214","v":0}]
[null,null,null,null,null,null,null,null,null,null,null,null,null,null,null,{"$f":" [1]SecundariaMinutaCpfl!A221","v":0},{"$f":" [1]PrimariaMinutaCpfl!A221","v":0},{"$f":" [1]NeutroMinutaCpfl!A221","v":0},null,null,184,null,null,null,null,null,null,null,null,null,null,null,null,null,null,null,{"$f":" [1]Folha4!A215","v":0}]
[null,null,null,null,null,null,null,null,null,null,null,null,null,null,null,{"$f":" [1]SecundariaMinutaCpfl!A222","v":0},{"$f":" [1]PrimariaMinutaCpfl!A222","v":0},{"$f":" [1]NeutroMinutaCpfl!A222","v":0},null,null,185,null,null,null,null,null,null,null,null,null,null,null,null,null,null,null,{"$f":" [1]Folha4!A216","v":0}]
[null,null,null,null,null,null,null,null,null,null,null,null,null,null,null,{"$f":" [1]SecundariaMinutaCpfl!A223","v":0},{"$f":" [1]PrimariaMinutaCpfl!A223","v":0},{"$f":" [1]NeutroMinutaCpfl!A223","v":0},null,null,186,null,null,null,null,null,null,null,null,null,null,null,null,null,null,null,{"$f":" [1]Folha4!A217","v":0}]
[null,null,null,null,null,null,null,null,null,null,null,null,null,null,null,{"$f":" [1]SecundariaMinutaCpfl!A224","v":0},{"$f":" [1]PrimariaMinutaCpfl!A224","v":0},{"$f":" [1]NeutroMinutaCpfl!A224","v":0},null,null,187,null,null,null,null,null,null,null,null,null,null,null,null,null,null,null,{"$f":" [1]Folha4!A218","v":0}]
[null,null,null,null,null,null,null,null,null,null,null,null,null,null,null,{"$f":" [1]SecundariaMinutaCpfl!A225","v":0},{"$f":" [1]PrimariaMinutaCpfl!A225","v":0},{"$f":" [1]NeutroMinutaCpfl!A225","v":0},null,null,188,null,null,null,null,null,null,null,null,null,null,null,null,null,null,null,{"$f":" [1]Folha4!A219","v":0}]
[null,null,null,null,null,null,null,null,null,null,null,null,null,null,null,{"$f":" [1]SecundariaMinutaCpfl!A226","v":0},{"$f":" [1]PrimariaMinutaCpfl!A226","v":0},{"$f":" [1]NeutroMinutaCpfl!A226","v":0},null,null,189,null,null,null,null,null,null,null,null,null,null,null,null,null,null,null,{"$f":" [1]Folha4!A220","v":0}]
[null,null,null,null,null,null,null,null,null,null,null,null,null,null,null,{"$f":" [1]SecundariaMinutaCpfl!A227","v":0},{"$f":" [1]PrimariaMinutaCpfl!A227","v":0},{"$f":" [1]NeutroMinutaCpfl!A227","v":0},null,null,190,null,null,null,null,null,null,null,null,null,null,null,null,null,null,null,{"$f":" [1]Folha4!A221","v":0}]
[null,null,null,null,null,null,null,null,null,null,null,null,null,null,null,{"$f":" [1]SecundariaMinutaCpfl!A228","v":0},{"$f":" [1]PrimariaMinutaCpfl!A228","v":0},{"$f":" [1]NeutroMinutaCpfl!A228","v":0},null,null,191,null,null,null,null,null,null,null,null,null,null,null,null,null,null,null,{"$f":" [1]Folha4!A222","v":0}]
[null,null,null,null,null,null,null,null,null,null,null,null,null,null,null,{"$f":" [1]SecundariaMinutaCpfl!A229","v":0},{"$f":" [1]PrimariaMinutaCpfl!A229","v":0},{"$f":" [1]NeutroMinutaCpfl!A229","v":0},null,null,192,null,null,null,null,null,null,null,null,null,null,null,null,null,null,null,{"$f":" [1]Folha4!A223","v":0}]
[null,null,null,null,null,null,null,null,null,null,null,null,null,null,null,{"$f":" [1]SecundariaMinutaCpfl!A230","v":0},{"$f":" [1]PrimariaMinutaCpfl!A230","v":0},{"$f":" [1]NeutroMinutaCpfl!A230","v":0},null,null,193,null,null,null,null,null,null,null,null,null,null,null,null,null,null,null,{"$f":" [1]Folha4!A224","v":0}]
[null,null,null,null,null,null,null,null,null,null,null,null,null,null,null,{"$f":" [1]SecundariaMinutaCpfl!A231","v":0},{"$f":" [1]PrimariaMinutaCpfl!A231","v":0},{"$f":" [1]NeutroMinutaCpfl!A231","v":0},null,null,194,null,null,null,null,null,null,null,null,null,null,null,null,null,null,null,{"$f":" [1]Folha4!A225","v":0}]
[null,null,null,null,null,null,null,null,null,null,null,null,null,null,null,{"$f":" [1]SecundariaMinutaCpfl!A232","v":0},{"$f":" [1]PrimariaMinutaCpfl!A232","v":0},{"$f":" [1]NeutroMinutaCpfl!A232","v":0},null,null,195,null,null,null,null,null,null,null,null,null,null,null,null,null,null,null,{"$f":" [1]Folha4!A226","v":0}]
[null,null,null,null,null,null,null,null,null,null,null,null,null,null,null,{"$f":" [1]SecundariaMinutaCpfl!A233","v":0},{"$f":" [1]PrimariaMinutaCpfl!A233","v":0},{"$f":" [1]NeutroMinutaCpfl!A233","v":0},null,null,196,null,null,null,null,null,null,null,null,null,null,null,null,null,null,null,{"$f":" [1]Folha4!A227","v":0}]
[null,null,null,null,null,null,null,null,null,null,null,null,null,null,null,{"$f":" [1]SecundariaMinutaCpfl!A234","v":0},{"$f":" [1]PrimariaMinutaCpfl!A234","v":0},{"$f":" [1]NeutroMinutaCpfl!A234","v":0},null,null,197,null,null,null,null,null,null,null,null,null,null,null,null,null,null,null,{"$f":" [1]Folha4!A228","v":0}]
[null,null,null,null,null,null,null,null,null,null,null,null,null,null,null,{"$f":" [1]SecundariaMinutaCpfl!A235","v":0},{"$f":" [1]PrimariaMinutaCpfl!A235","v":0},{"$f":" [1]NeutroMinutaCpfl!A235","v":0},null,null,198,null,null,null,null,null,null,null,null,null,null,null,null,null,null,null,{"$f":" [1]Folha4!A229","v":0}]
[null,null,null,null,null,null,null,null,null,null,null,null,null,null,null,{"$f":" [1]SecundariaMinutaCpfl!A236","v":0},{"$f":" [1]PrimariaMinutaCpfl!A236","v":0},{"$f":" [1]NeutroMinutaCpfl!A236","v":0},null,null,199,null,null,null,null,null,null,null,null,null,null,null,null,null,null,null,{"$f":" [1]Folha4!A230","v":0}]
[null,null,null,null,null,null,null,null,null,null,null,null,null,null,null,{"$f":" [1]SecundariaMinutaCpfl!A237","v":0},{"$f":" [1]PrimariaMinutaCpfl!A237","v":0},{"$f":" [1]NeutroMinutaCpfl!A237","v":0},null,null,200,null,null,null,null,null,null,null,null,null,null,null,null,null,null,null,{"$f":" [1]Folha4!A231","v":0}]
[null,null,null,null,null,null,null,null,null,null,null,null,null,null,null,{"$f":" [1]SecundariaMinutaCpfl!A238","v":0},{"$f":" [1]PrimariaMinutaCpfl!A238","v":0},{"$f":" [1]NeutroMinutaCpfl!A238","v":0},null,null,201,null,null,null,null,null,null,null,null,null,null,null,null,null,null,null,{"$f":" [1]Folha4!A232","v":0}]
[null,null,null,null,null,null,null,null,null,null,null,null,null,null,null,{"$f":" [1]SecundariaMinutaCpfl!A239","v":0},{"$f":" [1]PrimariaMinutaCpfl!A239","v":0},{"$f":" [1]NeutroMinutaCpfl!A239","v":0},null,null,202,null,null,null,null,null,null,null,null,null,null,null,null,null,null,null,{"$f":" [1]Folha4!A233","v":0}]
[null,null,null,null,null,null,null,null,null,null,null,null,null,null,null,{"$f":" [1]SecundariaMinutaCpfl!A240","v":0},{"$f":" [1]PrimariaMinutaCpfl!A240","v":0},{"$f":" [1]NeutroMinutaCpfl!A240","v":0},null,null,203,null,null,null,null,null,null,null,null,null,null,null,null,null,null,null,{"$f":" [1]Folha4!A234","v":0}]
[null,null,null,null,null,null,null,null,null,null,null,null,null,null,null,{"$f":" [1]SecundariaMinutaCpfl!A241","v":0},{"$f":" [1]PrimariaMinutaCpfl!A241","v":0},{"$f":" [1]NeutroMinutaCpfl!A241","v":0},null,null,204,null,null,null,null,null,null,null,null,null,null,null,null,null,null,null,{"$f":" [1]Folha4!A235","v":0}]
[null,null,null,null,null,null,null,null,null,null,null,null,null,null,null,{"$f":" [1]SecundariaMinutaCpfl!A242","v":0},{"$f":" [1]PrimariaMinutaCpfl!A242","v":0},{"$f":" [1]NeutroMinutaCpfl!A242","v":0},null,null,205,null,null,null,null,null,null,null,null,null,null,null,null,null,null,null,{"$f":" [1]Folha4!A236","v":0}]
[null,null,null,null,null,null,null,null,null,null,null,null,null,null,null,{"$f":" [1]SecundariaMinutaCpfl!A243","v":0},{"$f":" [1]PrimariaMinutaCpfl!A243","v":0},{"$f":" [1]NeutroMinutaCpfl!A243","v":0},null,null,206,null,null,null,null,null,null,null,null,null,null,null,null,null,null,null,{"$f":" [1]Folha4!A237","v":0}]
[null,null,null,null,null,null,null,null,null,null,null,null,null,null,null,{"$f":" [1]SecundariaMinutaCpfl!A244","v":0},{"$f":" [1]PrimariaMinutaCpfl!A244","v":0},{"$f":" [1]NeutroMinutaCpfl!A244","v":0},null,null,207,null,null,null,null,null,null,null,null,null,null,null,null,null,null,null,{"$f":" [1]Folha4!A238","v":0}]
[null,null,null,null,null,null,null,null,null,null,null,null,null,null,null,{"$f":" [1]SecundariaMinutaCpfl!A245","v":0},{"$f":" [1]PrimariaMinutaCpfl!A245","v":0},{"$f":" [1]NeutroMinutaCpfl!A245","v":0},null,null,208,null,null,null,null,null,null,null,null,null,null,null,null,null,null,null,{"$f":" [1]Folha4!A239","v":0}]
[null,null,null,null,null,null,null,null,null,null,null,null,null,null,null,{"$f":" [1]SecundariaMinutaCpfl!A246","v":0},{"$f":" [1]PrimariaMinutaCpfl!A246","v":0},{"$f":" [1]NeutroMinutaCpfl!A246","v":0},null,null,209,null,null,null,null,null,null,null,null,null,null,null,null,null,null,null,{"$f":" [1]Folha4!A240","v":0}]
[null,null,null,null,null,null,null,null,null,null,null,null,null,null,null,{"$f":" [1]SecundariaMinutaCpfl!A247","v":0},{"$f":" [1]PrimariaMinutaCpfl!A247","v":0},{"$f":" [1]NeutroMinutaCpfl!A247","v":0},null,null,210,null,null,null,null,null,null,null,null,null,null,null,null,null,null,null,{"$f":" [1]Folha4!A241","v":0}]
[null,null,null,null,null,null,null,null,null,null,null,null,null,null,null,{"$f":" [1]SecundariaMinutaCpfl!A248","v":0},{"$f":" [1]PrimariaMinutaCpfl!A248","v":0},{"$f":" [1]NeutroMinutaCpfl!A248","v":0},null,null,211,null,null,null,null,null,null,null,null,null,null,null,null,null,null,null,{"$f":" [1]Folha4!A242","v":0}]
[null,null,null,null,null,null,null,null,null,null,null,null,null,null,null,{"$f":" [1]SecundariaMinutaCpfl!A249","v":0},{"$f":" [1]PrimariaMinutaCpfl!A249","v":0},{"$f":" [1]NeutroMinutaCpfl!A249","v":0},null,null,212,null,null,null,null,null,null,null,null,null,null,null,null,null,null,null,{"$f":" [1]Folha4!A243","v":0}]
[null,null,null,null,null,null,null,null,null,null,null,null,null,null,null,{"$f":" [1]SecundariaMinutaCpfl!A250","v":0},{"$f":" [1]PrimariaMinutaCpfl!A250","v":0},{"$f":" [1]NeutroMinutaCpfl!A250","v":0},null,null,213,null,null,null,null,null,null,null,null,null,null,null,null,null,null,null,{"$f":" [1]Folha4!A244","v":0}]
[null,null,null,null,null,null,null,null,null,null,null,null,null,null,null,{"$f":" [1]SecundariaMinutaCpfl!A251","v":0},{"$f":" [1]PrimariaMinutaCpfl!A251","v":0},{"$f":" [1]NeutroMinutaCpfl!A251","v":0},null,null,214,null,null,null,null,null,null,null,null,null,null,null,null,null,null,null,{"$f":" [1]Folha4!A245","v":0}]
[null,null,null,null,null,null,null,null,null,null,null,null,null,null,null,{"$f":" [1]SecundariaMinutaCpfl!A252","v":0},{"$f":" [1]PrimariaMinutaCpfl!A252","v":0},{"$f":" [1]NeutroMinutaCpfl!A252","v":0},null,null,215,null,null,null,null,null,null,null,null,null,null,null,null,null,null,null,{"$f":" [1]Folha4!A246","v":0}]
[null,null,null,null,null,null,null,null,null,null,null,null,null,null,null,{"$f":" [1]SecundariaMinutaCpfl!A253","v":0},{"$f":" [1]PrimariaMinutaCpfl!A253","v":0},{"$f":" [1]NeutroMinutaCpfl!A253","v":0},null,null,216,null,null,null,null,null,null,null,null,null,null,null,null,null,null,null,{"$f":" [1]Folha4!A247","v":0}]
[null,null,null,null,null,null,null,null,null,null,null,null,null,null,null,{"$f":" [1]SecundariaMinutaCpfl!A254","v":0},{"$f":" [1]PrimariaMinutaCpfl!A254","v":0},{"$f":" [1]NeutroMinutaCpfl!A254","v":0},null,null,217,null,null,null,null,null,null,null,null,null,null,null,null,null,null,null,{"$f":" [1]Folha4!A248","v":0}]
[null,null,null,null,null,null,null,null,null,null,null,null,null,null,null,{"$f":" [1]SecundariaMinutaCpfl!A255","v":0},{"$f":" [1]PrimariaMinutaCpfl!A255","v":0},{"$f":" [1]NeutroMinutaCpfl!A255","v":0},null,null,218,null,null,null,null,null,null,null,null,null,null,null,null,null,null,null,{"$f":" [1]Folha4!A249","v":0}]
[null,null,null,null,null,null,null,null,null,null,null,null,null,null,null,{"$f":" [1]SecundariaMinutaCpfl!A256","v":0},{"$f":" [1]PrimariaMinutaCpfl!A256","v":0},{"$f":" [1]NeutroMinutaCpfl!A256","v":0},null,null,219,null,null,null,null,null,null,null,null,null,null,null,null,null,null,null,{"$f":" [1]Folha4!A250","v":0}]
[null,null,null,null,null,null,null,null,null,null,null,null,null,null,null,{"$f":" [1]SecundariaMinutaCpfl!A257","v":0},{"$f":" [1]PrimariaMinutaCpfl!A257","v":0},{"$f":" [1]NeutroMinutaCpfl!A257","v":0},null,null,220,null,null,null,null,null,null,null,null,null,null,null,null,null,null,null,{"$f":" [1]Folha4!A251","v":0}]
[null,null,null,null,null,null,null,null,null,null,null,null,null,null,null,{"$f":" [1]SecundariaMinutaCpfl!A258","v":0},{"$f":" [1]PrimariaMinutaCpfl!A258","v":0},{"$f":" [1]NeutroMinutaCpfl!A258","v":0},null,null,221,null,null,null,null,null,null,null,null,null,null,null,null,null,null,null,{"$f":" [1]Folha4!A252","v":0}]
[null,null,null,null,null,null,null,null,null,null,null,null,null,null,null,{"$f":" [1]SecundariaMinutaCpfl!A259","v":0},{"$f":" [1]PrimariaMinutaCpfl!A259","v":0},{"$f":" [1]NeutroMinutaCpfl!A259","v":0},null,null,222,null,null,null,null,null,null,null,null,null,null,null,null,null,null,null,{"$f":" [1]Folha4!A253","v":0}]
[null,null,null,null,null,null,null,null,null,null,null,null,null,null,null,{"$f":" [1]SecundariaMinutaCpfl!A260","v":0},{"$f":" [1]PrimariaMinutaCpfl!A260","v":0},{"$f":" [1]NeutroMinutaCpfl!A260","v":0},null,null,223,null,null,null,null,null,null,null,null,null,null,null,null,null,null,null,{"$f":" [1]Folha4!A254","v":0}]
[null,null,null,null,null,null,null,null,null,null,null,null,null,null,null,{"$f":" [1]SecundariaMinutaCpfl!A261","v":0},{"$f":" [1]PrimariaMinutaCpfl!A261","v":0},{"$f":" [1]NeutroMinutaCpfl!A261","v":0},null,null,224,null,null,null,null,null,null,null,null,null,null,null,null,null,null,null,{"$f":" [1]Folha4!A255","v":0}]
[null,null,null,null,null,null,null,null,null,null,null,null,null,null,null,{"$f":" [1]SecundariaMinutaCpfl!A262","v":0},{"$f":" [1]PrimariaMinutaCpfl!A262","v":0},{"$f":" [1]NeutroMinutaCpfl!A262","v":0},null,null,225,null,null,null,null,null,null,null,null,null,null,null,null,null,null,null,{"$f":" [1]Folha4!A256","v":0}]
[null,null,null,null,null,null,null,null,null,null,null,null,null,null,null,{"$f":" [1]SecundariaMinutaCpfl!A263","v":0},{"$f":" [1]PrimariaMinutaCpfl!A263","v":0},{"$f":" [1]NeutroMinutaCpfl!A263","v":0},null,null,226,null,null,null,null,null,null,null,null,null,null,null,null,null,null,null,{"$f":" [1]Folha4!A257","v":0}]
[null,null,null,null,null,null,null,null,null,null,null,null,null,null,null,{"$f":" [1]SecundariaMinutaCpfl!A264","v":0},{"$f":" [1]PrimariaMinutaCpfl!A264","v":0},{"$f":" [1]NeutroMinutaCpfl!A264","v":0},null,null,227,null,null,null,null,null,null,null,null,null,null,null,null,null,null,null,{"$f":" [1]Folha4!A258","v":0}]
[null,null,null,null,null,null,null,null,null,null,null,null,null,null,null,{"$f":" [1]SecundariaMinutaCpfl!A265","v":0},{"$f":" [1]PrimariaMinutaCpfl!A265","v":0},{"$f":" [1]NeutroMinutaCpfl!A265","v":0},null,null,228,null,null,null,null,null,null,null,null,null,null,null,null,null,null,null,{"$f":" [1]Folha4!A259","v":0}]
[null,null,null,null,null,null,null,null,null,null,null,null,null,null,null,{"$f":" [1]SecundariaMinutaCpfl!A266","v":0},{"$f":" [1]PrimariaMinutaCpfl!A266","v":0},{"$f":" [1]NeutroMinutaCpfl!A266","v":0},null,null,229,null,null,null,null,null,null,null,null,null,null,null,null,null,null,null,{"$f":" [1]Folha4!A260","v":0}]
[null,null,null,null,null,null,null,null,null,null,null,null,null,null,null,{"$f":" [1]SecundariaMinutaCpfl!A267","v":0},{"$f":" [1]PrimariaMinutaCpfl!A267","v":0},{"$f":" [1]NeutroMinutaCpfl!A267","v":0},null,null,230,null,null,null,null,null,null,null,null,null,null,null,null,null,null,null,{"$f":" [1]Folha4!A261","v":0}]
[null,null,null,null,null,null,null,null,null,null,null,null,null,null,null,{"$f":" [1]SecundariaMinutaCpfl!A268","v":0},{"$f":" [1]PrimariaMinutaCpfl!A268","v":0},{"$f":" [1]NeutroMinutaCpfl!A268","v":0},null,null,231,null,null,null,null,null,null,null,null,null,null,null,null,null,null,null,{"$f":" [1]Folha4!A262","v":0}]
[null,null,null,null,null,null,null,null,null,null,null,null,null,null,null,{"$f":" [1]SecundariaMinutaCpfl!A269","v":0},{"$f":" [1]PrimariaMinutaCpfl!A269","v":0},{"$f":" [1]NeutroMinutaCpfl!A269","v":0},null,null,232,null,null,null,null,null,null,null,null,null,null,null,null,null,null,null,{"$f":" [1]Folha4!A263","v":0}]
[null,null,null,null,null,null,null,null,null,null,null,null,null,null,null,{"$f":" [1]SecundariaMinutaCpfl!A270","v":0},{"$f":" [1]PrimariaMinutaCpfl!A270","v":0},{"$f":" [1]NeutroMinutaCpfl!A270","v":0},null,null,233,null,null,null,null,null,null,null,null,null,null,null,null,null,null,null,{"$f":" [1]Folha4!A264","v":0}]
[null,null,null,null,null,null,null,null,null,null,null,null,null,null,null,{"$f":" [1]SecundariaMinutaCpfl!A271","v":0},{"$f":" [1]PrimariaMinutaCpfl!A271","v":0},{"$f":" [1]NeutroMinutaCpfl!A271","v":0},null,null,234,null,null,null,null,null,null,null,null,null,null,null,null,null,null,null,{"$f":" [1]Folha4!A265","v":0}]
[null,null,null,null,null,null,null,null,null,null,null,null,null,null,null,{"$f":" [1]SecundariaMinutaCpfl!A272","v":0},{"$f":" [1]PrimariaMinutaCpfl!A272","v":0},{"$f":" [1]NeutroMinutaCpfl!A272","v":0},null,null,235,null,null,null,null,null,null,null,null,null,null,null,null,null,null,null,{"$f":" [1]Folha4!A266","v":0}]
[null,null,null,null,null,null,null,null,null,null,null,null,null,null,null,{"$f":" [1]SecundariaMinutaCpfl!A273","v":0},{"$f":" [1]PrimariaMinutaCpfl!A273","v":0},{"$f":" [1]NeutroMinutaCpfl!A273","v":0},null,null,236,null,null,null,null,null,null,null,null,null,null,null,null,null,null,null,{"$f":" [1]Folha4!A267","v":0}]
[null,null,null,null,null,null,null,null,null,null,null,null,null,null,null,{"$f":" [1]SecundariaMinutaCpfl!A274","v":0},{"$f":" [1]PrimariaMinutaCpfl!A274","v":0},{"$f":" [1]NeutroMinutaCpfl!A274","v":0},null,null,237,null,null,null,null,null,null,null,null,null,null,null,null,null,null,null,{"$f":" [1]Folha4!A268","v":0}]
[null,null,null,null,null,null,null,null,null,null,null,null,null,null,null,{"$f":" [1]SecundariaMinutaCpfl!A275","v":0},{"$f":" [1]PrimariaMinutaCpfl!A275","v":0},{"$f":" [1]NeutroMinutaCpfl!A275","v":0},null,null,238,null,null,null,null,null,null,null,null,null,null,null,null,null,null,null,{"$f":" [1]Folha4!A269","v":0}]
[null,null,null,null,null,null,null,null,null,null,null,null,null,null,null,{"$f":" [1]SecundariaMinutaCpfl!A276","v":0},{"$f":" [1]PrimariaMinutaCpfl!A276","v":0},{"$f":" [1]NeutroMinutaCpfl!A276","v":0},null,null,239,null,null,null,null,null,null,null,null,null,null,null,null,null,null,null,{"$f":" [1]Folha4!A270","v":0}]
[null,null,null,null,null,null,null,null,null,null,null,null,null,null,null,{"$f":" [1]SecundariaMinutaCpfl!A277","v":0},{"$f":" [1]PrimariaMinutaCpfl!A277","v":0},{"$f":" [1]NeutroMinutaCpfl!A277","v":0},null,null,240,null,null,null,null,null,null,null,null,null,null,null,null,null,null,null,{"$f":" [1]Folha4!A271","v":0}]
[null,null,null,null,null,null,null,null,null,null,null,null,null,null,null,{"$f":" [1]SecundariaMinutaCpfl!A278","v":0},{"$f":" [1]PrimariaMinutaCpfl!A278","v":0},{"$f":" [1]NeutroMinutaCpfl!A278","v":0},null,null,241,null,null,null,null,null,null,null,null,null,null,null,null,null,null,null,{"$f":" [1]Folha4!A272","v":0}]
[null,null,null,null,null,null,null,null,null,null,null,null,null,null,null,{"$f":" [1]SecundariaMinutaCpfl!A279","v":0},{"$f":" [1]PrimariaMinutaCpfl!A279","v":0},{"$f":" [1]NeutroMinutaCpfl!A279","v":0},null,null,242,null,null,null,null,null,null,null,null,null,null,null,null,null,null,null,{"$f":" [1]Folha4!A273","v":0}]
[null,null,null,null,null,null,null,null,null,null,null,null,null,null,null,{"$f":" [1]SecundariaMinutaCpfl!A280","v":0},{"$f":" [1]PrimariaMinutaCpfl!A280","v":0},{"$f":" [1]NeutroMinutaCpfl!A280","v":0},null,null,243,null,null,null,null,null,null,null,null,null,null,null,null,null,null,null,{"$f":" [1]Folha4!A274","v":0}]
[null,null,null,null,null,null,null,null,null,null,null,null,null,null,null,{"$f":" [1]SecundariaMinutaCpfl!A281","v":0},{"$f":" [1]PrimariaMinutaCpfl!A281","v":0},{"$f":" [1]NeutroMinutaCpfl!A281","v":0},null,null,244,null,null,null,null,null,null,null,null,null,null,null,null,null,null,null,{"$f":" [1]Folha4!A275","v":0}]
[null,null,null,null,null,null,null,null,null,null,null,null,null,null,null,{"$f":" [1]SecundariaMinutaCpfl!A282","v":0},{"$f":" [1]PrimariaMinutaCpfl!A282","v":0},{"$f":" [1]NeutroMinutaCpfl!A282","v":0},null,null,245,null,null,null,null,null,null,null,null,null,null,null,null,null,null,null,{"$f":" [1]Folha4!A276","v":0}]
[null,null,null,null,null,null,null,null,null,null,null,null,null,null,null,{"$f":" [1]SecundariaMinutaCpfl!A283","v":0},{"$f":" [1]PrimariaMinutaCpfl!A283","v":0},{"$f":" [1]NeutroMinutaCpfl!A283","v":0},null,null,246,null,null,null,null,null,null,null,null,null,null,null,null,null,null,null,{"$f":" [1]Folha4!A277","v":0}]
[null,null,null,null,null,null,null,null,null,null,null,null,null,null,null,{"$f":" [1]SecundariaMinutaCpfl!A284","v":0},{"$f":" [1]PrimariaMinutaCpfl!A284","v":0},{"$f":" [1]NeutroMinutaCpfl!A284","v":0},null,null,247,null,null,null,null,null,null,null,null,null,null,null,null,null,null,null,{"$f":" [1]Folha4!A278","v":0}]
[null,null,null,null,null,null,null,null,null,null,null,null,null,null,null,{"$f":" [1]SecundariaMinutaCpfl!A285","v":0},{"$f":" [1]PrimariaMinutaCpfl!A285","v":0},{"$f":" [1]NeutroMinutaCpfl!A285","v":0},null,null,248,null,null,null,null,null,null,null,null,null,null,null,null,null,null,null,{"$f":" [1]Folha4!A279","v":0}]
[null,null,null,null,null,null,null,null,null,null,null,null,null,null,null,{"$f":" [1]SecundariaMinutaCpfl!A286","v":0},{"$f":" [1]PrimariaMinutaCpfl!A286","v":0},{"$f":" [1]NeutroMinutaCpfl!A286","v":0},null,null,249,null,null,null,null,null,null,null,null,null,null,null,null,null,null,null,{"$f":" [1]Folha4!A280","v":0}]
[null,null,null,null,null,null,null,null,null,null,null,null,null,null,null,{"$f":" [1]SecundariaMinutaCpfl!A287","v":0},{"$f":" [1]PrimariaMinutaCpfl!A287","v":0},{"$f":" [1]NeutroMinutaCpfl!A287","v":0},null,null,250,null,null,null,null,null,null,null,null,null,null,null,null,null,null,null,{"$f":" [1]Folha4!A281","v":0}]
[null,null,null,null,null,null,null,null,null,null,null,null,null,null,null,{"$f":" [1]SecundariaMinutaCpfl!A288","v":0},{"$f":" [1]PrimariaMinutaCpfl!A288","v":0},{"$f":" [1]NeutroMinutaCpfl!A288","v":0},null,null,251,null,null,null,null,null,null,null,null,null,null,null,null,null,null,null,{"$f":" [1]Folha4!A282","v":0}]
[null,null,null,null,null,null,null,null,null,null,null,null,null,null,null,{"$f":" [1]SecundariaMinutaCpfl!A289","v":0},{"$f":" [1]PrimariaMinutaCpfl!A289","v":0},{"$f":" [1]NeutroMinutaCpfl!A289","v":0},null,null,252,null,null,null,null,null,null,null,null,null,null,null,null,null,null,null,{"$f":" [1]Folha4!A283","v":0}]
[null,null,null,null,null,null,null,null,null,null,null,null,null,null,null,{"$f":" [1]SecundariaMinutaCpfl!A290","v":0},{"$f":" [1]PrimariaMinutaCpfl!A290","v":0},{"$f":" [1]NeutroMinutaCpfl!A290","v":0},null,null,253,null,null,null,null,null,null,null,null,null,null,null,null,null,null,null,{"$f":" [1]Folha4!A284","v":0}]
[null,null,null,null,null,null,null,null,null,null,null,null,null,null,null,{"$f":" [1]SecundariaMinutaCpfl!A291","v":0},{"$f":" [1]PrimariaMinutaCpfl!A291","v":0},{"$f":" [1]NeutroMinutaCpfl!A291","v":0},null,null,254,null,null,null,null,null,null,null,null,null,null,null,null,null,null,null,{"$f":" [1]Folha4!A285","v":0}]
[null,null,null,null,null,null,null,null,null,null,null,null,null,null,null,{"$f":" [1]SecundariaMinutaCpfl!A292","v":0},{"$f":" [1]PrimariaMinutaCpfl!A292","v":0},{"$f":" [1]NeutroMinutaCpfl!A292","v":0},null,null,255,null,null,null,null,null,null,null,null,null,null,null,null,null,null,null,{"$f":" [1]Folha4!A286","v":0}]
[null,null,null,null,null,null,null,null,null,null,null,null,null,null,null,{"$f":" [1]SecundariaMinutaCpfl!A293","v":0},{"$f":" [1]PrimariaMinutaCpfl!A293","v":0},{"$f":" [1]NeutroMinutaCpfl!A293","v":0},null,null,256,null,null,null,null,null,null,null,null,null,null,null,null,null,null,null,{"$f":" [1]Folha4!A287","v":0}]
[null,null,null,null,null,null,null,null,null,null,null,null,null,null,null,{"$f":" [1]SecundariaMinutaCpfl!A294","v":0},{"$f":" [1]PrimariaMinutaCpfl!A294","v":0},{"$f":" [1]NeutroMinutaCpfl!A294","v":0},null,null,257,null,null,null,null,null,null,null,null,null,null,null,null,null,null,null,{"$f":" [1]Folha4!A288","v":0}]
[null,null,null,null,null,null,null,null,null,null,null,null,null,null,null,{"$f":" [1]SecundariaMinutaCpfl!A295","v":0},{"$f":" [1]PrimariaMinutaCpfl!A295","v":0},{"$f":" [1]NeutroMinutaCpfl!A295","v":0},null,null,258,null,null,null,null,null,null,null,null,null,null,null,null,null,null,null,{"$f":" [1]Folha4!A289","v":0}]
[null,null,null,null,null,null,null,null,null,null,null,null,null,null,null,{"$f":" [1]SecundariaMinutaCpfl!A296","v":0},{"$f":" [1]PrimariaMinutaCpfl!A296","v":0},{"$f":" [1]NeutroMinutaCpfl!A296","v":0},null,null,259,null,null,null,null,null,null,null,null,null,null,null,null,null,null,null,{"$f":" [1]Folha4!A290","v":0}]
[null,null,null,null,null,null,null,null,null,null,null,null,null,null,null,{"$f":" [1]SecundariaMinutaCpfl!A297","v":0},{"$f":" [1]PrimariaMinutaCpfl!A297","v":0},{"$f":" [1]NeutroMinutaCpfl!A297","v":0},null,null,260,null,null,null,null,null,null,null,null,null,null,null,null,null,null,null,{"$f":" [1]Folha4!A291","v":0}]
[null,null,null,null,null,null,null,null,null,null,null,null,null,null,null,{"$f":" [1]SecundariaMinutaCpfl!A298","v":0},{"$f":" [1]PrimariaMinutaCpfl!A298","v":0},{"$f":" [1]NeutroMinutaCpfl!A298","v":0},null,null,261,null,null,null,null,null,null,null,null,null,null,null,null,null,null,null,{"$f":" [1]Folha4!A292","v":0}]
[null,null,null,null,null,null,null,null,null,null,null,null,null,null,null,{"$f":" [1]SecundariaMinutaCpfl!A299","v":0},{"$f":" [1]PrimariaMinutaCpfl!A299","v":0},{"$f":" [1]NeutroMinutaCpfl!A299","v":0},null,null,262,null,null,null,null,null,null,null,null,null,null,null,null,null,null,null,{"$f":" [1]Folha4!A293","v":0}]
[null,null,null,null,null,null,null,null,null,null,null,null,null,null,null,{"$f":" [1]SecundariaMinutaCpfl!A300","v":0},{"$f":" [1]PrimariaMinutaCpfl!A300","v":0},{"$f":" [1]NeutroMinutaCpfl!A300","v":0},null,null,263,null,null,null,null,null,null,null,null,null,null,null,null,null,null,null,{"$f":" [1]Folha4!A294","v":0}]
[null,null,null,null,null,null,null,null,null,null,null,null,null,null,null,{"$f":" [1]SecundariaMinutaCpfl!A301","v":0},{"$f":" [1]PrimariaMinutaCpfl!A301","v":0},{"$f":" [1]NeutroMinutaCpfl!A301","v":0},null,null,264,null,null,null,null,null,null,null,null,null,null,null,null,null,null,null,{"$f":" [1]Folha4!A295","v":0}]
[null,null,null,null,null,null,null,null,null,null,null,null,null,null,null,{"$f":" [1]SecundariaMinutaCpfl!A302","v":0},{"$f":" [1]PrimariaMinutaCpfl!A302","v":0},{"$f":" [1]NeutroMinutaCpfl!A302","v":0},null,null,265]
[null,null,null,null,null,null,null,null,null,null,null,null,null,null,null,null,null,null,null,null,266]
[null,null,null,null,null,null,null,null,null,null,null,null,null,null,null,null,null,null,null,null,267]
[null,null,null,null,null,null,null,null,null,null,null,null,null,null,null,null,null,null,null,null,268]
[null,null,null,null,null,null,null,null,null,null,null,null,null,null,null,null,null,null,null,null,269]
[null,null,null,null,null,null,null,null,null,null,null,null,null,null,null,null,null,null,null,null,270]
[null,null,null,null,null,null,null,null,null,null,null,null,null,null,null,null,null,null,null,null,271]
[null,null,null,null,null,null,null,null,null,null,null,null,null,null,null,null,null,null,null,null,272]
[null,null,null,null,null,null,null,null,null,null,null,null,null,null,null,null,null,null,null,null,273]
[null,null,null,null,null,null,null,null,null,null,null,null,null,null,null,null,null,null,null,null,274]
[null,null,null,null,null,null,null,null,null,null,null,null,null,null,null,null,null,null,null,null,275]
[null,null,null,null,null,null,null,null,null,null,null,null,null,null,null,null,null,null,null,null,276]
[null,null,null,null,null,null,null,null,null,null,null,null,null,null,null,null,null,null,null,null,277]
[null,null,null,null,null,null,null,null,null,null,null,null,null,null,null,null,null,null,null,null,278]
[null,null,null,null,null,null,null,null,null,null,null,null,null,null,null,null,null,null,null,null,279]
[null,null,null,null,null,null,null,null,null,null,null,null,null,null,null,null,null,null,null,null,280]
[null,null,null,null,null,null,null,null,null,null,null,null,null,null,null,null,null,null,null,null,281]
[null,null,null,null,null,null,null,null,null,null,null,null,null,null,null,null,null,null,null,null,282]
[null,null,null,null,null,null,null,null,null,null,null,null,null,null,null,null,null,null,null,null,283]
[null,null,null,null,null,null,null,null,null,null,null,null,null,null,null,null,null,null,null,null,284]
[null,null,null,null,null,null,null,null,null,null,null,null,null,null,null,null,null,null,null,null,285]
[null,null,null,null,null,null,null,null,null,null,null,null,null,null,null,null,null,null,null,null,286]
[null,null,null,null,null,null,null,null,null,null,null,null,null,null,null,null,null,null,null,null,287]
[null,null,null,null,null,null,null,null,null,null,null,null,null,null,null,null,null,null,null,null,288]
[null,null,null,null,null,null,null,null,null,null,null,null,null,null,null,null,null,null,null,null,289]
[null,null,null,null,null,null,null,null,null,null,null,null,null,null,null,null,null,null,null,null,290]
[null,null,null,null,null,null,null,null,null,null,null,null,null,null,null,null,null,null,null,null,291]
[null,null,null,null,null,null,null,null,null,null,null,null,null,null,null,null,null,null,null,null,292]
[null,null,null,null,null,null,null,null,null,null,null,null,null,null,null,null,null,null,null,null,293]
[null,null,null,null,null,null,null,null,null,null,null,null,null,null,null,null,null,null,null,null,294]
[null,null,null,null,null,null,null,null,null,null,null,null,null,null,null,null,null,null,null,null,295]
[null,null,null,null,null,null,null,null,null,null,null,null,null,null,null,null,null,null,null,null,296]
[null,null,null,null,null,null,null,null,null,null,null,null,null,null,null,null,null,null,null,null,297]
[null,null,null,null,null,null,null,null,null,null,null,null,null,null,null,null,null,null,null,null,298]
[null,null,null,null,null,null,null,null,null,null,null,null,null,null,null,null,null,null,null,null,299]
[null,null,null,null,null,null,null,null,null,null,null,null,null,null,null,null,null,null,null,null,300]
[null,null,null,null,null,null,null,null,null,null,null,null,null,null,null,null,null,null,null,null,301]
[null,null,null,null,null,null,null,null,null,null,null,null,null,null,null,null,null,null,null,null,302]
[null,null,null,null,null,null,null,null,null,null,null,null,null,null,null,null,null,null,null,null,303]
[null,null,null,null,null,null,null,null,null,null,null,null,null,null,null,null,null,null,null,null,304]
[null,null,null,null,null,null,null,null,null,null,null,null,null,null,null,null,null,null,null,null,305]
[null,null,null,null,null,null,null,null,null,null,null,null,null,null,null,null,null,null,null,null,306]
[null,null,null,null,null,null,null,null,null,null,null,null,null,null,null,null,null,null,null,null,307]
[null,null,null,null,null,null,null,null,null,null,null,null,null,null,null,null,null,null,null,null,308]
[null,null,null,null,null,null,null,null,null,null,null,null,null,null,null,null,null,null,null,null,309]
[null,null,null,null,null,null,null,null,null,null,null,null,null,null,null,null,null,null,null,null,310]
[null,null,null,null,null,null,null,null,null,null,null,null,null,null,null,null,null,null,null,null,311]
[null,null,null,null,null,null,null,null,null,null,null,null,null,null,null,null,null,null,null,null,312]
[null,null,null,null,null,null,null,null,null,null,null,null,null,null,null,null,null,null,null,null,313]
[null,null,null,null,null,null,null,null,null,null,null,null,null,null,null,null,null,null,null,null,314]
[null,null,null,null,null,null,null,null,null,null,null,null,null,null,null,null,null,null,null,null,315]
[null,null,null,null,null,null,null,null,null,null,null,null,null,null,null,null,null,null,null,null,316]
[null,null,null,null,null,null,null,null,null,null,null,null,null,null,null,null,null,null,null,null,317]
[null,null,null,null,null,null,null,null,null,null,null,null,null,null,null,null,null,null,null,null,318]
[null,null,null,null,null,null,null,null,null,null,null,null,null,null,null,null,null,null,null,null,319]
[null,null,null,null,null,null,null,null,null,null,null,null,null,null,null,null,null,null,null,null,320]
[null,null,null,null,null,null,null,null,null,null,null,null,null,null,null,null,null,null,null,null,321]
[null,null,null,null,null,null,null,null,null,null,null,null,null,null,null,null,null,null,null,null,322]
[null,null,null,null,null,null,null,null,null,null,null,null,null,null,null,null,null,null,null,null,323]
[null,null,null,null,null,null,null,null,null,null,null,null,null,null,null,null,null,null,null,null,324]
[null,null,null,null,null,null,null,null,null,null,null,null,null,null,null,null,null,null,null,null,325]
[null,null,null,null,null,null,null,null,null,null,null,null,null,null,null,null,null,null,null,null,326]
[null,null,null,null,null,null,null,null,null,null,null,null,null,null,null,null,null,null,null,null,327]
[null,null,null,null,null,null,null,null,null,null,null,null,null,null,null,null,null,null,null,null,328]
[null,null,null,null,null,null,null,null,null,null,null,null,null,null,null,null,null,null,null,null,329]
[null,null,null,null,null,null,null,null,null,null,null,null,null,null,null,null,null,null,null,null,330]
[null,null,null,null,null,null,null,null,null,null,null,null,null,null,null,null,null,null,null,null,331]
[null,null,null,null,null,null,null,null,null,null,null,null,null,null,null,null,null,null,null,null,332]
[null,null,null,null,null,null,null,null,null,null,null,null,null,null,null,null,null,null,null,null,333]
[null,null,null,null,null,null,null,null,null,null,null,null,null,null,null,null,null,null,null,null,334]
[null,null,null,null,null,null,null,null,null,null,null,null,null,null,null,null,null,null,null,null,335]
[null,null,null,null,null,null,null,null,null,null,null,null,null,null,null,null,null,null,null,null,336]
[null,null,null,null,null,null,null,null,null,null,null,null,null,null,null,null,null,null,null,null,337]
[null,null,null,null,null,null,null,null,null,null,null,null,null,null,null,null,null,null,null,null,338]
[null,null,null,null,null,null,null,null,null,null,null,null,null,null,null,null,null,null,null,null,339]
[null,null,null,null,null,null,null,null,null,null,null,null,null,null,null,null,null,null,null,null,340]
[null,null,null,null,null,null,null,null,null,null,null,null,null,null,null,null,null,null,null,null,341]
[null,null,null,null,null,null,null,null,null,null,null,null,null,null,null,null,null,null,null,null,342]
[null,null,null,null,null,null,null,null,null,null,null,null,null,null,null,null,null,null,null,null,343]
[null,null,null,null,null,null,null,null,null,null,null,null,null,null,null,null,null,null,null,null,344]
[null,null,null,null,null,null,null,null,null,null,null,null,null,null,null,null,null,null,null,null,345]
[null,null,null,null,null,null,null,null,null,null,null,null,null,null,null,null,null,null,null,null,346]
[null,null,null,null,null,null,null,null,null,null,null,null,null,null,null,null,null,null,null,null,347]
[null,null,null,null,null,null,null,null,null,null,null,null,null,null,null,null,null,null,null,null,348]
[null,null,null,null,null,null,null,null,null,null,null,null,null,null,null,null,null,null,null,null,349]
[null,null,null,null,null,null,null,null,null,null,null,null,null,null,null,null,null,null,null,null,350]
[null,null,null,null,null,null,null,null,null,null,null,null,null,null,null,null,null,null,null,null,351]
[null,null,null,null,null,null,null,null,null,null,null,null,null,null,null,null,null,null,null,null,352]
[null,null,null,null,null,null,null,null,null,null,null,null,null,null,null,null,null,null,null,null,353]
[null,null,null,null,null,null,null,null,null,null,null,null,null,null,null,null,null,null,null,null,354]
[null,null,null,null,null,null,null,null,null,null,null,null,null,null,null,null,null,null,null,null,355]
[null,null,null,null,null,null,null,null,null,null,null,null,null,null,null,null,null,null,null,null,356]
[null,null,null,null,null,null,null,null,null,null,null,null,null,null,null,null,null,null,null,null,357]
[null,null,null,null,null,null,null,null,null,null,null,null,null,null,null,null,null,null,null,null,358]
[null,null,null,null,null,null,null,null,null,null,null,null,null,null,null,null,null,null,null,null,359]
[null,null,null,null,null,null,null,null,null,null,null,null,null,null,null,null,null,null,null,null,360]

{"sheet":"Completo_Esforço_CPFL_Rge","index":14,"n_rows":398,"n_cols":37,"rows_kept":398,"cut":false,"hidden":false,"merged":[[35,3,35,7],[27,3,27,5],[2,3,2,5],[2,9,2,11],[9,21,12,21],[18,3,18,5],[18,7,18,9],[21,7,21,9],[28,3,28,5],[29,3,29,5],[30,3,30,5],[33,3,33,7],[34,3,34,7],[23,7,23,11],[36,3,36,7],[37,3,37,7],[56,3,56,7],[55,3,55,7],[52,3,52,7],[54,9,54,11],[55,9,55,11],[49,9,49,13],[50,3,50,7],[51,3,51,7],[54,3,54,7],[49,3,49,7],[53,3,53,7],[57,3,57,7],[58,3,58,7],[40,3,40,7],[41,3,41,7],[44,3,44,7],[46,3,46,7],[42,3,42,7],[43,3,43,7]]}
[null,null,null,null,null,null,null,null,null,null,null,null,null,null,null,"Secundária","PrimariaMinutaRge","NeutroMinutaRge",null,"Altura Poste"]
[null,null,11,null,null,null,null,null,null,null,null,null,null,null,null,{"$f":" [1]SecundariaMinutaRge!A1","v":""},{"$f":" [1]PrimariaMinutaRge!A1","v":0},{"$f":" [1]NeutroMinutaRge!A1","v":0},null,7]
[null,null,"ALTURA POSTE",11,null,null,null,null,null,"http://www.mabjo.com.br/",null,null,null,null,null,{"$f":" [1]SecundariaMinutaRge!A2","v":"3 P 16 mm² Vão 35m RGE"},{"$f":" [1]PrimariaMinutaRge!A2","v":"3 E 70 mm² Vão 35m RGE"},{"$f":" [1]NeutroMinutaRge!A2","v":"1 CA 02 AWG Vão 35m RGE"},null,8,"ÂNGULO"]
[null,null,"ESFORÇO",1,null,2,null,3,null,4,null,5,null,null,null,{"$f":" [1]SecundariaMinutaRge!A3","v":"3 P 25 mm² Vão 35m RGE"},{"$f":" [1]PrimariaMinutaRge!A3","v":"3 E 185 mm² Vão 35m RGE"},{"$f":" [1]NeutroMinutaRge!A3","v":"1 CA 1/0 AWG Vão 35m RGE"},null,9]
[null,null,0,null,90,null,230,null,null,null,null,null,null,null,null,{"$f":" [1]SecundariaMinutaRge!A4","v":"3 P 35 mm² Vão 35m RGE"},{"$f":" [1]PrimariaMinutaRge!A4","v":0},{"$f":" [1]NeutroMinutaRge!A4","v":"1 CA 2/0 AWG Vão 35m RGE"},null,10]
[null,null,"ÂNGULO",0,null,110,null,320,null,230,null,190,null,null,null,{"$f":" [1]SecundariaMinutaRge!A5","v":"3 P 50 mm² Vão 35m RGE"},{"$f":" [1]PrimariaMinutaRge!A5","v":"3 E 70 mm² Vão 80m RGE"},{"$f":" [1]NeutroMinutaRge!A5","v":"1 CA 4/0 AWG Vão 35m RGE"},null,11,null,null,null,null,{"$f":"D6+180","v":180},null,{"$f":"F6+180","v":290},null,{"$f":"H6+180","v":500},null,{"$f":"J6+180","v":410},null,{"$f":"L6+180","v":370},null,null,null,{"$f":" [1]Folha4!A2","v":"A02"}]
[null,null,"PRIMÁRIA","3 E 70 mm² Vão 35m RGE",null,null,null,"3 E 185 mm² Vão 35m RGE",null,null,null,null,null,null,null,{"$f":" [1]SecundariaMinutaRge!A6","v":"3 P 70 mm² Vão 35m RGE"},{"$f":" [1]PrimariaMinutaRge!A6","v":"3 E 185 mm² Vão 80m RGE"},{"$f":" [1]NeutroMinutaRge!A6","v":"1 CA 336,4 MCM Vão 35m RGE"},null,12,null,null,null,null,null,null,null,null,null,null,null,null,null,null,null,null,{"$f":" [1]Folha4!A3","v":"A10"}]
[null,null,"NEUTRO PRIM.",null,null,null,null,null,null,null,null,null,null,null,null,{"$f":" [1]SecundariaMinutaRge!A7","v":"3 P 120 mm² Vão 35m RGE"},{"$f":" [1]PrimariaMinutaRge!A7","v":0},{"$f":" [1]NeutroMinutaRge!A7","v":"1 CA 477 MCM Vão 35m RGE"},null,13,null,null,null,null,null,null,null,null,null,null,null,null,null,null,null,null,{"$f":" [1]Folha4!A4","v":"A20"}]
[null,null,"RED. TENSÃO ",0,null,0,null,0,null,0,null,0,null,null,null,{"$f":" [1]SecundariaMinutaRge!A8","v":0},{"$f":" [1]PrimariaMinutaRge!A8","v":"3 CA 02 AWG Vão 35m RGE"},{"$f":" [1]NeutroMinutaRge!A8","v":0},null,14,null,null,null,null,null,null,null,null,null,null,null,null,null,null,null,null,{"$f":" [1]Folha4!A5","v":"A40"}]
[null,null,"DISTÂNCIA PRIMÁRIA TOPO CM",0,null,0,null,0,null,0,null,0,null,null,null,{"$f":" [1]SecundariaMinutaRge!A9","v":"3 CA 02 AWG Vão 35m RGE"},{"$f":" [1]PrimariaMinutaRge!A9","v":"3 CA 1/0 AWG Vão 35m RGE"},{"$f":" [1]NeutroMinutaRge!A9","v":"1 CA 02 AWG Vão 80m RGE"},null,15,null,null,null,null,null,null,null,null,null,null,null,null,null,null,null,null,{"$f":" [1]Folha4!A6","v":"A33"}]
[null,null,"SEC. FASE","3 P 50 mm² Vão 35m RGE",null,"3 P 70 mm² Vão 35m RGE",null,null,null,null,null,"3 P 50 mm² Vão 35m RGE",null,null,null,{"$f":" [1]SecundariaMinutaRge!A10","v":"3 CA 1/0 AWG Vão 35m RGE"},{"$f":" [1]PrimariaMinutaRge!A10","v":"3 CA 2/0 AWG Vão 35m RGE"},{"$f":" [1]NeutroMinutaRge!A10","v":"1 CA 1/0 AWG Vão 80m RGE"},null,16,null,null,null,{"$f":"IF(X12>180,X12-180,X12+180)","v":341.02827717036848},null,null,null,null,null,null,null,null,null,null,null,null,{"$f":" [1]Folha4!A7","v":"A47"}]
[null,null,"SEC. NEUTRO","1 CA 02 AWG Vão 35m RGE",null,"1 CA 1/0 AWG Vão 35m RGE",null,null,null,null,null,"1 CA 1/0 AWG Vão 35m RGE",null,null,null,{"$f":" [1]SecundariaMinutaRge!A11","v":"3 CA 2/0 AWG Vão 35m RGE"},{"$f":" [1]PrimariaMinutaRge!A11","v":"3 CA 4/0 AWG Vão 35m RGE"},{"$f":" [1]NeutroMinutaRge!A11","v":"1 CA 2/0 AWG Vão 80m RGE"},null,17,null,null,null,{"$f":"IF(PreAngulo_Rge!A3>0,PreAngulo_Rge!C10,PreAngulo_Rge!D10)","v":161.02827717036851},null,null,null,null,null,null,null,null,null,null,null,null,{"$f":" [1]Folha4!A8","v":"CU06"}]
[null,null,"RED. TENSÃO ",0,null,0,null,0,null,0,null,0,null,null,null,{"$f":" [1]SecundariaMinutaRge!A12","v":"3 CA 4/0 AWG Vão 35m RGE"},{"$f":" [1]PrimariaMinutaRge!A12","v":"3 CA 336,4 MCM Vão 35m RGE"},{"$f":" [1]NeutroMinutaRge!A12","v":"1 CA 4/0 AWG Vão 80m RGE"},null,18,null,null,null,null,null,null,null,null,null,null,null,null,null,null,null,null,{"$f":" [1]Folha4!A9","v":"CU02"}]
[null,null,"DISTÂNCIA SECUNDÁRIA SOLO CM",720,null,720,null,720,null,720,null,720,null,null,null,{"$f":" [1]SecundariaMinutaRge!A13","v":"3 CA 336,4 MCM Vão 35m RGE"},{"$f":" [1]PrimariaMinutaRge!A13","v":"3 CA 477 MCM Vão 35m RGE"},{"$f":" [1]NeutroMinutaRge!A13","v":"1 CA 336,4 MCM Vão 80m RGE"},null,19,null,null,null,null,null,null,null,null,null,null,null,null,null,null,null,null,{"$f":" [1]Folha4!A10","v":"CU10"}]
[null,null,"TELEFONE",null,null,null,null,null,null,100,null,null,null,null,null,{"$f":" [1]SecundariaMinutaRge!A14","v":"3 CA 477 MCM Vão 35m RGE"},{"$f":" [1]PrimariaMinutaRge!A14","v":0},{"$f":" [1]NeutroMinutaRge!A14","v":"1 CA 477 MCM Vão 80m RGE"},null,20,null,null,null,null,null,null,null,null,null,null,null,null,null,null,null,null,{"$f":" [1]Folha4!A11","v":"CU20"}]
[null,null,"TV CABO",null,null,null,null,null,null,null,null,null,null,null,null,{"$f":" [1]SecundariaMinutaRge!A15","v":0},{"$f":" [1]PrimariaMinutaRge!A15","v":"3 CA 02 AWG Vão 80m RGE"},{"$f":" [1]NeutroMinutaRge!A15","v":0},null,null,null,null,null,null,null,null,null,null,null,null,null,null,null,null,null,null,{"$f":" [1]Folha4!A12","v":"CU40"}]
[null,null,"DISTÂNCIA TELEFONE/CABO SOLO CM",550,null,550,null,550,null,550,null,550,null,null,null,{"$f":" [1]SecundariaMinutaRge!A16","v":"3 CA 02 AWG Vão 80m RGE"},{"$f":" [1]PrimariaMinutaRge!A16","v":"3 CA 1/0 AWG Vão 80m RGE"},{"$f":" [1]NeutroMinutaRge!A16","v":"1 CAA 04 AWG Vão 40m RGE"},null,null,null,null,null,null,null,null,null,null,null,null,null,null,null,null,null,null,{"$f":" [1]Folha4!A13","v":"S04"}]
[null,null,"SUB TOTAL",{"$f":"IF(L31=1,Pre_Rge!W22,\"Atualize: http;//www.mabjo.com.br\")","v":556.48387096774195},null,{"$f":"IF(L31=1,Pre_Rge!W23,\"Atualize: http;//www.mabjo.com.br\")","v":267.09677419354841},null,{"$f":"IF(L31=1,Pre_Rge!W24,\"Atualize: http;//www.mabjo.com.br\")","v":632},null,{"$f":"IF(L31=1,Pre_Rge!W25,\"Atualize: http;//www.mabjo.com.br\")","v":60.439560439560438},null,{"$f":"IF(L31=1,Pre_Rge!W26,\"Atualize: http;//www.mabjo.com.br\")","v":217.54838709677421},null,null,null,{"$f":" [1]SecundariaMinutaRge!A17","v":"3 CA 1/0 AWG Vão 80m RGE"},{"$f":" [1]PrimariaMinutaRge!A17","v":"3 CA 2/0 AWG Vão 80m RGE"},{"$f":" [1]NeutroMinutaRge!A17","v":"1 CAA 02 AWG Vão 40m RGE"},null,null,null,null,null,null,null,null,null,null,null,null,null,null,null,null,null,null,{"$f":" [1]Folha4!A14","v":"S02"}]
[null,null,"ESFORÇO RESULTANTE",{"$f":"IF(L31=1,Pre_Rge!W27,\"Atualize: http;//www.mabjo.com.br\")","v":736.16760188139278},null,null,null,"ÂNGULO RESULTANTE",null,null,null,{"$f":"IF(D19>0.001,X11,0)","v":341.02827717036848},null,null,null,{"$f":" [1]SecundariaMinutaRge!A18","v":"3 CA 2/0 AWG Vão 80m RGE"},{"$f":" [1]PrimariaMinutaRge!A18","v":"3 CA 4/0 AWG Vão 80m RGE"},{"$f":" [1]NeutroMinutaRge!A18","v":"1 CAA 1/0 AWG Vão 40m RGE"},null,null,null,null,null,null,null,null,null,null,null,null,null,null,null,null,null,null,{"$f":" [1]Folha4!A15","v":"S10"}]
[null,null,null,null,null,null,null,null,null,null,null,null,null,null,null,{"$f":" [1]SecundariaMinutaRge!A19","v":"3 CA 4/0 AWG Vão 80m RGE"},{"$f":" [1]PrimariaMinutaRge!A19","v":"3 CA 336,4 MCM Vão 80m RGE"},{"$f":" [1]NeutroMinutaRge!A19","v":"1 CAA 2/0 AWG Vão 40m RGE"},null,null,null,null,null,null,null,null,null,null,null,null,null,null,null,null,null,null,{"$f":" [1]Folha4!A16","v":"S40"}]
[null,null,"On Line http://www.mabjo.com.br/",null,null,null,null,null,null,null,null,{"$f":"NOW()","v":"2022-07-21T04:50:22.360"},null,null,"http://www.mabjo.com.br",{"$f":" [1]SecundariaMinutaRge!A20","v":"3 CA 336,4 MCM Vão 80m RGE"},{"$f":" [1]PrimariaMinutaRge!A20","v":"3 CA 477 MCM Vão 80m RGE"},{"$f":" [1]NeutroMinutaRge!A20","v":"1 CAA 4/0 AWG Vão 40m RGE"},null,null,null,null,null,null,null,null,null,null,null,null,null,null,null,null,null,null,{"$f":" [1]Folha4!A17","v":"S33"}]
[null,null,null,null,null,null,null,"contato@mabjo.com.br",null,null,null,null,null,"Download Cálculo Mecânico Esforço Poste Atualizado","http://www.mabjo.com.br/",{"$f":" [1]SecundariaMinutaRge!A21","v":"3 CA 477 MCM Vão 80m RGE"},{"$f":" [1]PrimariaMinutaRge!A21","v":0},{"$f":" [1]NeutroMinutaRge!A21","v":0},null,null,null,null,null,null,null,null,null,null,null,null,null,null,null,null,null,null,{"$f":" [1]Folha4!A18","v":"S47"}]
[null,null,{"$f":"CONCATENATE(\"Cálculo Esforço Poste : Plt, Pira, SC e Jg  - Versão\")","v":"Cálculo Esforço Poste : Plt, Pira, SC e Jg  - Versão"},null,null,null,null,null,null,null,null,null,null,null,null,{"$f":" [1]SecundariaMinutaRge!A22","v":0},{"$f":" [1]PrimariaMinutaRge!A22","v":"3 CAA 04 AWG Vão 40m RGE"},{"$f":" [1]NeutroMinutaRge!A22","v":"1 CAA 04 AWG Vão 80m RGE"},null,null,null,null,null,null,null,null,null,null,null,null,null,null,null,null,null,null,{"$f":" [1]Folha4!A19","v":"E70"}]
[null,null,{"$f":"N30","v":""},null,null,{"$f":"O30","v":"2018-06-05"},null,"Cálculo customizado para fibra óptica e telefonia",null,null,null,null,null,null,null,{"$f":" [1]SecundariaMinutaCpfl!A23","v":"3 CAA 04 AWG Vão 40m "},{"$f":" [1]PrimariaMinutaCpfl!A23","v":"3 CAA 1/0 AWG Vão 40m "},{"$f":" [1]NeutroMinutaCpfl!A23","v":"1 CAA 02 AWG Vão 80m "}]
[null,null,"Visite http://www.mabjo.com.br/",null,null,null,null,null,null,null,null,null,null,null,null,{"$f":" [1]SecundariaMinutaCpfl!A24","v":"3 CAA 02 AWG Vão 40m "},{"$f":" [1]PrimariaMinutaCpfl!A24","v":"3 CAA 2/0 AWG Vão 40m "},{"$f":" [1]NeutroMinutaCpfl!A24","v":"1 CAA 1/0 AWG Vão 80m "}]
[null,null,"Calculo Queda Tensão Loteamento aéreo e subt.",null,null,null,null,null,null,null,null,null,null,null,null,{"$f":" [1]SecundariaMinutaCpfl!A25","v":"3 CAA 1/0 AWG Vão 40m "},{"$f":" [1]PrimariaMinutaCpfl!A25","v":"3 CAA 4/0 AWG Vão 40m "},{"$f":" [1]NeutroMinutaCpfl!A25","v":"1 CAA 2/0 AWG Vão 80m "}]
[null,null,{"$f":"X12","v":161.02827717036851},null,null,null,null,null,null,null,null,null,null,null,null,{"$f":" [1]SecundariaMinutaCpfl!A26","v":"3 CAA 2/0 AWG Vão 40m "},{"$f":" [1]PrimariaMinutaCpfl!A26","v":""},{"$f":" [1]NeutroMinutaCpfl!A26","v":"1 CAA 4/0 AWG Vão 80m "},null,null,null,null,null,null,null,null,null,null,null,null,null,null,null,null,null,null,{"$f":" [1]Folha4!A20","v":"E185"}]
[null,null,"MEDIDA 1",10,null,null,null,{"$f":"PreAngulo_Paulista!C10","v":159.54210665632507},null,null,null,null,null,"Esta Versão",{"$f":"Completo_Esforço_CPFL_Paulista!O28","v":42704},{"$f":" [1]SecundariaMinutaCpfl!A27","v":"3 CAA 4/0 AWG Vão 40m "},{"$f":" [1]PrimariaMinutaCpfl!A27","v":"3 CAA 04 AWG Vão 80m "},{"$f":" [1]NeutroMinutaCpfl!A27","v":"1 CAA 336,4 MCM Vão 80m "},null,null,null,null,null,null,null,null,null,null,null,null,null,null,null,null,null,null,{"$f":" [1]Folha4!A21","v":0}]
[null,null,"MEDIDA 2",10,null,null,null,{"$f":"PreAngulo_Paulista!D10","v":200.45789334367493},null,"Dias Versão",null,{"$f":"O30-O28","v":552},null,null,null,{"$f":" [1]SecundariaMinutaCpfl!A28","v":""},{"$f":" [1]PrimariaMinutaCpfl!A28","v":"3 CAA 02 AWG Vão 80m "},{"$f":" [1]NeutroMinutaCpfl!A28","v":""},null,null,null,null,null,null,null,null,null,null,null,null,null,null,null,null,null,null,{"$f":" [1]Folha4!A22","v":0}]
[null,null,"MEDIDA 3",1,null,null,null,null,null,"PreDiasAtualização",null,{"$f":"L21-O30","v":1507.2016476851859},null,{"$f":"IF([1]Mensagem!B3 <> \"\",[1]Mensagem!B3,\"\")","v":""},{"$f":"IF([1]Mensagem!C3 <> \"\",[1]Mensagem!C3,\"\")","v":"2018-06-05"},{"$f":" [1]SecundariaMinutaCpfl!A29","v":"3 CAA 04 AWG Vão 80m "},{"$f":" [1]PrimariaMinutaCpfl!A29","v":"3 CAA 1/0 AWG Vão 80m "},{"$f":" [1]NeutroMinutaCpfl!A29","v":"1 CAA 04 AWG Vão 120m "},null,null,null,null,null,null,null,null,null,null,null,null,null,null,null,null,null,null,{"$f":" [1]Folha4!A23","v":0}]
[null,null,"ÂNGULO",{"$f":"IF(D30>0,Plan3!C10,\"\")","v":41.649672273866805},null,null,null,null,null,"Dias Atualização",null,{"$f":"Completo_Esforço_CPFL_Paulista!L31","v":1},null,{"$f":"IF([1]Mensagem!B4 <> \"\",[1]Mensagem!B4,\"\")","v":""},{"$f":"IF([1]Mensagem!C4 <> \"\",[1]Mensagem!C4,\"\")","v":"2018-06-05"},{"$f":" [1]SecundariaMinutaCpfl!A30","v":"3 CAA 02 AWG Vão 80m "},{"$f":" [1]PrimariaMinutaCpfl!A30","v":"3 CAA 2/0 AWG Vão 80m "},{"$f":" [1]NeutroMinutaCpfl!A30","v":"1 CAA 02 AWG Vão 120m "},null,null,null,null,null,null,null,null,null,null,null,null,null,null,null,null,null,null,{"$f":" [1]Folha4!A24","v":0}]
[null,null,null,null,null,null,null,null,null,null,null,null,null,{"$f":"IF([1]Mensagem!B5 <> \"\",[1]Mensagem!B5,\"\")","v":""},{"$f":"IF([1]Mensagem!C5 <> \"\",[1]Mensagem!C5,\"\")","v":""},{"$f":" [1]SecundariaMinutaCpfl!A31","v":"3 CAA 1/0 AWG Vão 80m "},{"$f":" [1]PrimariaMinutaCpfl!A31","v":"3 CAA 4/0 AWG Vão 80m "},{"$f":" [1]NeutroMinutaCpfl!A31","v":"1 CAA 1/0 AWG Vão 120m "},null,null,null,null,null,null,null,null,null,null,null,null,null,null,null,null,null,null,{"$f":" [1]Folha4!A25","v":0}]
[null,null,null,null,null,null,null,null,null,null,null,null,null,{"$f":"IF([1]Mensagem!B6 <> \"\",[1]Mensagem!B6,\"\")","v":""},{"$f":"IF([1]Mensagem!C6 <> \"\",[1]Mensagem!C6,\"\")","v":""},{"$f":" [1]SecundariaMinutaCpfl!A32","v":"3 CAA 2/0 AWG Vão 80m "},{"$f":" [1]PrimariaMinutaCpfl!A32","v":"3 CAA 336,4 MCM Vão 80m "},{"$f":" [1]NeutroMinutaCpfl!A32","v":"1 CAA 2/0 AWG Vão 120m "},null,null,0,null,null,null,null,null,null,null,null,null,null,null,null,null,null,null,{"$f":" [1]Folha4!A26","v":0}]
[null,null,"Coordenada X","Coordenada Y",null,null,null,null,null,null,null,null,null,{"$f":"IF([1]Mensagem!B7 <> \"\",[1]Mensagem!B7,\"\")","v":""},{"$f":"IF([1]Mensagem!C7 <> \"\",[1]Mensagem!C7,\"\")","v":""},{"$f":" [1]SecundariaMinutaCpfl!A33","v":"3 CAA 4/0 AWG Vão 80m "},{"$f":" [1]PrimariaMinutaCpfl!A33","v":""},{"$f":" [1]NeutroMinutaCpfl!A33","v":"1 CAA 4/0 AWG Vão 120m "},null,null,1,null,null,null,null,null,null,null,null,null,null,null,null,null,null,null,{"$f":" [1]Folha4!A27","v":0}]
[null,null,29829000,745407001,null,null,null,null,null,"Poste 1",null,null,null,{"$f":"IF([1]Mensagem!B8 <> \"\",[1]Mensagem!B8,\"\")","v":""},{"$f":"IF([1]Mensagem!C8 <> \"\",[1]Mensagem!C8,\"\")","v":""},{"$f":" [1]SecundariaMinutaCpfl!A34","v":"3 CAA 336,4 MCM Vão 80m "},{"$f":" [1]PrimariaMinutaCpfl!A34","v":"3 CAA 04 AWG Vão 120m "},{"$f":" [1]NeutroMinutaCpfl!A34","v":"1 CAA 336,4 MCM Vão 120m "},null,null,2,null,null,null,null,null,null,null,null,null,null,null,null,null,null,null,{"$f":" [1]Folha4!A28","v":0}]
[null,null,29229000,745406001,null,null,null,null,null,"Poste Meio",null,null,null,{"$f":"IF([1]Mensagem!B9 <> \"\",[1]Mensagem!B9,\"\")","v":""},{"$f":"IF([1]Mensagem!C9 <> \"\",[1]Mensagem!C9,\"\")","v":""},{"$f":" [1]SecundariaMinutaCpfl!A35","v":""},{"$f":" [1]PrimariaMinutaCpfl!A35","v":"3 CAA 02 AWG Vão 120m "},{"$f":" [1]NeutroMinutaCpfl!A35","v":""},null,null,3,null,null,null,null,null,null,null,null,null,null,null,null,null,null,null,{"$f":" [1]Folha4!A29","v":0}]
[null,null,"Distância Metros",{"$f":"Plan3!E26/100","v":6000.008333327547},null,null,null,null,null,null,null,null,null,{"$f":"IF([1]Mensagem!B10 <> \"\",[1]Mensagem!B10,\"\")","v":""},{"$f":"IF([1]Mensagem!C10 <> \"\",[1]Mensagem!C10,\"\")","v":""},{"$f":" [1]SecundariaMinutaCpfl!A36","v":"3 CAA 04 AWG Vão 120m "},{"$f":" [1]PrimariaMinutaCpfl!A36","v":"3 CAA 1/0 AWG Vão 120m "},{"$f":" [1]NeutroMinutaCpfl!A36","v":"1 CU 06 AWG Vão 35m  "},null,null,4,null,null,null,null,null,null,null,null,null,null,null,null,null,null,null,{"$f":" [1]Folha4!A30","v":0}]
[null,null,"Ângulo",{"$f":"Plan3!E29","v":89.904507122564127},null,null,null,null,null,null,null,null,null,{"$f":"IF([1]Mensagem!B11 <> \"\",[1]Mensagem!B11,\"\")","v":""},{"$f":"IF([1]Mensagem!C11 <> \"\",[1]Mensagem!C11,\"\")","v":""},{"$f":" [1]SecundariaMinutaCpfl!A37","v":"3 CAA 02 AWG Vão 120m "},{"$f":" [1]PrimariaMinutaCpfl!A37","v":"3 CAA 2/0 AWG Vão 120m "},{"$f":" [1]NeutroMinutaCpfl!A37","v":"1 CU 02 AWG Vão 35m  "},null,null,5,null,null,null,null,null,null,null,null,null,null,null,null,null,null,null,{"$f":" [1]Folha4!A31","v":0}]
[null,null,null,null,null,null,null,null,null,null,null,null,null,{"$f":"IF([1]Mensagem!B12 <> \"\",[1]Mensagem!B12,\"\")","v":""},{"$f":"IF([1]Mensagem!C12 <> \"\",[1]Mensagem!C12,\"\")","v":""},{"$f":" [1]SecundariaMinutaCpfl!A38","v":"3 CAA 1/0 AWG Vão 120m "},{"$f":" [1]PrimariaMinutaCpfl!A38","v":"3 CAA 4/0 AWG Vão 120m "},{"$f":" [1]NeutroMinutaCpfl!A38","v":"1 CU 1/0 AWG Vão 35m  "},null,null,6,null,null,null,null,null,null,null,null,null,null,null,null,null,null,null,{"$f":" [1]Folha4!A32","v":0}]
[null,null,null,null,null,null,null,null,null,null,null,null,null,{"$f":"IF([1]Mensagem!B13 <> \"\",[1]Mensagem!B13,\"\")","v":""},{"$f":"IF([1]Mensagem!C13 <> \"\",[1]Mensagem!C13,\"\")","v":""},{"$f":" [1]SecundariaMinutaCpfl!A39","v":"3 CAA 2/0 AWG Vão 120m "},{"$f":" [1]PrimariaMinutaCpfl!A39","v":"3 CAA 336,4 MCM Vão 120m "},{"$f":" [1]NeutroMinutaCpfl!A39","v":"1 CU 2/0 AWG Vão 35m  "},null,null,7,null,null,null,null,null,null,null,null,null,null,null,null,null,null,null,{"$f":" [1]Folha4!A33","v":0}]
[null,null,"Coordenada X","Coordenada Y",null,null,null,null,null,null,null,null,null,{"$f":"IF([1]Mensagem!B14 <> \"\",[1]Mensagem!B14,\"\")","v":""},{"$f":"IF([1]Mensagem!C14 <> \"\",[1]Mensagem!C14,\"\")","v":"Cálculo Esforço"},{"$f":" [1]SecundariaMinutaCpfl!A40","v":"3 CAA 4/0 AWG Vão 120m "},{"$f":" [1]PrimariaMinutaCpfl!A40","v":""},{"$f":" [1]NeutroMinutaCpfl!A40","v":"1 CU 4/0 AWG Vão 35m  "},null,null,8,null,null,null,null,null,null,null,null,null,null,null,null,null,null,null,{"$f":" [1]Folha4!A34","v":0}]
[null,null,{"$f":"C36","v":29229000},{"$f":"D36","v":745406001},null,null,null,null,null,"Poste Meio",null,null,null,{"$f":"IF([1]Mensagem!B15 <> \"\",[1]Mensagem!B15,\"\")","v":""},{"$f":"IF([1]Mensagem!C15 <> \"\",[1]Mensagem!C15,\"\")","v":"Customizado"},{"$f":" [1]SecundariaMinutaCpfl!A41","v":"3 CAA 336,4 MCM Vão 120m "},{"$f":" [1]PrimariaMinutaCpfl!A41","v":"3 15kv 240 mm² Vão 35m  "},{"$f":" [1]NeutroMinutaCpfl!A41","v":0},null,null,9,null,null,null,null,null,null,null,null,null,null,null,null,null,null,null,{"$f":" [1]Folha4!A35","v":0}]
[null,null,29279000,748406001,null,null,null,null,null,"Poste 3",null,null,null,{"$f":"IF([1]Mensagem!B16 <> \"\",[1]Mensagem!B16,\"\")","v":""},{"$f":"IF([1]Mensagem!C16 <> \"\",[1]Mensagem!C16,\"\")","v":"para cabos de"},{"$f":" [1]SecundariaMinutaCpfl!A42","v":""},{"$f":" [1]PrimariaMinutaCpfl!A42","v":"3 25kv 240 mm² Vão 35m  "},{"$f":" [1]NeutroMinutaCpfl!A42","v":0},null,null,10,null,null,null,null,null,null,null,null,null,null,null,null,null,null,null,{"$f":" [1]Folha4!A36","v":0}]
[null,null,"Distância Metros",{"$f":"Plan3!E41/100","v":30004.166377354995},null,null,null,null,null,null,null,null,null,{"$f":"IF([1]Mensagem!B17 <> \"\",[1]Mensagem!B17,\"\")","v":""},{"$f":"IF([1]Mensagem!C17 <> \"\",[1]Mensagem!C17,\"\")","v":"Telefonia e"},{"$f":" [1]SecundariaMinutaCpfl!A43","v":"3 15kv 240 mm² Vão 35m  "},{"$f":" [1]PrimariaMinutaCpfl!A43","v":"3 35kv 240 mm² Vão 35m  "},{"$f":" [1]NeutroMinutaCpfl!A43","v":0},null,null,11,null,null,null,null,null,null,null,null,null,null,null,null,null,null,null,{"$f":" [1]Folha4!A37","v":0}]
[null,null,"Ângulo",{"$f":"Plan3!E44","v":0.95484125387218866},null,null,null,null,null,null,null,null,null,{"$f":"IF([1]Mensagem!B18 <> \"\",[1]Mensagem!B18,\"\")","v":""},{"$f":"IF([1]Mensagem!C18 <> \"\",[1]Mensagem!C18,\"\")","v":"Comunicação"},{"$f":" [1]SecundariaMinutaCpfl!A44","v":"3 25kv 240 mm² Vão 35m  "},{"$f":" [1]PrimariaMinutaCpfl!A44","v":""},{"$f":" [1]NeutroMinutaCpfl!A44","v":0},null,null,12,null,null,null,null,null,null,null,null,null,null,null,null,null,null,null,{"$f":" [1]Folha4!A38","v":0}]
[null,null,null,null,null,null,null,null,null,null,null,null,null,{"$f":"IF([1]Mensagem!B19 <> \"\",[1]Mensagem!B19,\"\")","v":""},{"$f":"IF([1]Mensagem!C19 <> \"\",[1]Mensagem!C19,\"\")","v":"http://www.mabjo.com.br/Default.aspx"},{"$f":" [1]SecundariaMinutaCpfl!A45","v":"3 35kv 240 mm² Vão 35m  "},{"$f":" [1]PrimariaMinutaCpfl!A45","v":"3 CU 06 AWG Vão 35m  "},{"$f":" [1]NeutroMinutaCpfl!A45","v":0},null,null,13,null,null,null,null,null,null,null,null,null,null,null,null,null,null,null,{"$f":" [1]Folha4!A39","v":0}]
[null,null,"Ângulo Resultante",{"$f":"D45-D38","v":-88.949665868691937},null,null,null,null,null,null,null,null,null,{"$f":"IF([1]Mensagem!B20 <> \"\",[1]Mensagem!B20,\"\")","v":""},{"$f":"IF([1]Mensagem!C20 <> \"\",[1]Mensagem!C20,\"\")","v":""},{"$f":" [1]SecundariaMinutaCpfl!A46","v":""},{"$f":" [1]PrimariaMinutaCpfl!A46","v":"3 CU 02 AWG Vão 35m  "},{"$f":" [1]NeutroMinutaCpfl!A46","v":0},null,null,14,null,null,null,null,null,null,null,null,null,null,null,null,null,null,null,{"$f":" [1]Folha4!A40","v":0}]
[null,null,null,null,null,null,null,null,null,null,null,null,null,null,null,{"$f":" [1]SecundariaMinutaRge!A47","v":"3 CU 06 AWG Vão 35m  RGE"},{"$f":" [1]PrimariaMinutaRge!A47","v":"3 CU 02 AWG Vão 35m  RGE"},{"$f":" [1]NeutroMinutaRge!A47","v":0},null,null,15,null,null,null,null,null,null,null,null,null,null,null,null,null,null,null,{"$f":" [1]Folha4!A41","v":0}]
[null,null,null,null,null,null,null,null,null,null,null,null,null,null,null,{"$f":" [1]SecundariaMinutaRge!A48","v":"3 CU 02 AWG Vão 35m  RGE"},{"$f":" [1]PrimariaMinutaRge!A48","v":"3 CU 1/0 AWG Vão 35m  RGE"},{"$f":" [1]NeutroMinutaRge!A48","v":0},null,null,16,null,null,null,null,null,null,null,null,null,null,null,null,null,null,null,{"$f":" [1]Folha4!A42","v":0}]
[null,null,"Cálculo Flecha","Primário por Fase",null,null,null,null,null,null,null,null,null,null,null,{"$f":" [1]SecundariaMinutaRge!A49","v":"3 CU 1/0 AWG Vão 35m  RGE"},{"$f":" [1]PrimariaMinutaRge!A49","v":"3 CU 2/0 AWG Vão 35m  RGE"},{"$f":" [1]NeutroMinutaRge!A49","v":0},null,null,17,null,null,null,null,null,null,null,null,null,null,null,null,null,null,null,{"$f":" [1]Folha4!A43","v":0}]
[null,null,"Cabo","A02",null,null,null,null,null,null,null,null,null,null,null,{"$f":" [1]SecundariaMinutaRge!A50","v":"3 CU 2/0 AWG Vão 35m  RGE"},{"$f":" [1]PrimariaMinutaRge!A50","v":"3 CU 4/0 AWG Vão 35m  RGE"},{"$f":" [1]NeutroMinutaRge!A50","v":0},null,null,18,null,null,null,null,null,null,null,null,null,null,null,null,null,null,null,{"$f":" [1]Folha4!A44","v":0}]
[null,null,"Distância",100,null,null,null,null,null,null,null,null,null,null,null,{"$f":" [1]SecundariaMinutaRge!A51","v":"3 CU 4/0 AWG Vão 35m  RGE"},{"$f":" [1]PrimariaMinutaRge!A51","v":0},{"$f":" [1]NeutroMinutaRge!A51","v":0},null,null,18,null,null,null,null,null,null,null,null,null,null,null,null,null,null,null,{"$f":" [1]Folha4!A45","v":0}]
[null,null,"Redução Tensão %",20,null,null,null,null,null,null,null,null,null,null,null,{"$f":" [1]SecundariaMinutaRge!A52","v":0},{"$f":" [1]PrimariaMinutaRge!A52","v":"2 CA 02 AWG Vão 35m RGE"},{"$f":" [1]NeutroMinutaRge!A52","v":0},null,null,null,null,null,null,null,null,null,null,null,null,null,null,null,null,null,null,{"$f":" [1]Folha4!A46","v":0}]
[null,null,"Amperes",{"$f":"VLOOKUP(D51,[1]Folha4!A2:G27,7,0)","v":138},null,null,null,null,null,"Esforço Trifásico",null,null,null,null,null,{"$f":" [1]SecundariaMinutaRge!A53","v":"2 CA 02 AWG Vão 35m RGE"},{"$f":" [1]PrimariaMinutaRge!A53","v":"2 CA 1/0 AWG Vão 35m RGE"},{"$f":" [1]NeutroMinutaRge!A53","v":0},null,null,null,null,null,null,null,null,null,null,null,null,null,null,null,null,null,null,{"$f":" [1]Folha4!A47","v":0}]
[null,null,"Esforço Urbano",{"$f":"N55-N57","v":76},null,null,null,null,null,{"$f":"D55*3","v":228},null,null,null,{"$f":"VLOOKUP(D51,[1]Folha4!A2:E27,2,0)","v":95},null,{"$f":" [1]SecundariaMinutaRge!A54","v":"2 CA 1/0 AWG Vão 35m RGE"},{"$f":" [1]PrimariaMinutaRge!A54","v":"2 CA 2/0 AWG Vão 35m RGE"},{"$f":" [1]NeutroMinutaRge!A54","v":0},null,null,null,null,null,null,null,null,null,null,null,null,null,null,null,null,null,null,{"$f":" [1]Folha4!A48","v":0}]
[null,null,"Esforço Rural",{"$f":"N56-N58","v":163.19999999999999},null,null,null,null,null,{"$f":"D56*3","v":489.59999999999997},null,null,null,{"$f":"VLOOKUP(D51,[1]Folha4!A2:E27,3,0)","v":204},null,{"$f":" [1]SecundariaMinutaRge!A55","v":"2 CA 2/0 AWG Vão 35m RGE"},{"$f":" [1]PrimariaMinutaRge!A55","v":"2 CA 4/0 AWG Vão 35m RGE"},{"$f":" [1]NeutroMinutaRge!A55","v":0},null,null,null,null,null,null,null,null,null,null,null,null,null,null,null,null,null,null,{"$f":" [1]Folha4!A49","v":0}]
[null,null,"Kg/m",{"$f":"VLOOKUP(D51,[1]Folha4!A1:F27,6,0)","v":9.1999999999999998E-2},null,null,null,null,null,null,null,null,null,{"$f":"D53*N55/100","v":19},null,{"$f":" [1]SecundariaMinutaRge!A56","v":"2 CA 4/0 AWG Vão 35m RGE"},{"$f":" [1]PrimariaMinutaRge!A56","v":"2 CA 336,4 MCM Vão 35m RGE"},{"$f":" [1]NeutroMinutaRge!A56","v":0},null,null,null,null,null,null,null,null,null,null,null,null,null,null,null,null,null,null,{"$f":" [1]Folha4!A50","v":0}]
[null,null,"Flecha Ubano",{"$f":"IF(D55>0,(D57*(D52*D52))/(8*D55),\"\")","v":1.513157894736842},null,null,null,null,null,null,null,null,null,{"$f":"D53*N56/100","v":40.799999999999997},null,{"$f":" [1]SecundariaMinutaRge!A57","v":"2 CA 336,4 MCM Vão 35m RGE"},{"$f":" [1]PrimariaMinutaRge!A57","v":"2 CA 477 MCM Vão 35m RGE"},{"$f":" [1]NeutroMinutaRge!A57","v":0},null,null,18,null,null,null,null,null,null,null,null,null,null,null,null,null,null,null,{"$f":" [1]Folha4!A51","v":0}]
[null,null,"Flecha Rural",{"$f":"IF(D56>0,(D57*(D52*D52))/(8*D56),\"\")","v":0.70465686274509809},null,null,null,null,null,null,null,null,null,null,null,{"$f":" [1]SecundariaMinutaRge!A58","v":"2 CA 477 MCM Vão 35m RGE"},{"$f":" [1]PrimariaMinutaRge!A58","v":0},{"$f":" [1]NeutroMinutaRge!A58","v":0},null,null,18,null,null,null,null,null,null,null,null,null,null,null,null,null,null,null,{"$f":" [1]Folha4!A52","v":0}]
[null,null,null,null,null,null,null,null,null,null,null,null,null,null,null,{"$f":" [1]SecundariaMinutaRge!A59","v":0},{"$f":" [1]PrimariaMinutaRge!A59","v":"2 CA 02 AWG Vão 80m RGE"},{"$f":" [1]NeutroMinutaRge!A59","v":0},null,null,18,null,null,null,null,null,null,null,null,null,null,null,null,null,null,null,{"$f":" [1]Folha4!A53","v":0}]
[null,null,null,null,null,null,null,null,null,null,null,null,null,null,null,{"$f":" [1]SecundariaMinutaRge!A60","v":"2 CA 02 AWG Vão 80m RGE"},{"$f":" [1]PrimariaMinutaRge!A60","v":"2 CA 1/0 AWG Vão 80m RGE"},{"$f":" [1]NeutroMinutaRge!A60","v":0},null,null,18,null,null,null,null,null,null,null,null,null,null,null,null,null,null,null,{"$f":" [1]Folha4!A54","v":0}]
[null,null,{"$f":"VLOOKUP(D51,[1]Folha4!A2:E27,2,0)","v":95},null,null,null,null,null,null,null,null,null,null,null,null,{"$f":" [1]SecundariaMinutaRge!A61","v":"2 CA 1/0 AWG Vão 80m RGE"},{"$f":" [1]PrimariaMinutaRge!A61","v":"2 CA 2/0 AWG Vão 80m RGE"},{"$f":" [1]NeutroMinutaRge!A61","v":0},null,null,18,null,null,null,null,null,null,null,null,null,null,null,null,null,null,null,{"$f":" [1]Folha4!A55","v":0}]
[null,null,null,null,null,null,null,null,null,null,null,null,null,null,null,{"$f":" [1]SecundariaMinutaRge!A62","v":"2 CA 2/0 AWG Vão 80m RGE"},{"$f":" [1]PrimariaMinutaRge!A62","v":"2 CA 4/0 AWG Vão 80m RGE"},{"$f":" [1]NeutroMinutaRge!A62","v":0},null,null,18,null,null,null,null,null,null,null,null,null,null,null,null,null,null,null,{"$f":" [1]Folha4!A56","v":0}]
[null,null,null,null,null,null,null,null,null,null,null,null,null,null,null,{"$f":" [1]SecundariaMinutaRge!A63","v":"2 CA 4/0 AWG Vão 80m RGE"},{"$f":" [1]PrimariaMinutaRge!A63","v":"2 CA 336,4 MCM Vão 80m RGE"},{"$f":" [1]NeutroMinutaRge!A63","v":0},null,null,18,null,null,null,null,null,null,null,null,null,null,null,null,null,null,null,{"$f":" [1]Folha4!A57","v":0}]
[null,null,null,null,null,null,null,null,null,null,null,null,null,null,null,{"$f":" [1]SecundariaMinutaRge!A64","v":"2 CA 336,4 MCM Vão 80m RGE"},{"$f":" [1]PrimariaMinutaRge!A64","v":"2 CA 477 MCM Vão 80m RGE"},{"$f":" [1]NeutroMinutaRge!A64","v":0},null,null,18,null,null,null,null,null,null,null,null,null,null,null,null,null,null,null,{"$f":" [1]Folha4!A58","v":0}]
[null,null,null,null,null,null,null,null,null,null,null,null,null,null,null,{"$f":" [1]SecundariaMinutaRge!A65","v":"2 CA 477 MCM Vão 80m RGE"},{"$f":" [1]PrimariaMinutaRge!A65","v":0},{"$f":" [1]NeutroMinutaRge!A65","v":0},null,null,18,null,null,null,null,null,null,null,null,null,null,null,null,null,null,null,{"$f":" [1]Folha4!A59","v":0}]
[null,null,null,null,null,null,null,null,null,null,null,null,null,null,null,{"$f":" [1]SecundariaMinutaRge!A66","v":0},{"$f":" [1]PrimariaMinutaRge!A66","v":"2 CAA 04 AWG Vão 40m RGE"},{"$f":" [1]NeutroMinutaRge!A66","v":0},null,null,18,null,null,null,null,null,null,null,null,null,null,null,null,null,null,null,{"$f":" [1]Folha4!A60","v":0}]
[null,null,null,null,null,null,null,null,null,null,null,null,null,null,null,{"$f":" [1]SecundariaMinutaRge!A67","v":"2 CAA 04 AWG Vão 40m RGE"},{"$f":" [1]PrimariaMinutaRge!A67","v":"2 CAA 02 AWG Vão 40m RGE"},{"$f":" [1]NeutroMinutaRge!A67","v":0},null,null,18,null,null,null,null,null,null,null,null,null,null,null,null,null,null,null,{"$f":" [1]Folha4!A61","v":0}]
[null,null,null,null,null,null,null,null,null,null,null,null,null,null,null,{"$f":" [1]SecundariaMinutaRge!A68","v":"2 CAA 02 AWG Vão 40m RGE"},{"$f":" [1]PrimariaMinutaRge!A68","v":"2 CAA 1/0 AWG Vão 40m RGE"},{"$f":" [1]NeutroMinutaRge!A68","v":0},null,null,18,null,null,null,null,null,null,null,null,null,null,null,null,null,null,null,{"$f":" [1]Folha4!A62","v":0}]
[null,null,null,null,null,null,null,null,null,null,null,null,null,null,null,{"$f":" [1]SecundariaMinutaRge!A69","v":"2 CAA 1/0 AWG Vão 40m RGE"},{"$f":" [1]PrimariaMinutaRge!A69","v":"2 CAA 2/0 AWG Vão 40m RGE"},{"$f":" [1]NeutroMinutaRge!A69","v":0},null,null,18,null,null,null,null,null,null,null,null,null,null,null,null,null,null,null,{"$f":" [1]Folha4!A63","v":0}]
[null,null,null,null,null,null,null,null,null,null,null,null,null,null,null,{"$f":" [1]SecundariaMinutaRge!A70","v":"2 CAA 2/0 AWG Vão 40m RGE"},{"$f":" [1]PrimariaMinutaRge!A70","v":"2 CAA 4/0 AWG Vão 40m RGE"},{"$f":" [1]NeutroMinutaRge!A70","v":0},null,null,18,null,null,null,null,null,null,null,null,null,null,null,null,null,null,null,{"$f":" [1]Folha4!A64","v":0}]
[null,null,null,null,null,null,null,null,null,null,null,null,null,null,null,{"$f":" [1]SecundariaMinutaRge!A71","v":"2 CAA 4/0 AWG Vão 40m RGE"},{"$f":" [1]PrimariaMinutaRge!A71","v":0},{"$f":" [1]NeutroMinutaRge!A71","v":0},null,null,18,null,null,null,null,null,null,null,null,null,null,null,null,null,null,null,{"$f":" [1]Folha4!A65","v":0}]
[null,null,null,null,null,null,null,null,null,null,null,null,null,null,null,{"$f":" [1]SecundariaMinutaRge!A72","v":0},{"$f":" [1]PrimariaMinutaRge!A72","v":"2 CAA 04 AWG Vão 80m RGE"},{"$f":" [1]NeutroMinutaRge!A72","v":0},null,null,35,null,null,null,null,null,null,null,null,null,null,null,null,null,null,null,{"$f":" [1]Folha4!A66","v":0}]
[null,null,null,null,null,null,null,null,null,null,null,null,null,null,null,{"$f":" [1]SecundariaMinutaRge!A73","v":"2 CAA 04 AWG Vão 80m RGE"},{"$f":" [1]PrimariaMinutaRge!A73","v":"2 CAA 02 AWG Vão 80m RGE"},{"$f":" [1]NeutroMinutaRge!A73","v":0},null,null,36,null,null,null,null,null,null,null,null,null,null,null,null,null,null,null,{"$f":" [1]Folha4!A67","v":0}]
[null,null,null,null,null,null,null,null,null,null,null,null,null,null,null,{"$f":" [1]SecundariaMinutaRge!A74","v":"2 CAA 02 AWG Vão 80m RGE"},{"$f":" [1]PrimariaMinutaRge!A74","v":"2 CAA 1/0 AWG Vão 80m RGE"},{"$f":" [1]NeutroMinutaRge!A74","v":0},null,null,37,null,null,null,null,null,null,null,null,null,null,null,null,null,null,null,{"$f":" [1]Folha4!A68","v":0}]
[null,null,null,null,null,null,null,null,null,null,null,null,null,null,null,{"$f":" [1]SecundariaMinutaRge!A75","v":"2 CAA 1/0 AWG Vão 80m RGE"},{"$f":" [1]PrimariaMinutaRge!A75","v":"2 CAA 2/0 AWG Vão 80m RGE"},{"$f":" [1]NeutroMinutaRge!A75","v":0},null,null,38,null,null,null,null,null,null,null,null,null,null,null,null,null,null,null,{"$f":" [1]Folha4!A69","v":0}]
[null,null,null,null,null,null,null,null,null,null,null,null,null,null,null,{"$f":" [1]SecundariaMinutaRge!A76","v":"2 CAA 2/0 AWG Vão 80m RGE"},{"$f":" [1]PrimariaMinutaRge!A76","v":"2 CAA 4/0 AWG Vão 80m RGE"},{"$f":" [1]NeutroMinutaRge!A76","v":0},null,null,39,null,null,null,null,null,null,null,null,null,null,null,null,null,null,null,{"$f":" [1]Folha4!A70","v":0}]
[null,null,null,null,null,null,null,null,null,null,null,null,null,null,null,{"$f":" [1]SecundariaMinutaRge!A77","v":"2 CAA 4/0 AWG Vão 80m RGE"},{"$f":" [1]PrimariaMinutaRge!A77","v":"2 CAA 336,4 MCM Vão 80m RGE"},{"$f":" [1]NeutroMinutaRge!A77","v":0},null,null,40,null,null,null,null,null,null,null,null,null,null,null,null,null,null,null,{"$f":" [1]Folha4!A71","v":0}]
[null,null,null,null,null,null,null,null,null,null,null,null,null,null,null,{"$f":" [1]SecundariaMinutaRge!A78","v":"2 CAA 336,4 MCM Vão 80m RGE"},{"$f":" [1]PrimariaMinutaRge!A78","v":0},{"$f":" [1]NeutroMinutaRge!A78","v":0},null,null,41,null,null,null,null,null,null,null,null,null,null,null,null,null,null,null,{"$f":" [1]Folha4!A72","v":0}]
[null,null,null,null,null,null,null,null,null,null,null,null,null,null,null,{"$f":" [1]SecundariaMinutaRge!A79","v":0},{"$f":" [1]PrimariaMinutaRge!A79","v":"2 CAA 04 AWG Vão 120m RGE"},{"$f":" [1]NeutroMinutaRge!A79","v":0},null,null,42,null,null,null,null,null,null,null,null,null,null,null,null,null,null,null,{"$f":" [1]Folha4!A73","v":0}]
[null,null,null,null,null,null,null,null,null,null,null,null,null,null,null,{"$f":" [1]SecundariaMinutaRge!A80","v":"2 CAA 04 AWG Vão 120m RGE"},{"$f":" [1]PrimariaMinutaRge!A80","v":"2 CAA 02 AWG Vão 120m RGE"},{"$f":" [1]NeutroMinutaRge!A80","v":0},null,null,43,null,null,null,null,null,null,null,null,null,null,null,null,null,null,null,{"$f":" [1]Folha4!A74","v":0}]
[null,null,null,null,null,null,null,null,null,null,null,null,null,null,null,{"$f":" [1]SecundariaMinutaRge!A81","v":"2 CAA 02 AWG Vão 120m RGE"},{"$f":" [1]PrimariaMinutaRge!A81","v":"2 CAA 1/0 AWG Vão 120m RGE"},{"$f":" [1]NeutroMinutaRge!A81","v":0},null,null,44,null,null,null,null,null,null,null,null,null,null,null,null,null,null,null,{"$f":" [1]Folha4!A75","v":0}]
[null,null,null,null,null,null,null,null,null,null,null,null,null,null,null,{"$f":" [1]SecundariaMinutaRge!A82","v":"2 CAA 1/0 AWG Vão 120m RGE"},{"$f":" [1]PrimariaMinutaRge!A82","v":"2 CAA 2/0 AWG Vão 120m RGE"},{"$f":" [1]NeutroMinutaRge!A82","v":0},null,null,45,null,null,null,null,null,null,null,null,null,null,null,null,null,null,null,{"$f":" [1]Folha4!A76","v":0}]
[null,null,null,null,null,null,null,null,null,null,null,null,null,null,null,{"$f":" [1]SecundariaMinutaRge!A83","v":"2 CAA 2/0 AWG Vão 120m RGE"},{"$f":" [1]PrimariaMinutaRge!A83","v":"2 CAA 4/0 AWG Vão 120m RGE"},{"$f":" [1]NeutroMinutaRge!A83","v":0},null,null,46,null,null,null,null,null,null,null,null,null,null,null,null,null,null,null,{"$f":" [1]Folha4!A77","v":0}]
[null,null,null,null,null,null,null,null,null,null,null,null,null,null,null,{"$f":" [1]SecundariaMinutaRge!A84","v":"2 CAA 4/0 AWG Vão 120m RGE"},{"$f":" [1]PrimariaMinutaRge!A84","v":"2 CAA 336,4 MCM Vão 120m RGE"},{"$f":" [1]NeutroMinutaRge!A84","v":0},null,null,47,null,null,null,null,null,null,null,null,null,null,null,null,null,null,null,{"$f":" [1]Folha4!A78","v":0}]
[null,null,null,null,null,null,null,null,null,null,null,null,null,null,null,{"$f":" [1]SecundariaMinutaRge!A85","v":"2 CAA 336,4 MCM Vão 120m RGE"},{"$f":" [1]PrimariaMinutaRge!A85","v":""},{"$f":" [1]NeutroMinutaRge!A85","v":0},null,null,48,null,null,null,null,null,null,null,null,null,null,null,null,null,null,null,{"$f":" [1]Folha4!A79","v":0}]
[null,null,null,null,null,null,null,null,null,null,null,null,null,null,null,{"$f":" [1]SecundariaMinutaRge!A86","v":""},{"$f":" [1]PrimariaMinutaRge!A86","v":"1 CU 06 AWG Vão 35m  RGE"},{"$f":" [1]NeutroMinutaRge!A86","v":0},null,null,49,null,null,null,null,null,null,null,null,null,null,null,null,null,null,null,{"$f":" [1]Folha4!A80","v":0}]
[null,null,null,null,null,null,null,null,null,null,null,null,null,null,null,{"$f":" [1]SecundariaMinutaRge!A87","v":"1 CU 06 AWG Vão 35m  RGE"},{"$f":" [1]PrimariaMinutaRge!A87","v":"1 CU 02 AWG Vão 35m  RGE"},{"$f":" [1]NeutroMinutaRge!A87","v":0},null,null,50,null,null,null,null,null,null,null,null,null,null,null,null,null,null,null,{"$f":" [1]Folha4!A81","v":0}]
[null,null,null,null,null,null,null,null,null,null,null,null,null,null,null,{"$f":" [1]SecundariaMinutaRge!A88","v":"1 CU 02 AWG Vão 35m  RGE"},{"$f":" [1]PrimariaMinutaRge!A88","v":"1 CU 1/0 AWG Vão 35m  RGE"},{"$f":" [1]NeutroMinutaRge!A88","v":0},null,null,51,null,null,null,null,null,null,null,null,null,null,null,null,null,null,null,{"$f":" [1]Folha4!A82","v":0}]
[null,null,null,null,null,null,null,null,null,null,null,null,null,null,null,{"$f":" [1]SecundariaMinutaRge!A89","v":"1 CU 1/0 AWG Vão 35m  RGE"},{"$f":" [1]PrimariaMinutaRge!A89","v":"1 CU 2/0 AWG Vão 35m  RGE"},{"$f":" [1]NeutroMinutaRge!A89","v":0},null,null,52,null,null,null,null,null,null,null,null,null,null,null,null,null,null,null,{"$f":" [1]Folha4!A83","v":0}]
[null,null,null,null,null,null,null,null,null,null,null,null,null,null,null,{"$f":" [1]SecundariaMinutaRge!A90","v":"1 CU 2/0 AWG Vão 35m  RGE"},{"$f":" [1]PrimariaMinutaRge!A90","v":"1 CU 4/0 AWG Vão 35m  RGE"},{"$f":" [1]NeutroMinutaRge!A90","v":0},null,null,53,null,null,null,null,null,null,null,null,null,null,null,null,null,null,null,{"$f":" [1]Folha4!A84","v":0}]
[null,null,null,null,null,null,null,null,null,null,null,null,null,null,null,{"$f":" [1]SecundariaMinutaRge!A91","v":"1 CU 4/0 AWG Vão 35m  RGE"},{"$f":" [1]PrimariaMinutaRge!A91","v":0},{"$f":" [1]NeutroMinutaRge!A91","v":0},null,null,54,null,null,null,null,null,null,null,null,null,null,null,null,null,null,null,{"$f":" [1]Folha4!A85","v":0}]
[null,null,null,null,null,null,null,null,null,null,null,null,null,null,null,{"$f":" [1]SecundariaMinutaRge!A92","v":0},{"$f":" [1]PrimariaMinutaRge!A92","v":"1 CA 02 AWG Vão 35m RGE"},{"$f":" [1]NeutroMinutaRge!A92","v":0},null,null,55,null,null,null,null,null,null,null,null,null,null,null,null,null,null,null,{"$f":" [1]Folha4!A86","v":0}]
[null,null,null,null,null,null,null,null,null,null,null,null,null,null,null,{"$f":" [1]SecundariaMinutaRge!A93","v":"1 CA 02 AWG Vão 35m RGE"},{"$f":" [1]PrimariaMinutaRge!A93","v":"1 CA 1/0 AWG Vão 35m RGE"},{"$f":" [1]NeutroMinutaRge!A93","v":0},null,null,56,null,null,null,null,null,null,null,null,null,null,null,null,null,null,null,{"$f":" [1]Folha4!A87","v":0}]
[null,null,null,null,null,null,null,null,null,null,null,null,null,null,null,{"$f":" [1]SecundariaMinutaRge!A94","v":"1 CA 1/0 AWG Vão 35m RGE"},{"$f":" [1]PrimariaMinutaRge!A94","v":"1 CA 2/0 AWG Vão 35m RGE"},{"$f":" [1]NeutroMinutaRge!A94","v":0},null,null,57,null,null,null,null,null,null,null,null,null,null,null,null,null,null,null,{"$f":" [1]Folha4!A88","v":0}]
[null,null,null,null,null,null,null,null,null,null,null,null,null,null,null,{"$f":" [1]SecundariaMinutaRge!A95","v":"1 CA 2/0 AWG Vão 35m RGE"},{"$f":" [1]PrimariaMinutaRge!A95","v":"1 CA 4/0 AWG Vão 35m RGE"},{"$f":" [1]NeutroMinutaRge!A95","v":0},null,null,58,null,null,null,null,null,null,null,null,null,null,null,null,null,null,null,{"$f":" [1]Folha4!A89","v":0}]
[null,null,null,null,null,null,null,null,null,null,null,null,null,null,null,{"$f":" [1]SecundariaMinutaRge!A96","v":"1 CA 4/0 AWG Vão 35m RGE"},{"$f":" [1]PrimariaMinutaRge!A96","v":"1 CA 336,4 MCM Vão 35m RGE"},{"$f":" [1]NeutroMinutaRge!A96","v":0},null,null,59,null,null,null,null,null,null,null,null,null,null,null,null,null,null,null,{"$f":" [1]Folha4!A90","v":0}]
[null,null,null,null,null,null,null,null,null,null,null,null,null,null,null,{"$f":" [1]SecundariaMinutaRge!A97","v":"1 CA 336,4 MCM Vão 35m RGE"},{"$f":" [1]PrimariaMinutaRge!A97","v":"1 CA 477 MCM Vão 35m RGE"},{"$f":" [1]NeutroMinutaRge!A97","v":0},null,null,60,null,null,null,null,null,null,null,null,null,null,null,null,null,null,null,{"$f":" [1]Folha4!A91","v":0}]
[null,null,null,null,null,null,null,null,null,null,null,null,null,null,null,{"$f":" [1]SecundariaMinutaRge!A98","v":"1 CA 477 MCM Vão 35m RGE"},{"$f":" [1]PrimariaMinutaRge!A98","v":0},{"$f":" [1]NeutroMinutaRge!A98","v":0},null,null,61,null,null,null,null,null,null,null,null,null,null,null,null,null,null,null,{"$f":" [1]Folha4!A92","v":0}]
[null,null,null,null,null,null,null,null,null,null,null,null,null,null,null,{"$f":" [1]SecundariaMinutaRge!A99","v":0},{"$f":" [1]PrimariaMinutaRge!A99","v":"1 CA 02 AWG Vão 80m RGE"},{"$f":" [1]NeutroMinutaRge!A99","v":0},null,null,62,null,null,null,null,null,null,null,null,null,null,null,null,null,null,null,{"$f":" [1]Folha4!A93","v":0}]
[null,null,null,null,null,null,null,null,null,null,null,null,null,null,null,{"$f":" [1]SecundariaMinutaRge!A100","v":"1 CA 02 AWG Vão 80m RGE"},{"$f":" [1]PrimariaMinutaRge!A100","v":"1 CA 1/0 AWG Vão 80m RGE"},{"$f":" [1]NeutroMinutaRge!A100","v":0},null,null,63,null,null,null,null,null,null,null,null,null,null,null,null,null,null,null,{"$f":" [1]Folha4!A94","v":0}]
[null,null,null,null,null,null,null,null,null,null,null,null,null,null,null,{"$f":" [1]SecundariaMinutaRge!A101","v":"1 CA 1/0 AWG Vão 80m RGE"},{"$f":" [1]PrimariaMinutaRge!A101","v":"1 CA 2/0 AWG Vão 80m RGE"},{"$f":" [1]NeutroMinutaRge!A101","v":0},null,null,64,null,null,null,null,null,null,null,null,null,null,null,null,null,null,null,{"$f":" [1]Folha4!A95","v":0}]
[null,null,null,null,null,null,null,null,null,null,null,null,null,null,null,{"$f":" [1]SecundariaMinutaRge!A102","v":"1 CA 2/0 AWG Vão 80m RGE"},{"$f":" [1]PrimariaMinutaRge!A102","v":"1 CA 4/0 AWG Vão 80m RGE"},{"$f":" [1]NeutroMinutaRge!A102","v":0},null,null,65,null,null,null,null,null,null,null,null,null,null,null,null,null,null,null,{"$f":" [1]Folha4!A96","v":0}]
[null,null,null,null,null,null,null,null,null,null,null,null,null,null,null,{"$f":" [1]SecundariaMinutaRge!A103","v":"1 CA 4/0 AWG Vão 80m RGE"},{"$f":" [1]PrimariaMinutaRge!A103","v":"1 CA 336,4 MCM Vão 80m RGE"},{"$f":" [1]NeutroMinutaRge!A103","v":0},null,null,66,null,null,null,null,null,null,null,null,null,null,null,null,null,null,null,{"$f":" [1]Folha4!A97","v":0}]
[null,null,null,null,null,null,null,null,null,null,null,null,null,null,null,{"$f":" [1]SecundariaMinutaRge!A104","v":"1 CA 336,4 MCM Vão 80m RGE"},{"$f":" [1]PrimariaMinutaRge!A104","v":"1 CA 477 MCM Vão 80m RGE"},{"$f":" [1]NeutroMinutaRge!A104","v":0},null,null,67,null,null,null,null,null,null,null,null,null,null,null,null,null,null,null,{"$f":" [1]Folha4!A98","v":0}]
[null,null,null,null,null,null,null,null,null,null,null,null,null,null,null,{"$f":" [1]SecundariaMinutaRge!A105","v":"1 CA 477 MCM Vão 80m RGE"},{"$f":" [1]PrimariaMinutaRge!A105","v":0},{"$f":" [1]NeutroMinutaRge!A105","v":0},null,null,68,null,null,null,null,null,null,null,null,null,null,null,null,null,null,null,{"$f":" [1]Folha4!A99","v":0}]
[null,null,null,null,null,null,null,null,null,null,null,null,null,null,null,{"$f":" [1]SecundariaMinutaRge!A106","v":0},{"$f":" [1]PrimariaMinutaRge!A106","v":"1 CAA 04 AWG Vão 40m RGE"},{"$f":" [1]NeutroMinutaRge!A106","v":0},null,null,69,null,null,null,null,null,null,null,null,null,null,null,null,null,null,null,{"$f":" [1]Folha4!A100","v":0}]
[null,null,null,null,null,null,null,null,null,null,null,null,null,null,null,{"$f":" [1]SecundariaMinutaRge!A107","v":"1 CAA 04 AWG Vão 40m RGE"},{"$f":" [1]PrimariaMinutaRge!A107","v":"1 CAA 02 AWG Vão 40m RGE"},{"$f":" [1]NeutroMinutaRge!A107","v":0},null,null,70,null,null,null,null,null,null,null,null,null,null,null,null,null,null,null,{"$f":" [1]Folha4!A101","v":0}]
[null,null,null,null,null,null,null,null,null,null,null,null,null,null,null,{"$f":" [1]SecundariaMinutaRge!A108","v":"1 CAA 02 AWG Vão 40m RGE"},{"$f":" [1]PrimariaMinutaRge!A108","v":"1 CAA 1/0 AWG Vão 40m RGE"},{"$f":" [1]NeutroMinutaRge!A108","v":0},null,null,71,null,null,null,null,null,null,null,null,null,null,null,null,null,null,null,{"$f":" [1]Folha4!A102","v":0}]
[null,null,null,null,null,null,null,null,null,null,null,null,null,null,null,{"$f":" [1]SecundariaMinutaRge!A109","v":"1 CAA 1/0 AWG Vão 40m RGE"},{"$f":" [1]PrimariaMinutaRge!A109","v":"1 CAA 2/0 AWG Vão 40m RGE"},{"$f":" [1]NeutroMinutaRge!A109","v":0},null,null,72,null,null,null,null,null,null,null,null,null,null,null,null,null,null,null,{"$f":" [1]Folha4!A103","v":0}]
[null,null,null,null,null,null,null,null,null,null,null,null,null,null,null,{"$f":" [1]SecundariaMinutaRge!A110","v":"1 CAA 2/0 AWG Vão 40m RGE"},{"$f":" [1]PrimariaMinutaRge!A110","v":"1 CAA 4/0 AWG Vão 40m RGE"},{"$f":" [1]NeutroMinutaRge!A110","v":0},null,null,73,null,null,null,null,null,null,null,null,null,null,null,null,null,null,null,{"$f":" [1]Folha4!A104","v":0}]
[null,null,null,null,null,null,null,null,null,null,null,null,null,null,null,{"$f":" [1]SecundariaMinutaRge!A111","v":"1 CAA 4/0 AWG Vão 40m RGE"},{"$f":" [1]PrimariaMinutaRge!A111","v":0},{"$f":" [1]NeutroMinutaRge!A111","v":0},null,null,74,null,null,null,null,null,null,null,null,null,null,null,null,null,null,null,{"$f":" [1]Folha4!A105","v":0}]
[null,null,null,null,null,null,null,null,null,null,null,null,null,null,null,{"$f":" [1]SecundariaMinutaRge!A112","v":0},{"$f":" [1]PrimariaMinutaRge!A112","v":"1 CAA 04 AWG Vão 80m RGE"},{"$f":" [1]NeutroMinutaRge!A112","v":0},null,null,75,null,null,null,null,null,null,null,null,null,null,null,null,null,null,null,{"$f":" [1]Folha4!A106","v":0}]
[null,null,null,null,null,null,null,null,null,null,null,null,null,null,null,{"$f":" [1]SecundariaMinutaRge!A113","v":"1 CAA 04 AWG Vão 80m RGE"},{"$f":" [1]PrimariaMinutaRge!A113","v":"1 CAA 02 AWG Vão 80m RGE"},{"$f":" [1]NeutroMinutaRge!A113","v":0},null,null,76,null,null,null,null,null,null,null,null,null,null,null,null,null,null,null,{"$f":" [1]Folha4!A107","v":0}]
[null,null,null,null,null,null,null,null,null,null,null,null,null,null,null,{"$f":" [1]SecundariaMinutaRge!A114","v":"1 CAA 02 AWG Vão 80m RGE"},{"$f":" [1]PrimariaMinutaRge!A114","v":"1 CAA 1/0 AWG Vão 80m RGE"},{"$f":" [1]NeutroMinutaRge!A114","v":0},null,null,77,null,null,null,null,null,null,null,null,null,null,null,null,null,null,null,{"$f":" [1]Folha4!A108","v":0}]
[null,null,null,null,null,null,null,null,null,null,null,null,null,null,null,{"$f":" [1]SecundariaMinutaRge!A115","v":"1 CAA 1/0 AWG Vão 80m RGE"},{"$f":" [1]PrimariaMinutaRge!A115","v":"1 CAA 2/0 AWG Vão 80m RGE"},{"$f":" [1]NeutroMinutaRge!A115","v":0},null,null,78,null,null,null,null,null,null,null,null,null,null,null,null,null,null,null,{"$f":" [1]Folha4!A109","v":0}]
[null,null,null,null,null,null,null,null,null,null,null,null,null,null,null,{"$f":" [1]SecundariaMinutaRge!A116","v":"1 CAA 2/0 AWG Vão 80m RGE"},{"$f":" [1]PrimariaMinutaRge!A116","v":"1 CAA 4/0 AWG Vão 80m RGE"},{"$f":" [1]NeutroMinutaRge!A116","v":0},null,null,79,null,null,null,null,null,null,null,null,null,null,null,null,null,null,null,{"$f":" [1]Folha4!A110","v":0}]
[null,null,null,null,null,null,null,null,null,null,null,null,null,null,null,{"$f":" [1]SecundariaMinutaRge!A117","v":"1 CAA 4/0 AWG Vão 80m RGE"},{"$f":" [1]PrimariaMinutaRge!A117","v":"1 CAA 336,4 MCM Vão 80m RGE"},{"$f":" [1]NeutroMinutaRge!A117","v":0},null,null,80,null,null,null,null,null,null,null,null,null,null,null,null,null,null,null,{"$f":" [1]Folha4!A111","v":0}]
[null,null,null,null,null,null,null,null,null,null,null,null,null,null,null,{"$f":" [1]SecundariaMinutaRge!A118","v":"1 CAA 336,4 MCM Vão 80m RGE"},{"$f":" [1]PrimariaMinutaRge!A118","v":0},{"$f":" [1]NeutroMinutaRge!A118","v":0},null,null,81,null,null,null,null,null,null,null,null,null,null,null,null,null,null,null,{"$f":" [1]Folha4!A112","v":0}]
[null,null,null,null,null,null,null,null,null,null,null,null,null,null,null,{"$f":" [1]SecundariaMinutaRge!A119","v":0},{"$f":" [1]PrimariaMinutaRge!A119","v":"1 CAA 04 AWG Vão 120m RGE"},{"$f":" [1]NeutroMinutaRge!A119","v":0},null,null,82,null,null,null,null,null,null,null,null,null,null,null,null,null,null,null,{"$f":" [1]Folha4!A113","v":0}]
[null,null,null,null,null,null,null,null,null,null,null,null,null,null,null,{"$f":" [1]SecundariaMinutaRge!A120","v":"1 CAA 04 AWG Vão 120m RGE"},{"$f":" [1]PrimariaMinutaRge!A120","v":"1 CAA 02 AWG Vão 120m RGE"},{"$f":" [1]NeutroMinutaRge!A120","v":0},null,null,83,null,null,null,null,null,null,null,null,null,null,null,null,null,null,null,{"$f":" [1]Folha4!A114","v":0}]
[null,null,null,null,null,null,null,null,null,null,null,null,null,null,null,{"$f":" [1]SecundariaMinutaRge!A121","v":"1 CAA 02 AWG Vão 120m RGE"},{"$f":" [1]PrimariaMinutaRge!A121","v":"1 CAA 1/0 AWG Vão 120m RGE"},{"$f":" [1]NeutroMinutaRge!A121","v":0},null,null,84,null,null,null,null,null,null,null,null,null,null,null,null,null,null,null,{"$f":" [1]Folha4!A115","v":0}]
[null,null,null,null,null,null,null,null,null,null,null,null,null,null,null,{"$f":" [1]SecundariaMinutaRge!A122","v":"1 CAA 1/0 AWG Vão 120m RGE"},{"$f":" [1]PrimariaMinutaRge!A122","v":"1 CAA 2/0 AWG Vão 120m RGE"},{"$f":" [1]NeutroMinutaRge!A122","v":0},null,null,85,null,null,null,null,null,null,null,null,null,null,null,null,null,null,null,{"$f":" [1]Folha4!A116","v":0}]
[null,null,null,null,null,null,null,null,null,null,null,null,null,null,null,{"$f":" [1]SecundariaMinutaRge!A123","v":"1 CAA 2/0 AWG Vão 120m RGE"},{"$f":" [1]PrimariaMinutaRge!A123","v":"1 CAA 4/0 AWG Vão 120m RGE"},{"$f":" [1]NeutroMinutaRge!A123","v":0},null,null,86,null,null,null,null,null,null,null,null,null,null,null,null,null,null,null,{"$f":" [1]Folha4!A117","v":0}]
[null,null,null,null,null,null,null,null,null,null,null,null,null,null,null,{"$f":" [1]SecundariaMinutaRge!A124","v":"1 CAA 4/0 AWG Vão 120m RGE"},{"$f":" [1]PrimariaMinutaRge!A124","v":"1 CAA 336,4 MCM Vão 120m RGE"},{"$f":" [1]NeutroMinutaRge!A124","v":0},null,null,87,null,null,null,null,null,null,null,null,null,null,null,null,null,null,null,{"$f":" [1]Folha4!A118","v":0}]
[null,null,null,null,null,null,null,null,null,null,null,null,null,null,null,{"$f":" [1]SecundariaMinutaRge!A125","v":"1 CAA 336,4 MCM Vão 120m RGE"},{"$f":" [1]PrimariaMinutaRge!A125","v":0},{"$f":" [1]NeutroMinutaRge!A125","v":0},null,null,88,null,null,null,null,null,null,null,null,null,null,null,null,null,null,null,{"$f":" [1]Folha4!A119","v":0}]
[null,null,null,null,null,null,null,null,null,null,null,null,null,null,null,{"$f":" [1]SecundariaMinutaRge!A126","v":0},{"$f":" [1]PrimariaMinutaRge!A126","v":0},{"$f":" [1]NeutroMinutaRge!A126","v":0},null,null,89,null,null,null,null,null,null,null,null,null,null,null,null,null,null,null,{"$f":" [1]Folha4!A120","v":0}]
[null,null,null,null,null,null,null,null,null,null,null,null,null,null,null,{"$f":" [1]SecundariaMinutaRge!A127","v":0},{"$f":" [1]PrimariaMinutaRge!A127","v":0},{"$f":" [1]NeutroMinutaRge!A127","v":0},null,null,90,null,null,null,null,null,null,null,null,null,null,null,null,null,null,null,{"$f":" [1]Folha4!A121","v":0}]
[null,null,null,null,null,null,null,null,null,null,null,null,null,null,null,{"$f":" [1]SecundariaMinutaRge!A128","v":0},{"$f":" [1]PrimariaMinutaRge!A128","v":0},{"$f":" [1]NeutroMinutaRge!A128","v":0},null,null,91,null,null,null,null,null,null,null,null,null,null,null,null,null,null,null,{"$f":" [1]Folha4!A122","v":0}]
[null,null,null,null,null,null,null,null,null,null,null,null,null,null,null,{"$f":" [1]SecundariaMinutaRge!A129","v":0},{"$f":" [1]PrimariaMinutaRge!A129","v":0},{"$f":" [1]NeutroMinutaRge!A129","v":0},null,null,92,null,null,null,null,null,null,null,null,null,null,null,null,null,null,null,{"$f":" [1]Folha4!A123","v":0}]
[null,null,null,null,null,null,null,null,null,null,null,null,null,null,null,{"$f":" [1]SecundariaMinutaRge!A130","v":0},{"$f":" [1]PrimariaMinutaRge!A130","v":0},{"$f":" [1]NeutroMinutaRge!A130","v":0},null,null,93,null,null,null,null,null,null,null,null,null,null,null,null,null,null,null,{"$f":" [1]Folha4!A124","v":0}]
[null,null,null,null,null,null,null,null,null,null,null,null,null,null,null,{"$f":" [1]SecundariaMinutaRge!A131","v":0},{"$f":" [1]PrimariaMinutaRge!A131","v":0},{"$f":" [1]NeutroMinutaRge!A131","v":0},null,null,94,null,null,null,null,null,null,null,null,null,null,null,null,null,null,null,{"$f":" [1]Folha4!A125","v":0}]
[null,null,null,null,null,null,null,null,null,null,null,null,null,null,null,{"$f":" [1]SecundariaMinutaRge!A132","v":0},{"$f":" [1]PrimariaMinutaRge!A132","v":0},{"$f":" [1]NeutroMinutaRge!A132","v":0},null,null,95,null,null,null,null,null,null,null,null,null,null,null,null,null,null,null,{"$f":" [1]Folha4!A126","v":0}]
[null,null,null,null,null,null,null,null,null,null,null,null,null,null,null,{"$f":" [1]SecundariaMinutaRge!A133","v":0},{"$f":" [1]PrimariaMinutaRge!A133","v":0},{"$f":" [1]NeutroMinutaRge!A133","v":0},null,null,96,null,null,null,null,null,null,null,null,null,null,null,null,null,null,null,{"$f":" [1]Folha4!A127","v":0}]
[null,null,null,null,null,null,null,null,null,null,null,null,null,null,null,{"$f":" [1]SecundariaMinutaRge!A134","v":0},{"$f":" [1]PrimariaMinutaRge!A134","v":0},{"$f":" [1]NeutroMinutaRge!A134","v":0},null,null,97,null,null,null,null,null,null,null,null,null,null,null,null,null,null,null,{"$f":" [1]Folha4!A128","v":0}]
[null,null,null,null,null,null,null,null,null,null,null,null,null,null,null,{"$f":" [1]SecundariaMinutaRge!A135","v":0},{"$f":" [1]PrimariaMinutaRge!A135","v":0},{"$f":" [1]NeutroMinutaRge!A135","v":0},null,null,98,null,null,null,null,null,null,null,null,null,null,null,null,null,null,null,{"$f":" [1]Folha4!A129","v":0}]
[null,null,null,null,null,null,null,null,null,null,null,null,null,null,null,{"$f":" [1]SecundariaMinutaRge!A136","v":0},{"$f":" [1]PrimariaMinutaRge!A136","v":0},{"$f":" [1]NeutroMinutaRge!A136","v":0},null,null,99,null,null,null,null,null,null,null,null,null,null,null,null,null,null,null,{"$f":" [1]Folha4!A130","v":0}]
[null,null,null,null,null,null,null,null,null,null,null,null,null,null,null,{"$f":" [1]SecundariaMinutaRge!A137","v":0},{"$f":" [1]PrimariaMinutaRge!A137","v":0},{"$f":" [1]NeutroMinutaRge!A137","v":0},null,null,100,null,null,null,null,null,null,null,null,null,null,null,null,null,null,null,{"$f":" [1]Folha4!A131","v":0}]
[null,null,null,null,null,null,null,null,null,null,null,null,null,null,null,{"$f":" [1]SecundariaMinutaRge!A138","v":0},{"$f":" [1]PrimariaMinutaRge!A138","v":0},{"$f":" [1]NeutroMinutaRge!A138","v":0},null,null,101,null,null,null,null,null,null,null,null,null,null,null,null,null,null,null,{"$f":" [1]Folha4!A132","v":0}]
[null,null,null,null,null,null,null,null,null,null,null,null,null,null,null,{"$f":" [1]SecundariaMinutaRge!A139","v":0},{"$f":" [1]PrimariaMinutaRge!A139","v":0},{"$f":" [1]NeutroMinutaRge!A139","v":0},null,null,102,null,null,null,null,null,null,null,null,null,null,null,null,null,null,null,{"$f":" [1]Folha4!A133","v":0}]
[null,null,null,null,null,null,null,null,null,null,null,null,null,null,null,{"$f":" [1]SecundariaMinutaRge!A140","v":0},{"$f":" [1]PrimariaMinutaRge!A140","v":0},{"$f":" [1]NeutroMinutaRge!A140","v":0},null,null,103,null,null,null,null,null,null,null,null,null,null,null,null,null,null,null,{"$f":" [1]Folha4!A134","v":0}]
[null,null,null,null,null,null,null,null,null,null,null,null,null,null,null,{"$f":" [1]SecundariaMinutaRge!A141","v":0},{"$f":" [1]PrimariaMinutaRge!A141","v":0},{"$f":" [1]NeutroMinutaRge!A141","v":0},null,null,104,null,null,null,null,null,null,null,null,null,null,null,null,null,null,null,{"$f":" [1]Folha4!A135","v":0}]
[null,null,null,null,null,null,null,null,null,null,null,null,null,null,null,{"$f":" [1]SecundariaMinutaRge!A142","v":0},{"$f":" [1]PrimariaMinutaRge!A142","v":0},{"$f":" [1]NeutroMinutaRge!A142","v":0},null,null,105,null,null,null,null,null,null,null,null,null,null,null,null,null,null,null,{"$f":" [1]Folha4!A136","v":0}]
[null,null,null,null,null,null,null,null,null,null,null,null,null,null,null,{"$f":" [1]SecundariaMinutaRge!A143","v":0},{"$f":" [1]PrimariaMinutaRge!A143","v":0},{"$f":" [1]NeutroMinutaRge!A143","v":0},null,null,106,null,null,null,null,null,null,null,null,null,null,null,null,null,null,null,{"$f":" [1]Folha4!A137","v":0}]
[null,null,null,null,null,null,null,null,null,null,null,null,null,null,null,{"$f":" [1]SecundariaMinutaRge!A144","v":0},{"$f":" [1]PrimariaMinutaRge!A144","v":0},{"$f":" [1]NeutroMinutaRge!A144","v":0},null,null,107,null,null,null,null,null,null,null,null,null,null,null,null,null,null,null,{"$f":" [1]Folha4!A138","v":0}]
[null,null,null,null,null,null,null,null,null,null,null,null,null,null,null,{"$f":" [1]SecundariaMinutaRge!A145","v":0},{"$f":" [1]PrimariaMinutaRge!A145","v":0},{"$f":" [1]NeutroMinutaRge!A145","v":0},null,null,108,null,null,null,null,null,null,null,null,null,null,null,null,null,null,null,{"$f":" [1]Folha4!A139","v":0}]
[null,null,null,null,null,null,null,null,null,null,null,null,null,null,null,{"$f":" [1]SecundariaMinutaRge!A146","v":0},{"$f":" [1]PrimariaMinutaRge!A146","v":0},{"$f":" [1]NeutroMinutaRge!A146","v":0},null,null,109,null,null,null,null,null,null,null,null,null,null,null,null,null,null,null,{"$f":" [1]Folha4!A140","v":0}]
[null,null,null,null,null,null,null,null,null,null,null,null,null,null,null,{"$f":" [1]SecundariaMinutaRge!A147","v":0},{"$f":" [1]PrimariaMinutaRge!A147","v":0},{"$f":" [1]NeutroMinutaRge!A147","v":0},null,null,110,null,null,null,null,null,null,null,null,null,null,null,null,null,null,null,{"$f":" [1]Folha4!A141","v":0}]
[null,null,null,null,null,null,null,null,null,null,null,null,null,null,null,{"$f":" [1]SecundariaMinutaRge!A148","v":0},{"$f":" [1]PrimariaMinutaRge!A148","v":0},{"$f":" [1]NeutroMinutaRge!A148","v":0},null,null,111,null,null,null,null,null,null,null,null,null,null,null,null,null,null,null,{"$f":" [1]Folha4!A142","v":0}]
[null,null,null,null,null,null,null,null,null,null,null,null,null,null,null,{"$f":" [1]SecundariaMinutaRge!A149","v":0},{"$f":" [1]PrimariaMinutaRge!A149","v":0},{"$f":" [1]NeutroMinutaRge!A149","v":0},null,null,112,null,null,null,null,null,null,null,null,null,null,null,null,null,null,null,{"$f":" [1]Folha4!A143","v":0}]
[null,null,null,null,null,null,null,null,null,null,null,null,null,null,null,{"$f":" [1]SecundariaMinutaRge!A150","v":0},{"$f":" [1]PrimariaMinutaRge!A150","v":0},{"$f":" [1]NeutroMinutaRge!A150","v":0},null,null,113,null,null,null,null,null,null,null,null,null,null,null,null,null,null,null,{"$f":" [1]Folha4!A144","v":0}]
[null,null,null,null,null,null,null,null,null,null,null,null,null,null,null,{"$f":" [1]SecundariaMinutaRge!A151","v":0},{"$f":" [1]PrimariaMinutaRge!A151","v":0},{"$f":" [1]NeutroMinutaRge!A151","v":0},null,null,114,null,null,null,null,null,null,null,null,null,null,null,null,null,null,null,{"$f":" [1]Folha4!A145","v":0}]
[null,null,null,null,null,null,null,null,null,null,null,null,null,null,null,{"$f":" [1]SecundariaMinutaRge!A152","v":0},{"$f":" [1]PrimariaMinutaRge!A152","v":0},{"$f":" [1]NeutroMinutaRge!A152","v":0},null,null,115,null,null,null,null,null,null,null,null,null,null,null,null,null,null,null,{"$f":" [1]Folha4!A146","v":0}]
[null,null,null,null,null,null,null,null,null,null,null,null,null,null,null,{"$f":" [1]SecundariaMinutaRge!A153","v":0},{"$f":" [1]PrimariaMinutaRge!A153","v":0},{"$f":" [1]NeutroMinutaRge!A153","v":0},null,null,116,null,null,null,null,null,null,null,null,null,null,null,null,null,null,null,{"$f":" [1]Folha4!A147","v":0}]
[null,null,null,null,null,null,null,null,null,null,null,null,null,null,null,{"$f":" [1]SecundariaMinutaRge!A154","v":0},{"$f":" [1]PrimariaMinutaRge!A154","v":0},{"$f":" [1]NeutroMinutaRge!A154","v":0},null,null,117,null,null,null,null,null,null,null,null,null,null,null,null,null,null,null,{"$f":" [1]Folha4!A148","v":0}]
[null,null,null,null,null,null,null,null,null,null,null,null,null,null,null,{"$f":" [1]SecundariaMinutaRge!A155","v":0},{"$f":" [1]PrimariaMinutaRge!A155","v":0},{"$f":" [1]NeutroMinutaRge!A155","v":0},null,null,118,null,null,null,null,null,null,null,null,null,null,null,null,null,null,null,{"$f":" [1]Folha4!A149","v":0}]
[null,null,null,null,null,null,null,null,null,null,null,null,null,null,null,{"$f":" [1]SecundariaMinutaRge!A156","v":0},{"$f":" [1]PrimariaMinutaRge!A156","v":0},{"$f":" [1]NeutroMinutaRge!A156","v":0},null,null,119,null,null,null,null,null,null,null,null,null,null,null,null,null,null,null,{"$f":" [1]Folha4!A150","v":0}]
[null,null,null,null,null,null,null,null,null,null,null,null,null,null,null,{"$f":" [1]SecundariaMinutaRge!A157","v":0},{"$f":" [1]PrimariaMinutaRge!A157","v":0},{"$f":" [1]NeutroMinutaRge!A157","v":0},null,null,120,null,null,null,null,null,null,null,null,null,null,null,null,null,null,null,{"$f":" [1]Folha4!A151","v":0}]
[null,null,null,null,null,null,null,null,null,null,null,null,null,null,null,{"$f":" [1]SecundariaMinutaRge!A158","v":0},{"$f":" [1]PrimariaMinutaRge!A158","v":0},{"$f":" [1]NeutroMinutaRge!A158","v":0},null,null,121,null,null,null,null,null,null,null,null,null,null,null,null,null,null,null,{"$f":" [1]Folha4!A152","v":0}]
[null,null,null,null,null,null,null,null,null,null,null,null,null,null,null,{"$f":" [1]SecundariaMinutaRge!A159","v":0},{"$f":" [1]PrimariaMinutaRge!A159","v":0},{"$f":" [1]NeutroMinutaRge!A159","v":0},null,null,122,null,null,null,null,null,null,null,null,null,null,null,null,null,null,null,{"$f":" [1]Folha4!A153","v":0}]
[null,null,null,null,null,null,null,null,null,null,null,null,null,null,null,{"$f":" [1]SecundariaMinutaRge!A160","v":0},{"$f":" [1]PrimariaMinutaRge!A160","v":0},{"$f":" [1]NeutroMinutaRge!A160","v":0},null,null,123,null,null,null,null,null,null,null,null,null,null,null,null,null,null,null,{"$f":" [1]Folha4!A154","v":0}]
[null,null,null,null,null,null,null,null,null,null,null,null,null,null,null,{"$f":" [1]SecundariaMinutaRge!A161","v":0},{"$f":" [1]PrimariaMinutaRge!A161","v":0},{"$f":" [1]NeutroMinutaRge!A161","v":0},null,null,124,null,null,null,null,null,null,null,null,null,null,null,null,null,null,null,{"$f":" [1]Folha4!A155","v":0}]
[null,null,null,null,null,null,null,null,null,null,null,null,null,null,null,{"$f":" [1]SecundariaMinutaRge!A162","v":0},{"$f":" [1]PrimariaMinutaRge!A162","v":0},{"$f":" [1]NeutroMinutaRge!A162","v":0},null,null,125,null,null,null,null,null,null,null,null,null,null,null,null,null,null,null,{"$f":" [1]Folha4!A156","v":0}]
[null,null,null,null,null,null,null,null,null,null,null,null,null,null,null,{"$f":" [1]SecundariaMinutaRge!A163","v":0},{"$f":" [1]PrimariaMinutaRge!A163","v":0},{"$f":" [1]NeutroMinutaRge!A163","v":0},null,null,126,null,null,null,null,null,null,null,null,null,null,null,null,null,null,null,{"$f":" [1]Folha4!A157","v":0}]
[null,null,null,null,null,null,null,null,null,null,null,null,null,null,null,{"$f":" [1]SecundariaMinutaRge!A164","v":0},{"$f":" [1]PrimariaMinutaRge!A164","v":0},{"$f":" [1]NeutroMinutaRge!A164","v":0},null,null,127,null,null,null,null,null,null,null,null,null,null,null,null,null,null,null,{"$f":" [1]Folha4!A158","v":0}]
[null,null,null,null,null,null,null,null,null,null,null,null,null,null,null,{"$f":" [1]SecundariaMinutaRge!A165","v":0},{"$f":" [1]PrimariaMinutaRge!A165","v":0},{"$f":" [1]NeutroMinutaRge!A165","v":0},null,null,128,null,null,null,null,null,null,null,null,null,null,null,null,null,null,null,{"$f":" [1]Folha4!A159","v":0}]
[null,null,null,null,null,null,null,null,null,null,null,null,null,null,null,{"$f":" [1]SecundariaMinutaRge!A166","v":0},{"$f":" [1]PrimariaMinutaRge!A166","v":0},{"$f":" [1]NeutroMinutaRge!A166","v":0},null,null,129,null,null,null,null,null,null,null,null,null,null,null,null,null,null,null,{"$f":" [1]Folha4!A160","v":0}]
[null,null,null,null,null,null,null,null,null,null,null,null,null,null,null,{"$f":" [1]SecundariaMinutaRge!A167","v":0},{"$f":" [1]PrimariaMinutaRge!A167","v":0},{"$f":" [1]NeutroMinutaRge!A167","v":0},null,null,130,null,null,null,null,null,null,null,null,null,null,null,null,null,null,null,{"$f":" [1]Folha4!A161","v":0}]
[null,null,null,null,null,null,null,null,null,null,null,null,null,null,null,{"$f":" [1]SecundariaMinutaRge!A168","v":0},{"$f":" [1]PrimariaMinutaRge!A168","v":0},{"$f":" [1]NeutroMinutaRge!A168","v":0},null,null,131,null,null,null,null,null,null,null,null,null,null,null,null,null,null,null,{"$f":" [1]Folha4!A162","v":0}]
[null,null,null,null,null,null,null,null,null,null,null,null,null,null,null,{"$f":" [1]SecundariaMinutaRge!A169","v":0},{"$f":" [1]PrimariaMinutaRge!A169","v":0},{"$f":" [1]NeutroMinutaRge!A169","v":0},null,null,132,null,null,null,null,null,null,null,null,null,null,null,null,null,null,null,{"$f":" [1]Folha4!A163","v":0}]
[null,null,null,null,null,null,null,null,null,null,null,null,null,null,null,{"$f":" [1]SecundariaMinutaRge!A170","v":0},{"$f":" [1]PrimariaMinutaRge!A170","v":0},{"$f":" [1]NeutroMinutaRge!A170","v":0},null,null,133,null,null,null,null,null,null,null,null,null,null,null,null,null,null,null,{"$f":" [1]Folha4!A164","v":0}]
[null,null,null,null,null,null,null,null,null,null,null,null,null,null,null,{"$f":" [1]SecundariaMinutaRge!A171","v":0},{"$f":" [1]PrimariaMinutaRge!A171","v":0},{"$f":" [1]NeutroMinutaRge!A171","v":0},null,null,134,null,null,null,null,null,null,null,null,null,null,null,null,null,null,null,{"$f":" [1]Folha4!A165","v":0}]
[null,null,null,null,null,null,null,null,null,null,null,null,null,null,null,{"$f":" [1]SecundariaMinutaRge!A172","v":0},{"$f":" [1]PrimariaMinutaRge!A172","v":0},{"$f":" [1]NeutroMinutaRge!A172","v":0},null,null,135,null,null,null,null,null,null,null,null,null,null,null,null,null,null,null,{"$f":" [1]Folha4!A166","v":0}]
[null,null,null,null,null,null,null,null,null,null,null,null,null,null,null,{"$f":" [1]SecundariaMinutaRge!A173","v":0},{"$f":" [1]PrimariaMinutaRge!A173","v":0},{"$f":" [1]NeutroMinutaRge!A173","v":0},null,null,136,null,null,null,null,null,null,null,null,null,null,null,null,null,null,null,{"$f":" [1]Folha4!A167","v":0}]
[null,null,null,null,null,null,null,null,null,null,null,null,null,null,null,{"$f":" [1]SecundariaMinutaRge!A174","v":0},{"$f":" [1]PrimariaMinutaRge!A174","v":0},{"$f":" [1]NeutroMinutaRge!A174","v":0},null,null,137,null,null,null,null,null,null,null,null,null,null,null,null,null,null,null,{"$f":" [1]Folha4!A168","v":0}]
[null,null,null,null,null,null,null,null,null,null,null,null,null,null,null,{"$f":" [1]SecundariaMinutaRge!A175","v":0},{"$f":" [1]PrimariaMinutaRge!A175","v":0},{"$f":" [1]NeutroMinutaRge!A175","v":0},null,null,138,null,null,null,null,null,null,null,null,null,null,null,null,null,null,null,{"$f":" [1]Folha4!A169","v":0}]
[null,null,null,null,null,null,null,null,null,null,null,null,null,null,null,{"$f":" [1]SecundariaMinutaRge!A176","v":0},{"$f":" [1]PrimariaMinutaRge!A176","v":0},{"$f":" [1]NeutroMinutaRge!A176","v":0},null,null,139,null,null,null,null,null,null,null,null,null,null,null,null,null,null,null,{"$f":" [1]Folha4!A170","v":0}]
[null,null,null,null,null,null,null,null,null,null,null,null,null,null,null,{"$f":" [1]SecundariaMinutaRge!A177","v":0},{"$f":" [1]PrimariaMinutaRge!A177","v":0},{"$f":" [1]NeutroMinutaRge!A177","v":0},null,null,140,null,null,null,null,null,null,null,null,null,null,null,null,null,null,null,{"$f":" [1]Folha4!A171","v":0}]
[null,null,null,null,null,null,null,null,null,null,null,null,null,null,null,{"$f":" [1]SecundariaMinutaRge!A178","v":0},{"$f":" [1]PrimariaMinutaRge!A178","v":0},{"$f":" [1]NeutroMinutaRge!A178","v":0},null,null,141,null,null,null,null,null,null,null,null,null,null,null,null,null,null,null,{"$f":" [1]Folha4!A172","v":0}]
[null,null,null,null,null,null,null,null,null,null,null,null,null,null,null,{"$f":" [1]SecundariaMinutaRge!A179","v":0},{"$f":" [1]PrimariaMinutaRge!A179","v":0},{"$f":" [1]NeutroMinutaRge!A179","v":0},null,null,142,null,null,null,null,null,null,null,null,null,null,null,null,null,null,null,{"$f":" [1]Folha4!A173","v":0}]
[null,null,null,null,null,null,null,null,null,null,null,null,null,null,null,{"$f":" [1]SecundariaMinutaRge!A180","v":0},{"$f":" [1]PrimariaMinutaRge!A180","v":0},{"$f":" [1]NeutroMinutaRge!A180","v":0},null,null,143,null,null,null,null,null,null,null,null,null,null,null,null,null,null,null,{"$f":" [1]Folha4!A174","v":0}]
[null,null,null,null,null,null,null,null,null,null,null,null,null,null,null,{"$f":" [1]SecundariaMinutaRge!A181","v":0},{"$f":" [1]PrimariaMinutaRge!A181","v":0},{"$f":" [1]NeutroMinutaRge!A181","v":0},null,null,144,null,null,null,null,null,null,null,null,null,null,null,null,null,null,null,{"$f":" [1]Folha4!A175","v":0}]
[null,null,null,null,null,null,null,null,null,null,null,null,null,null,null,{"$f":" [1]SecundariaMinutaRge!A182","v":0},{"$f":" [1]PrimariaMinutaRge!A182","v":0},{"$f":" [1]NeutroMinutaRge!A182","v":0},null,null,145,null,null,null,null,null,null,null,null,null,null,null,null,null,null,null,{"$f":" [1]Folha4!A176","v":0}]
[null,null,null,null,null,null,null,null,null,null,null,null,null,null,null,{"$f":" [1]SecundariaMinutaRge!A183","v":0},{"$f":" [1]PrimariaMinutaRge!A183","v":0},{"$f":" [1]NeutroMinutaRge!A183","v":0},null,null,146,null,null,null,null,null,null,null,null,null,null,null,null,null,null,null,{"$f":" [1]Folha4!A177","v":0}]
[null,null,null,null,null,null,null,null,null,null,null,null,null,null,null,{"$f":" [1]SecundariaMinutaRge!A184","v":0},{"$f":" [1]PrimariaMinutaRge!A184","v":0},{"$f":" [1]NeutroMinutaRge!A184","v":0},null,null,147,null,null,null,null,null,null,null,null,null,null,null,null,null,null,null,{"$f":" [1]Folha4!A178","v":0}]
[null,null,null,null,null,null,null,null,null,null,null,null,null,null,null,{"$f":" [1]SecundariaMinutaRge!A185","v":0},{"$f":" [1]PrimariaMinutaRge!A185","v":0},{"$f":" [1]NeutroMinutaRge!A185","v":0},null,null,148,null,null,null,null,null,null,null,null,null,null,null,null,null,null,null,{"$f":" [1]Folha4!A179","v":0}]
[null,null,null,null,null,null,null,null,null,null,null,null,null,null,null,{"$f":" [1]SecundariaMinutaRge!A186","v":0},{"$f":" [1]PrimariaMinutaRge!A186","v":0},{"$f":" [1]NeutroMinutaRge!A186","v":0},null,null,149,null,null,null,null,null,null,null,null,null,null,null,null,null,null,null,{"$f":" [1]Folha4!A180","v":0}]
[null,null,null,null,null,null,null,null,null,null,null,null,null,null,null,{"$f":" [1]SecundariaMinutaRge!A187","v":0},{"$f":" [1]PrimariaMinutaRge!A187","v":0},{"$f":" [1]NeutroMinutaRge!A187","v":0},null,null,150,null,null,null,null,null,null,null,null,null,null,null,null,null,null,null,{"$f":" [1]Folha4!A181","v":0}]
[null,null,null,null,null,null,null,null,null,null,null,null,null,null,null,{"$f":" [1]SecundariaMinutaRge!A188","v":0},{"$f":" [1]PrimariaMinutaRge!A188","v":0},{"$f":" [1]NeutroMinutaRge!A188","v":0},null,null,151,null,null,null,null,null,null,null,null,null,null,null,null,null,null,null,{"$f":" [1]Folha4!A182","v":0}]
[null,null,null,null,null,null,null,null,null,null,null,null,null,null,null,{"$f":" [1]SecundariaMinutaRge!A189","v":0},{"$f":" [1]PrimariaMinutaRge!A189","v":0},{"$f":" [1]NeutroMinutaRge!A189","v":0},null,null,152,null,null,null,null,null,null,null,null,null,null,null,null,null,null,null,{"$f":" [1]Folha4!A183","v":0}]
[null,null,null,null,null,null,null,null,null,null,null,null,null,null,null,{"$f":" [1]SecundariaMinutaRge!A190","v":0},{"$f":" [1]PrimariaMinutaRge!A190","v":0},{"$f":" [1]NeutroMinutaRge!A190","v":0},null,null,153,null,null,null,null,null,null,null,null,null,null,null,null,null,null,null,{"$f":" [1]Folha4!A184","v":0}]
[null,null,null,null,null,null,null,null,null,null,null,null,null,null,null,{"$f":" [1]SecundariaMinutaRge!A191","v":0},{"$f":" [1]PrimariaMinutaRge!A191","v":0},{"$f":" [1]NeutroMinutaRge!A191","v":0},null,null,154,null,null,null,null,null,null,null,null,null,null,null,null,null,null,null,{"$f":" [1]Folha4!A185","v":0}]
[null,null,null,null,null,null,null,null,null,null,null,null,null,null,null,{"$f":" [1]SecundariaMinutaRge!A192","v":0},{"$f":" [1]PrimariaMinutaRge!A192","v":0},{"$f":" [1]NeutroMinutaRge!A192","v":0},null,null,155,null,null,null,null,null,null,null,null,null,null,null,null,null,null,null,{"$f":" [1]Folha4!A186","v":0}]
[null,null,null,null,null,null,null,null,null,null,null,null,null,null,null,{"$f":" [1]SecundariaMinutaRge!A193","v":0},{"$f":" [1]PrimariaMinutaRge!A193","v":0},{"$f":" [1]NeutroMinutaRge!A193","v":0},null,null,156,null,null,null,null,null,null,null,null,null,null,null,null,null,null,null,{"$f":" [1]Folha4!A187","v":0}]
[null,null,null,null,null,null,null,null,null,null,null,null,null,null,null,{"$f":" [1]SecundariaMinutaRge!A194","v":0},{"$f":" [1]PrimariaMinutaRge!A194","v":0},{"$f":" [1]NeutroMinutaRge!A194","v":0},null,null,157,null,null,null,null,null,null,null,null,null,null,null,null,null,null,null,{"$f":" [1]Folha4!A188","v":0}]
[null,null,null,null,null,null,null,null,null,null,null,null,null,null,null,{"$f":" [1]SecundariaMinutaRge!A195","v":0},{"$f":" [1]PrimariaMinutaRge!A195","v":0},{"$f":" [1]NeutroMinutaRge!A195","v":0},null,null,158,null,null,null,null,null,null,null,null,null,null,null,null,null,null,null,{"$f":" [1]Folha4!A189","v":0}]
[null,null,null,null,null,null,null,null,null,null,null,null,null,null,null,{"$f":" [1]SecundariaMinutaRge!A196","v":0},{"$f":" [1]PrimariaMinutaRge!A196","v":0},{"$f":" [1]NeutroMinutaRge!A196","v":0},null,null,159,null,null,null,null,null,null,null,null,null,null,null,null,null,null,null,{"$f":" [1]Folha4!A190","v":0}]
[null,null,null,null,null,null,null,null,null,null,null,null,null,null,null,{"$f":" [1]SecundariaMinutaRge!A197","v":0},{"$f":" [1]PrimariaMinutaRge!A197","v":0},{"$f":" [1]NeutroMinutaRge!A197","v":0},null,null,160,null,null,null,null,null,null,null,null,null,null,null,null,null,null,null,{"$f":" [1]Folha4!A191","v":0}]
[null,null,null,null,null,null,null,null,null,null,null,null,null,null,null,{"$f":" [1]SecundariaMinutaRge!A198","v":0},{"$f":" [1]PrimariaMinutaRge!A198","v":0},{"$f":" [1]NeutroMinutaRge!A198","v":0},null,null,161,null,null,null,null,null,null,null,null,null,null,null,null,null,null,null,{"$f":" [1]Folha4!A192","v":0}]
[null,null,null,null,null,null,null,null,null,null,null,null,null,null,null,{"$f":" [1]SecundariaMinutaRge!A199","v":0},{"$f":" [1]PrimariaMinutaRge!A199","v":0},{"$f":" [1]NeutroMinutaRge!A199","v":0},null,null,162,null,null,null,null,null,null,null,null,null,null,null,null,null,null,null,{"$f":" [1]Folha4!A193","v":0}]
[null,null,null,null,null,null,null,null,null,null,null,null,null,null,null,{"$f":" [1]SecundariaMinutaRge!A200","v":0},{"$f":" [1]PrimariaMinutaRge!A200","v":0},{"$f":" [1]NeutroMinutaRge!A200","v":0},null,null,163,null,null,null,null,null,null,null,null,null,null,null,null,null,null,null,{"$f":" [1]Folha4!A194","v":0}]
[null,null,null,null,null,null,null,null,null,null,null,null,null,null,null,{"$f":" [1]SecundariaMinutaRge!A201","v":0},{"$f":" [1]PrimariaMinutaRge!A201","v":0},{"$f":" [1]NeutroMinutaRge!A201","v":0},null,null,164,null,null,null,null,null,null,null,null,null,null,null,null,null,null,null,{"$f":" [1]Folha4!A195","v":0}]
[null,null,null,null,null,null,null,null,null,null,null,null,null,null,null,{"$f":" [1]SecundariaMinutaRge!A202","v":0},{"$f":" [1]PrimariaMinutaRge!A202","v":0},{"$f":" [1]NeutroMinutaRge!A202","v":0},null,null,165,null,null,null,null,null,null,null,null,null,null,null,null,null,null,null,{"$f":" [1]Folha4!A196","v":0}]
[null,null,null,null,null,null,null,null,null,null,null,null,null,null,null,{"$f":" [1]SecundariaMinutaRge!A203","v":0},{"$f":" [1]PrimariaMinutaRge!A203","v":0},{"$f":" [1]NeutroMinutaRge!A203","v":0},null,null,166,null,null,null,null,null,null,null,null,null,null,null,null,null,null,null,{"$f":" [1]Folha4!A197","v":0}]
[null,null,null,null,null,null,null,null,null,null,null,null,null,null,null,{"$f":" [1]SecundariaMinutaRge!A204","v":0},{"$f":" [1]PrimariaMinutaRge!A204","v":0},{"$f":" [1]NeutroMinutaRge!A204","v":0},null,null,167,null,null,null,null,null,null,null,null,null,null,null,null,null,null,null,{"$f":" [1]Folha4!A198","v":0}]
[null,null,null,null,null,null,null,null,null,null,null,null,null,null,null,{"$f":" [1]SecundariaMinutaRge!A205","v":0},{"$f":" [1]PrimariaMinutaRge!A205","v":0},{"$f":" [1]NeutroMinutaRge!A205","v":0},null,null,168,null,null,null,null,null,null,null,null,null,null,null,null,null,null,null,{"$f":" [1]Folha4!A199","v":0}]
[null,null,null,null,null,null,null,null,null,null,null,null,null,null,null,{"$f":" [1]SecundariaMinutaRge!A206","v":0},{"$f":" [1]PrimariaMinutaRge!A206","v":0},{"$f":" [1]NeutroMinutaRge!A206","v":0},null,null,169,null,null,null,null,null,null,null,null,null,null,null,null,null,null,null,{"$f":" [1]Folha4!A200","v":0}]
[null,null,null,null,null,null,null,null,null,null,null,null,null,null,null,{"$f":" [1]SecundariaMinutaRge!A207","v":0},{"$f":" [1]PrimariaMinutaRge!A207","v":0},{"$f":" [1]NeutroMinutaRge!A207","v":0},null,null,170,null,null,null,null,null,null,null,null,null,null,null,null,null,null,null,{"$f":" [1]Folha4!A201","v":0}]
[null,null,null,null,null,null,null,null,null,null,null,null,null,null,null,{"$f":" [1]SecundariaMinutaRge!A208","v":0},{"$f":" [1]PrimariaMinutaRge!A208","v":0},{"$f":" [1]NeutroMinutaRge!A208","v":0},null,null,171,null,null,null,null,null,null,null,null,null,null,null,null,null,null,null,{"$f":" [1]Folha4!A202","v":0}]
[null,null,null,null,null,null,null,null,null,null,null,null,null,null,null,{"$f":" [1]SecundariaMinutaRge!A209","v":0},{"$f":" [1]PrimariaMinutaRge!A209","v":0},{"$f":" [1]NeutroMinutaRge!A209","v":0},null,null,172,null,null,null,null,null,null,null,null,null,null,null,null,null,null,null,{"$f":" [1]Folha4!A203","v":0}]
[null,null,null,null,null,null,null,null,null,null,null,null,null,null,null,{"$f":" [1]SecundariaMinutaRge!A210","v":0},{"$f":" [1]PrimariaMinutaRge!A210","v":0},{"$f":" [1]NeutroMinutaRge!A210","v":0},null,null,173,null,null,null,null,null,null,null,null,null,null,null,null,null,null,null,{"$f":" [1]Folha4!A204","v":0}]
[null,null,null,null,null,null,null,null,null,null,null,null,null,null,null,{"$f":" [1]SecundariaMinutaRge!A211","v":0},{"$f":" [1]PrimariaMinutaRge!A211","v":0},{"$f":" [1]NeutroMinutaRge!A211","v":0},null,null,174,null,null,null,null,null,null,null,null,null,null,null,null,null,null,null,{"$f":" [1]Folha4!A205","v":0}]
[null,null,null,null,null,null,null,null,null,null,null,null,null,null,null,{"$f":" [1]SecundariaMinutaRge!A212","v":0},{"$f":" [1]PrimariaMinutaRge!A212","v":0},{"$f":" [1]NeutroMinutaRge!A212","v":0},null,null,175,null,null,null,null,null,null,null,null,null,null,null,null,null,null,null,{"$f":" [1]Folha4!A206","v":0}]
[null,null,null,null,null,null,null,null,null,null,null,null,null,null,null,{"$f":" [1]SecundariaMinutaRge!A213","v":0},{"$f":" [1]PrimariaMinutaRge!A213","v":0},{"$f":" [1]NeutroMinutaRge!A213","v":0},null,null,176,null,null,null,null,null,null,null,null,null,null,null,null,null,null,null,{"$f":" [1]Folha4!A207","v":0}]
[null,null,null,null,null,null,null,null,null,null,null,null,null,null,null,{"$f":" [1]SecundariaMinutaRge!A214","v":0},{"$f":" [1]PrimariaMinutaRge!A214","v":0},{"$f":" [1]NeutroMinutaRge!A214","v":0},null,null,177,null,null,null,null,null,null,null,null,null,null,null,null,null,null,null,{"$f":" [1]Folha4!A208","v":0}]
[null,null,null,null,null,null,null,null,null,null,null,null,null,null,null,{"$f":" [1]SecundariaMinutaRge!A215","v":0},{"$f":" [1]PrimariaMinutaRge!A215","v":0},{"$f":" [1]NeutroMinutaRge!A215","v":0},null,null,178,null,null,null,null,null,null,null,null,null,null,null,null,null,null,null,{"$f":" [1]Folha4!A209","v":0}]
[null,null,null,null,null,null,null,null,null,null,null,null,null,null,null,{"$f":" [1]SecundariaMinutaRge!A216","v":0},{"$f":" [1]PrimariaMinutaRge!A216","v":0},{"$f":" [1]NeutroMinutaRge!A216","v":0},null,null,179,null,null,null,null,null,null,null,null,null,null,null,null,null,null,null,{"$f":" [1]Folha4!A210","v":0}]
[null,null,null,null,null,null,null,null,null,null,null,null,null,null,null,{"$f":" [1]SecundariaMinutaRge!A217","v":0},{"$f":" [1]PrimariaMinutaRge!A217","v":0},{"$f":" [1]NeutroMinutaRge!A217","v":0},null,null,180,null,null,null,null,null,null,null,null,null,null,null,null,null,null,null,{"$f":" [1]Folha4!A211","v":0}]
[null,null,null,null,null,null,null,null,null,null,null,null,null,null,null,{"$f":" [1]SecundariaMinutaRge!A218","v":0},{"$f":" [1]PrimariaMinutaRge!A218","v":0},{"$f":" [1]NeutroMinutaRge!A218","v":0},null,null,181,null,null,null,null,null,null,null,null,null,null,null,null,null,null,null,{"$f":" [1]Folha4!A212","v":0}]
[null,null,null,null,null,null,null,null,null,null,null,null,null,null,null,{"$f":" [1]SecundariaMinutaRge!A219","v":0},{"$f":" [1]PrimariaMinutaRge!A219","v":0},{"$f":" [1]NeutroMinutaRge!A219","v":0},null,null,182,null,null,null,null,null,null,null,null,null,null,null,null,null,null,null,{"$f":" [1]Folha4!A213","v":0}]
[null,null,null,null,null,null,null,null,null,null,null,null,null,null,null,{"$f":" [1]SecundariaMinutaRge!A220","v":0},{"$f":" [1]PrimariaMinutaRge!A220","v":0},{"$f":" [1]NeutroMinutaRge!A220","v":0},null,null,183,null,null,null,null,null,null,null,null,null,null,null,null,null,null,null,{"$f":" [1]Folha4!A214","v":0}]
[null,null,null,null,null,null,null,null,null,null,null,null,null,null,null,{"$f":" [1]SecundariaMinutaRge!A221","v":0},{"$f":" [1]PrimariaMinutaRge!A221","v":0},{"$f":" [1]NeutroMinutaRge!A221","v":0},null,null,184,null,null,null,null,null,null,null,null,null,null,null,null,null,null,null,{"$f":" [1]Folha4!A215","v":0}]
[null,null,null,null,null,null,null,null,null,null,null,null,null,null,null,{"$f":" [1]SecundariaMinutaRge!A222","v":0},{"$f":" [1]PrimariaMinutaRge!A222","v":0},{"$f":" [1]NeutroMinutaRge!A222","v":0},null,null,185,null,null,null,null,null,null,null,null,null,null,null,null,null,null,null,{"$f":" [1]Folha4!A216","v":0}]
[null,null,null,null,null,null,null,null,null,null,null,null,null,null,null,{"$f":" [1]SecundariaMinutaRge!A223","v":0},{"$f":" [1]PrimariaMinutaRge!A223","v":0},{"$f":" [1]NeutroMinutaRge!A223","v":0},null,null,186,null,null,null,null,null,null,null,null,null,null,null,null,null,null,null,{"$f":" [1]Folha4!A217","v":0}]
[null,null,null,null,null,null,null,null,null,null,null,null,null,null,null,{"$f":" [1]SecundariaMinutaRge!A224","v":0},{"$f":" [1]PrimariaMinutaRge!A224","v":0},{"$f":" [1]NeutroMinutaRge!A224","v":0},null,null,187,null,null,null,null,null,null,null,null,null,null,null,null,null,null,null,{"$f":" [1]Folha4!A218","v":0}]
[null,null,null,null,null,null,null,null,null,null,null,null,null,null,null,{"$f":" [1]SecundariaMinutaRge!A225","v":0},{"$f":" [1]PrimariaMinutaRge!A225","v":0},{"$f":" [1]NeutroMinutaRge!A225","v":0},null,null,188,null,null,null,null,null,null,null,null,null,null,null,null,null,null,null,{"$f":" [1]Folha4!A219","v":0}]
[null,null,null,null,null,null,null,null,null,null,null,null,null,null,null,{"$f":" [1]SecundariaMinutaRge!A226","v":0},{"$f":" [1]PrimariaMinutaRge!A226","v":0},{"$f":" [1]NeutroMinutaRge!A226","v":0},null,null,189,null,null,null,null,null,null,null,null,null,null,null,null,null,null,null,{"$f":" [1]Folha4!A220","v":0}]
[null,null,null,null,null,null,null,null,null,null,null,null,null,null,null,{"$f":" [1]SecundariaMinutaRge!A227","v":0},{"$f":" [1]PrimariaMinutaRge!A227","v":0},{"$f":" [1]NeutroMinutaRge!A227","v":0},null,null,190,null,null,null,null,null,null,null,null,null,null,null,null,null,null,null,{"$f":" [1]Folha4!A221","v":0}]
[null,null,null,null,null,null,null,null,null,null,null,null,null,null,null,{"$f":" [1]SecundariaMinutaRge!A228","v":0},{"$f":" [1]PrimariaMinutaRge!A228","v":0},{"$f":" [1]NeutroMinutaRge!A228","v":0},null,null,191,null,null,null,null,null,null,null,null,null,null,null,null,null,null,null,{"$f":" [1]Folha4!A222","v":0}]
[null,null,null,null,null,null,null,null,null,null,null,null,null,null,null,{"$f":" [1]SecundariaMinutaRge!A229","v":0},{"$f":" [1]PrimariaMinutaRge!A229","v":0},{"$f":" [1]NeutroMinutaRge!A229","v":0},null,null,192,null,null,null,null,null,null,null,null,null,null,null,null,null,null,null,{"$f":" [1]Folha4!A223","v":0}]
[null,null,null,null,null,null,null,null,null,null,null,null,null,null,null,{"$f":" [1]SecundariaMinutaRge!A230","v":0},{"$f":" [1]PrimariaMinutaRge!A230","v":0},{"$f":" [1]NeutroMinutaRge!A230","v":0},null,null,193,null,null,null,null,null,null,null,null,null,null,null,null,null,null,null,{"$f":" [1]Folha4!A224","v":0}]
[null,null,null,null,null,null,null,null,null,null,null,null,null,null,null,{"$f":" [1]SecundariaMinutaRge!A231","v":0},{"$f":" [1]PrimariaMinutaRge!A231","v":0},{"$f":" [1]NeutroMinutaRge!A231","v":0},null,null,194,null,null,null,null,null,null,null,null,null,null,null,null,null,null,null,{"$f":" [1]Folha4!A225","v":0}]
[null,null,null,null,null,null,null,null,null,null,null,null,null,null,null,{"$f":" [1]SecundariaMinutaRge!A232","v":0},{"$f":" [1]PrimariaMinutaRge!A232","v":0},{"$f":" [1]NeutroMinutaRge!A232","v":0},null,null,195,null,null,null,null,null,null,null,null,null,null,null,null,null,null,null,{"$f":" [1]Folha4!A226","v":0}]
[null,null,null,null,null,null,null,null,null,null,null,null,null,null,null,{"$f":" [1]SecundariaMinutaRge!A233","v":0},{"$f":" [1]PrimariaMinutaRge!A233","v":0},{"$f":" [1]NeutroMinutaRge!A233","v":0},null,null,196,null,null,null,null,null,null,null,null,null,null,null,null,null,null,null,{"$f":" [1]Folha4!A227","v":0}]
[null,null,null,null,null,null,null,null,null,null,null,null,null,null,null,{"$f":" [1]SecundariaMinutaRge!A234","v":0},{"$f":" [1]PrimariaMinutaRge!A234","v":0},{"$f":" [1]NeutroMinutaRge!A234","v":0},null,null,197,null,null,null,null,null,null,null,null,null,null,null,null,null,null,null,{"$f":" [1]Folha4!A228","v":0}]
[null,null,null,null,null,null,null,null,null,null,null,null,null,null,null,{"$f":" [1]SecundariaMinutaRge!A235","v":0},{"$f":" [1]PrimariaMinutaRge!A235","v":0},{"$f":" [1]NeutroMinutaRge!A235","v":0},null,null,198,null,null,null,null,null,null,null,null,null,null,null,null,null,null,null,{"$f":" [1]Folha4!A229","v":0}]
[null,null,null,null,null,null,null,null,null,null,null,null,null,null,null,{"$f":" [1]SecundariaMinutaRge!A236","v":0},{"$f":" [1]PrimariaMinutaRge!A236","v":0},{"$f":" [1]NeutroMinutaRge!A236","v":0},null,null,199,null,null,null,null,null,null,null,null,null,null,null,null,null,null,null,{"$f":" [1]Folha4!A230","v":0}]
[null,null,null,null,null,null,null,null,null,null,null,null,null,null,null,{"$f":" [1]SecundariaMinutaRge!A237","v":0},{"$f":" [1]PrimariaMinutaRge!A237","v":0},{"$f":" [1]NeutroMinutaRge!A237","v":0},null,null,200,null,null,null,null,null,null,null,null,null,null,null,null,null,null,null,{"$f":" [1]Folha4!A231","v":0}]
[null,null,null,null,null,null,null,null,null,null,null,null,null,null,null,{"$f":" [1]SecundariaMinutaRge!A238","v":0},{"$f":" [1]PrimariaMinutaRge!A238","v":0},{"$f":" [1]NeutroMinutaRge!A238","v":0},null,null,201,null,null,null,null,null,null,null,null,null,null,null,null,null,null,null,{"$f":" [1]Folha4!A232","v":0}]
[null,null,null,null,null,null,null,null,null,null,null,null,null,null,null,{"$f":" [1]SecundariaMinutaRge!A239","v":0},{"$f":" [1]PrimariaMinutaRge!A239","v":0},{"$f":" [1]NeutroMinutaRge!A239","v":0},null,null,202,null,null,null,null,null,null,null,null,null,null,null,null,null,null,null,{"$f":" [1]Folha4!A233","v":0}]
[null,null,null,null,null,null,null,null,null,null,null,null,null,null,null,{"$f":" [1]SecundariaMinutaRge!A240","v":0},{"$f":" [1]PrimariaMinutaRge!A240","v":0},{"$f":" [1]NeutroMinutaRge!A240","v":0},null,null,203,null,null,null,null,null,null,null,null,null,null,null,null,null,null,null,{"$f":" [1]Folha4!A234","v":0}]
[null,null,null,null,null,null,null,null,null,null,null,null,null,null,null,{"$f":" [1]SecundariaMinutaRge!A241","v":0},{"$f":" [1]PrimariaMinutaRge!A241","v":0},{"$f":" [1]NeutroMinutaRge!A241","v":0},null,null,204,null,null,null,null,null,null,null,null,null,null,null,null,null,null,null,{"$f":" [1]Folha4!A235","v":0}]
[null,null,null,null,null,null,null,null,null,null,null,null,null,null,null,{"$f":" [1]SecundariaMinutaRge!A242","v":0},{"$f":" [1]PrimariaMinutaRge!A242","v":0},{"$f":" [1]NeutroMinutaRge!A242","v":0},null,null,205,null,null,null,null,null,null,null,null,null,null,null,null,null,null,null,{"$f":" [1]Folha4!A236","v":0}]
[null,null,null,null,null,null,null,null,null,null,null,null,null,null,null,{"$f":" [1]SecundariaMinutaRge!A243","v":0},{"$f":" [1]PrimariaMinutaRge!A243","v":0},{"$f":" [1]NeutroMinutaRge!A243","v":0},null,null,206,null,null,null,null,null,null,null,null,null,null,null,null,null,null,null,{"$f":" [1]Folha4!A237","v":0}]
[null,null,null,null,null,null,null,null,null,null,null,null,null,null,null,{"$f":" [1]SecundariaMinutaRge!A244","v":0},{"$f":" [1]PrimariaMinutaRge!A244","v":0},{"$f":" [1]NeutroMinutaRge!A244","v":0},null,null,207,null,null,null,null,null,null,null,null,null,null,null,null,null,null,null,{"$f":" [1]Folha4!A238","v":0}]
[null,null,null,null,null,null,null,null,null,null,null,null,null,null,null,{"$f":" [1]SecundariaMinutaRge!A245","v":0},{"$f":" [1]PrimariaMinutaRge!A245","v":0},{"$f":" [1]NeutroMinutaRge!A245","v":0},null,null,208,null,null,null,null,null,null,null,null,null,null,null,null,null,null,null,{"$f":" [1]Folha4!A239","v":0}]
[null,null,null,null,null,null,null,null,null,null,null,null,null,null,null,{"$f":" [1]SecundariaMinutaRge!A246","v":0},{"$f":" [1]PrimariaMinutaRge!A246","v":0},{"$f":" [1]NeutroMinutaRge!A246","v":0},null,null,209,null,null,null,null,null,null,null,null,null,null,null,null,null,null,null,{"$f":" [1]Folha4!A240","v":0}]
[null,null,null,null,null,null,null,null,null,null,null,null,null,null,null,{"$f":" [1]SecundariaMinutaRge!A247","v":0},{"$f":" [1]PrimariaMinutaRge!A247","v":0},{"$f":" [1]NeutroMinutaRge!A247","v":0},null,null,210,null,null,null,null,null,null,null,null,null,null,null,null,null,null,null,{"$f":" [1]Folha4!A241","v":0}]
[null,null,null,null,null,null,null,null,null,null,null,null,null,null,null,{"$f":" [1]SecundariaMinutaRge!A248","v":0},{"$f":" [1]PrimariaMinutaRge!A248","v":0},{"$f":" [1]NeutroMinutaRge!A248","v":0},null,null,211,null,null,null,null,null,null,null,null,null,null,null,null,null,null,null,{"$f":" [1]Folha4!A242","v":0}]
[null,null,null,null,null,null,null,null,null,null,null,null,null,null,null,{"$f":" [1]SecundariaMinutaRge!A249","v":0},{"$f":" [1]PrimariaMinutaRge!A249","v":0},{"$f":" [1]NeutroMinutaRge!A249","v":0},null,null,212,null,null,null,null,null,null,null,null,null,null,null,null,null,null,null,{"$f":" [1]Folha4!A243","v":0}]
[null,null,null,null,null,null,null,null,null,null,null,null,null,null,null,{"$f":" [1]SecundariaMinutaRge!A250","v":0},{"$f":" [1]PrimariaMinutaRge!A250","v":0},{"$f":" [1]NeutroMinutaRge!A250","v":0},null,null,213,null,null,null,null,null,null,null,null,null,null,null,null,null,null,null,{"$f":" [1]Folha4!A244","v":0}]
[null,null,null,null,null,null,null,null,null,null,null,null,null,null,null,{"$f":" [1]SecundariaMinutaRge!A251","v":0},{"$f":" [1]PrimariaMinutaRge!A251","v":0},{"$f":" [1]NeutroMinutaRge!A251","v":0},null,null,214,null,null,null,null,null,null,null,null,null,null,null,null,null,null,null,{"$f":" [1]Folha4!A245","v":0}]
[null,null,null,null,null,null,null,null,null,null,null,null,null,null,null,{"$f":" [1]SecundariaMinutaRge!A252","v":0},{"$f":" [1]PrimariaMinutaRge!A252","v":0},{"$f":" [1]NeutroMinutaRge!A252","v":0},null,null,215,null,null,null,null,null,null,null,null,null,null,null,null,null,null,null,{"$f":" [1]Folha4!A246","v":0}]
[null,null,null,null,null,null,null,null,null,null,null,null,null,null,null,{"$f":" [1]SecundariaMinutaRge!A253","v":0},{"$f":" [1]PrimariaMinutaRge!A253","v":0},{"$f":" [1]NeutroMinutaRge!A253","v":0},null,null,216,null,null,null,null,null,null,null,null,null,null,null,null,null,null,null,{"$f":" [1]Folha4!A247","v":0}]
[null,null,null,null,null,null,null,null,null,null,null,null,null,null,null,{"$f":" [1]SecundariaMinutaRge!A254","v":0},{"$f":" [1]PrimariaMinutaRge!A254","v":0},{"$f":" [1]NeutroMinutaRge!A254","v":0},null,null,217,null,null,null,null,null,null,null,null,null,null,null,null,null,null,null,{"$f":" [1]Folha4!A248","v":0}]
[null,null,null,null,null,null,null,null,null,null,null,null,null,null,null,{"$f":" [1]SecundariaMinutaRge!A255","v":0},{"$f":" [1]PrimariaMinutaRge!A255","v":0},{"$f":" [1]NeutroMinutaRge!A255","v":0},null,null,218,null,null,null,null,null,null,null,null,null,null,null,null,null,null,null,{"$f":" [1]Folha4!A249","v":0}]
[null,null,null,null,null,null,null,null,null,null,null,null,null,null,null,{"$f":" [1]SecundariaMinutaRge!A256","v":0},{"$f":" [1]PrimariaMinutaRge!A256","v":0},{"$f":" [1]NeutroMinutaRge!A256","v":0},null,null,219,null,null,null,null,null,null,null,null,null,null,null,null,null,null,null,{"$f":" [1]Folha4!A250","v":0}]
[null,null,null,null,null,null,null,null,null,null,null,null,null,null,null,{"$f":" [1]SecundariaMinutaRge!A257","v":0},{"$f":" [1]PrimariaMinutaRge!A257","v":0},{"$f":" [1]NeutroMinutaRge!A257","v":0},null,null,220,null,null,null,null,null,null,null,null,null,null,null,null,null,null,null,{"$f":" [1]Folha4!A251","v":0}]
[null,null,null,null,null,null,null,null,null,null,null,null,null,null,null,{"$f":" [1]SecundariaMinutaRge!A258","v":0},{"$f":" [1]PrimariaMinutaRge!A258","v":0},{"$f":" [1]NeutroMinutaRge!A258","v":0},null,null,221,null,null,null,null,null,null,null,null,null,null,null,null,null,null,null,{"$f":" [1]Folha4!A252","v":0}]
[null,null,null,null,null,null,null,null,null,null,null,null,null,null,null,{"$f":" [1]SecundariaMinutaRge!A259","v":0},{"$f":" [1]PrimariaMinutaRge!A259","v":0},{"$f":" [1]NeutroMinutaRge!A259","v":0},null,null,222,null,null,null,null,null,null,null,null,null,null,null,null,null,null,null,{"$f":" [1]Folha4!A253","v":0}]
[null,null,null,null,null,null,null,null,null,null,null,null,null,null,null,{"$f":" [1]SecundariaMinutaRge!A260","v":0},{"$f":" [1]PrimariaMinutaRge!A260","v":0},{"$f":" [1]NeutroMinutaRge!A260","v":0},null,null,223,null,null,null,null,null,null,null,null,null,null,null,null,null,null,null,{"$f":" [1]Folha4!A254","v":0}]
[null,null,null,null,null,null,null,null,null,null,null,null,null,null,null,{"$f":" [1]SecundariaMinutaRge!A261","v":0},{"$f":" [1]PrimariaMinutaRge!A261","v":0},{"$f":" [1]NeutroMinutaRge!A261","v":0},null,null,224,null,null,null,null,null,null,null,null,null,null,null,null,null,null,null,{"$f":" [1]Folha4!A255","v":0}]
[null,null,null,null,null,null,null,null,null,null,null,null,null,null,null,{"$f":" [1]SecundariaMinutaRge!A262","v":0},{"$f":" [1]PrimariaMinutaRge!A262","v":0},{"$f":" [1]NeutroMinutaRge!A262","v":0},null,null,225,null,null,null,null,null,null,null,null,null,null,null,null,null,null,null,{"$f":" [1]Folha4!A256","v":0}]
[null,null,null,null,null,null,null,null,null,null,null,null,null,null,null,{"$f":" [1]SecundariaMinutaRge!A263","v":0},{"$f":" [1]PrimariaMinutaRge!A263","v":0},{"$f":" [1]NeutroMinutaRge!A263","v":0},null,null,226,null,null,null,null,null,null,null,null,null,null,null,null,null,null,null,{"$f":" [1]Folha4!A257","v":0}]
[null,null,null,null,null,null,null,null,null,null,null,null,null,null,null,{"$f":" [1]SecundariaMinutaRge!A264","v":0},{"$f":" [1]PrimariaMinutaRge!A264","v":0},{"$f":" [1]NeutroMinutaRge!A264","v":0},null,null,227,null,null,null,null,null,null,null,null,null,null,null,null,null,null,null,{"$f":" [1]Folha4!A258","v":0}]
[null,null,null,null,null,null,null,null,null,null,null,null,null,null,null,{"$f":" [1]SecundariaMinutaRge!A265","v":0},{"$f":" [1]PrimariaMinutaRge!A265","v":0},{"$f":" [1]NeutroMinutaRge!A265","v":0},null,null,228,null,null,null,null,null,null,null,null,null,null,null,null,null,null,null,{"$f":" [1]Folha4!A259","v":0}]
[null,null,null,null,null,null,null,null,null,null,null,null,null,null,null,{"$f":" [1]SecundariaMinutaRge!A266","v":0},{"$f":" [1]PrimariaMinutaRge!A266","v":0},{"$f":" [1]NeutroMinutaRge!A266","v":0},null,null,229,null,null,null,null,null,null,null,null,null,null,null,null,null,null,null,{"$f":" [1]Folha4!A260","v":0}]
[null,null,null,null,null,null,null,null,null,null,null,null,null,null,null,{"$f":" [1]SecundariaMinutaRge!A267","v":0},{"$f":" [1]PrimariaMinutaRge!A267","v":0},{"$f":" [1]NeutroMinutaRge!A267","v":0},null,null,230,null,null,null,null,null,null,null,null,null,null,null,null,null,null,null,{"$f":" [1]Folha4!A261","v":0}]
[null,null,null,null,null,null,null,null,null,null,null,null,null,null,null,{"$f":" [1]SecundariaMinutaRge!A268","v":0},{"$f":" [1]PrimariaMinutaRge!A268","v":0},{"$f":" [1]NeutroMinutaRge!A268","v":0},null,null,231,null,null,null,null,null,null,null,null,null,null,null,null,null,null,null,{"$f":" [1]Folha4!A262","v":0}]
[null,null,null,null,null,null,null,null,null,null,null,null,null,null,null,{"$f":" [1]SecundariaMinutaRge!A269","v":0},{"$f":" [1]PrimariaMinutaRge!A269","v":0},{"$f":" [1]NeutroMinutaRge!A269","v":0},null,null,232,null,null,null,null,null,null,null,null,null,null,null,null,null,null,null,{"$f":" [1]Folha4!A263","v":0}]
[null,null,null,null,null,null,null,null,null,null,null,null,null,null,null,{"$f":" [1]SecundariaMinutaRge!A270","v":0},{"$f":" [1]PrimariaMinutaRge!A270","v":0},{"$f":" [1]NeutroMinutaRge!A270","v":0},null,null,233,null,null,null,null,null,null,null,null,null,null,null,null,null,null,null,{"$f":" [1]Folha4!A264","v":0}]
[null,null,null,null,null,null,null,null,null,null,null,null,null,null,null,{"$f":" [1]SecundariaMinutaRge!A271","v":0},{"$f":" [1]PrimariaMinutaRge!A271","v":0},{"$f":" [1]NeutroMinutaRge!A271","v":0},null,null,234,null,null,null,null,null,null,null,null,null,null,null,null,null,null,null,{"$f":" [1]Folha4!A265","v":0}]
[null,null,null,null,null,null,null,null,null,null,null,null,null,null,null,{"$f":" [1]SecundariaMinutaRge!A272","v":0},{"$f":" [1]PrimariaMinutaRge!A272","v":0},{"$f":" [1]NeutroMinutaRge!A272","v":0},null,null,235,null,null,null,null,null,null,null,null,null,null,null,null,null,null,null,{"$f":" [1]Folha4!A266","v":0}]
[null,null,null,null,null,null,null,null,null,null,null,null,null,null,null,{"$f":" [1]SecundariaMinutaRge!A273","v":0},{"$f":" [1]PrimariaMinutaRge!A273","v":0},{"$f":" [1]NeutroMinutaRge!A273","v":0},null,null,236,null,null,null,null,null,null,null,null,null,null,null,null,null,null,null,{"$f":" [1]Folha4!A267","v":0}]
[null,null,null,null,null,null,null,null,null,null,null,null,null,null,null,{"$f":" [1]SecundariaMinutaRge!A274","v":0},{"$f":" [1]PrimariaMinutaRge!A274","v":0},{"$f":" [1]NeutroMinutaRge!A274","v":0},null,null,237,null,null,null,null,null,null,null,null,null,null,null,null,null,null,null,{"$f":" [1]Folha4!A268","v":0}]
[null,null,null,null,null,null,null,null,null,null,null,null,null,null,null,{"$f":" [1]SecundariaMinutaRge!A275","v":0},{"$f":" [1]PrimariaMinutaRge!A275","v":0},{"$f":" [1]NeutroMinutaRge!A275","v":0},null,null,238,null,null,null,null,null,null,null,null,null,null,null,null,null,null,null,{"$f":" [1]Folha4!A269","v":0}]
[null,null,null,null,null,null,null,null,null,null,null,null,null,null,null,{"$f":" [1]SecundariaMinutaRge!A276","v":0},{"$f":" [1]PrimariaMinutaRge!A276","v":0},{"$f":" [1]NeutroMinutaRge!A276","v":0},null,null,239,null,null,null,null,null,null,null,null,null,null,null,null,null,null,null,{"$f":" [1]Folha4!A270","v":0}]
[null,null,null,null,null,null,null,null,null,null,null,null,null,null,null,{"$f":" [1]SecundariaMinutaRge!A277","v":0},{"$f":" [1]PrimariaMinutaRge!A277","v":0},{"$f":" [1]NeutroMinutaRge!A277","v":0},null,null,240,null,null,null,null,null,null,null,null,null,null,null,null,null,null,null,{"$f":" [1]Folha4!A271","v":0}]
[null,null,null,null,null,null,null,null,null,null,null,null,null,null,null,{"$f":" [1]SecundariaMinutaRge!A278","v":0},{"$f":" [1]PrimariaMinutaRge!A278","v":0},{"$f":" [1]NeutroMinutaRge!A278","v":0},null,null,241,null,null,null,null,null,null,null,null,null,null,null,null,null,null,null,{"$f":" [1]Folha4!A272","v":0}]
[null,null,null,null,null,null,null,null,null,null,null,null,null,null,null,{"$f":" [1]SecundariaMinutaRge!A279","v":0},{"$f":" [1]PrimariaMinutaRge!A279","v":0},{"$f":" [1]NeutroMinutaRge!A279","v":0},null,null,242,null,null,null,null,null,null,null,null,null,null,null,null,null,null,null,{"$f":" [1]Folha4!A273","v":0}]
[null,null,null,null,null,null,null,null,null,null,null,null,null,null,null,{"$f":" [1]SecundariaMinutaRge!A280","v":0},{"$f":" [1]PrimariaMinutaRge!A280","v":0},{"$f":" [1]NeutroMinutaRge!A280","v":0},null,null,243,null,null,null,null,null,null,null,null,null,null,null,null,null,null,null,{"$f":" [1]Folha4!A274","v":0}]
[null,null,null,null,null,null,null,null,null,null,null,null,null,null,null,{"$f":" [1]SecundariaMinutaRge!A281","v":0},{"$f":" [1]PrimariaMinutaRge!A281","v":0},{"$f":" [1]NeutroMinutaRge!A281","v":0},null,null,244,null,null,null,null,null,null,null,null,null,null,null,null,null,null,null,{"$f":" [1]Folha4!A275","v":0}]
[null,null,null,null,null,null,null,null,null,null,null,null,null,null,null,{"$f":" [1]SecundariaMinutaRge!A282","v":0},{"$f":" [1]PrimariaMinutaRge!A282","v":0},{"$f":" [1]NeutroMinutaRge!A282","v":0},null,null,245,null,null,null,null,null,null,null,null,null,null,null,null,null,null,null,{"$f":" [1]Folha4!A276","v":0}]
[null,null,null,null,null,null,null,null,null,null,null,null,null,null,null,{"$f":" [1]SecundariaMinutaRge!A283","v":0},{"$f":" [1]PrimariaMinutaRge!A283","v":0},{"$f":" [1]NeutroMinutaRge!A283","v":0},null,null,246,null,null,null,null,null,null,null,null,null,null,null,null,null,null,null,{"$f":" [1]Folha4!A277","v":0}]
[null,null,null,null,null,null,null,null,null,null,null,null,null,null,null,{"$f":" [1]SecundariaMinutaRge!A284","v":0},{"$f":" [1]PrimariaMinutaRge!A284","v":0},{"$f":" [1]NeutroMinutaRge!A284","v":0},null,null,247,null,null,null,null,null,null,null,null,null,null,null,null,null,null,null,{"$f":" [1]Folha4!A278","v":0}]
[null,null,null,null,null,null,null,null,null,null,null,null,null,null,null,{"$f":" [1]SecundariaMinutaRge!A285","v":0},{"$f":" [1]PrimariaMinutaRge!A285","v":0},{"$f":" [1]NeutroMinutaRge!A285","v":0},null,null,248,null,null,null,null,null,null,null,null,null,null,null,null,null,null,null,{"$f":" [1]Folha4!A279","v":0}]
[null,null,null,null,null,null,null,null,null,null,null,null,null,null,null,{"$f":" [1]SecundariaMinutaRge!A286","v":0},{"$f":" [1]PrimariaMinutaRge!A286","v":0},{"$f":" [1]NeutroMinutaRge!A286","v":0},null,null,249,null,null,null,null,null,null,null,null,null,null,null,null,null,null,null,{"$f":" [1]Folha4!A280","v":0}]
[null,null,null,null,null,null,null,null,null,null,null,null,null,null,null,{"$f":" [1]SecundariaMinutaRge!A287","v":0},{"$f":" [1]PrimariaMinutaRge!A287","v":0},{"$f":" [1]NeutroMinutaRge!A287","v":0},null,null,250,null,null,null,null,null,null,null,null,null,null,null,null,null,null,null,{"$f":" [1]Folha4!A281","v":0}]
[null,null,null,null,null,null,null,null,null,null,null,null,null,null,null,{"$f":" [1]SecundariaMinutaRge!A288","v":0},{"$f":" [1]PrimariaMinutaRge!A288","v":0},{"$f":" [1]NeutroMinutaRge!A288","v":0},null,null,251,null,null,null,null,null,null,null,null,null,null,null,null,null,null,null,{"$f":" [1]Folha4!A282","v":0}]
[null,null,null,null,null,null,null,null,null,null,null,null,null,null,null,{"$f":" [1]SecundariaMinutaRge!A289","v":0},{"$f":" [1]PrimariaMinutaRge!A289","v":0},{"$f":" [1]NeutroMinutaRge!A289","v":0},null,null,252,null,null,null,null,null,null,null,null,null,null,null,null,null,null,null,{"$f":" [1]Folha4!A283","v":0}]
[null,null,null,null,null,null,null,null,null,null,null,null,null,null,null,{"$f":" [1]SecundariaMinutaRge!A290","v":0},{"$f":" [1]PrimariaMinutaRge!A290","v":0},{"$f":" [1]NeutroMinutaRge!A290","v":0},null,null,253,null,null,null,null,null,null,null,null,null,null,null,null,null,null,null,{"$f":" [1]Folha4!A284","v":0}]
[null,null,null,null,null,null,null,null,null,null,null,null,null,null,null,{"$f":" [1]SecundariaMinutaRge!A291","v":0},{"$f":" [1]PrimariaMinutaRge!A291","v":0},{"$f":" [1]NeutroMinutaRge!A291","v":0},null,null,254,null,null,null,null,null,null,null,null,null,null,null,null,null,null,null,{"$f":" [1]Folha4!A285","v":0}]
[null,null,null,null,null,null,null,null,null,null,null,null,null,null,null,{"$f":" [1]SecundariaMinutaRge!A292","v":0},{"$f":" [1]PrimariaMinutaRge!A292","v":0},{"$f":" [1]NeutroMinutaRge!A292","v":0},null,null,255,null,null,null,null,null,null,null,null,null,null,null,null,null,null,null,{"$f":" [1]Folha4!A286","v":0}]
[null,null,null,null,null,null,null,null,null,null,null,null,null,null,null,{"$f":" [1]SecundariaMinutaRge!A293","v":0},{"$f":" [1]PrimariaMinutaRge!A293","v":0},{"$f":" [1]NeutroMinutaRge!A293","v":0},null,null,256,null,null,null,null,null,null,null,null,null,null,null,null,null,null,null,{"$f":" [1]Folha4!A287","v":0}]
[null,null,null,null,null,null,null,null,null,null,null,null,null,null,null,{"$f":" [1]SecundariaMinutaRge!A294","v":0},{"$f":" [1]PrimariaMinutaRge!A294","v":0},{"$f":" [1]NeutroMinutaRge!A294","v":0},null,null,257,null,null,null,null,null,null,null,null,null,null,null,null,null,null,null,{"$f":" [1]Folha4!A288","v":0}]
[null,null,null,null,null,null,null,null,null,null,null,null,null,null,null,{"$f":" [1]SecundariaMinutaRge!A295","v":0},{"$f":" [1]PrimariaMinutaRge!A295","v":0},{"$f":" [1]NeutroMinutaRge!A295","v":0},null,null,258,null,null,null,null,null,null,null,null,null,null,null,null,null,null,null,{"$f":" [1]Folha4!A289","v":0}]
[null,null,null,null,null,null,null,null,null,null,null,null,null,null,null,{"$f":" [1]SecundariaMinutaRge!A296","v":0},{"$f":" [1]PrimariaMinutaRge!A296","v":0},{"$f":" [1]NeutroMinutaRge!A296","v":0},null,null,259,null,null,null,null,null,null,null,null,null,null,null,null,null,null,null,{"$f":" [1]Folha4!A290","v":0}]
[null,null,null,null,null,null,null,null,null,null,null,null,null,null,null,{"$f":" [1]SecundariaMinutaRge!A297","v":0},{"$f":" [1]PrimariaMinutaRge!A297","v":0},{"$f":" [1]NeutroMinutaRge!A297","v":0},null,null,260,null,null,null,null,null,null,null,null,null,null,null,null,null,null,null,{"$f":" [1]Folha4!A291","v":0}]
[null,null,null,null,null,null,null,null,null,null,null,null,null,null,null,{"$f":" [1]SecundariaMinutaRge!A298","v":0},{"$f":" [1]PrimariaMinutaRge!A298","v":0},{"$f":" [1]NeutroMinutaRge!A298","v":0},null,null,261,null,null,null,null,null,null,null,null,null,null,null,null,null,null,null,{"$f":" [1]Folha4!A292","v":0}]
[null,null,null,null,null,null,null,null,null,null,null,null,null,null,null,{"$f":" [1]SecundariaMinutaRge!A299","v":0},{"$f":" [1]PrimariaMinutaRge!A299","v":0},{"$f":" [1]NeutroMinutaRge!A299","v":0},null,null,262,null,null,null,null,null,null,null,null,null,null,null,null,null,null,null,{"$f":" [1]Folha4!A293","v":0}]
[null,null,null,null,null,null,null,null,null,null,null,null,null,null,null,{"$f":" [1]SecundariaMinutaRge!A300","v":0},{"$f":" [1]PrimariaMinutaRge!A300","v":0},{"$f":" [1]NeutroMinutaRge!A300","v":0},null,null,263,null,null,null,null,null,null,null,null,null,null,null,null,null,null,null,{"$f":" [1]Folha4!A294","v":0}]
[null,null,null,null,null,null,null,null,null,null,null,null,null,null,null,{"$f":" [1]SecundariaMinutaRge!A301","v":0},{"$f":" [1]PrimariaMinutaRge!A301","v":0},{"$f":" [1]NeutroMinutaRge!A301","v":0},null,null,264,null,null,null,null,null,null,null,null,null,null,null,null,null,null,null,{"$f":" [1]Folha4!A295","v":0}]
[null,null,null,null,null,null,null,null,null,null,null,null,null,null,null,{"$f":" [1]SecundariaMinutaRge!A302","v":0},{"$f":" [1]PrimariaMinutaRge!A302","v":0},{"$f":" [1]NeutroMinutaRge!A302","v":0},null,null,265]
[null,null,null,null,null,null,null,null,null,null,null,null,null,null,null,null,null,null,null,null,266]
[null,null,null,null,null,null,null,null,null,null,null,null,null,null,null,null,null,null,null,null,267]
[null,null,null,null,null,null,null,null,null,null,null,null,null,null,null,null,null,null,null,null,268]
[null,null,null,null,null,null,null,null,null,null,null,null,null,null,null,null,null,null,null,null,269]
[null,null,null,null,null,null,null,null,null,null,null,null,null,null,null,null,null,null,null,null,270]
[null,null,null,null,null,null,null,null,null,null,null,null,null,null,null,null,null,null,null,null,271]
[null,null,null,null,null,null,null,null,null,null,null,null,null,null,null,null,null,null,null,null,272]
[null,null,null,null,null,null,null,null,null,null,null,null,null,null,null,null,null,null,null,null,273]
[null,null,null,null,null,null,null,null,null,null,null,null,null,null,null,null,null,null,null,null,274]
[null,null,null,null,null,null,null,null,null,null,null,null,null,null,null,null,null,null,null,null,275]
[null,null,null,null,null,null,null,null,null,null,null,null,null,null,null,null,null,null,null,null,276]
[null,null,null,null,null,null,null,null,null,null,null,null,null,null,null,null,null,null,null,null,277]
[null,null,null,null,null,null,null,null,null,null,null,null,null,null,null,null,null,null,null,null,278]
[null,null,null,null,null,null,null,null,null,null,null,null,null,null,null,null,null,null,null,null,279]
[null,null,null,null,null,null,null,null,null,null,null,null,null,null,null,null,null,null,null,null,280]
[null,null,null,null,null,null,null,null,null,null,null,null,null,null,null,null,null,null,null,null,281]
[null,null,null,null,null,null,null,null,null,null,null,null,null,null,null,null,null,null,null,null,282]
[null,null,null,null,null,null,null,null,null,null,null,null,null,null,null,null,null,null,null,null,283]
[null,null,null,null,null,null,null,null,null,null,null,null,null,null,null,null,null,null,null,null,284]
[null,null,null,null,null,null,null,null,null,null,null,null,null,null,null,null,null,null,null,null,285]
[null,null,null,null,null,null,null,null,null,null,null,null,null,null,null,null,null,null,null,null,286]
[null,null,null,null,null,null,null,null,null,null,null,null,null,null,null,null,null,null,null,null,287]
[null,null,null,null,null,null,null,null,null,null,null,null,null,null,null,null,null,null,null,null,288]
[null,null,null,null,null,null,null,null,null,null,null,null,null,null,null,null,null,null,null,null,289]
[null,null,null,null,null,null,null,null,null,null,null,null,null,null,null,null,null,null,null,null,290]
[null,null,null,null,null,null,null,null,null,null,null,null,null,null,null,null,null,null,null,null,291]
[null,null,null,null,null,null,null,null,null,null,null,null,null,null,null,null,null,null,null,null,292]
[null,null,null,null,null,null,null,null,null,null,null,null,null,null,null,null,null,null,null,null,293]
[null,null,null,null,null,null,null,null,null,null,null,null,null,null,null,null,null,null,null,null,294]
[null,null,null,null,null,null,null,null,null,null,null,null,null,null,null,null,null,null,null,null,295]
[null,null,null,null,null,null,null,null,null,null,null,null,null,null,null,null,null,null,null,null,296]
[null,null,null,null,null,null,null,null,null,null,null,null,null,null,null,null,null,null,null,null,297]
[null,null,null,null,null,null,null,null,null,null,null,null,null,null,null,null,null,null,null,null,298]
[null,null,null,null,null,null,null,null,null,null,null,null,null,null,null,null,null,null,null,null,299]
[null,null,null,null,null,null,null,null,null,null,null,null,null,null,null,null,null,null,null,null,300]
[null,null,null,null,null,null,null,null,null,null,null,null,null,null,null,null,null,null,null,null,301]
[null,null,null,null,null,null,null,null,null,null,null,null,null,null,null,null,null,null,null,null,302]
[null,null,null,null,null,null,null,null,null,null,null,null,null,null,null,null,null,null,null,null,303]
[null,null,null,null,null,null,null,null,null,null,null,null,null,null,null,null,null,null,null,null,304]
[null,null,null,null,null,null,null,null,null,null,null,null,null,null,null,null,null,null,null,null,305]
[null,null,null,null,null,null,null,null,null,null,null,null,null,null,null,null,null,null,null,null,306]
[null,null,null,null,null,null,null,null,null,null,null,null,null,null,null,null,null,null,null,null,307]
[null,null,null,null,null,null,null,null,null,null,null,null,null,null,null,null,null,null,null,null,308]
[null,null,null,null,null,null,null,null,null,null,null,null,null,null,null,null,null,null,null,null,309]
[null,null,null,null,null,null,null,null,null,null,null,null,null,null,null,null,null,null,null,null,310]
[null,null,null,null,null,null,null,null,null,null,null,null,null,null,null,null,null,null,null,null,311]
[null,null,null,null,null,null,null,null,null,null,null,null,null,null,null,null,null,null,null,null,312]
[null,null,null,null,null,null,null,null,null,null,null,null,null,null,null,null,null,null,null,null,313]
[null,null,null,null,null,null,null,null,null,null,null,null,null,null,null,null,null,null,null,null,314]
[null,null,null,null,null,null,null,null,null,null,null,null,null,null,null,null,null,null,null,null,315]
[null,null,null,null,null,null,null,null,null,null,null,null,null,null,null,null,null,null,null,null,316]
[null,null,null,null,null,null,null,null,null,null,null,null,null,null,null,null,null,null,null,null,317]
[null,null,null,null,null,null,null,null,null,null,null,null,null,null,null,null,null,null,null,null,318]
[null,null,null,null,null,null,null,null,null,null,null,null,null,null,null,null,null,null,null,null,319]
[null,null,null,null,null,null,null,null,null,null,null,null,null,null,null,null,null,null,null,null,320]
[null,null,null,null,null,null,null,null,null,null,null,null,null,null,null,null,null,null,null,null,321]
[null,null,null,null,null,null,null,null,null,null,null,null,null,null,null,null,null,null,null,null,322]
[null,null,null,null,null,null,null,null,null,null,null,null,null,null,null,null,null,null,null,null,323]
[null,null,null,null,null,null,null,null,null,null,null,null,null,null,null,null,null,null,null,null,324]
[null,null,null,null,null,null,null,null,null,null,null,null,null,null,null,null,null,null,null,null,325]
[null,null,null,null,null,null,null,null,null,null,null,null,null,null,null,null,null,null,null,null,326]
[null,null,null,null,null,null,null,null,null,null,null,null,null,null,null,null,null,null,null,null,327]
[null,null,null,null,null,null,null,null,null,null,null,null,null,null,null,null,null,null,null,null,328]
[null,null,null,null,null,null,null,null,null,null,null,null,null,null,null,null,null,null,null,null,329]
[null,null,null,null,null,null,null,null,null,null,null,null,null,null,null,null,null,null,null,null,330]
[null,null,null,null,null,null,null,null,null,null,null,null,null,null,null,null,null,null,null,null,331]
[null,null,null,null,null,null,null,null,null,null,null,null,null,null,null,null,null,null,null,null,332]
[null,null,null,null,null,null,null,null,null,null,null,null,null,null,null,null,null,null,null,null,333]
[null,null,null,null,null,null,null,null,null,null,null,null,null,null,null,null,null,null,null,null,334]
[null,null,null,null,null,null,null,null,null,null,null,null,null,null,null,null,null,null,null,null,335]
[null,null,null,null,null,null,null,null,null,null,null,null,null,null,null,null,null,null,null,null,336]
[null,null,null,null,null,null,null,null,null,null,null,null,null,null,null,null,null,null,null,null,337]
[null,null,null,null,null,null,null,null,null,null,null,null,null,null,null,null,null,null,null,null,338]
[null,null,null,null,null,null,null,null,null,null,null,null,null,null,null,null,null,null,null,null,339]
[null,null,null,null,null,null,null,null,null,null,null,null,null,null,null,null,null,null,null,null,340]
[null,null,null,null,null,null,null,null,null,null,null,null,null,null,null,null,null,null,null,null,341]
[null,null,null,null,null,null,null,null,null,null,null,null,null,null,null,null,null,null,null,null,342]
[null,null,null,null,null,null,null,null,null,null,null,null,null,null,null,null,null,null,null,null,343]
[null,null,null,null,null,null,null,null,null,null,null,null,null,null,null,null,null,null,null,null,344]
[null,null,null,null,null,null,null,null,null,null,null,null,null,null,null,null,null,null,null,null,345]
[null,null,null,null,null,null,null,null,null,null,null,null,null,null,null,null,null,null,null,null,346]
[null,null,null,null,null,null,null,null,null,null,null,null,null,null,null,null,null,null,null,null,347]
[null,null,null,null,null,null,null,null,null,null,null,null,null,null,null,null,null,null,null,null,348]
[null,null,null,null,null,null,null,null,null,null,null,null,null,null,null,null,null,null,null,null,349]
[null,null,null,null,null,null,null,null,null,null,null,null,null,null,null,null,null,null,null,null,350]
[null,null,null,null,null,null,null,null,null,null,null,null,null,null,null,null,null,null,null,null,351]
[null,null,null,null,null,null,null,null,null,null,null,null,null,null,null,null,null,null,null,null,352]
[null,null,null,null,null,null,null,null,null,null,null,null,null,null,null,null,null,null,null,null,353]
[null,null,null,null,null,null,null,null,null,null,null,null,null,null,null,null,null,null,null,null,354]
[null,null,null,null,null,null,null,null,null,null,null,null,null,null,null,null,null,null,null,null,355]
[null,null,null,null,null,null,null,null,null,null,null,null,null,null,null,null,null,null,null,null,356]
[null,null,null,null,null,null,null,null,null,null,null,null,null,null,null,null,null,null,null,null,357]
[null,null,null,null,null,null,null,null,null,null,null,null,null,null,null,null,null,null,null,null,358]
[null,null,null,null,null,null,null,null,null,null,null,null,null,null,null,null,null,null,null,null,359]
[null,null,null,null,null,null,null,null,null,null,null,null,null,null,null,null,null,null,null,null,360]

{"sheet":"Simplif_Esforço_CPFL_RGE","index":15,"n_rows":398,"n_cols":37,"rows_kept":398,"cut":false,"hidden":false,"merged":[[57,3,57,7],[58,3,58,7],[54,9,54,11],[55,3,55,7],[55,9,55,11],[56,3,56,7],[53,3,53,7],[54,3,54,7],[50,3,50,7],[51,3,51,7],[52,3,52,7],[2,9,2,11],[42,3,42,7],[33,3,33,7],[34,3,34,7],[35,3,35,7],[2,3,2,5],[36,3,36,7],[28,3,28,5],[29,3,29,5],[30,3,30,5],[49,9,49,13],[40,3,40,7],[41,3,41,7],[37,3,37,7],[43,3,43,7],[44,3,44,7],[46,3,46,7],[49,3,49,7],[9,21,12,21],[18,3,18,5],[18,7,18,9],[27,3,27,5],[21,7,21,9],[23,7,23,11]]}
[null,null,null,null,null,null,null,null,null,null,null,null,null,null,null,"Secundária","PrimariaMinutaRge","NeutroMinutaRge",null,"Altura Poste"]
[null,null,11,null,null,null,null,null,null,null,null,null,null,null,null,{"$f":" [1]SecundariaMinutaRge!A1","v":""},{"$f":" [1]PrimariaMinutaRge!A1","v":0},{"$f":" [1]NeutroMinutaRge!A1","v":0},null,7]
[null,null,"ALTURA POSTE",11,null,null,null,null,null,"http://www.mabjo.com.br/",null,null,null,null,null,{"$f":" [1]SecundariaMinutaRge!A2","v":"3 P 16 mm² Vão 35m RGE"},{"$f":" [1]PrimariaMinutaRge!A2","v":"3 E 70 mm² Vão 35m RGE"},{"$f":" [1]NeutroMinutaRge!A2","v":"1 CA 02 AWG Vão 35m RGE"},null,8,"ÂNGULO"]
[null,null,"ESFORÇO",1,null,2,null,3,null,4,null,5,null,null,null,{"$f":" [1]SecundariaMinutaRge!A3","v":"3 P 25 mm² Vão 35m RGE"},{"$f":" [1]PrimariaMinutaRge!A3","v":"3 E 185 mm² Vão 35m RGE"},{"$f":" [1]NeutroMinutaRge!A3","v":"1 CA 1/0 AWG Vão 35m RGE"},null,9]
[null,null,0,null,90,null,230,null,null,null,null,null,null,null,null,{"$f":" [1]SecundariaMinutaRge!A4","v":"3 P 35 mm² Vão 35m RGE"},{"$f":" [1]PrimariaMinutaRge!A4","v":0},{"$f":" [1]NeutroMinutaRge!A4","v":"1 CA 2/0 AWG Vão 35m RGE"},null,10]
[null,null,"ÂNGULO",0,null,110,null,320,null,230,null,190,null,null,null,{"$f":" [1]SecundariaMinutaRge!A5","v":"3 P 50 mm² Vão 35m RGE"},{"$f":" [1]PrimariaMinutaRge!A5","v":"3 E 70 mm² Vão 80m RGE"},{"$f":" [1]NeutroMinutaRge!A5","v":"1 CA 4/0 AWG Vão 35m RGE"},null,11,null,null,null,null,{"$f":"D6+180","v":180},null,{"$f":"F6+180","v":290},null,{"$f":"H6+180","v":500},null,{"$f":"J6+180","v":410},null,{"$f":"L6+180","v":370},null,null,null,{"$f":" [1]Folha4!A2","v":"A02"}]
[null,null,"PRIMÁRIA","3 E 70 mm² Vão 35m RGE",null,null,null,"3 E 185 mm² Vão 35m RGE",null,null,null,null,null,null,null,{"$f":" [1]SecundariaMinutaRge!A6","v":"3 P 70 mm² Vão 35m RGE"},{"$f":" [1]PrimariaMinutaRge!A6","v":"3 E 185 mm² Vão 80m RGE"},{"$f":" [1]NeutroMinutaRge!A6","v":"1 CA 336,4 MCM Vão 35m RGE"},null,12,null,null,null,null,null,null,null,null,null,null,null,null,null,null,null,null,{"$f":" [1]Folha4!A3","v":"A10"}]
[null,null,"NEUTRO PRIM.",null,null,null,null,null,null,null,null,null,null,null,null,{"$f":" [1]SecundariaMinutaRge!A7","v":"3 P 120 mm² Vão 35m RGE"},{"$f":" [1]PrimariaMinutaRge!A7","v":0},{"$f":" [1]NeutroMinutaRge!A7","v":"1 CA 477 MCM Vão 35m RGE"},null,13,null,null,null,null,null,null,null,null,null,null,null,null,null,null,null,null,{"$f":" [1]Folha4!A4","v":"A20"}]
[null,null,"RED. TENSÃO ",0,null,0,null,0,null,0,null,0,null,null,null,{"$f":" [1]SecundariaMinutaRge!A8","v":0},{"$f":" [1]PrimariaMinutaRge!A8","v":"3 CA 02 AWG Vão 35m RGE"},{"$f":" [1]NeutroMinutaRge!A8","v":0},null,14,null,null,null,null,null,null,null,null,null,null,null,null,null,null,null,null,{"$f":" [1]Folha4!A5","v":"A40"}]
[null,null,"DISTÂNCIA PRIMÁRIA TOPO CM",0,null,0,null,0,null,0,null,0,null,null,null,{"$f":" [1]SecundariaMinutaRge!A9","v":"3 CA 02 AWG Vão 35m RGE"},{"$f":" [1]PrimariaMinutaRge!A9","v":"3 CA 1/0 AWG Vão 35m RGE"},{"$f":" [1]NeutroMinutaRge!A9","v":"1 CA 02 AWG Vão 80m RGE"},null,15,null,null,null,null,null,null,null,null,null,null,null,null,null,null,null,null,{"$f":" [1]Folha4!A6","v":"A33"}]
[null,null,"SEC. FASE","3 P 50 mm² Vão 35m RGE",null,"3 P 70 mm² Vão 35m RGE",null,null,null,null,null,"3 P 50 mm² Vão 35m RGE",null,null,null,{"$f":" [1]SecundariaMinutaRge!A10","v":"3 CA 1/0 AWG Vão 35m RGE"},{"$f":" [1]PrimariaMinutaRge!A10","v":"3 CA 2/0 AWG Vão 35m RGE"},{"$f":" [1]NeutroMinutaRge!A10","v":"1 CA 1/0 AWG Vão 80m RGE"},null,16,null,null,null,{"$f":"IF(X12>180,X12-180,X12+180)","v":341.02827717036848},null,null,null,null,null,null,null,null,null,null,null,null,{"$f":" [1]Folha4!A7","v":"A47"}]
[null,null,"SEC. NEUTRO","1 CA 02 AWG Vão 35m RGE",null,"1 CA 1/0 AWG Vão 35m RGE",null,null,null,null,null,"1 CA 1/0 AWG Vão 35m RGE",null,null,null,{"$f":" [1]SecundariaMinutaRge!A11","v":"3 CA 2/0 AWG Vão 35m RGE"},{"$f":" [1]PrimariaMinutaRge!A11","v":"3 CA 4/0 AWG Vão 35m RGE"},{"$f":" [1]NeutroMinutaRge!A11","v":"1 CA 2/0 AWG Vão 80m RGE"},null,17,null,null,null,{"$f":"IF(Simpli_PreAngulo_Rge!A3>0,Simpli_PreAngulo_Rge!C10,Simpli_PreAngulo_Rge!D10)","v":161.02827717036851},null,null,null,null,null,null,null,null,null,null,null,null,{"$f":" [1]Folha4!A8","v":"CU06"}]
[null,null,"RED. TENSÃO ",0,null,0,null,0,null,0,null,0,null,null,null,{"$f":" [1]SecundariaMinutaRge!A12","v":"3 CA 4/0 AWG Vão 35m RGE"},{"$f":" [1]PrimariaMinutaRge!A12","v":"3 CA 336,4 MCM Vão 35m RGE"},{"$f":" [1]NeutroMinutaRge!A12","v":"1 CA 4/0 AWG Vão 80m RGE"},null,18,null,null,null,null,null,null,null,null,null,null,null,null,null,null,null,null,{"$f":" [1]Folha4!A9","v":"CU02"}]
[null,null,"DISTÂNCIA SECUNDÁRIA SOLO CM",720,null,720,null,720,null,720,null,720,null,null,null,{"$f":" [1]SecundariaMinutaRge!A13","v":"3 CA 336,4 MCM Vão 35m RGE"},{"$f":" [1]PrimariaMinutaRge!A13","v":"3 CA 477 MCM Vão 35m RGE"},{"$f":" [1]NeutroMinutaRge!A13","v":"1 CA 336,4 MCM Vão 80m RGE"},null,19,null,null,null,null,null,null,null,null,null,null,null,null,null,null,null,null,{"$f":" [1]Folha4!A10","v":"CU10"}]
[null,null,"TELEFONE",null,null,null,null,null,null,100,null,null,null,null,null,{"$f":" [1]SecundariaMinutaRge!A14","v":"3 CA 477 MCM Vão 35m RGE"},{"$f":" [1]PrimariaMinutaRge!A14","v":0},{"$f":" [1]NeutroMinutaRge!A14","v":"1 CA 477 MCM Vão 80m RGE"},null,20,null,null,null,null,null,null,null,null,null,null,null,null,null,null,null,null,{"$f":" [1]Folha4!A11","v":"CU20"}]
[null,null,"TV CABO",null,null,null,null,null,null,null,null,null,null,null,null,{"$f":" [1]SecundariaMinutaRge!A15","v":0},{"$f":" [1]PrimariaMinutaRge!A15","v":"3 CA 02 AWG Vão 80m RGE"},{"$f":" [1]NeutroMinutaRge!A15","v":0},null,null,null,null,null,null,null,null,null,null,null,null,null,null,null,null,null,null,{"$f":" [1]Folha4!A12","v":"CU40"}]
[null,null,"DISTÂNCIA TELEFONE/CABO SOLO CM",550,null,550,null,550,null,550,null,550,null,null,null,{"$f":" [1]SecundariaMinutaRge!A16","v":"3 CA 02 AWG Vão 80m RGE"},{"$f":" [1]PrimariaMinutaRge!A16","v":"3 CA 1/0 AWG Vão 80m RGE"},{"$f":" [1]NeutroMinutaRge!A16","v":"1 CAA 04 AWG Vão 40m RGE"},null,null,null,null,null,null,null,null,null,null,null,null,null,null,null,null,null,null,{"$f":" [1]Folha4!A13","v":"S04"}]
[null,null,"SUB TOTAL",{"$f":"IF(L31=1,Simpli_Pre_Rge!W22,\"Atualize: http;//www.mabjo.com.br\")","v":556.48387096774195},null,{"$f":"IF(L31=1,Simpli_Pre_Rge!W23,\"Atualize: http;//www.mabjo.com.br\")","v":267.09677419354841},null,{"$f":"IF(L31=1,Simpli_Pre_Rge!W24,\"Atualize: http;//www.mabjo.com.br\")","v":632},null,{"$f":"IF(L31=1,Simpli_Pre_Rge!W25,\"Atualize: http;//www.mabjo.com.br\")","v":60.439560439560438},null,{"$f":"IF(L31=1,Simpli_Pre_Rge!W26,\"Atualize: http;//www.mabjo.com.br\")","v":217.54838709677421},null,null,null,{"$f":" [1]SecundariaMinutaRge!A17","v":"3 CA 1/0 AWG Vão 80m RGE"},{"$f":" [1]PrimariaMinutaRge!A17","v":"3 CA 2/0 AWG Vão 80m RGE"},{"$f":" [1]NeutroMinutaRge!A17","v":"1 CAA 02 AWG Vão 40m RGE"},null,null,null,null,null,null,null,null,null,null,null,null,null,null,null,null,null,null,{"$f":" [1]Folha4!A14","v":"S02"}]
[null,null,"ESFORÇO RESULTANTE",{"$f":"IF(L31=1,Simpli_Pre_Rge!W27,\"Atualize: http;//www.mabjo.com.br\")","v":736.16760188139278},null,null,null,"ÂNGULO RESULTANTE",null,null,null,{"$f":"IF(D19>0.001,X11,0)","v":341.02827717036848},null,null,null,{"$f":" [1]SecundariaMinutaRge!A18","v":"3 CA 2/0 AWG Vão 80m RGE"},{"$f":" [1]PrimariaMinutaRge!A18","v":"3 CA 4/0 AWG Vão 80m RGE"},{"$f":" [1]NeutroMinutaRge!A18","v":"1 CAA 1/0 AWG Vão 40m RGE"},null,null,null,null,null,null,null,null,null,null,null,null,null,null,null,null,null,null,{"$f":" [1]Folha4!A15","v":"S10"}]
[null,null,null,null,null,null,null,null,null,null,null,null,null,null,null,{"$f":" [1]SecundariaMinutaRge!A19","v":"3 CA 4/0 AWG Vão 80m RGE"},{"$f":" [1]PrimariaMinutaRge!A19","v":"3 CA 336,4 MCM Vão 80m RGE"},{"$f":" [1]NeutroMinutaRge!A19","v":"1 CAA 2/0 AWG Vão 40m RGE"},null,null,null,null,null,null,null,null,null,null,null,null,null,null,null,null,null,null,{"$f":" [1]Folha4!A16","v":"S40"}]
[null,null,"On Line http://www.mabjo.com.br/",null,null,null,null,null,null,null,null,{"$f":"NOW()","v":"2022-07-21T04:50:22.360"},null,"-","http://www.mabjo.com.br",{"$f":" [1]SecundariaMinutaRge!A20","v":"3 CA 336,4 MCM Vão 80m RGE"},{"$f":" [1]PrimariaMinutaRge!A20","v":"3 CA 477 MCM Vão 80m RGE"},{"$f":" [1]NeutroMinutaRge!A20","v":"1 CAA 4/0 AWG Vão 40m RGE"},null,null,null,null,null,null,null,null,null,null,null,null,null,null,null,null,null,null,{"$f":" [1]Folha4!A17","v":"S33"}]
[null,null,null,null,null,null,null,"contato@mabjo.com.br",null,null,null,null,null,"Download Cálculo Mecânico Esforço Poste Atualizado","http://www.mabjo.com.br/",{"$f":" [1]SecundariaMinutaRge!A21","v":"3 CA 477 MCM Vão 80m RGE"},{"$f":" [1]PrimariaMinutaRge!A21","v":0},{"$f":" [1]NeutroMinutaRge!A21","v":0},null,null,null,null,null,null,null,null,null,null,null,null,null,null,null,null,null,null,{"$f":" [1]Folha4!A18","v":"S47"}]
[null,null,{"$f":"CONCATENATE(\"Cálculo Esforço Poste : Plt, Pira, SC e Jg  - Versão\")","v":"Cálculo Esforço Poste : Plt, Pira, SC e Jg  - Versão"},null,null,null,null,null,null,null,null,null,null,null,null,{"$f":" [1]SecundariaMinutaRge!A22","v":0},{"$f":" [1]PrimariaMinutaRge!A22","v":"3 CAA 04 AWG Vão 40m RGE"},{"$f":" [1]NeutroMinutaRge!A22","v":"1 CAA 04 AWG Vão 80m RGE"},null,null,null,null,null,null,null,null,null,null,null,null,null,null,null,null,null,null,{"$f":" [1]Folha4!A19","v":"E70"}]
[null,null,{"$f":"N30","v":""},null,null,{"$f":"O30","v":"2018-06-05"},null,"Cálculo customizado para fibra óptica e telefonia",null,null,null,null,null,null,null,{"$f":" [1]SecundariaMinutaCpfl!A23","v":"3 CAA 04 AWG Vão 40m "},{"$f":" [1]PrimariaMinutaCpfl!A23","v":"3 CAA 1/0 AWG Vão 40m "},{"$f":" [1]NeutroMinutaCpfl!A23","v":"1 CAA 02 AWG Vão 80m "}]
[null,null,"Visite http://www.mabjo.com.br/",null,null,null,null,null,null,null,null,null,null,null,null,{"$f":" [1]SecundariaMinutaCpfl!A24","v":"3 CAA 02 AWG Vão 40m "},{"$f":" [1]PrimariaMinutaCpfl!A24","v":"3 CAA 2/0 AWG Vão 40m "},{"$f":" [1]NeutroMinutaCpfl!A24","v":"1 CAA 1/0 AWG Vão 80m "}]
[null,null,"Calculo Queda Tensão Loteamento aéreo e subt.",null,null,null,null,null,null,null,null,null,null,null,null,{"$f":" [1]SecundariaMinutaCpfl!A25","v":"3 CAA 1/0 AWG Vão 40m "},{"$f":" [1]PrimariaMinutaCpfl!A25","v":"3 CAA 4/0 AWG Vão 40m "},{"$f":" [1]NeutroMinutaCpfl!A25","v":"1 CAA 2/0 AWG Vão 80m "}]
[null,null,{"$f":"X12","v":161.02827717036851},null,null,null,null,null,null,null,null,null,null,null,null,{"$f":" [1]SecundariaMinutaCpfl!A26","v":"3 CAA 2/0 AWG Vão 40m "},{"$f":" [1]PrimariaMinutaCpfl!A26","v":""},{"$f":" [1]NeutroMinutaCpfl!A26","v":"1 CAA 4/0 AWG Vão 80m "},null,null,null,null,null,null,null,null,null,null,null,null,null,null,null,null,null,null,{"$f":" [1]Folha4!A20","v":"E185"}]
[null,null,"MEDIDA 1",12,null,null,null,{"$f":"PreAngulo_Paulista!C10","v":159.54210665632507},null,null,null,null,null,"Esta Versão",{"$f":"Completo_Esforço_CPFL_Paulista!O28","v":42704},{"$f":" [1]SecundariaMinutaCpfl!A27","v":"3 CAA 4/0 AWG Vão 40m "},{"$f":" [1]PrimariaMinutaCpfl!A27","v":"3 CAA 04 AWG Vão 80m "},{"$f":" [1]NeutroMinutaCpfl!A27","v":"1 CAA 336,4 MCM Vão 80m "},null,null,null,null,null,null,null,null,null,null,null,null,null,null,null,null,null,null,{"$f":" [1]Folha4!A21","v":0}]
[null,null,"MEDIDA 2",15,null,null,null,{"$f":"PreAngulo_Paulista!D10","v":200.45789334367493},null,"Dias Versão",null,{"$f":"O30-O28","v":552},null,null,null,{"$f":" [1]SecundariaMinutaCpfl!A28","v":""},{"$f":" [1]PrimariaMinutaCpfl!A28","v":"3 CAA 02 AWG Vão 80m "},{"$f":" [1]NeutroMinutaCpfl!A28","v":""},null,null,null,null,null,null,null,null,null,null,null,null,null,null,null,null,null,null,{"$f":" [1]Folha4!A22","v":0}]
[null,null,"MEDIDA 3",5,null,null,null,null,null,"PreDiasAtualização",null,{"$f":"L21-O30","v":1507.2016476851859},null,{"$f":"IF([1]Mensagem!B3 <> \"\",[1]Mensagem!B3,\"\")","v":""},{"$f":"IF([1]Mensagem!C3 <> \"\",[1]Mensagem!C3,\"\")","v":"2018-06-05"},{"$f":" [1]SecundariaMinutaCpfl!A29","v":"3 CAA 04 AWG Vão 80m "},{"$f":" [1]PrimariaMinutaCpfl!A29","v":"3 CAA 1/0 AWG Vão 80m "},{"$f":" [1]NeutroMinutaCpfl!A29","v":"1 CAA 04 AWG Vão 120m "},null,null,null,null,null,null,null,null,null,null,null,null,null,null,null,null,null,null,{"$f":" [1]Folha4!A23","v":0}]
[null,null,"ÂNGULO",{"$f":"IF(D30>0,Plan3!C10,\"\")","v":41.649672273866805},null,null,null,null,null,"Dias Atualização",null,{"$f":"Completo_Esforço_CPFL_Paulista!L31","v":1},null,{"$f":"IF([1]Mensagem!B4 <> \"\",[1]Mensagem!B4,\"\")","v":""},{"$f":"IF([1]Mensagem!C4 <> \"\",[1]Mensagem!C4,\"\")","v":"2018-06-05"},{"$f":" [1]SecundariaMinutaCpfl!A30","v":"3 CAA 02 AWG Vão 80m "},{"$f":" [1]PrimariaMinutaCpfl!A30","v":"3 CAA 2/0 AWG Vão 80m "},{"$f":" [1]NeutroMinutaCpfl!A30","v":"1 CAA 02 AWG Vão 120m "},null,null,null,null,null,null,null,null,null,null,null,null,null,null,null,null,null,null,{"$f":" [1]Folha4!A24","v":0}]
[null,null,null,null,null,null,null,null,null,null,null,null,null,{"$f":"IF([1]Mensagem!B5 <> \"\",[1]Mensagem!B5,\"\")","v":""},{"$f":"IF([1]Mensagem!C5 <> \"\",[1]Mensagem!C5,\"\")","v":""},{"$f":" [1]SecundariaMinutaCpfl!A31","v":"3 CAA 1/0 AWG Vão 80m "},{"$f":" [1]PrimariaMinutaCpfl!A31","v":"3 CAA 4/0 AWG Vão 80m "},{"$f":" [1]NeutroMinutaCpfl!A31","v":"1 CAA 1/0 AWG Vão 120m "},null,null,null,null,null,null,null,null,null,null,null,null,null,null,null,null,null,null,{"$f":" [1]Folha4!A25","v":0}]
[null,null,null,null,null,null,null,null,null,null,null,null,null,{"$f":"IF([1]Mensagem!B6 <> \"\",[1]Mensagem!B6,\"\")","v":""},{"$f":"IF([1]Mensagem!C6 <> \"\",[1]Mensagem!C6,\"\")","v":""},{"$f":" [1]SecundariaMinutaCpfl!A32","v":"3 CAA 2/0 AWG Vão 80m "},{"$f":" [1]PrimariaMinutaCpfl!A32","v":"3 CAA 336,4 MCM Vão 80m "},{"$f":" [1]NeutroMinutaCpfl!A32","v":"1 CAA 2/0 AWG Vão 120m "},null,null,0,null,null,null,null,null,null,null,null,null,null,null,null,null,null,null,{"$f":" [1]Folha4!A26","v":0}]
[null,null,"Coordenada X","Coordenada Y",null,null,null,null,null,null,null,null,null,{"$f":"IF([1]Mensagem!B7 <> \"\",[1]Mensagem!B7,\"\")","v":""},{"$f":"IF([1]Mensagem!C7 <> \"\",[1]Mensagem!C7,\"\")","v":""},{"$f":" [1]SecundariaMinutaCpfl!A33","v":"3 CAA 4/0 AWG Vão 80m "},{"$f":" [1]PrimariaMinutaCpfl!A33","v":""},{"$f":" [1]NeutroMinutaCpfl!A33","v":"1 CAA 4/0 AWG Vão 120m "},null,null,1,null,null,null,null,null,null,null,null,null,null,null,null,null,null,null,{"$f":" [1]Folha4!A27","v":0}]
[null,null,29829000,745407001,null,null,null,null,null,"Poste 1",null,null,null,{"$f":"IF([1]Mensagem!B8 <> \"\",[1]Mensagem!B8,\"\")","v":""},{"$f":"IF([1]Mensagem!C8 <> \"\",[1]Mensagem!C8,\"\")","v":""},{"$f":" [1]SecundariaMinutaCpfl!A34","v":"3 CAA 336,4 MCM Vão 80m "},{"$f":" [1]PrimariaMinutaCpfl!A34","v":"3 CAA 04 AWG Vão 120m "},{"$f":" [1]NeutroMinutaCpfl!A34","v":"1 CAA 336,4 MCM Vão 120m "},null,null,2,null,null,null,null,null,null,null,null,null,null,null,null,null,null,null,{"$f":" [1]Folha4!A28","v":0}]
[null,null,29229000,745406001,null,null,null,null,null,"Poste Meio",null,null,null,{"$f":"IF([1]Mensagem!B9 <> \"\",[1]Mensagem!B9,\"\")","v":""},{"$f":"IF([1]Mensagem!C9 <> \"\",[1]Mensagem!C9,\"\")","v":""},{"$f":" [1]SecundariaMinutaCpfl!A35","v":""},{"$f":" [1]PrimariaMinutaCpfl!A35","v":"3 CAA 02 AWG Vão 120m "},{"$f":" [1]NeutroMinutaCpfl!A35","v":""},null,null,3,null,null,null,null,null,null,null,null,null,null,null,null,null,null,null,{"$f":" [1]Folha4!A29","v":0}]
[null,null,"Distância Metros",{"$f":"Plan3!E26/100","v":6000.008333327547},null,null,null,null,null,null,null,null,null,{"$f":"IF([1]Mensagem!B10 <> \"\",[1]Mensagem!B10,\"\")","v":""},{"$f":"IF([1]Mensagem!C10 <> \"\",[1]Mensagem!C10,\"\")","v":""},{"$f":" [1]SecundariaMinutaCpfl!A36","v":"3 CAA 04 AWG Vão 120m "},{"$f":" [1]PrimariaMinutaCpfl!A36","v":"3 CAA 1/0 AWG Vão 120m "},{"$f":" [1]NeutroMinutaCpfl!A36","v":"1 CU 06 AWG Vão 35m  "},null,null,4,null,null,null,null,null,null,null,null,null,null,null,null,null,null,null,{"$f":" [1]Folha4!A30","v":0}]
[null,null,"Ângulo",{"$f":"Plan3!E29","v":89.904507122564127},null,null,null,null,null,null,null,null,null,{"$f":"IF([1]Mensagem!B11 <> \"\",[1]Mensagem!B11,\"\")","v":""},{"$f":"IF([1]Mensagem!C11 <> \"\",[1]Mensagem!C11,\"\")","v":""},{"$f":" [1]SecundariaMinutaCpfl!A37","v":"3 CAA 02 AWG Vão 120m "},{"$f":" [1]PrimariaMinutaCpfl!A37","v":"3 CAA 2/0 AWG Vão 120m "},{"$f":" [1]NeutroMinutaCpfl!A37","v":"1 CU 02 AWG Vão 35m  "},null,null,5,null,null,null,null,null,null,null,null,null,null,null,null,null,null,null,{"$f":" [1]Folha4!A31","v":0}]
[null,null,null,null,null,null,null,null,null,null,null,null,null,{"$f":"IF([1]Mensagem!B12 <> \"\",[1]Mensagem!B12,\"\")","v":""},{"$f":"IF([1]Mensagem!C12 <> \"\",[1]Mensagem!C12,\"\")","v":""},{"$f":" [1]SecundariaMinutaCpfl!A38","v":"3 CAA 1/0 AWG Vão 120m "},{"$f":" [1]PrimariaMinutaCpfl!A38","v":"3 CAA 4/0 AWG Vão 120m "},{"$f":" [1]NeutroMinutaCpfl!A38","v":"1 CU 1/0 AWG Vão 35m  "},null,null,6,null,null,null,null,null,null,null,null,null,null,null,null,null,null,null,{"$f":" [1]Folha4!A32","v":0}]
[null,null,null,null,null,null,null,null,null,null,null,null,null,{"$f":"IF([1]Mensagem!B13 <> \"\",[1]Mensagem!B13,\"\")","v":""},{"$f":"IF([1]Mensagem!C13 <> \"\",[1]Mensagem!C13,\"\")","v":""},{"$f":" [1]SecundariaMinutaCpfl!A39","v":"3 CAA 2/0 AWG Vão 120m "},{"$f":" [1]PrimariaMinutaCpfl!A39","v":"3 CAA 336,4 MCM Vão 120m "},{"$f":" [1]NeutroMinutaCpfl!A39","v":"1 CU 2/0 AWG Vão 35m  "},null,null,7,null,null,null,null,null,null,null,null,null,null,null,null,null,null,null,{"$f":" [1]Folha4!A33","v":0}]
[null,null,"Coordenada X","Coordenada Y",null,null,null,null,null,null,null,null,null,{"$f":"IF([1]Mensagem!B14 <> \"\",[1]Mensagem!B14,\"\")","v":""},{"$f":"IF([1]Mensagem!C14 <> \"\",[1]Mensagem!C14,\"\")","v":"Cálculo Esforço"},{"$f":" [1]SecundariaMinutaCpfl!A40","v":"3 CAA 4/0 AWG Vão 120m "},{"$f":" [1]PrimariaMinutaCpfl!A40","v":""},{"$f":" [1]NeutroMinutaCpfl!A40","v":"1 CU 4/0 AWG Vão 35m  "},null,null,8,null,null,null,null,null,null,null,null,null,null,null,null,null,null,null,{"$f":" [1]Folha4!A34","v":0}]
[null,null,{"$f":"C36","v":29229000},{"$f":"D36","v":745406001},null,null,null,null,null,"Poste Meio",null,null,null,{"$f":"IF([1]Mensagem!B15 <> \"\",[1]Mensagem!B15,\"\")","v":""},{"$f":"IF([1]Mensagem!C15 <> \"\",[1]Mensagem!C15,\"\")","v":"Customizado"},{"$f":" [1]SecundariaMinutaCpfl!A41","v":"3 CAA 336,4 MCM Vão 120m "},{"$f":" [1]PrimariaMinutaCpfl!A41","v":"3 15kv 240 mm² Vão 35m  "},{"$f":" [1]NeutroMinutaCpfl!A41","v":0},null,null,9,null,null,null,null,null,null,null,null,null,null,null,null,null,null,null,{"$f":" [1]Folha4!A35","v":0}]
[null,null,29279000,748406001,null,null,null,null,null,"Poste 3",null,null,null,{"$f":"IF([1]Mensagem!B16 <> \"\",[1]Mensagem!B16,\"\")","v":""},{"$f":"IF([1]Mensagem!C16 <> \"\",[1]Mensagem!C16,\"\")","v":"para cabos de"},{"$f":" [1]SecundariaMinutaCpfl!A42","v":""},{"$f":" [1]PrimariaMinutaCpfl!A42","v":"3 25kv 240 mm² Vão 35m  "},{"$f":" [1]NeutroMinutaCpfl!A42","v":0},null,null,10,null,null,null,null,null,null,null,null,null,null,null,null,null,null,null,{"$f":" [1]Folha4!A36","v":0}]
[null,null,"Distância Metros",{"$f":"Plan3!E41/100","v":30004.166377354995},null,null,null,null,null,null,null,null,null,{"$f":"IF([1]Mensagem!B17 <> \"\",[1]Mensagem!B17,\"\")","v":""},{"$f":"IF([1]Mensagem!C17 <> \"\",[1]Mensagem!C17,\"\")","v":"Telefonia e"},{"$f":" [1]SecundariaMinutaCpfl!A43","v":"3 15kv 240 mm² Vão 35m  "},{"$f":" [1]PrimariaMinutaCpfl!A43","v":"3 35kv 240 mm² Vão 35m  "},{"$f":" [1]NeutroMinutaCpfl!A43","v":0},null,null,11,null,null,null,null,null,null,null,null,null,null,null,null,null,null,null,{"$f":" [1]Folha4!A37","v":0}]
[null,null,"Ângulo",{"$f":"Plan3!E44","v":0.95484125387218866},null,null,null,null,null,null,null,null,null,{"$f":"IF([1]Mensagem!B18 <> \"\",[1]Mensagem!B18,\"\")","v":""},{"$f":"IF([1]Mensagem!C18 <> \"\",[1]Mensagem!C18,\"\")","v":"Comunicação"},{"$f":" [1]SecundariaMinutaCpfl!A44","v":"3 25kv 240 mm² Vão 35m  "},{"$f":" [1]PrimariaMinutaCpfl!A44","v":""},{"$f":" [1]NeutroMinutaCpfl!A44","v":0},null,null,12,null,null,null,null,null,null,null,null,null,null,null,null,null,null,null,{"$f":" [1]Folha4!A38","v":0}]
[null,null,null,null,null,null,null,null,null,null,null,null,null,{"$f":"IF([1]Mensagem!B19 <> \"\",[1]Mensagem!B19,\"\")","v":""},{"$f":"IF([1]Mensagem!C19 <> \"\",[1]Mensagem!C19,\"\")","v":"http://www.mabjo.com.br/Default.aspx"},{"$f":" [1]SecundariaMinutaCpfl!A45","v":"3 35kv 240 mm² Vão 35m  "},{"$f":" [1]PrimariaMinutaCpfl!A45","v":"3 CU 06 AWG Vão 35m  "},{"$f":" [1]NeutroMinutaCpfl!A45","v":0},null,null,13,null,null,null,null,null,null,null,null,null,null,null,null,null,null,null,{"$f":" [1]Folha4!A39","v":0}]
[null,null,"Ângulo Resultante",{"$f":"D45-D38","v":-88.949665868691937},null,null,null,null,null,null,null,null,null,{"$f":"IF([1]Mensagem!B20 <> \"\",[1]Mensagem!B20,\"\")","v":""},{"$f":"IF([1]Mensagem!C20 <> \"\",[1]Mensagem!C20,\"\")","v":""},{"$f":" [1]SecundariaMinutaCpfl!A46","v":""},{"$f":" [1]PrimariaMinutaCpfl!A46","v":"3 CU 02 AWG Vão 35m  "},{"$f":" [1]NeutroMinutaCpfl!A46","v":0},null,null,14,null,null,null,null,null,null,null,null,null,null,null,null,null,null,null,{"$f":" [1]Folha4!A40","v":0}]
[null,null,null,null,null,null,null,null,null,null,null,null,null,null,null,{"$f":" [1]SecundariaMinutaRge!A47","v":"3 CU 06 AWG Vão 35m  RGE"},{"$f":" [1]PrimariaMinutaRge!A47","v":"3 CU 02 AWG Vão 35m  RGE"},{"$f":" [1]NeutroMinutaRge!A47","v":0},null,null,15,null,null,null,null,null,null,null,null,null,null,null,null,null,null,null,{"$f":" [1]Folha4!A41","v":0}]
[null,null,null,null,null,null,null,null,null,null,null,null,null,null,null,{"$f":" [1]SecundariaMinutaRge!A48","v":"3 CU 02 AWG Vão 35m  RGE"},{"$f":" [1]PrimariaMinutaRge!A48","v":"3 CU 1/0 AWG Vão 35m  RGE"},{"$f":" [1]NeutroMinutaRge!A48","v":0},null,null,16,null,null,null,null,null,null,null,null,null,null,null,null,null,null,null,{"$f":" [1]Folha4!A42","v":0}]
[null,null,"Cálculo Flecha","Primário por Fase",null,null,null,null,null,null,null,null,null,null,null,{"$f":" [1]SecundariaMinutaRge!A49","v":"3 CU 1/0 AWG Vão 35m  RGE"},{"$f":" [1]PrimariaMinutaRge!A49","v":"3 CU 2/0 AWG Vão 35m  RGE"},{"$f":" [1]NeutroMinutaRge!A49","v":0},null,null,17,null,null,null,null,null,null,null,null,null,null,null,null,null,null,null,{"$f":" [1]Folha4!A43","v":0}]
[null,null,"Cabo","A02",null,null,null,null,null,null,null,null,null,null,null,{"$f":" [1]SecundariaMinutaRge!A50","v":"3 CU 2/0 AWG Vão 35m  RGE"},{"$f":" [1]PrimariaMinutaRge!A50","v":"3 CU 4/0 AWG Vão 35m  RGE"},{"$f":" [1]NeutroMinutaRge!A50","v":0},null,null,18,null,null,null,null,null,null,null,null,null,null,null,null,null,null,null,{"$f":" [1]Folha4!A44","v":0}]
[null,null,"Distância",100,null,null,null,null,null,null,null,null,null,null,null,{"$f":" [1]SecundariaMinutaRge!A51","v":"3 CU 4/0 AWG Vão 35m  RGE"},{"$f":" [1]PrimariaMinutaRge!A51","v":0},{"$f":" [1]NeutroMinutaRge!A51","v":0},null,null,18,null,null,null,null,null,null,null,null,null,null,null,null,null,null,null,{"$f":" [1]Folha4!A45","v":0}]
[null,null,"Redução Tensão %",20,null,null,null,null,null,null,null,null,null,null,null,{"$f":" [1]SecundariaMinutaRge!A52","v":0},{"$f":" [1]PrimariaMinutaRge!A52","v":"2 CA 02 AWG Vão 35m RGE"},{"$f":" [1]NeutroMinutaRge!A52","v":0},null,null,null,null,null,null,null,null,null,null,null,null,null,null,null,null,null,null,{"$f":" [1]Folha4!A46","v":0}]
[null,null,"Amperes",{"$f":"VLOOKUP(D51,[1]Folha4!A2:G27,7,0)","v":138},null,null,null,null,null,"Esforço Trifásico",null,null,null,null,null,{"$f":" [1]SecundariaMinutaRge!A53","v":"2 CA 02 AWG Vão 35m RGE"},{"$f":" [1]PrimariaMinutaRge!A53","v":"2 CA 1/0 AWG Vão 35m RGE"},{"$f":" [1]NeutroMinutaRge!A53","v":0},null,null,null,null,null,null,null,null,null,null,null,null,null,null,null,null,null,null,{"$f":" [1]Folha4!A47","v":0}]
[null,null,"Esforço Urbano",{"$f":"N55-N57","v":76},null,null,null,null,null,{"$f":"D55*3","v":228},null,null,null,{"$f":"VLOOKUP(D51,[1]Folha4!A2:E27,2,0)","v":95},null,{"$f":" [1]SecundariaMinutaRge!A54","v":"2 CA 1/0 AWG Vão 35m RGE"},{"$f":" [1]PrimariaMinutaRge!A54","v":"2 CA 2/0 AWG Vão 35m RGE"},{"$f":" [1]NeutroMinutaRge!A54","v":0},null,null,null,null,null,null,null,null,null,null,null,null,null,null,null,null,null,null,{"$f":" [1]Folha4!A48","v":0}]
[null,null,"Esforço Rural",{"$f":"N56-N58","v":163.19999999999999},null,null,null,null,null,{"$f":"D56*3","v":489.59999999999997},null,null,null,{"$f":"VLOOKUP(D51,[1]Folha4!A2:E27,3,0)","v":204},null,{"$f":" [1]SecundariaMinutaRge!A55","v":"2 CA 2/0 AWG Vão 35m RGE"},{"$f":" [1]PrimariaMinutaRge!A55","v":"2 CA 4/0 AWG Vão 35m RGE"},{"$f":" [1]NeutroMinutaRge!A55","v":0},null,null,null,null,null,null,null,null,null,null,null,null,null,null,null,null,null,null,{"$f":" [1]Folha4!A49","v":0}]
[null,null,"Kg/m",{"$f":"VLOOKUP(D51,[1]Folha4!A1:F27,6,0)","v":9.1999999999999998E-2},null,null,null,null,null,null,null,null,null,{"$f":"D53*N55/100","v":19},null,{"$f":" [1]SecundariaMinutaRge!A56","v":"2 CA 4/0 AWG Vão 35m RGE"},{"$f":" [1]PrimariaMinutaRge!A56","v":"2 CA 336,4 MCM Vão 35m RGE"},{"$f":" [1]NeutroMinutaRge!A56","v":0},null,null,null,null,null,null,null,null,null,null,null,null,null,null,null,null,null,null,{"$f":" [1]Folha4!A50","v":0}]
[null,null,"Flecha Ubano",{"$f":"IF(D55>0,(D57*(D52*D52))/(8*D55),\"\")","v":1.513157894736842},null,null,null,null,null,null,null,null,null,{"$f":"D53*N56/100","v":40.799999999999997},null,{"$f":" [1]SecundariaMinutaRge!A57","v":"2 CA 336,4 MCM Vão 35m RGE"},{"$f":" [1]PrimariaMinutaRge!A57","v":"2 CA 477 MCM Vão 35m RGE"},{"$f":" [1]NeutroMinutaRge!A57","v":0},null,null,18,null,null,null,null,null,null,null,null,null,null,null,null,null,null,null,{"$f":" [1]Folha4!A51","v":0}]
[null,null,"Flecha Rural",{"$f":"IF(D56>0,(D57*(D52*D52))/(8*D56),\"\")","v":0.70465686274509809},null,null,null,null,null,null,null,null,null,null,null,{"$f":" [1]SecundariaMinutaRge!A58","v":"2 CA 477 MCM Vão 35m RGE"},{"$f":" [1]PrimariaMinutaRge!A58","v":0},{"$f":" [1]NeutroMinutaRge!A58","v":0},null,null,18,null,null,null,null,null,null,null,null,null,null,null,null,null,null,null,{"$f":" [1]Folha4!A52","v":0}]
[null,null,null,null,null,null,null,null,null,null,null,null,null,null,null,{"$f":" [1]SecundariaMinutaRge!A59","v":0},{"$f":" [1]PrimariaMinutaRge!A59","v":"2 CA 02 AWG Vão 80m RGE"},{"$f":" [1]NeutroMinutaRge!A59","v":0},null,null,18,null,null,null,null,null,null,null,null,null,null,null,null,null,null,null,{"$f":" [1]Folha4!A53","v":0}]
[null,null,null,null,null,null,null,null,null,null,null,null,null,null,null,{"$f":" [1]SecundariaMinutaRge!A60","v":"2 CA 02 AWG Vão 80m RGE"},{"$f":" [1]PrimariaMinutaRge!A60","v":"2 CA 1/0 AWG Vão 80m RGE"},{"$f":" [1]NeutroMinutaRge!A60","v":0},null,null,18,null,null,null,null,null,null,null,null,null,null,null,null,null,null,null,{"$f":" [1]Folha4!A54","v":0}]
[null,null,{"$f":"VLOOKUP(D51,[1]Folha4!A2:E27,2,0)","v":95},null,null,null,null,null,null,null,null,null,null,null,null,{"$f":" [1]SecundariaMinutaRge!A61","v":"2 CA 1/0 AWG Vão 80m RGE"},{"$f":" [1]PrimariaMinutaRge!A61","v":"2 CA 2/0 AWG Vão 80m RGE"},{"$f":" [1]NeutroMinutaRge!A61","v":0},null,null,18,null,null,null,null,null,null,null,null,null,null,null,null,null,null,null,{"$f":" [1]Folha4!A55","v":0}]
[null,null,null,null,null,null,null,null,null,null,null,null,null,null,null,{"$f":" [1]SecundariaMinutaRge!A62","v":"2 CA 2/0 AWG Vão 80m RGE"},{"$f":" [1]PrimariaMinutaRge!A62","v":"2 CA 4/0 AWG Vão 80m RGE"},{"$f":" [1]NeutroMinutaRge!A62","v":0},null,null,18,null,null,null,null,null,null,null,null,null,null,null,null,null,null,null,{"$f":" [1]Folha4!A56","v":0}]
[null,null,null,null,null,null,null,null,null,null,null,null,null,null,null,{"$f":" [1]SecundariaMinutaRge!A63","v":"2 CA 4/0 AWG Vão 80m RGE"},{"$f":" [1]PrimariaMinutaRge!A63","v":"2 CA 336,4 MCM Vão 80m RGE"},{"$f":" [1]NeutroMinutaRge!A63","v":0},null,null,18,null,null,null,null,null,null,null,null,null,null,null,null,null,null,null,{"$f":" [1]Folha4!A57","v":0}]
[null,null,null,null,null,null,null,null,null,null,null,null,null,null,null,{"$f":" [1]SecundariaMinutaRge!A64","v":"2 CA 336,4 MCM Vão 80m RGE"},{"$f":" [1]PrimariaMinutaRge!A64","v":"2 CA 477 MCM Vão 80m RGE"},{"$f":" [1]NeutroMinutaRge!A64","v":0},null,null,18,null,null,null,null,null,null,null,null,null,null,null,null,null,null,null,{"$f":" [1]Folha4!A58","v":0}]
[null,null,null,null,null,null,null,null,null,null,null,null,null,null,null,{"$f":" [1]SecundariaMinutaRge!A65","v":"2 CA 477 MCM Vão 80m RGE"},{"$f":" [1]PrimariaMinutaRge!A65","v":0},{"$f":" [1]NeutroMinutaRge!A65","v":0},null,null,18,null,null,null,null,null,null,null,null,null,null,null,null,null,null,null,{"$f":" [1]Folha4!A59","v":0}]
[null,null,null,null,null,null,null,null,null,null,null,null,null,null,null,{"$f":" [1]SecundariaMinutaRge!A66","v":0},{"$f":" [1]PrimariaMinutaRge!A66","v":"2 CAA 04 AWG Vão 40m RGE"},{"$f":" [1]NeutroMinutaRge!A66","v":0},null,null,18,null,null,null,null,null,null,null,null,null,null,null,null,null,null,null,{"$f":" [1]Folha4!A60","v":0}]
[null,null,null,null,null,null,null,null,null,null,null,null,null,null,null,{"$f":" [1]SecundariaMinutaRge!A67","v":"2 CAA 04 AWG Vão 40m RGE"},{"$f":" [1]PrimariaMinutaRge!A67","v":"2 CAA 02 AWG Vão 40m RGE"},{"$f":" [1]NeutroMinutaRge!A67","v":0},null,null,18,null,null,null,null,null,null,null,null,null,null,null,null,null,null,null,{"$f":" [1]Folha4!A61","v":0}]
[null,null,null,null,null,null,null,null,null,null,null,null,null,null,null,{"$f":" [1]SecundariaMinutaRge!A68","v":"2 CAA 02 AWG Vão 40m RGE"},{"$f":" [1]PrimariaMinutaRge!A68","v":"2 CAA 1/0 AWG Vão 40m RGE"},{"$f":" [1]NeutroMinutaRge!A68","v":0},null,null,18,null,null,null,null,null,null,null,null,null,null,null,null,null,null,null,{"$f":" [1]Folha4!A62","v":0}]
[null,null,null,null,null,null,null,null,null,null,null,null,null,null,null,{"$f":" [1]SecundariaMinutaRge!A69","v":"2 CAA 1/0 AWG Vão 40m RGE"},{"$f":" [1]PrimariaMinutaRge!A69","v":"2 CAA 2/0 AWG Vão 40m RGE"},{"$f":" [1]NeutroMinutaRge!A69","v":0},null,null,18,null,null,null,null,null,null,null,null,null,null,null,null,null,null,null,{"$f":" [1]Folha4!A63","v":0}]
[null,null,null,null,null,null,null,null,null,null,null,null,null,null,null,{"$f":" [1]SecundariaMinutaRge!A70","v":"2 CAA 2/0 AWG Vão 40m RGE"},{"$f":" [1]PrimariaMinutaRge!A70","v":"2 CAA 4/0 AWG Vão 40m RGE"},{"$f":" [1]NeutroMinutaRge!A70","v":0},null,null,18,null,null,null,null,null,null,null,null,null,null,null,null,null,null,null,{"$f":" [1]Folha4!A64","v":0}]
[null,null,null,null,null,null,null,null,null,null,null,null,null,null,null,{"$f":" [1]SecundariaMinutaRge!A71","v":"2 CAA 4/0 AWG Vão 40m RGE"},{"$f":" [1]PrimariaMinutaRge!A71","v":0},{"$f":" [1]NeutroMinutaRge!A71","v":0},null,null,18,null,null,null,null,null,null,null,null,null,null,null,null,null,null,null,{"$f":" [1]Folha4!A65","v":0}]
[null,null,null,null,null,null,null,null,null,null,null,null,null,null,null,{"$f":" [1]SecundariaMinutaRge!A72","v":0},{"$f":" [1]PrimariaMinutaRge!A72","v":"2 CAA 04 AWG Vão 80m RGE"},{"$f":" [1]NeutroMinutaRge!A72","v":0},null,null,35,null,null,null,null,null,null,null,null,null,null,null,null,null,null,null,{"$f":" [1]Folha4!A66","v":0}]
[null,null,null,null,null,null,null,null,null,null,null,null,null,null,null,{"$f":" [1]SecundariaMinutaRge!A73","v":"2 CAA 04 AWG Vão 80m RGE"},{"$f":" [1]PrimariaMinutaRge!A73","v":"2 CAA 02 AWG Vão 80m RGE"},{"$f":" [1]NeutroMinutaRge!A73","v":0},null,null,36,null,null,null,null,null,null,null,null,null,null,null,null,null,null,null,{"$f":" [1]Folha4!A67","v":0}]
[null,null,null,null,null,null,null,null,null,null,null,null,null,null,null,{"$f":" [1]SecundariaMinutaRge!A74","v":"2 CAA 02 AWG Vão 80m RGE"},{"$f":" [1]PrimariaMinutaRge!A74","v":"2 CAA 1/0 AWG Vão 80m RGE"},{"$f":" [1]NeutroMinutaRge!A74","v":0},null,null,37,null,null,null,null,null,null,null,null,null,null,null,null,null,null,null,{"$f":" [1]Folha4!A68","v":0}]
[null,null,null,null,null,null,null,null,null,null,null,null,null,null,null,{"$f":" [1]SecundariaMinutaRge!A75","v":"2 CAA 1/0 AWG Vão 80m RGE"},{"$f":" [1]PrimariaMinutaRge!A75","v":"2 CAA 2/0 AWG Vão 80m RGE"},{"$f":" [1]NeutroMinutaRge!A75","v":0},null,null,38,null,null,null,null,null,null,null,null,null,null,null,null,null,null,null,{"$f":" [1]Folha4!A69","v":0}]
[null,null,null,null,null,null,null,null,null,null,null,null,null,null,null,{"$f":" [1]SecundariaMinutaRge!A76","v":"2 CAA 2/0 AWG Vão 80m RGE"},{"$f":" [1]PrimariaMinutaRge!A76","v":"2 CAA 4/0 AWG Vão 80m RGE"},{"$f":" [1]NeutroMinutaRge!A76","v":0},null,null,39,null,null,null,null,null,null,null,null,null,null,null,null,null,null,null,{"$f":" [1]Folha4!A70","v":0}]
[null,null,null,null,null,null,null,null,null,null,null,null,null,null,null,{"$f":" [1]SecundariaMinutaRge!A77","v":"2 CAA 4/0 AWG Vão 80m RGE"},{"$f":" [1]PrimariaMinutaRge!A77","v":"2 CAA 336,4 MCM Vão 80m RGE"},{"$f":" [1]NeutroMinutaRge!A77","v":0},null,null,40,null,null,null,null,null,null,null,null,null,null,null,null,null,null,null,{"$f":" [1]Folha4!A71","v":0}]
[null,null,null,null,null,null,null,null,null,null,null,null,null,null,null,{"$f":" [1]SecundariaMinutaRge!A78","v":"2 CAA 336,4 MCM Vão 80m RGE"},{"$f":" [1]PrimariaMinutaRge!A78","v":0},{"$f":" [1]NeutroMinutaRge!A78","v":0},null,null,41,null,null,null,null,null,null,null,null,null,null,null,null,null,null,null,{"$f":" [1]Folha4!A72","v":0}]
[null,null,null,null,null,null,null,null,null,null,null,null,null,null,null,{"$f":" [1]SecundariaMinutaRge!A79","v":0},{"$f":" [1]PrimariaMinutaRge!A79","v":"2 CAA 04 AWG Vão 120m RGE"},{"$f":" [1]NeutroMinutaRge!A79","v":0},null,null,42,null,null,null,null,null,null,null,null,null,null,null,null,null,null,null,{"$f":" [1]Folha4!A73","v":0}]
[null,null,null,null,null,null,null,null,null,null,null,null,null,null,null,{"$f":" [1]SecundariaMinutaRge!A80","v":"2 CAA 04 AWG Vão 120m RGE"},{"$f":" [1]PrimariaMinutaRge!A80","v":"2 CAA 02 AWG Vão 120m RGE"},{"$f":" [1]NeutroMinutaRge!A80","v":0},null,null,43,null,null,null,null,null,null,null,null,null,null,null,null,null,null,null,{"$f":" [1]Folha4!A74","v":0}]
[null,null,null,null,null,null,null,null,null,null,null,null,null,null,null,{"$f":" [1]SecundariaMinutaRge!A81","v":"2 CAA 02 AWG Vão 120m RGE"},{"$f":" [1]PrimariaMinutaRge!A81","v":"2 CAA 1/0 AWG Vão 120m RGE"},{"$f":" [1]NeutroMinutaRge!A81","v":0},null,null,44,null,null,null,null,null,null,null,null,null,null,null,null,null,null,null,{"$f":" [1]Folha4!A75","v":0}]
[null,null,null,null,null,null,null,null,null,null,null,null,null,null,null,{"$f":" [1]SecundariaMinutaRge!A82","v":"2 CAA 1/0 AWG Vão 120m RGE"},{"$f":" [1]PrimariaMinutaRge!A82","v":"2 CAA 2/0 AWG Vão 120m RGE"},{"$f":" [1]NeutroMinutaRge!A82","v":0},null,null,45,null,null,null,null,null,null,null,null,null,null,null,null,null,null,null,{"$f":" [1]Folha4!A76","v":0}]
[null,null,null,null,null,null,null,null,null,null,null,null,null,null,null,{"$f":" [1]SecundariaMinutaRge!A83","v":"2 CAA 2/0 AWG Vão 120m RGE"},{"$f":" [1]PrimariaMinutaRge!A83","v":"2 CAA 4/0 AWG Vão 120m RGE"},{"$f":" [1]NeutroMinutaRge!A83","v":0},null,null,46,null,null,null,null,null,null,null,null,null,null,null,null,null,null,null,{"$f":" [1]Folha4!A77","v":0}]
[null,null,null,null,null,null,null,null,null,null,null,null,null,null,null,{"$f":" [1]SecundariaMinutaRge!A84","v":"2 CAA 4/0 AWG Vão 120m RGE"},{"$f":" [1]PrimariaMinutaRge!A84","v":"2 CAA 336,4 MCM Vão 120m RGE"},{"$f":" [1]NeutroMinutaRge!A84","v":0},null,null,47,null,null,null,null,null,null,null,null,null,null,null,null,null,null,null,{"$f":" [1]Folha4!A78","v":0}]
[null,null,null,null,null,null,null,null,null,null,null,null,null,null,null,{"$f":" [1]SecundariaMinutaRge!A85","v":"2 CAA 336,4 MCM Vão 120m RGE"},{"$f":" [1]PrimariaMinutaRge!A85","v":""},{"$f":" [1]NeutroMinutaRge!A85","v":0},null,null,48,null,null,null,null,null,null,null,null,null,null,null,null,null,null,null,{"$f":" [1]Folha4!A79","v":0}]
[null,null,null,null,null,null,null,null,null,null,null,null,null,null,null,{"$f":" [1]SecundariaMinutaRge!A86","v":""},{"$f":" [1]PrimariaMinutaRge!A86","v":"1 CU 06 AWG Vão 35m  RGE"},{"$f":" [1]NeutroMinutaRge!A86","v":0},null,null,49,null,null,null,null,null,null,null,null,null,null,null,null,null,null,null,{"$f":" [1]Folha4!A80","v":0}]
[null,null,null,null,null,null,null,null,null,null,null,null,null,null,null,{"$f":" [1]SecundariaMinutaRge!A87","v":"1 CU 06 AWG Vão 35m  RGE"},{"$f":" [1]PrimariaMinutaRge!A87","v":"1 CU 02 AWG Vão 35m  RGE"},{"$f":" [1]NeutroMinutaRge!A87","v":0},null,null,50,null,null,null,null,null,null,null,null,null,null,null,null,null,null,null,{"$f":" [1]Folha4!A81","v":0}]
[null,null,null,null,null,null,null,null,null,null,null,null,null,null,null,{"$f":" [1]SecundariaMinutaRge!A88","v":"1 CU 02 AWG Vão 35m  RGE"},{"$f":" [1]PrimariaMinutaRge!A88","v":"1 CU 1/0 AWG Vão 35m  RGE"},{"$f":" [1]NeutroMinutaRge!A88","v":0},null,null,51,null,null,null,null,null,null,null,null,null,null,null,null,null,null,null,{"$f":" [1]Folha4!A82","v":0}]
[null,null,null,null,null,null,null,null,null,null,null,null,null,null,null,{"$f":" [1]SecundariaMinutaRge!A89","v":"1 CU 1/0 AWG Vão 35m  RGE"},{"$f":" [1]PrimariaMinutaRge!A89","v":"1 CU 2/0 AWG Vão 35m  RGE"},{"$f":" [1]NeutroMinutaRge!A89","v":0},null,null,52,null,null,null,null,null,null,null,null,null,null,null,null,null,null,null,{"$f":" [1]Folha4!A83","v":0}]
[null,null,null,null,null,null,null,null,null,null,null,null,null,null,null,{"$f":" [1]SecundariaMinutaRge!A90","v":"1 CU 2/0 AWG Vão 35m  RGE"},{"$f":" [1]PrimariaMinutaRge!A90","v":"1 CU 4/0 AWG Vão 35m  RGE"},{"$f":" [1]NeutroMinutaRge!A90","v":0},null,null,53,null,null,null,null,null,null,null,null,null,null,null,null,null,null,null,{"$f":" [1]Folha4!A84","v":0}]
[null,null,null,null,null,null,null,null,null,null,null,null,null,null,null,{"$f":" [1]SecundariaMinutaRge!A91","v":"1 CU 4/0 AWG Vão 35m  RGE"},{"$f":" [1]PrimariaMinutaRge!A91","v":0},{"$f":" [1]NeutroMinutaRge!A91","v":0},null,null,54,null,null,null,null,null,null,null,null,null,null,null,null,null,null,null,{"$f":" [1]Folha4!A85","v":0}]
[null,null,null,null,null,null,null,null,null,null,null,null,null,null,null,{"$f":" [1]SecundariaMinutaRge!A92","v":0},{"$f":" [1]PrimariaMinutaRge!A92","v":"1 CA 02 AWG Vão 35m RGE"},{"$f":" [1]NeutroMinutaRge!A92","v":0},null,null,55,null,null,null,null,null,null,null,null,null,null,null,null,null,null,null,{"$f":" [1]Folha4!A86","v":0}]
[null,null,null,null,null,null,null,null,null,null,null,null,null,null,null,{"$f":" [1]SecundariaMinutaRge!A93","v":"1 CA 02 AWG Vão 35m RGE"},{"$f":" [1]PrimariaMinutaRge!A93","v":"1 CA 1/0 AWG Vão 35m RGE"},{"$f":" [1]NeutroMinutaRge!A93","v":0},null,null,56,null,null,null,null,null,null,null,null,null,null,null,null,null,null,null,{"$f":" [1]Folha4!A87","v":0}]
[null,null,null,null,null,null,null,null,null,null,null,null,null,null,null,{"$f":" [1]SecundariaMinutaRge!A94","v":"1 CA 1/0 AWG Vão 35m RGE"},{"$f":" [1]PrimariaMinutaRge!A94","v":"1 CA 2/0 AWG Vão 35m RGE"},{"$f":" [1]NeutroMinutaRge!A94","v":0},null,null,57,null,null,null,null,null,null,null,null,null,null,null,null,null,null,null,{"$f":" [1]Folha4!A88","v":0}]
[null,null,null,null,null,null,null,null,null,null,null,null,null,null,null,{"$f":" [1]SecundariaMinutaRge!A95","v":"1 CA 2/0 AWG Vão 35m RGE"},{"$f":" [1]PrimariaMinutaRge!A95","v":"1 CA 4/0 AWG Vão 35m RGE"},{"$f":" [1]NeutroMinutaRge!A95","v":0},null,null,58,null,null,null,null,null,null,null,null,null,null,null,null,null,null,null,{"$f":" [1]Folha4!A89","v":0}]
[null,null,null,null,null,null,null,null,null,null,null,null,null,null,null,{"$f":" [1]SecundariaMinutaRge!A96","v":"1 CA 4/0 AWG Vão 35m RGE"},{"$f":" [1]PrimariaMinutaRge!A96","v":"1 CA 336,4 MCM Vão 35m RGE"},{"$f":" [1]NeutroMinutaRge!A96","v":0},null,null,59,null,null,null,null,null,null,null,null,null,null,null,null,null,null,null,{"$f":" [1]Folha4!A90","v":0}]
[null,null,null,null,null,null,null,null,null,null,null,null,null,null,null,{"$f":" [1]SecundariaMinutaRge!A97","v":"1 CA 336,4 MCM Vão 35m RGE"},{"$f":" [1]PrimariaMinutaRge!A97","v":"1 CA 477 MCM Vão 35m RGE"},{"$f":" [1]NeutroMinutaRge!A97","v":0},null,null,60,null,null,null,null,null,null,null,null,null,null,null,null,null,null,null,{"$f":" [1]Folha4!A91","v":0}]
[null,null,null,null,null,null,null,null,null,null,null,null,null,null,null,{"$f":" [1]SecundariaMinutaRge!A98","v":"1 CA 477 MCM Vão 35m RGE"},{"$f":" [1]PrimariaMinutaRge!A98","v":0},{"$f":" [1]NeutroMinutaRge!A98","v":0},null,null,61,null,null,null,null,null,null,null,null,null,null,null,null,null,null,null,{"$f":" [1]Folha4!A92","v":0}]
[null,null,null,null,null,null,null,null,null,null,null,null,null,null,null,{"$f":" [1]SecundariaMinutaRge!A99","v":0},{"$f":" [1]PrimariaMinutaRge!A99","v":"1 CA 02 AWG Vão 80m RGE"},{"$f":" [1]NeutroMinutaRge!A99","v":0},null,null,62,null,null,null,null,null,null,null,null,null,null,null,null,null,null,null,{"$f":" [1]Folha4!A93","v":0}]
[null,null,null,null,null,null,null,null,null,null,null,null,null,null,null,{"$f":" [1]SecundariaMinutaRge!A100","v":"1 CA 02 AWG Vão 80m RGE"},{"$f":" [1]PrimariaMinutaRge!A100","v":"1 CA 1/0 AWG Vão 80m RGE"},{"$f":" [1]NeutroMinutaRge!A100","v":0},null,null,63,null,null,null,null,null,null,null,null,null,null,null,null,null,null,null,{"$f":" [1]Folha4!A94","v":0}]
[null,null,null,null,null,null,null,null,null,null,null,null,null,null,null,{"$f":" [1]SecundariaMinutaRge!A101","v":"1 CA 1/0 AWG Vão 80m RGE"},{"$f":" [1]PrimariaMinutaRge!A101","v":"1 CA 2/0 AWG Vão 80m RGE"},{"$f":" [1]NeutroMinutaRge!A101","v":0},null,null,64,null,null,null,null,null,null,null,null,null,null,null,null,null,null,null,{"$f":" [1]Folha4!A95","v":0}]
[null,null,null,null,null,null,null,null,null,null,null,null,null,null,null,{"$f":" [1]SecundariaMinutaRge!A102","v":"1 CA 2/0 AWG Vão 80m RGE"},{"$f":" [1]PrimariaMinutaRge!A102","v":"1 CA 4/0 AWG Vão 80m RGE"},{"$f":" [1]NeutroMinutaRge!A102","v":0},null,null,65,null,null,null,null,null,null,null,null,null,null,null,null,null,null,null,{"$f":" [1]Folha4!A96","v":0}]
[null,null,null,null,null,null,null,null,null,null,null,null,null,null,null,{"$f":" [1]SecundariaMinutaRge!A103","v":"1 CA 4/0 AWG Vão 80m RGE"},{"$f":" [1]PrimariaMinutaRge!A103","v":"1 CA 336,4 MCM Vão 80m RGE"},{"$f":" [1]NeutroMinutaRge!A103","v":0},null,null,66,null,null,null,null,null,null,null,null,null,null,null,null,null,null,null,{"$f":" [1]Folha4!A97","v":0}]
[null,null,null,null,null,null,null,null,null,null,null,null,null,null,null,{"$f":" [1]SecundariaMinutaRge!A104","v":"1 CA 336,4 MCM Vão 80m RGE"},{"$f":" [1]PrimariaMinutaRge!A104","v":"1 CA 477 MCM Vão 80m RGE"},{"$f":" [1]NeutroMinutaRge!A104","v":0},null,null,67,null,null,null,null,null,null,null,null,null,null,null,null,null,null,null,{"$f":" [1]Folha4!A98","v":0}]
[null,null,null,null,null,null,null,null,null,null,null,null,null,null,null,{"$f":" [1]SecundariaMinutaRge!A105","v":"1 CA 477 MCM Vão 80m RGE"},{"$f":" [1]PrimariaMinutaRge!A105","v":0},{"$f":" [1]NeutroMinutaRge!A105","v":0},null,null,68,null,null,null,null,null,null,null,null,null,null,null,null,null,null,null,{"$f":" [1]Folha4!A99","v":0}]
[null,null,null,null,null,null,null,null,null,null,null,null,null,null,null,{"$f":" [1]SecundariaMinutaRge!A106","v":0},{"$f":" [1]PrimariaMinutaRge!A106","v":"1 CAA 04 AWG Vão 40m RGE"},{"$f":" [1]NeutroMinutaRge!A106","v":0},null,null,69,null,null,null,null,null,null,null,null,null,null,null,null,null,null,null,{"$f":" [1]Folha4!A100","v":0}]
[null,null,null,null,null,null,null,null,null,null,null,null,null,null,null,{"$f":" [1]SecundariaMinutaRge!A107","v":"1 CAA 04 AWG Vão 40m RGE"},{"$f":" [1]PrimariaMinutaRge!A107","v":"1 CAA 02 AWG Vão 40m RGE"},{"$f":" [1]NeutroMinutaRge!A107","v":0},null,null,70,null,null,null,null,null,null,null,null,null,null,null,null,null,null,null,{"$f":" [1]Folha4!A101","v":0}]
[null,null,null,null,null,null,null,null,null,null,null,null,null,null,null,{"$f":" [1]SecundariaMinutaRge!A108","v":"1 CAA 02 AWG Vão 40m RGE"},{"$f":" [1]PrimariaMinutaRge!A108","v":"1 CAA 1/0 AWG Vão 40m RGE"},{"$f":" [1]NeutroMinutaRge!A108","v":0},null,null,71,null,null,null,null,null,null,null,null,null,null,null,null,null,null,null,{"$f":" [1]Folha4!A102","v":0}]
[null,null,null,null,null,null,null,null,null,null,null,null,null,null,null,{"$f":" [1]SecundariaMinutaRge!A109","v":"1 CAA 1/0 AWG Vão 40m RGE"},{"$f":" [1]PrimariaMinutaRge!A109","v":"1 CAA 2/0 AWG Vão 40m RGE"},{"$f":" [1]NeutroMinutaRge!A109","v":0},null,null,72,null,null,null,null,null,null,null,null,null,null,null,null,null,null,null,{"$f":" [1]Folha4!A103","v":0}]
[null,null,null,null,null,null,null,null,null,null,null,null,null,null,null,{"$f":" [1]SecundariaMinutaRge!A110","v":"1 CAA 2/0 AWG Vão 40m RGE"},{"$f":" [1]PrimariaMinutaRge!A110","v":"1 CAA 4/0 AWG Vão 40m RGE"},{"$f":" [1]NeutroMinutaRge!A110","v":0},null,null,73,null,null,null,null,null,null,null,null,null,null,null,null,null,null,null,{"$f":" [1]Folha4!A104","v":0}]
[null,null,null,null,null,null,null,null,null,null,null,null,null,null,null,{"$f":" [1]SecundariaMinutaRge!A111","v":"1 CAA 4/0 AWG Vão 40m RGE"},{"$f":" [1]PrimariaMinutaRge!A111","v":0},{"$f":" [1]NeutroMinutaRge!A111","v":0},null,null,74,null,null,null,null,null,null,null,null,null,null,null,null,null,null,null,{"$f":" [1]Folha4!A105","v":0}]
[null,null,null,null,null,null,null,null,null,null,null,null,null,null,null,{"$f":" [1]SecundariaMinutaRge!A112","v":0},{"$f":" [1]PrimariaMinutaRge!A112","v":"1 CAA 04 AWG Vão 80m RGE"},{"$f":" [1]NeutroMinutaRge!A112","v":0},null,null,75,null,null,null,null,null,null,null,null,null,null,null,null,null,null,null,{"$f":" [1]Folha4!A106","v":0}]
[null,null,null,null,null,null,null,null,null,null,null,null,null,null,null,{"$f":" [1]SecundariaMinutaRge!A113","v":"1 CAA 04 AWG Vão 80m RGE"},{"$f":" [1]PrimariaMinutaRge!A113","v":"1 CAA 02 AWG Vão 80m RGE"},{"$f":" [1]NeutroMinutaRge!A113","v":0},null,null,76,null,null,null,null,null,null,null,null,null,null,null,null,null,null,null,{"$f":" [1]Folha4!A107","v":0}]
[null,null,null,null,null,null,null,null,null,null,null,null,null,null,null,{"$f":" [1]SecundariaMinutaRge!A114","v":"1 CAA 02 AWG Vão 80m RGE"},{"$f":" [1]PrimariaMinutaRge!A114","v":"1 CAA 1/0 AWG Vão 80m RGE"},{"$f":" [1]NeutroMinutaRge!A114","v":0},null,null,77,null,null,null,null,null,null,null,null,null,null,null,null,null,null,null,{"$f":" [1]Folha4!A108","v":0}]
[null,null,null,null,null,null,null,null,null,null,null,null,null,null,null,{"$f":" [1]SecundariaMinutaRge!A115","v":"1 CAA 1/0 AWG Vão 80m RGE"},{"$f":" [1]PrimariaMinutaRge!A115","v":"1 CAA 2/0 AWG Vão 80m RGE"},{"$f":" [1]NeutroMinutaRge!A115","v":0},null,null,78,null,null,null,null,null,null,null,null,null,null,null,null,null,null,null,{"$f":" [1]Folha4!A109","v":0}]
[null,null,null,null,null,null,null,null,null,null,null,null,null,null,null,{"$f":" [1]SecundariaMinutaRge!A116","v":"1 CAA 2/0 AWG Vão 80m RGE"},{"$f":" [1]PrimariaMinutaRge!A116","v":"1 CAA 4/0 AWG Vão 80m RGE"},{"$f":" [1]NeutroMinutaRge!A116","v":0},null,null,79,null,null,null,null,null,null,null,null,null,null,null,null,null,null,null,{"$f":" [1]Folha4!A110","v":0}]
[null,null,null,null,null,null,null,null,null,null,null,null,null,null,null,{"$f":" [1]SecundariaMinutaRge!A117","v":"1 CAA 4/0 AWG Vão 80m RGE"},{"$f":" [1]PrimariaMinutaRge!A117","v":"1 CAA 336,4 MCM Vão 80m RGE"},{"$f":" [1]NeutroMinutaRge!A117","v":0},null,null,80,null,null,null,null,null,null,null,null,null,null,null,null,null,null,null,{"$f":" [1]Folha4!A111","v":0}]
[null,null,null,null,null,null,null,null,null,null,null,null,null,null,null,{"$f":" [1]SecundariaMinutaRge!A118","v":"1 CAA 336,4 MCM Vão 80m RGE"},{"$f":" [1]PrimariaMinutaRge!A118","v":0},{"$f":" [1]NeutroMinutaRge!A118","v":0},null,null,81,null,null,null,null,null,null,null,null,null,null,null,null,null,null,null,{"$f":" [1]Folha4!A112","v":0}]
[null,null,null,null,null,null,null,null,null,null,null,null,null,null,null,{"$f":" [1]SecundariaMinutaRge!A119","v":0},{"$f":" [1]PrimariaMinutaRge!A119","v":"1 CAA 04 AWG Vão 120m RGE"},{"$f":" [1]NeutroMinutaRge!A119","v":0},null,null,82,null,null,null,null,null,null,null,null,null,null,null,null,null,null,null,{"$f":" [1]Folha4!A113","v":0}]
[null,null,null,null,null,null,null,null,null,null,null,null,null,null,null,{"$f":" [1]SecundariaMinutaRge!A120","v":"1 CAA 04 AWG Vão 120m RGE"},{"$f":" [1]PrimariaMinutaRge!A120","v":"1 CAA 02 AWG Vão 120m RGE"},{"$f":" [1]NeutroMinutaRge!A120","v":0},null,null,83,null,null,null,null,null,null,null,null,null,null,null,null,null,null,null,{"$f":" [1]Folha4!A114","v":0}]
[null,null,null,null,null,null,null,null,null,null,null,null,null,null,null,{"$f":" [1]SecundariaMinutaRge!A121","v":"1 CAA 02 AWG Vão 120m RGE"},{"$f":" [1]PrimariaMinutaRge!A121","v":"1 CAA 1/0 AWG Vão 120m RGE"},{"$f":" [1]NeutroMinutaRge!A121","v":0},null,null,84,null,null,null,null,null,null,null,null,null,null,null,null,null,null,null,{"$f":" [1]Folha4!A115","v":0}]
[null,null,null,null,null,null,null,null,null,null,null,null,null,null,null,{"$f":" [1]SecundariaMinutaRge!A122","v":"1 CAA 1/0 AWG Vão 120m RGE"},{"$f":" [1]PrimariaMinutaRge!A122","v":"1 CAA 2/0 AWG Vão 120m RGE"},{"$f":" [1]NeutroMinutaRge!A122","v":0},null,null,85,null,null,null,null,null,null,null,null,null,null,null,null,null,null,null,{"$f":" [1]Folha4!A116","v":0}]
[null,null,null,null,null,null,null,null,null,null,null,null,null,null,null,{"$f":" [1]SecundariaMinutaRge!A123","v":"1 CAA 2/0 AWG Vão 120m RGE"},{"$f":" [1]PrimariaMinutaRge!A123","v":"1 CAA 4/0 AWG Vão 120m RGE"},{"$f":" [1]NeutroMinutaRge!A123","v":0},null,null,86,null,null,null,null,null,null,null,null,null,null,null,null,null,null,null,{"$f":" [1]Folha4!A117","v":0}]
[null,null,null,null,null,null,null,null,null,null,null,null,null,null,null,{"$f":" [1]SecundariaMinutaRge!A124","v":"1 CAA 4/0 AWG Vão 120m RGE"},{"$f":" [1]PrimariaMinutaRge!A124","v":"1 CAA 336,4 MCM Vão 120m RGE"},{"$f":" [1]NeutroMinutaRge!A124","v":0},null,null,87,null,null,null,null,null,null,null,null,null,null,null,null,null,null,null,{"$f":" [1]Folha4!A118","v":0}]
[null,null,null,null,null,null,null,null,null,null,null,null,null,null,null,{"$f":" [1]SecundariaMinutaRge!A125","v":"1 CAA 336,4 MCM Vão 120m RGE"},{"$f":" [1]PrimariaMinutaRge!A125","v":0},{"$f":" [1]NeutroMinutaRge!A125","v":0},null,null,88,null,null,null,null,null,null,null,null,null,null,null,null,null,null,null,{"$f":" [1]Folha4!A119","v":0}]
[null,null,null,null,null,null,null,null,null,null,null,null,null,null,null,{"$f":" [1]SecundariaMinutaRge!A126","v":0},{"$f":" [1]PrimariaMinutaRge!A126","v":0},{"$f":" [1]NeutroMinutaRge!A126","v":0},null,null,89,null,null,null,null,null,null,null,null,null,null,null,null,null,null,null,{"$f":" [1]Folha4!A120","v":0}]
[null,null,null,null,null,null,null,null,null,null,null,null,null,null,null,{"$f":" [1]SecundariaMinutaRge!A127","v":0},{"$f":" [1]PrimariaMinutaRge!A127","v":0},{"$f":" [1]NeutroMinutaRge!A127","v":0},null,null,90,null,null,null,null,null,null,null,null,null,null,null,null,null,null,null,{"$f":" [1]Folha4!A121","v":0}]
[null,null,null,null,null,null,null,null,null,null,null,null,null,null,null,{"$f":" [1]SecundariaMinutaRge!A128","v":0},{"$f":" [1]PrimariaMinutaRge!A128","v":0},{"$f":" [1]NeutroMinutaRge!A128","v":0},null,null,91,null,null,null,null,null,null,null,null,null,null,null,null,null,null,null,{"$f":" [1]Folha4!A122","v":0}]
[null,null,null,null,null,null,null,null,null,null,null,null,null,null,null,{"$f":" [1]SecundariaMinutaRge!A129","v":0},{"$f":" [1]PrimariaMinutaRge!A129","v":0},{"$f":" [1]NeutroMinutaRge!A129","v":0},null,null,92,null,null,null,null,null,null,null,null,null,null,null,null,null,null,null,{"$f":" [1]Folha4!A123","v":0}]
[null,null,null,null,null,null,null,null,null,null,null,null,null,null,null,{"$f":" [1]SecundariaMinutaRge!A130","v":0},{"$f":" [1]PrimariaMinutaRge!A130","v":0},{"$f":" [1]NeutroMinutaRge!A130","v":0},null,null,93,null,null,null,null,null,null,null,null,null,null,null,null,null,null,null,{"$f":" [1]Folha4!A124","v":0}]
[null,null,null,null,null,null,null,null,null,null,null,null,null,null,null,{"$f":" [1]SecundariaMinutaRge!A131","v":0},{"$f":" [1]PrimariaMinutaRge!A131","v":0},{"$f":" [1]NeutroMinutaRge!A131","v":0},null,null,94,null,null,null,null,null,null,null,null,null,null,null,null,null,null,null,{"$f":" [1]Folha4!A125","v":0}]
[null,null,null,null,null,null,null,null,null,null,null,null,null,null,null,{"$f":" [1]SecundariaMinutaRge!A132","v":0},{"$f":" [1]PrimariaMinutaRge!A132","v":0},{"$f":" [1]NeutroMinutaRge!A132","v":0},null,null,95,null,null,null,null,null,null,null,null,null,null,null,null,null,null,null,{"$f":" [1]Folha4!A126","v":0}]
[null,null,null,null,null,null,null,null,null,null,null,null,null,null,null,{"$f":" [1]SecundariaMinutaRge!A133","v":0},{"$f":" [1]PrimariaMinutaRge!A133","v":0},{"$f":" [1]NeutroMinutaRge!A133","v":0},null,null,96,null,null,null,null,null,null,null,null,null,null,null,null,null,null,null,{"$f":" [1]Folha4!A127","v":0}]
[null,null,null,null,null,null,null,null,null,null,null,null,null,null,null,{"$f":" [1]SecundariaMinutaRge!A134","v":0},{"$f":" [1]PrimariaMinutaRge!A134","v":0},{"$f":" [1]NeutroMinutaRge!A134","v":0},null,null,97,null,null,null,null,null,null,null,null,null,null,null,null,null,null,null,{"$f":" [1]Folha4!A128","v":0}]
[null,null,null,null,null,null,null,null,null,null,null,null,null,null,null,{"$f":" [1]SecundariaMinutaRge!A135","v":0},{"$f":" [1]PrimariaMinutaRge!A135","v":0},{"$f":" [1]NeutroMinutaRge!A135","v":0},null,null,98,null,null,null,null,null,null,null,null,null,null,null,null,null,null,null,{"$f":" [1]Folha4!A129","v":0}]
[null,null,null,null,null,null,null,null,null,null,null,null,null,null,null,{"$f":" [1]SecundariaMinutaRge!A136","v":0},{"$f":" [1]PrimariaMinutaRge!A136","v":0},{"$f":" [1]NeutroMinutaRge!A136","v":0},null,null,99,null,null,null,null,null,null,null,null,null,null,null,null,null,null,null,{"$f":" [1]Folha4!A130","v":0}]
[null,null,null,null,null,null,null,null,null,null,null,null,null,null,null,{"$f":" [1]SecundariaMinutaRge!A137","v":0},{"$f":" [1]PrimariaMinutaRge!A137","v":0},{"$f":" [1]NeutroMinutaRge!A137","v":0},null,null,100,null,null,null,null,null,null,null,null,null,null,null,null,null,null,null,{"$f":" [1]Folha4!A131","v":0}]
[null,null,null,null,null,null,null,null,null,null,null,null,null,null,null,{"$f":" [1]SecundariaMinutaRge!A138","v":0},{"$f":" [1]PrimariaMinutaRge!A138","v":0},{"$f":" [1]NeutroMinutaRge!A138","v":0},null,null,101,null,null,null,null,null,null,null,null,null,null,null,null,null,null,null,{"$f":" [1]Folha4!A132","v":0}]
[null,null,null,null,null,null,null,null,null,null,null,null,null,null,null,{"$f":" [1]SecundariaMinutaRge!A139","v":0},{"$f":" [1]PrimariaMinutaRge!A139","v":0},{"$f":" [1]NeutroMinutaRge!A139","v":0},null,null,102,null,null,null,null,null,null,null,null,null,null,null,null,null,null,null,{"$f":" [1]Folha4!A133","v":0}]
[null,null,null,null,null,null,null,null,null,null,null,null,null,null,null,{"$f":" [1]SecundariaMinutaRge!A140","v":0},{"$f":" [1]PrimariaMinutaRge!A140","v":0},{"$f":" [1]NeutroMinutaRge!A140","v":0},null,null,103,null,null,null,null,null,null,null,null,null,null,null,null,null,null,null,{"$f":" [1]Folha4!A134","v":0}]
[null,null,null,null,null,null,null,null,null,null,null,null,null,null,null,{"$f":" [1]SecundariaMinutaRge!A141","v":0},{"$f":" [1]PrimariaMinutaRge!A141","v":0},{"$f":" [1]NeutroMinutaRge!A141","v":0},null,null,104,null,null,null,null,null,null,null,null,null,null,null,null,null,null,null,{"$f":" [1]Folha4!A135","v":0}]
[null,null,null,null,null,null,null,null,null,null,null,null,null,null,null,{"$f":" [1]SecundariaMinutaRge!A142","v":0},{"$f":" [1]PrimariaMinutaRge!A142","v":0},{"$f":" [1]NeutroMinutaRge!A142","v":0},null,null,105,null,null,null,null,null,null,null,null,null,null,null,null,null,null,null,{"$f":" [1]Folha4!A136","v":0}]
[null,null,null,null,null,null,null,null,null,null,null,null,null,null,null,{"$f":" [1]SecundariaMinutaRge!A143","v":0},{"$f":" [1]PrimariaMinutaRge!A143","v":0},{"$f":" [1]NeutroMinutaRge!A143","v":0},null,null,106,null,null,null,null,null,null,null,null,null,null,null,null,null,null,null,{"$f":" [1]Folha4!A137","v":0}]
[null,null,null,null,null,null,null,null,null,null,null,null,null,null,null,{"$f":" [1]SecundariaMinutaRge!A144","v":0},{"$f":" [1]PrimariaMinutaRge!A144","v":0},{"$f":" [1]NeutroMinutaRge!A144","v":0},null,null,107,null,null,null,null,null,null,null,null,null,null,null,null,null,null,null,{"$f":" [1]Folha4!A138","v":0}]
[null,null,null,null,null,null,null,null,null,null,null,null,null,null,null,{"$f":" [1]SecundariaMinutaRge!A145","v":0},{"$f":" [1]PrimariaMinutaRge!A145","v":0},{"$f":" [1]NeutroMinutaRge!A145","v":0},null,null,108,null,null,null,null,null,null,null,null,null,null,null,null,null,null,null,{"$f":" [1]Folha4!A139","v":0}]
[null,null,null,null,null,null,null,null,null,null,null,null,null,null,null,{"$f":" [1]SecundariaMinutaRge!A146","v":0},{"$f":" [1]PrimariaMinutaRge!A146","v":0},{"$f":" [1]NeutroMinutaRge!A146","v":0},null,null,109,null,null,null,null,null,null,null,null,null,null,null,null,null,null,null,{"$f":" [1]Folha4!A140","v":0}]
[null,null,null,null,null,null,null,null,null,null,null,null,null,null,null,{"$f":" [1]SecundariaMinutaRge!A147","v":0},{"$f":" [1]PrimariaMinutaRge!A147","v":0},{"$f":" [1]NeutroMinutaRge!A147","v":0},null,null,110,null,null,null,null,null,null,null,null,null,null,null,null,null,null,null,{"$f":" [1]Folha4!A141","v":0}]
[null,null,null,null,null,null,null,null,null,null,null,null,null,null,null,{"$f":" [1]SecundariaMinutaRge!A148","v":0},{"$f":" [1]PrimariaMinutaRge!A148","v":0},{"$f":" [1]NeutroMinutaRge!A148","v":0},null,null,111,null,null,null,null,null,null,null,null,null,null,null,null,null,null,null,{"$f":" [1]Folha4!A142","v":0}]
[null,null,null,null,null,null,null,null,null,null,null,null,null,null,null,{"$f":" [1]SecundariaMinutaRge!A149","v":0},{"$f":" [1]PrimariaMinutaRge!A149","v":0},{"$f":" [1]NeutroMinutaRge!A149","v":0},null,null,112,null,null,null,null,null,null,null,null,null,null,null,null,null,null,null,{"$f":" [1]Folha4!A143","v":0}]
[null,null,null,null,null,null,null,null,null,null,null,null,null,null,null,{"$f":" [1]SecundariaMinutaRge!A150","v":0},{"$f":" [1]PrimariaMinutaRge!A150","v":0},{"$f":" [1]NeutroMinutaRge!A150","v":0},null,null,113,null,null,null,null,null,null,null,null,null,null,null,null,null,null,null,{"$f":" [1]Folha4!A144","v":0}]
[null,null,null,null,null,null,null,null,null,null,null,null,null,null,null,{"$f":" [1]SecundariaMinutaRge!A151","v":0},{"$f":" [1]PrimariaMinutaRge!A151","v":0},{"$f":" [1]NeutroMinutaRge!A151","v":0},null,null,114,null,null,null,null,null,null,null,null,null,null,null,null,null,null,null,{"$f":" [1]Folha4!A145","v":0}]
[null,null,null,null,null,null,null,null,null,null,null,null,null,null,null,{"$f":" [1]SecundariaMinutaRge!A152","v":0},{"$f":" [1]PrimariaMinutaRge!A152","v":0},{"$f":" [1]NeutroMinutaRge!A152","v":0},null,null,115,null,null,null,null,null,null,null,null,null,null,null,null,null,null,null,{"$f":" [1]Folha4!A146","v":0}]
[null,null,null,null,null,null,null,null,null,null,null,null,null,null,null,{"$f":" [1]SecundariaMinutaRge!A153","v":0},{"$f":" [1]PrimariaMinutaRge!A153","v":0},{"$f":" [1]NeutroMinutaRge!A153","v":0},null,null,116,null,null,null,null,null,null,null,null,null,null,null,null,null,null,null,{"$f":" [1]Folha4!A147","v":0}]
[null,null,null,null,null,null,null,null,null,null,null,null,null,null,null,{"$f":" [1]SecundariaMinutaRge!A154","v":0},{"$f":" [1]PrimariaMinutaRge!A154","v":0},{"$f":" [1]NeutroMinutaRge!A154","v":0},null,null,117,null,null,null,null,null,null,null,null,null,null,null,null,null,null,null,{"$f":" [1]Folha4!A148","v":0}]
[null,null,null,null,null,null,null,null,null,null,null,null,null,null,null,{"$f":" [1]SecundariaMinutaRge!A155","v":0},{"$f":" [1]PrimariaMinutaRge!A155","v":0},{"$f":" [1]NeutroMinutaRge!A155","v":0},null,null,118,null,null,null,null,null,null,null,null,null,null,null,null,null,null,null,{"$f":" [1]Folha4!A149","v":0}]
[null,null,null,null,null,null,null,null,null,null,null,null,null,null,null,{"$f":" [1]SecundariaMinutaRge!A156","v":0},{"$f":" [1]PrimariaMinutaRge!A156","v":0},{"$f":" [1]NeutroMinutaRge!A156","v":0},null,null,119,null,null,null,null,null,null,null,null,null,null,null,null,null,null,null,{"$f":" [1]Folha4!A150","v":0}]
[null,null,null,null,null,null,null,null,null,null,null,null,null,null,null,{"$f":" [1]SecundariaMinutaRge!A157","v":0},{"$f":" [1]PrimariaMinutaRge!A157","v":0},{"$f":" [1]NeutroMinutaRge!A157","v":0},null,null,120,null,null,null,null,null,null,null,null,null,null,null,null,null,null,null,{"$f":" [1]Folha4!A151","v":0}]
[null,null,null,null,null,null,null,null,null,null,null,null,null,null,null,{"$f":" [1]SecundariaMinutaRge!A158","v":0},{"$f":" [1]PrimariaMinutaRge!A158","v":0},{"$f":" [1]NeutroMinutaRge!A158","v":0},null,null,121,null,null,null,null,null,null,null,null,null,null,null,null,null,null,null,{"$f":" [1]Folha4!A152","v":0}]
[null,null,null,null,null,null,null,null,null,null,null,null,null,null,null,{"$f":" [1]SecundariaMinutaRge!A159","v":0},{"$f":" [1]PrimariaMinutaRge!A159","v":0},{"$f":" [1]NeutroMinutaRge!A159","v":0},null,null,122,null,null,null,null,null,null,null,null,null,null,null,null,null,null,null,{"$f":" [1]Folha4!A153","v":0}]
[null,null,null,null,null,null,null,null,null,null,null,null,null,null,null,{"$f":" [1]SecundariaMinutaRge!A160","v":0},{"$f":" [1]PrimariaMinutaRge!A160","v":0},{"$f":" [1]NeutroMinutaRge!A160","v":0},null,null,123,null,null,null,null,null,null,null,null,null,null,null,null,null,null,null,{"$f":" [1]Folha4!A154","v":0}]
[null,null,null,null,null,null,null,null,null,null,null,null,null,null,null,{"$f":" [1]SecundariaMinutaRge!A161","v":0},{"$f":" [1]PrimariaMinutaRge!A161","v":0},{"$f":" [1]NeutroMinutaRge!A161","v":0},null,null,124,null,null,null,null,null,null,null,null,null,null,null,null,null,null,null,{"$f":" [1]Folha4!A155","v":0}]
[null,null,null,null,null,null,null,null,null,null,null,null,null,null,null,{"$f":" [1]SecundariaMinutaRge!A162","v":0},{"$f":" [1]PrimariaMinutaRge!A162","v":0},{"$f":" [1]NeutroMinutaRge!A162","v":0},null,null,125,null,null,null,null,null,null,null,null,null,null,null,null,null,null,null,{"$f":" [1]Folha4!A156","v":0}]
[null,null,null,null,null,null,null,null,null,null,null,null,null,null,null,{"$f":" [1]SecundariaMinutaRge!A163","v":0},{"$f":" [1]PrimariaMinutaRge!A163","v":0},{"$f":" [1]NeutroMinutaRge!A163","v":0},null,null,126,null,null,null,null,null,null,null,null,null,null,null,null,null,null,null,{"$f":" [1]Folha4!A157","v":0}]
[null,null,null,null,null,null,null,null,null,null,null,null,null,null,null,{"$f":" [1]SecundariaMinutaRge!A164","v":0},{"$f":" [1]PrimariaMinutaRge!A164","v":0},{"$f":" [1]NeutroMinutaRge!A164","v":0},null,null,127,null,null,null,null,null,null,null,null,null,null,null,null,null,null,null,{"$f":" [1]Folha4!A158","v":0}]
[null,null,null,null,null,null,null,null,null,null,null,null,null,null,null,{"$f":" [1]SecundariaMinutaRge!A165","v":0},{"$f":" [1]PrimariaMinutaRge!A165","v":0},{"$f":" [1]NeutroMinutaRge!A165","v":0},null,null,128,null,null,null,null,null,null,null,null,null,null,null,null,null,null,null,{"$f":" [1]Folha4!A159","v":0}]
[null,null,null,null,null,null,null,null,null,null,null,null,null,null,null,{"$f":" [1]SecundariaMinutaRge!A166","v":0},{"$f":" [1]PrimariaMinutaRge!A166","v":0},{"$f":" [1]NeutroMinutaRge!A166","v":0},null,null,129,null,null,null,null,null,null,null,null,null,null,null,null,null,null,null,{"$f":" [1]Folha4!A160","v":0}]
[null,null,null,null,null,null,null,null,null,null,null,null,null,null,null,{"$f":" [1]SecundariaMinutaRge!A167","v":0},{"$f":" [1]PrimariaMinutaRge!A167","v":0},{"$f":" [1]NeutroMinutaRge!A167","v":0},null,null,130,null,null,null,null,null,null,null,null,null,null,null,null,null,null,null,{"$f":" [1]Folha4!A161","v":0}]
[null,null,null,null,null,null,null,null,null,null,null,null,null,null,null,{"$f":" [1]SecundariaMinutaRge!A168","v":0},{"$f":" [1]PrimariaMinutaRge!A168","v":0},{"$f":" [1]NeutroMinutaRge!A168","v":0},null,null,131,null,null,null,null,null,null,null,null,null,null,null,null,null,null,null,{"$f":" [1]Folha4!A162","v":0}]
[null,null,null,null,null,null,null,null,null,null,null,null,null,null,null,{"$f":" [1]SecundariaMinutaRge!A169","v":0},{"$f":" [1]PrimariaMinutaRge!A169","v":0},{"$f":" [1]NeutroMinutaRge!A169","v":0},null,null,132,null,null,null,null,null,null,null,null,null,null,null,null,null,null,null,{"$f":" [1]Folha4!A163","v":0}]
[null,null,null,null,null,null,null,null,null,null,null,null,null,null,null,{"$f":" [1]SecundariaMinutaRge!A170","v":0},{"$f":" [1]PrimariaMinutaRge!A170","v":0},{"$f":" [1]NeutroMinutaRge!A170","v":0},null,null,133,null,null,null,null,null,null,null,null,null,null,null,null,null,null,null,{"$f":" [1]Folha4!A164","v":0}]
[null,null,null,null,null,null,null,null,null,null,null,null,null,null,null,{"$f":" [1]SecundariaMinutaRge!A171","v":0},{"$f":" [1]PrimariaMinutaRge!A171","v":0},{"$f":" [1]NeutroMinutaRge!A171","v":0},null,null,134,null,null,null,null,null,null,null,null,null,null,null,null,null,null,null,{"$f":" [1]Folha4!A165","v":0}]
[null,null,null,null,null,null,null,null,null,null,null,null,null,null,null,{"$f":" [1]SecundariaMinutaRge!A172","v":0},{"$f":" [1]PrimariaMinutaRge!A172","v":0},{"$f":" [1]NeutroMinutaRge!A172","v":0},null,null,135,null,null,null,null,null,null,null,null,null,null,null,null,null,null,null,{"$f":" [1]Folha4!A166","v":0}]
[null,null,null,null,null,null,null,null,null,null,null,null,null,null,null,{"$f":" [1]SecundariaMinutaRge!A173","v":0},{"$f":" [1]PrimariaMinutaRge!A173","v":0},{"$f":" [1]NeutroMinutaRge!A173","v":0},null,null,136,null,null,null,null,null,null,null,null,null,null,null,null,null,null,null,{"$f":" [1]Folha4!A167","v":0}]
[null,null,null,null,null,null,null,null,null,null,null,null,null,null,null,{"$f":" [1]SecundariaMinutaRge!A174","v":0},{"$f":" [1]PrimariaMinutaRge!A174","v":0},{"$f":" [1]NeutroMinutaRge!A174","v":0},null,null,137,null,null,null,null,null,null,null,null,null,null,null,null,null,null,null,{"$f":" [1]Folha4!A168","v":0}]
[null,null,null,null,null,null,null,null,null,null,null,null,null,null,null,{"$f":" [1]SecundariaMinutaRge!A175","v":0},{"$f":" [1]PrimariaMinutaRge!A175","v":0},{"$f":" [1]NeutroMinutaRge!A175","v":0},null,null,138,null,null,null,null,null,null,null,null,null,null,null,null,null,null,null,{"$f":" [1]Folha4!A169","v":0}]
[null,null,null,null,null,null,null,null,null,null,null,null,null,null,null,{"$f":" [1]SecundariaMinutaRge!A176","v":0},{"$f":" [1]PrimariaMinutaRge!A176","v":0},{"$f":" [1]NeutroMinutaRge!A176","v":0},null,null,139,null,null,null,null,null,null,null,null,null,null,null,null,null,null,null,{"$f":" [1]Folha4!A170","v":0}]
[null,null,null,null,null,null,null,null,null,null,null,null,null,null,null,{"$f":" [1]SecundariaMinutaRge!A177","v":0},{"$f":" [1]PrimariaMinutaRge!A177","v":0},{"$f":" [1]NeutroMinutaRge!A177","v":0},null,null,140,null,null,null,null,null,null,null,null,null,null,null,null,null,null,null,{"$f":" [1]Folha4!A171","v":0}]
[null,null,null,null,null,null,null,null,null,null,null,null,null,null,null,{"$f":" [1]SecundariaMinutaRge!A178","v":0},{"$f":" [1]PrimariaMinutaRge!A178","v":0},{"$f":" [1]NeutroMinutaRge!A178","v":0},null,null,141,null,null,null,null,null,null,null,null,null,null,null,null,null,null,null,{"$f":" [1]Folha4!A172","v":0}]
[null,null,null,null,null,null,null,null,null,null,null,null,null,null,null,{"$f":" [1]SecundariaMinutaRge!A179","v":0},{"$f":" [1]PrimariaMinutaRge!A179","v":0},{"$f":" [1]NeutroMinutaRge!A179","v":0},null,null,142,null,null,null,null,null,null,null,null,null,null,null,null,null,null,null,{"$f":" [1]Folha4!A173","v":0}]
[null,null,null,null,null,null,null,null,null,null,null,null,null,null,null,{"$f":" [1]SecundariaMinutaRge!A180","v":0},{"$f":" [1]PrimariaMinutaRge!A180","v":0},{"$f":" [1]NeutroMinutaRge!A180","v":0},null,null,143,null,null,null,null,null,null,null,null,null,null,null,null,null,null,null,{"$f":" [1]Folha4!A174","v":0}]
[null,null,null,null,null,null,null,null,null,null,null,null,null,null,null,{"$f":" [1]SecundariaMinutaRge!A181","v":0},{"$f":" [1]PrimariaMinutaRge!A181","v":0},{"$f":" [1]NeutroMinutaRge!A181","v":0},null,null,144,null,null,null,null,null,null,null,null,null,null,null,null,null,null,null,{"$f":" [1]Folha4!A175","v":0}]
[null,null,null,null,null,null,null,null,null,null,null,null,null,null,null,{"$f":" [1]SecundariaMinutaRge!A182","v":0},{"$f":" [1]PrimariaMinutaRge!A182","v":0},{"$f":" [1]NeutroMinutaRge!A182","v":0},null,null,145,null,null,null,null,null,null,null,null,null,null,null,null,null,null,null,{"$f":" [1]Folha4!A176","v":0}]
[null,null,null,null,null,null,null,null,null,null,null,null,null,null,null,{"$f":" [1]SecundariaMinutaRge!A183","v":0},{"$f":" [1]PrimariaMinutaRge!A183","v":0},{"$f":" [1]NeutroMinutaRge!A183","v":0},null,null,146,null,null,null,null,null,null,null,null,null,null,null,null,null,null,null,{"$f":" [1]Folha4!A177","v":0}]
[null,null,null,null,null,null,null,null,null,null,null,null,null,null,null,{"$f":" [1]SecundariaMinutaRge!A184","v":0},{"$f":" [1]PrimariaMinutaRge!A184","v":0},{"$f":" [1]NeutroMinutaRge!A184","v":0},null,null,147,null,null,null,null,null,null,null,null,null,null,null,null,null,null,null,{"$f":" [1]Folha4!A178","v":0}]
[null,null,null,null,null,null,null,null,null,null,null,null,null,null,null,{"$f":" [1]SecundariaMinutaRge!A185","v":0},{"$f":" [1]PrimariaMinutaRge!A185","v":0},{"$f":" [1]NeutroMinutaRge!A185","v":0},null,null,148,null,null,null,null,null,null,null,null,null,null,null,null,null,null,null,{"$f":" [1]Folha4!A179","v":0}]
[null,null,null,null,null,null,null,null,null,null,null,null,null,null,null,{"$f":" [1]SecundariaMinutaRge!A186","v":0},{"$f":" [1]PrimariaMinutaRge!A186","v":0},{"$f":" [1]NeutroMinutaRge!A186","v":0},null,null,149,null,null,null,null,null,null,null,null,null,null,null,null,null,null,null,{"$f":" [1]Folha4!A180","v":0}]
[null,null,null,null,null,null,null,null,null,null,null,null,null,null,null,{"$f":" [1]SecundariaMinutaRge!A187","v":0},{"$f":" [1]PrimariaMinutaRge!A187","v":0},{"$f":" [1]NeutroMinutaRge!A187","v":0},null,null,150,null,null,null,null,null,null,null,null,null,null,null,null,null,null,null,{"$f":" [1]Folha4!A181","v":0}]
[null,null,null,null,null,null,null,null,null,null,null,null,null,null,null,{"$f":" [1]SecundariaMinutaRge!A188","v":0},{"$f":" [1]PrimariaMinutaRge!A188","v":0},{"$f":" [1]NeutroMinutaRge!A188","v":0},null,null,151,null,null,null,null,null,null,null,null,null,null,null,null,null,null,null,{"$f":" [1]Folha4!A182","v":0}]
[null,null,null,null,null,null,null,null,null,null,null,null,null,null,null,{"$f":" [1]SecundariaMinutaRge!A189","v":0},{"$f":" [1]PrimariaMinutaRge!A189","v":0},{"$f":" [1]NeutroMinutaRge!A189","v":0},null,null,152,null,null,null,null,null,null,null,null,null,null,null,null,null,null,null,{"$f":" [1]Folha4!A183","v":0}]
[null,null,null,null,null,null,null,null,null,null,null,null,null,null,null,{"$f":" [1]SecundariaMinutaRge!A190","v":0},{"$f":" [1]PrimariaMinutaRge!A190","v":0},{"$f":" [1]NeutroMinutaRge!A190","v":0},null,null,153,null,null,null,null,null,null,null,null,null,null,null,null,null,null,null,{"$f":" [1]Folha4!A184","v":0}]
[null,null,null,null,null,null,null,null,null,null,null,null,null,null,null,{"$f":" [1]SecundariaMinutaRge!A191","v":0},{"$f":" [1]PrimariaMinutaRge!A191","v":0},{"$f":" [1]NeutroMinutaRge!A191","v":0},null,null,154,null,null,null,null,null,null,null,null,null,null,null,null,null,null,null,{"$f":" [1]Folha4!A185","v":0}]
[null,null,null,null,null,null,null,null,null,null,null,null,null,null,null,{"$f":" [1]SecundariaMinutaRge!A192","v":0},{"$f":" [1]PrimariaMinutaRge!A192","v":0},{"$f":" [1]NeutroMinutaRge!A192","v":0},null,null,155,null,null,null,null,null,null,null,null,null,null,null,null,null,null,null,{"$f":" [1]Folha4!A186","v":0}]
[null,null,null,null,null,null,null,null,null,null,null,null,null,null,null,{"$f":" [1]SecundariaMinutaRge!A193","v":0},{"$f":" [1]PrimariaMinutaRge!A193","v":0},{"$f":" [1]NeutroMinutaRge!A193","v":0},null,null,156,null,null,null,null,null,null,null,null,null,null,null,null,null,null,null,{"$f":" [1]Folha4!A187","v":0}]
[null,null,null,null,null,null,null,null,null,null,null,null,null,null,null,{"$f":" [1]SecundariaMinutaRge!A194","v":0},{"$f":" [1]PrimariaMinutaRge!A194","v":0},{"$f":" [1]NeutroMinutaRge!A194","v":0},null,null,157,null,null,null,null,null,null,null,null,null,null,null,null,null,null,null,{"$f":" [1]Folha4!A188","v":0}]
[null,null,null,null,null,null,null,null,null,null,null,null,null,null,null,{"$f":" [1]SecundariaMinutaRge!A195","v":0},{"$f":" [1]PrimariaMinutaRge!A195","v":0},{"$f":" [1]NeutroMinutaRge!A195","v":0},null,null,158,null,null,null,null,null,null,null,null,null,null,null,null,null,null,null,{"$f":" [1]Folha4!A189","v":0}]
[null,null,null,null,null,null,null,null,null,null,null,null,null,null,null,{"$f":" [1]SecundariaMinutaRge!A196","v":0},{"$f":" [1]PrimariaMinutaRge!A196","v":0},{"$f":" [1]NeutroMinutaRge!A196","v":0},null,null,159,null,null,null,null,null,null,null,null,null,null,null,null,null,null,null,{"$f":" [1]Folha4!A190","v":0}]
[null,null,null,null,null,null,null,null,null,null,null,null,null,null,null,{"$f":" [1]SecundariaMinutaRge!A197","v":0},{"$f":" [1]PrimariaMinutaRge!A197","v":0},{"$f":" [1]NeutroMinutaRge!A197","v":0},null,null,160,null,null,null,null,null,null,null,null,null,null,null,null,null,null,null,{"$f":" [1]Folha4!A191","v":0}]
[null,null,null,null,null,null,null,null,null,null,null,null,null,null,null,{"$f":" [1]SecundariaMinutaRge!A198","v":0},{"$f":" [1]PrimariaMinutaRge!A198","v":0},{"$f":" [1]NeutroMinutaRge!A198","v":0},null,null,161,null,null,null,null,null,null,null,null,null,null,null,null,null,null,null,{"$f":" [1]Folha4!A192","v":0}]
[null,null,null,null,null,null,null,null,null,null,null,null,null,null,null,{"$f":" [1]SecundariaMinutaRge!A199","v":0},{"$f":" [1]PrimariaMinutaRge!A199","v":0},{"$f":" [1]NeutroMinutaRge!A199","v":0},null,null,162,null,null,null,null,null,null,null,null,null,null,null,null,null,null,null,{"$f":" [1]Folha4!A193","v":0}]
[null,null,null,null,null,null,null,null,null,null,null,null,null,null,null,{"$f":" [1]SecundariaMinutaRge!A200","v":0},{"$f":" [1]PrimariaMinutaRge!A200","v":0},{"$f":" [1]NeutroMinutaRge!A200","v":0},null,null,163,null,null,null,null,null,null,null,null,null,null,null,null,null,null,null,{"$f":" [1]Folha4!A194","v":0}]
[null,null,null,null,null,null,null,null,null,null,null,null,null,null,null,{"$f":" [1]SecundariaMinutaRge!A201","v":0},{"$f":" [1]PrimariaMinutaRge!A201","v":0},{"$f":" [1]NeutroMinutaRge!A201","v":0},null,null,164,null,null,null,null,null,null,null,null,null,null,null,null,null,null,null,{"$f":" [1]Folha4!A195","v":0}]
[null,null,null,null,null,null,null,null,null,null,null,null,null,null,null,{"$f":" [1]SecundariaMinutaRge!A202","v":0},{"$f":" [1]PrimariaMinutaRge!A202","v":0},{"$f":" [1]NeutroMinutaRge!A202","v":0},null,null,165,null,null,null,null,null,null,null,null,null,null,null,null,null,null,null,{"$f":" [1]Folha4!A196","v":0}]
[null,null,null,null,null,null,null,null,null,null,null,null,null,null,null,{"$f":" [1]SecundariaMinutaRge!A203","v":0},{"$f":" [1]PrimariaMinutaRge!A203","v":0},{"$f":" [1]NeutroMinutaRge!A203","v":0},null,null,166,null,null,null,null,null,null,null,null,null,null,null,null,null,null,null,{"$f":" [1]Folha4!A197","v":0}]
[null,null,null,null,null,null,null,null,null,null,null,null,null,null,null,{"$f":" [1]SecundariaMinutaRge!A204","v":0},{"$f":" [1]PrimariaMinutaRge!A204","v":0},{"$f":" [1]NeutroMinutaRge!A204","v":0},null,null,167,null,null,null,null,null,null,null,null,null,null,null,null,null,null,null,{"$f":" [1]Folha4!A198","v":0}]
[null,null,null,null,null,null,null,null,null,null,null,null,null,null,null,{"$f":" [1]SecundariaMinutaRge!A205","v":0},{"$f":" [1]PrimariaMinutaRge!A205","v":0},{"$f":" [1]NeutroMinutaRge!A205","v":0},null,null,168,null,null,null,null,null,null,null,null,null,null,null,null,null,null,null,{"$f":" [1]Folha4!A199","v":0}]
[null,null,null,null,null,null,null,null,null,null,null,null,null,null,null,{"$f":" [1]SecundariaMinutaRge!A206","v":0},{"$f":" [1]PrimariaMinutaRge!A206","v":0},{"$f":" [1]NeutroMinutaRge!A206","v":0},null,null,169,null,null,null,null,null,null,null,null,null,null,null,null,null,null,null,{"$f":" [1]Folha4!A200","v":0}]
[null,null,null,null,null,null,null,null,null,null,null,null,null,null,null,{"$f":" [1]SecundariaMinutaRge!A207","v":0},{"$f":" [1]PrimariaMinutaRge!A207","v":0},{"$f":" [1]NeutroMinutaRge!A207","v":0},null,null,170,null,null,null,null,null,null,null,null,null,null,null,null,null,null,null,{"$f":" [1]Folha4!A201","v":0}]
[null,null,null,null,null,null,null,null,null,null,null,null,null,null,null,{"$f":" [1]SecundariaMinutaRge!A208","v":0},{"$f":" [1]PrimariaMinutaRge!A208","v":0},{"$f":" [1]NeutroMinutaRge!A208","v":0},null,null,171,null,null,null,null,null,null,null,null,null,null,null,null,null,null,null,{"$f":" [1]Folha4!A202","v":0}]
[null,null,null,null,null,null,null,null,null,null,null,null,null,null,null,{"$f":" [1]SecundariaMinutaRge!A209","v":0},{"$f":" [1]PrimariaMinutaRge!A209","v":0},{"$f":" [1]NeutroMinutaRge!A209","v":0},null,null,172,null,null,null,null,null,null,null,null,null,null,null,null,null,null,null,{"$f":" [1]Folha4!A203","v":0}]
[null,null,null,null,null,null,null,null,null,null,null,null,null,null,null,{"$f":" [1]SecundariaMinutaRge!A210","v":0},{"$f":" [1]PrimariaMinutaRge!A210","v":0},{"$f":" [1]NeutroMinutaRge!A210","v":0},null,null,173,null,null,null,null,null,null,null,null,null,null,null,null,null,null,null,{"$f":" [1]Folha4!A204","v":0}]
[null,null,null,null,null,null,null,null,null,null,null,null,null,null,null,{"$f":" [1]SecundariaMinutaRge!A211","v":0},{"$f":" [1]PrimariaMinutaRge!A211","v":0},{"$f":" [1]NeutroMinutaRge!A211","v":0},null,null,174,null,null,null,null,null,null,null,null,null,null,null,null,null,null,null,{"$f":" [1]Folha4!A205","v":0}]
[null,null,null,null,null,null,null,null,null,null,null,null,null,null,null,{"$f":" [1]SecundariaMinutaRge!A212","v":0},{"$f":" [1]PrimariaMinutaRge!A212","v":0},{"$f":" [1]NeutroMinutaRge!A212","v":0},null,null,175,null,null,null,null,null,null,null,null,null,null,null,null,null,null,null,{"$f":" [1]Folha4!A206","v":0}]
[null,null,null,null,null,null,null,null,null,null,null,null,null,null,null,{"$f":" [1]SecundariaMinutaRge!A213","v":0},{"$f":" [1]PrimariaMinutaRge!A213","v":0},{"$f":" [1]NeutroMinutaRge!A213","v":0},null,null,176,null,null,null,null,null,null,null,null,null,null,null,null,null,null,null,{"$f":" [1]Folha4!A207","v":0}]
[null,null,null,null,null,null,null,null,null,null,null,null,null,null,null,{"$f":" [1]SecundariaMinutaRge!A214","v":0},{"$f":" [1]PrimariaMinutaRge!A214","v":0},{"$f":" [1]NeutroMinutaRge!A214","v":0},null,null,177,null,null,null,null,null,null,null,null,null,null,null,null,null,null,null,{"$f":" [1]Folha4!A208","v":0}]
[null,null,null,null,null,null,null,null,null,null,null,null,null,null,null,{"$f":" [1]SecundariaMinutaRge!A215","v":0},{"$f":" [1]PrimariaMinutaRge!A215","v":0},{"$f":" [1]NeutroMinutaRge!A215","v":0},null,null,178,null,null,null,null,null,null,null,null,null,null,null,null,null,null,null,{"$f":" [1]Folha4!A209","v":0}]
[null,null,null,null,null,null,null,null,null,null,null,null,null,null,null,{"$f":" [1]SecundariaMinutaRge!A216","v":0},{"$f":" [1]PrimariaMinutaRge!A216","v":0},{"$f":" [1]NeutroMinutaRge!A216","v":0},null,null,179,null,null,null,null,null,null,null,null,null,null,null,null,null,null,null,{"$f":" [1]Folha4!A210","v":0}]
[null,null,null,null,null,null,null,null,null,null,null,null,null,null,null,{"$f":" [1]SecundariaMinutaRge!A217","v":0},{"$f":" [1]PrimariaMinutaRge!A217","v":0},{"$f":" [1]NeutroMinutaRge!A217","v":0},null,null,180,null,null,null,null,null,null,null,null,null,null,null,null,null,null,null,{"$f":" [1]Folha4!A211","v":0}]
[null,null,null,null,null,null,null,null,null,null,null,null,null,null,null,{"$f":" [1]SecundariaMinutaRge!A218","v":0},{"$f":" [1]PrimariaMinutaRge!A218","v":0},{"$f":" [1]NeutroMinutaRge!A218","v":0},null,null,181,null,null,null,null,null,null,null,null,null,null,null,null,null,null,null,{"$f":" [1]Folha4!A212","v":0}]
[null,null,null,null,null,null,null,null,null,null,null,null,null,null,null,{"$f":" [1]SecundariaMinutaRge!A219","v":0},{"$f":" [1]PrimariaMinutaRge!A219","v":0},{"$f":" [1]NeutroMinutaRge!A219","v":0},null,null,182,null,null,null,null,null,null,null,null,null,null,null,null,null,null,null,{"$f":" [1]Folha4!A213","v":0}]
[null,null,null,null,null,null,null,null,null,null,null,null,null,null,null,{"$f":" [1]SecundariaMinutaRge!A220","v":0},{"$f":" [1]PrimariaMinutaRge!A220","v":0},{"$f":" [1]NeutroMinutaRge!A220","v":0},null,null,183,null,null,null,null,null,null,null,null,null,null,null,null,null,null,null,{"$f":" [1]Folha4!A214","v":0}]
[null,null,null,null,null,null,null,null,null,null,null,null,null,null,null,{"$f":" [1]SecundariaMinutaRge!A221","v":0},{"$f":" [1]PrimariaMinutaRge!A221","v":0},{"$f":" [1]NeutroMinutaRge!A221","v":0},null,null,184,null,null,null,null,null,null,null,null,null,null,null,null,null,null,null,{"$f":" [1]Folha4!A215","v":0}]
[null,null,null,null,null,null,null,null,null,null,null,null,null,null,null,{"$f":" [1]SecundariaMinutaRge!A222","v":0},{"$f":" [1]PrimariaMinutaRge!A222","v":0},{"$f":" [1]NeutroMinutaRge!A222","v":0},null,null,185,null,null,null,null,null,null,null,null,null,null,null,null,null,null,null,{"$f":" [1]Folha4!A216","v":0}]
[null,null,null,null,null,null,null,null,null,null,null,null,null,null,null,{"$f":" [1]SecundariaMinutaRge!A223","v":0},{"$f":" [1]PrimariaMinutaRge!A223","v":0},{"$f":" [1]NeutroMinutaRge!A223","v":0},null,null,186,null,null,null,null,null,null,null,null,null,null,null,null,null,null,null,{"$f":" [1]Folha4!A217","v":0}]
[null,null,null,null,null,null,null,null,null,null,null,null,null,null,null,{"$f":" [1]SecundariaMinutaRge!A224","v":0},{"$f":" [1]PrimariaMinutaRge!A224","v":0},{"$f":" [1]NeutroMinutaRge!A224","v":0},null,null,187,null,null,null,null,null,null,null,null,null,null,null,null,null,null,null,{"$f":" [1]Folha4!A218","v":0}]
[null,null,null,null,null,null,null,null,null,null,null,null,null,null,null,{"$f":" [1]SecundariaMinutaRge!A225","v":0},{"$f":" [1]PrimariaMinutaRge!A225","v":0},{"$f":" [1]NeutroMinutaRge!A225","v":0},null,null,188,null,null,null,null,null,null,null,null,null,null,null,null,null,null,null,{"$f":" [1]Folha4!A219","v":0}]
[null,null,null,null,null,null,null,null,null,null,null,null,null,null,null,{"$f":" [1]SecundariaMinutaRge!A226","v":0},{"$f":" [1]PrimariaMinutaRge!A226","v":0},{"$f":" [1]NeutroMinutaRge!A226","v":0},null,null,189,null,null,null,null,null,null,null,null,null,null,null,null,null,null,null,{"$f":" [1]Folha4!A220","v":0}]
[null,null,null,null,null,null,null,null,null,null,null,null,null,null,null,{"$f":" [1]SecundariaMinutaRge!A227","v":0},{"$f":" [1]PrimariaMinutaRge!A227","v":0},{"$f":" [1]NeutroMinutaRge!A227","v":0},null,null,190,null,null,null,null,null,null,null,null,null,null,null,null,null,null,null,{"$f":" [1]Folha4!A221","v":0}]
[null,null,null,null,null,null,null,null,null,null,null,null,null,null,null,{"$f":" [1]SecundariaMinutaRge!A228","v":0},{"$f":" [1]PrimariaMinutaRge!A228","v":0},{"$f":" [1]NeutroMinutaRge!A228","v":0},null,null,191,null,null,null,null,null,null,null,null,null,null,null,null,null,null,null,{"$f":" [1]Folha4!A222","v":0}]
[null,null,null,null,null,null,null,null,null,null,null,null,null,null,null,{"$f":" [1]SecundariaMinutaRge!A229","v":0},{"$f":" [1]PrimariaMinutaRge!A229","v":0},{"$f":" [1]NeutroMinutaRge!A229","v":0},null,null,192,null,null,null,null,null,null,null,null,null,null,null,null,null,null,null,{"$f":" [1]Folha4!A223","v":0}]
[null,null,null,null,null,null,null,null,null,null,null,null,null,null,null,{"$f":" [1]SecundariaMinutaRge!A230","v":0},{"$f":" [1]PrimariaMinutaRge!A230","v":0},{"$f":" [1]NeutroMinutaRge!A230","v":0},null,null,193,null,null,null,null,null,null,null,null,null,null,null,null,null,null,null,{"$f":" [1]Folha4!A224","v":0}]
[null,null,null,null,null,null,null,null,null,null,null,null,null,null,null,{"$f":" [1]SecundariaMinutaRge!A231","v":0},{"$f":" [1]PrimariaMinutaRge!A231","v":0},{"$f":" [1]NeutroMinutaRge!A231","v":0},null,null,194,null,null,null,null,null,null,null,null,null,null,null,null,null,null,null,{"$f":" [1]Folha4!A225","v":0}]
[null,null,null,null,null,null,null,null,null,null,null,null,null,null,null,{"$f":" [1]SecundariaMinutaRge!A232","v":0},{"$f":" [1]PrimariaMinutaRge!A232","v":0},{"$f":" [1]NeutroMinutaRge!A232","v":0},null,null,195,null,null,null,null,null,null,null,null,null,null,null,null,null,null,null,{"$f":" [1]Folha4!A226","v":0}]
[null,null,null,null,null,null,null,null,null,null,null,null,null,null,null,{"$f":" [1]SecundariaMinutaRge!A233","v":0},{"$f":" [1]PrimariaMinutaRge!A233","v":0},{"$f":" [1]NeutroMinutaRge!A233","v":0},null,null,196,null,null,null,null,null,null,null,null,null,null,null,null,null,null,null,{"$f":" [1]Folha4!A227","v":0}]
[null,null,null,null,null,null,null,null,null,null,null,null,null,null,null,{"$f":" [1]SecundariaMinutaRge!A234","v":0},{"$f":" [1]PrimariaMinutaRge!A234","v":0},{"$f":" [1]NeutroMinutaRge!A234","v":0},null,null,197,null,null,null,null,null,null,null,null,null,null,null,null,null,null,null,{"$f":" [1]Folha4!A228","v":0}]
[null,null,null,null,null,null,null,null,null,null,null,null,null,null,null,{"$f":" [1]SecundariaMinutaRge!A235","v":0},{"$f":" [1]PrimariaMinutaRge!A235","v":0},{"$f":" [1]NeutroMinutaRge!A235","v":0},null,null,198,null,null,null,null,null,null,null,null,null,null,null,null,null,null,null,{"$f":" [1]Folha4!A229","v":0}]
[null,null,null,null,null,null,null,null,null,null,null,null,null,null,null,{"$f":" [1]SecundariaMinutaRge!A236","v":0},{"$f":" [1]PrimariaMinutaRge!A236","v":0},{"$f":" [1]NeutroMinutaRge!A236","v":0},null,null,199,null,null,null,null,null,null,null,null,null,null,null,null,null,null,null,{"$f":" [1]Folha4!A230","v":0}]
[null,null,null,null,null,null,null,null,null,null,null,null,null,null,null,{"$f":" [1]SecundariaMinutaRge!A237","v":0},{"$f":" [1]PrimariaMinutaRge!A237","v":0},{"$f":" [1]NeutroMinutaRge!A237","v":0},null,null,200,null,null,null,null,null,null,null,null,null,null,null,null,null,null,null,{"$f":" [1]Folha4!A231","v":0}]
[null,null,null,null,null,null,null,null,null,null,null,null,null,null,null,{"$f":" [1]SecundariaMinutaRge!A238","v":0},{"$f":" [1]PrimariaMinutaRge!A238","v":0},{"$f":" [1]NeutroMinutaRge!A238","v":0},null,null,201,null,null,null,null,null,null,null,null,null,null,null,null,null,null,null,{"$f":" [1]Folha4!A232","v":0}]
[null,null,null,null,null,null,null,null,null,null,null,null,null,null,null,{"$f":" [1]SecundariaMinutaRge!A239","v":0},{"$f":" [1]PrimariaMinutaRge!A239","v":0},{"$f":" [1]NeutroMinutaRge!A239","v":0},null,null,202,null,null,null,null,null,null,null,null,null,null,null,null,null,null,null,{"$f":" [1]Folha4!A233","v":0}]
[null,null,null,null,null,null,null,null,null,null,null,null,null,null,null,{"$f":" [1]SecundariaMinutaRge!A240","v":0},{"$f":" [1]PrimariaMinutaRge!A240","v":0},{"$f":" [1]NeutroMinutaRge!A240","v":0},null,null,203,null,null,null,null,null,null,null,null,null,null,null,null,null,null,null,{"$f":" [1]Folha4!A234","v":0}]
[null,null,null,null,null,null,null,null,null,null,null,null,null,null,null,{"$f":" [1]SecundariaMinutaRge!A241","v":0},{"$f":" [1]PrimariaMinutaRge!A241","v":0},{"$f":" [1]NeutroMinutaRge!A241","v":0},null,null,204,null,null,null,null,null,null,null,null,null,null,null,null,null,null,null,{"$f":" [1]Folha4!A235","v":0}]
[null,null,null,null,null,null,null,null,null,null,null,null,null,null,null,{"$f":" [1]SecundariaMinutaRge!A242","v":0},{"$f":" [1]PrimariaMinutaRge!A242","v":0},{"$f":" [1]NeutroMinutaRge!A242","v":0},null,null,205,null,null,null,null,null,null,null,null,null,null,null,null,null,null,null,{"$f":" [1]Folha4!A236","v":0}]
[null,null,null,null,null,null,null,null,null,null,null,null,null,null,null,{"$f":" [1]SecundariaMinutaRge!A243","v":0},{"$f":" [1]PrimariaMinutaRge!A243","v":0},{"$f":" [1]NeutroMinutaRge!A243","v":0},null,null,206,null,null,null,null,null,null,null,null,null,null,null,null,null,null,null,{"$f":" [1]Folha4!A237","v":0}]
[null,null,null,null,null,null,null,null,null,null,null,null,null,null,null,{"$f":" [1]SecundariaMinutaRge!A244","v":0},{"$f":" [1]PrimariaMinutaRge!A244","v":0},{"$f":" [1]NeutroMinutaRge!A244","v":0},null,null,207,null,null,null,null,null,null,null,null,null,null,null,null,null,null,null,{"$f":" [1]Folha4!A238","v":0}]
[null,null,null,null,null,null,null,null,null,null,null,null,null,null,null,{"$f":" [1]SecundariaMinutaRge!A245","v":0},{"$f":" [1]PrimariaMinutaRge!A245","v":0},{"$f":" [1]NeutroMinutaRge!A245","v":0},null,null,208,null,null,null,null,null,null,null,null,null,null,null,null,null,null,null,{"$f":" [1]Folha4!A239","v":0}]
[null,null,null,null,null,null,null,null,null,null,null,null,null,null,null,{"$f":" [1]SecundariaMinutaRge!A246","v":0},{"$f":" [1]PrimariaMinutaRge!A246","v":0},{"$f":" [1]NeutroMinutaRge!A246","v":0},null,null,209,null,null,null,null,null,null,null,null,null,null,null,null,null,null,null,{"$f":" [1]Folha4!A240","v":0}]
[null,null,null,null,null,null,null,null,null,null,null,null,null,null,null,{"$f":" [1]SecundariaMinutaRge!A247","v":0},{"$f":" [1]PrimariaMinutaRge!A247","v":0},{"$f":" [1]NeutroMinutaRge!A247","v":0},null,null,210,null,null,null,null,null,null,null,null,null,null,null,null,null,null,null,{"$f":" [1]Folha4!A241","v":0}]
[null,null,null,null,null,null,null,null,null,null,null,null,null,null,null,{"$f":" [1]SecundariaMinutaRge!A248","v":0},{"$f":" [1]PrimariaMinutaRge!A248","v":0},{"$f":" [1]NeutroMinutaRge!A248","v":0},null,null,211,null,null,null,null,null,null,null,null,null,null,null,null,null,null,null,{"$f":" [1]Folha4!A242","v":0}]
[null,null,null,null,null,null,null,null,null,null,null,null,null,null,null,{"$f":" [1]SecundariaMinutaRge!A249","v":0},{"$f":" [1]PrimariaMinutaRge!A249","v":0},{"$f":" [1]NeutroMinutaRge!A249","v":0},null,null,212,null,null,null,null,null,null,null,null,null,null,null,null,null,null,null,{"$f":" [1]Folha4!A243","v":0}]
[null,null,null,null,null,null,null,null,null,null,null,null,null,null,null,{"$f":" [1]SecundariaMinutaRge!A250","v":0},{"$f":" [1]PrimariaMinutaRge!A250","v":0},{"$f":" [1]NeutroMinutaRge!A250","v":0},null,null,213,null,null,null,null,null,null,null,null,null,null,null,null,null,null,null,{"$f":" [1]Folha4!A244","v":0}]
[null,null,null,null,null,null,null,null,null,null,null,null,null,null,null,{"$f":" [1]SecundariaMinutaRge!A251","v":0},{"$f":" [1]PrimariaMinutaRge!A251","v":0},{"$f":" [1]NeutroMinutaRge!A251","v":0},null,null,214,null,null,null,null,null,null,null,null,null,null,null,null,null,null,null,{"$f":" [1]Folha4!A245","v":0}]
[null,null,null,null,null,null,null,null,null,null,null,null,null,null,null,{"$f":" [1]SecundariaMinutaRge!A252","v":0},{"$f":" [1]PrimariaMinutaRge!A252","v":0},{"$f":" [1]NeutroMinutaRge!A252","v":0},null,null,215,null,null,null,null,null,null,null,null,null,null,null,null,null,null,null,{"$f":" [1]Folha4!A246","v":0}]
[null,null,null,null,null,null,null,null,null,null,null,null,null,null,null,{"$f":" [1]SecundariaMinutaRge!A253","v":0},{"$f":" [1]PrimariaMinutaRge!A253","v":0},{"$f":" [1]NeutroMinutaRge!A253","v":0},null,null,216,null,null,null,null,null,null,null,null,null,null,null,null,null,null,null,{"$f":" [1]Folha4!A247","v":0}]
[null,null,null,null,null,null,null,null,null,null,null,null,null,null,null,{"$f":" [1]SecundariaMinutaRge!A254","v":0},{"$f":" [1]PrimariaMinutaRge!A254","v":0},{"$f":" [1]NeutroMinutaRge!A254","v":0},null,null,217,null,null,null,null,null,null,null,null,null,null,null,null,null,null,null,{"$f":" [1]Folha4!A248","v":0}]
[null,null,null,null,null,null,null,null,null,null,null,null,null,null,null,{"$f":" [1]SecundariaMinutaRge!A255","v":0},{"$f":" [1]PrimariaMinutaRge!A255","v":0},{"$f":" [1]NeutroMinutaRge!A255","v":0},null,null,218,null,null,null,null,null,null,null,null,null,null,null,null,null,null,null,{"$f":" [1]Folha4!A249","v":0}]
[null,null,null,null,null,null,null,null,null,null,null,null,null,null,null,{"$f":" [1]SecundariaMinutaRge!A256","v":0},{"$f":" [1]PrimariaMinutaRge!A256","v":0},{"$f":" [1]NeutroMinutaRge!A256","v":0},null,null,219,null,null,null,null,null,null,null,null,null,null,null,null,null,null,null,{"$f":" [1]Folha4!A250","v":0}]
[null,null,null,null,null,null,null,null,null,null,null,null,null,null,null,{"$f":" [1]SecundariaMinutaRge!A257","v":0},{"$f":" [1]PrimariaMinutaRge!A257","v":0},{"$f":" [1]NeutroMinutaRge!A257","v":0},null,null,220,null,null,null,null,null,null,null,null,null,null,null,null,null,null,null,{"$f":" [1]Folha4!A251","v":0}]
[null,null,null,null,null,null,null,null,null,null,null,null,null,null,null,{"$f":" [1]SecundariaMinutaRge!A258","v":0},{"$f":" [1]PrimariaMinutaRge!A258","v":0},{"$f":" [1]NeutroMinutaRge!A258","v":0},null,null,221,null,null,null,null,null,null,null,null,null,null,null,null,null,null,null,{"$f":" [1]Folha4!A252","v":0}]
[null,null,null,null,null,null,null,null,null,null,null,null,null,null,null,{"$f":" [1]SecundariaMinutaRge!A259","v":0},{"$f":" [1]PrimariaMinutaRge!A259","v":0},{"$f":" [1]NeutroMinutaRge!A259","v":0},null,null,222,null,null,null,null,null,null,null,null,null,null,null,null,null,null,null,{"$f":" [1]Folha4!A253","v":0}]
[null,null,null,null,null,null,null,null,null,null,null,null,null,null,null,{"$f":" [1]SecundariaMinutaRge!A260","v":0},{"$f":" [1]PrimariaMinutaRge!A260","v":0},{"$f":" [1]NeutroMinutaRge!A260","v":0},null,null,223,null,null,null,null,null,null,null,null,null,null,null,null,null,null,null,{"$f":" [1]Folha4!A254","v":0}]
[null,null,null,null,null,null,null,null,null,null,null,null,null,null,null,{"$f":" [1]SecundariaMinutaRge!A261","v":0},{"$f":" [1]PrimariaMinutaRge!A261","v":0},{"$f":" [1]NeutroMinutaRge!A261","v":0},null,null,224,null,null,null,null,null,null,null,null,null,null,null,null,null,null,null,{"$f":" [1]Folha4!A255","v":0}]
[null,null,null,null,null,null,null,null,null,null,null,null,null,null,null,{"$f":" [1]SecundariaMinutaRge!A262","v":0},{"$f":" [1]PrimariaMinutaRge!A262","v":0},{"$f":" [1]NeutroMinutaRge!A262","v":0},null,null,225,null,null,null,null,null,null,null,null,null,null,null,null,null,null,null,{"$f":" [1]Folha4!A256","v":0}]
[null,null,null,null,null,null,null,null,null,null,null,null,null,null,null,{"$f":" [1]SecundariaMinutaRge!A263","v":0},{"$f":" [1]PrimariaMinutaRge!A263","v":0},{"$f":" [1]NeutroMinutaRge!A263","v":0},null,null,226,null,null,null,null,null,null,null,null,null,null,null,null,null,null,null,{"$f":" [1]Folha4!A257","v":0}]
[null,null,null,null,null,null,null,null,null,null,null,null,null,null,null,{"$f":" [1]SecundariaMinutaRge!A264","v":0},{"$f":" [1]PrimariaMinutaRge!A264","v":0},{"$f":" [1]NeutroMinutaRge!A264","v":0},null,null,227,null,null,null,null,null,null,null,null,null,null,null,null,null,null,null,{"$f":" [1]Folha4!A258","v":0}]
[null,null,null,null,null,null,null,null,null,null,null,null,null,null,null,{"$f":" [1]SecundariaMinutaRge!A265","v":0},{"$f":" [1]PrimariaMinutaRge!A265","v":0},{"$f":" [1]NeutroMinutaRge!A265","v":0},null,null,228,null,null,null,null,null,null,null,null,null,null,null,null,null,null,null,{"$f":" [1]Folha4!A259","v":0}]
[null,null,null,null,null,null,null,null,null,null,null,null,null,null,null,{"$f":" [1]SecundariaMinutaRge!A266","v":0},{"$f":" [1]PrimariaMinutaRge!A266","v":0},{"$f":" [1]NeutroMinutaRge!A266","v":0},null,null,229,null,null,null,null,null,null,null,null,null,null,null,null,null,null,null,{"$f":" [1]Folha4!A260","v":0}]
[null,null,null,null,null,null,null,null,null,null,null,null,null,null,null,{"$f":" [1]SecundariaMinutaRge!A267","v":0},{"$f":" [1]PrimariaMinutaRge!A267","v":0},{"$f":" [1]NeutroMinutaRge!A267","v":0},null,null,230,null,null,null,null,null,null,null,null,null,null,null,null,null,null,null,{"$f":" [1]Folha4!A261","v":0}]
[null,null,null,null,null,null,null,null,null,null,null,null,null,null,null,{"$f":" [1]SecundariaMinutaRge!A268","v":0},{"$f":" [1]PrimariaMinutaRge!A268","v":0},{"$f":" [1]NeutroMinutaRge!A268","v":0},null,null,231,null,null,null,null,null,null,null,null,null,null,null,null,null,null,null,{"$f":" [1]Folha4!A262","v":0}]
[null,null,null,null,null,null,null,null,null,null,null,null,null,null,null,{"$f":" [1]SecundariaMinutaRge!A269","v":0},{"$f":" [1]PrimariaMinutaRge!A269","v":0},{"$f":" [1]NeutroMinutaRge!A269","v":0},null,null,232,null,null,null,null,null,null,null,null,null,null,null,null,null,null,null,{"$f":" [1]Folha4!A263","v":0}]
[null,null,null,null,null,null,null,null,null,null,null,null,null,null,null,{"$f":" [1]SecundariaMinutaRge!A270","v":0},{"$f":" [1]PrimariaMinutaRge!A270","v":0},{"$f":" [1]NeutroMinutaRge!A270","v":0},null,null,233,null,null,null,null,null,null,null,null,null,null,null,null,null,null,null,{"$f":" [1]Folha4!A264","v":0}]
[null,null,null,null,null,null,null,null,null,null,null,null,null,null,null,{"$f":" [1]SecundariaMinutaRge!A271","v":0},{"$f":" [1]PrimariaMinutaRge!A271","v":0},{"$f":" [1]NeutroMinutaRge!A271","v":0},null,null,234,null,null,null,null,null,null,null,null,null,null,null,null,null,null,null,{"$f":" [1]Folha4!A265","v":0}]
[null,null,null,null,null,null,null,null,null,null,null,null,null,null,null,{"$f":" [1]SecundariaMinutaRge!A272","v":0},{"$f":" [1]PrimariaMinutaRge!A272","v":0},{"$f":" [1]NeutroMinutaRge!A272","v":0},null,null,235,null,null,null,null,null,null,null,null,null,null,null,null,null,null,null,{"$f":" [1]Folha4!A266","v":0}]
[null,null,null,null,null,null,null,null,null,null,null,null,null,null,null,{"$f":" [1]SecundariaMinutaRge!A273","v":0},{"$f":" [1]PrimariaMinutaRge!A273","v":0},{"$f":" [1]NeutroMinutaRge!A273","v":0},null,null,236,null,null,null,null,null,null,null,null,null,null,null,null,null,null,null,{"$f":" [1]Folha4!A267","v":0}]
[null,null,null,null,null,null,null,null,null,null,null,null,null,null,null,{"$f":" [1]SecundariaMinutaRge!A274","v":0},{"$f":" [1]PrimariaMinutaRge!A274","v":0},{"$f":" [1]NeutroMinutaRge!A274","v":0},null,null,237,null,null,null,null,null,null,null,null,null,null,null,null,null,null,null,{"$f":" [1]Folha4!A268","v":0}]
[null,null,null,null,null,null,null,null,null,null,null,null,null,null,null,{"$f":" [1]SecundariaMinutaRge!A275","v":0},{"$f":" [1]PrimariaMinutaRge!A275","v":0},{"$f":" [1]NeutroMinutaRge!A275","v":0},null,null,238,null,null,null,null,null,null,null,null,null,null,null,null,null,null,null,{"$f":" [1]Folha4!A269","v":0}]
[null,null,null,null,null,null,null,null,null,null,null,null,null,null,null,{"$f":" [1]SecundariaMinutaRge!A276","v":0},{"$f":" [1]PrimariaMinutaRge!A276","v":0},{"$f":" [1]NeutroMinutaRge!A276","v":0},null,null,239,null,null,null,null,null,null,null,null,null,null,null,null,null,null,null,{"$f":" [1]Folha4!A270","v":0}]
[null,null,null,null,null,null,null,null,null,null,null,null,null,null,null,{"$f":" [1]SecundariaMinutaRge!A277","v":0},{"$f":" [1]PrimariaMinutaRge!A277","v":0},{"$f":" [1]NeutroMinutaRge!A277","v":0},null,null,240,null,null,null,null,null,null,null,null,null,null,null,null,null,null,null,{"$f":" [1]Folha4!A271","v":0}]
[null,null,null,null,null,null,null,null,null,null,null,null,null,null,null,{"$f":" [1]SecundariaMinutaRge!A278","v":0},{"$f":" [1]PrimariaMinutaRge!A278","v":0},{"$f":" [1]NeutroMinutaRge!A278","v":0},null,null,241,null,null,null,null,null,null,null,null,null,null,null,null,null,null,null,{"$f":" [1]Folha4!A272","v":0}]
[null,null,null,null,null,null,null,null,null,null,null,null,null,null,null,{"$f":" [1]SecundariaMinutaRge!A279","v":0},{"$f":" [1]PrimariaMinutaRge!A279","v":0},{"$f":" [1]NeutroMinutaRge!A279","v":0},null,null,242,null,null,null,null,null,null,null,null,null,null,null,null,null,null,null,{"$f":" [1]Folha4!A273","v":0}]
[null,null,null,null,null,null,null,null,null,null,null,null,null,null,null,{"$f":" [1]SecundariaMinutaRge!A280","v":0},{"$f":" [1]PrimariaMinutaRge!A280","v":0},{"$f":" [1]NeutroMinutaRge!A280","v":0},null,null,243,null,null,null,null,null,null,null,null,null,null,null,null,null,null,null,{"$f":" [1]Folha4!A274","v":0}]
[null,null,null,null,null,null,null,null,null,null,null,null,null,null,null,{"$f":" [1]SecundariaMinutaRge!A281","v":0},{"$f":" [1]PrimariaMinutaRge!A281","v":0},{"$f":" [1]NeutroMinutaRge!A281","v":0},null,null,244,null,null,null,null,null,null,null,null,null,null,null,null,null,null,null,{"$f":" [1]Folha4!A275","v":0}]
[null,null,null,null,null,null,null,null,null,null,null,null,null,null,null,{"$f":" [1]SecundariaMinutaRge!A282","v":0},{"$f":" [1]PrimariaMinutaRge!A282","v":0},{"$f":" [1]NeutroMinutaRge!A282","v":0},null,null,245,null,null,null,null,null,null,null,null,null,null,null,null,null,null,null,{"$f":" [1]Folha4!A276","v":0}]
[null,null,null,null,null,null,null,null,null,null,null,null,null,null,null,{"$f":" [1]SecundariaMinutaRge!A283","v":0},{"$f":" [1]PrimariaMinutaRge!A283","v":0},{"$f":" [1]NeutroMinutaRge!A283","v":0},null,null,246,null,null,null,null,null,null,null,null,null,null,null,null,null,null,null,{"$f":" [1]Folha4!A277","v":0}]
[null,null,null,null,null,null,null,null,null,null,null,null,null,null,null,{"$f":" [1]SecundariaMinutaRge!A284","v":0},{"$f":" [1]PrimariaMinutaRge!A284","v":0},{"$f":" [1]NeutroMinutaRge!A284","v":0},null,null,247,null,null,null,null,null,null,null,null,null,null,null,null,null,null,null,{"$f":" [1]Folha4!A278","v":0}]
[null,null,null,null,null,null,null,null,null,null,null,null,null,null,null,{"$f":" [1]SecundariaMinutaRge!A285","v":0},{"$f":" [1]PrimariaMinutaRge!A285","v":0},{"$f":" [1]NeutroMinutaRge!A285","v":0},null,null,248,null,null,null,null,null,null,null,null,null,null,null,null,null,null,null,{"$f":" [1]Folha4!A279","v":0}]
[null,null,null,null,null,null,null,null,null,null,null,null,null,null,null,{"$f":" [1]SecundariaMinutaRge!A286","v":0},{"$f":" [1]PrimariaMinutaRge!A286","v":0},{"$f":" [1]NeutroMinutaRge!A286","v":0},null,null,249,null,null,null,null,null,null,null,null,null,null,null,null,null,null,null,{"$f":" [1]Folha4!A280","v":0}]
[null,null,null,null,null,null,null,null,null,null,null,null,null,null,null,{"$f":" [1]SecundariaMinutaRge!A287","v":0},{"$f":" [1]PrimariaMinutaRge!A287","v":0},{"$f":" [1]NeutroMinutaRge!A287","v":0},null,null,250,null,null,null,null,null,null,null,null,null,null,null,null,null,null,null,{"$f":" [1]Folha4!A281","v":0}]
[null,null,null,null,null,null,null,null,null,null,null,null,null,null,null,{"$f":" [1]SecundariaMinutaRge!A288","v":0},{"$f":" [1]PrimariaMinutaRge!A288","v":0},{"$f":" [1]NeutroMinutaRge!A288","v":0},null,null,251,null,null,null,null,null,null,null,null,null,null,null,null,null,null,null,{"$f":" [1]Folha4!A282","v":0}]
[null,null,null,null,null,null,null,null,null,null,null,null,null,null,null,{"$f":" [1]SecundariaMinutaRge!A289","v":0},{"$f":" [1]PrimariaMinutaRge!A289","v":0},{"$f":" [1]NeutroMinutaRge!A289","v":0},null,null,252,null,null,null,null,null,null,null,null,null,null,null,null,null,null,null,{"$f":" [1]Folha4!A283","v":0}]
[null,null,null,null,null,null,null,null,null,null,null,null,null,null,null,{"$f":" [1]SecundariaMinutaRge!A290","v":0},{"$f":" [1]PrimariaMinutaRge!A290","v":0},{"$f":" [1]NeutroMinutaRge!A290","v":0},null,null,253,null,null,null,null,null,null,null,null,null,null,null,null,null,null,null,{"$f":" [1]Folha4!A284","v":0}]
[null,null,null,null,null,null,null,null,null,null,null,null,null,null,null,{"$f":" [1]SecundariaMinutaRge!A291","v":0},{"$f":" [1]PrimariaMinutaRge!A291","v":0},{"$f":" [1]NeutroMinutaRge!A291","v":0},null,null,254,null,null,null,null,null,null,null,null,null,null,null,null,null,null,null,{"$f":" [1]Folha4!A285","v":0}]
[null,null,null,null,null,null,null,null,null,null,null,null,null,null,null,{"$f":" [1]SecundariaMinutaRge!A292","v":0},{"$f":" [1]PrimariaMinutaRge!A292","v":0},{"$f":" [1]NeutroMinutaRge!A292","v":0},null,null,255,null,null,null,null,null,null,null,null,null,null,null,null,null,null,null,{"$f":" [1]Folha4!A286","v":0}]
[null,null,null,null,null,null,null,null,null,null,null,null,null,null,null,{"$f":" [1]SecundariaMinutaRge!A293","v":0},{"$f":" [1]PrimariaMinutaRge!A293","v":0},{"$f":" [1]NeutroMinutaRge!A293","v":0},null,null,256,null,null,null,null,null,null,null,null,null,null,null,null,null,null,null,{"$f":" [1]Folha4!A287","v":0}]
[null,null,null,null,null,null,null,null,null,null,null,null,null,null,null,{"$f":" [1]SecundariaMinutaRge!A294","v":0},{"$f":" [1]PrimariaMinutaRge!A294","v":0},{"$f":" [1]NeutroMinutaRge!A294","v":0},null,null,257,null,null,null,null,null,null,null,null,null,null,null,null,null,null,null,{"$f":" [1]Folha4!A288","v":0}]
[null,null,null,null,null,null,null,null,null,null,null,null,null,null,null,{"$f":" [1]SecundariaMinutaRge!A295","v":0},{"$f":" [1]PrimariaMinutaRge!A295","v":0},{"$f":" [1]NeutroMinutaRge!A295","v":0},null,null,258,null,null,null,null,null,null,null,null,null,null,null,null,null,null,null,{"$f":" [1]Folha4!A289","v":0}]
[null,null,null,null,null,null,null,null,null,null,null,null,null,null,null,{"$f":" [1]SecundariaMinutaRge!A296","v":0},{"$f":" [1]PrimariaMinutaRge!A296","v":0},{"$f":" [1]NeutroMinutaRge!A296","v":0},null,null,259,null,null,null,null,null,null,null,null,null,null,null,null,null,null,null,{"$f":" [1]Folha4!A290","v":0}]
[null,null,null,null,null,null,null,null,null,null,null,null,null,null,null,{"$f":" [1]SecundariaMinutaRge!A297","v":0},{"$f":" [1]PrimariaMinutaRge!A297","v":0},{"$f":" [1]NeutroMinutaRge!A297","v":0},null,null,260,null,null,null,null,null,null,null,null,null,null,null,null,null,null,null,{"$f":" [1]Folha4!A291","v":0}]
[null,null,null,null,null,null,null,null,null,null,null,null,null,null,null,{"$f":" [1]SecundariaMinutaRge!A298","v":0},{"$f":" [1]PrimariaMinutaRge!A298","v":0},{"$f":" [1]NeutroMinutaRge!A298","v":0},null,null,261,null,null,null,null,null,null,null,null,null,null,null,null,null,null,null,{"$f":" [1]Folha4!A292","v":0}]
[null,null,null,null,null,null,null,null,null,null,null,null,null,null,null,{"$f":" [1]SecundariaMinutaRge!A299","v":0},{"$f":" [1]PrimariaMinutaRge!A299","v":0},{"$f":" [1]NeutroMinutaRge!A299","v":0},null,null,262,null,null,null,null,null,null,null,null,null,null,null,null,null,null,null,{"$f":" [1]Folha4!A293","v":0}]
[null,null,null,null,null,null,null,null,null,null,null,null,null,null,null,{"$f":" [1]SecundariaMinutaRge!A300","v":0},{"$f":" [1]PrimariaMinutaRge!A300","v":0},{"$f":" [1]NeutroMinutaRge!A300","v":0},null,null,263,null,null,null,null,null,null,null,null,null,null,null,null,null,null,null,{"$f":" [1]Folha4!A294","v":0}]
[null,null,null,null,null,null,null,null,null,null,null,null,null,null,null,{"$f":" [1]SecundariaMinutaRge!A301","v":0},{"$f":" [1]PrimariaMinutaRge!A301","v":0},{"$f":" [1]NeutroMinutaRge!A301","v":0},null,null,264,null,null,null,null,null,null,null,null,null,null,null,null,null,null,null,{"$f":" [1]Folha4!A295","v":0}]
[null,null,null,null,null,null,null,null,null,null,null,null,null,null,null,{"$f":" [1]SecundariaMinutaRge!A302","v":0},{"$f":" [1]PrimariaMinutaRge!A302","v":0},{"$f":" [1]NeutroMinutaRge!A302","v":0},null,null,265]
[null,null,null,null,null,null,null,null,null,null,null,null,null,null,null,null,null,null,null,null,266]
[null,null,null,null,null,null,null,null,null,null,null,null,null,null,null,null,null,null,null,null,267]
[null,null,null,null,null,null,null,null,null,null,null,null,null,null,null,null,null,null,null,null,268]
[null,null,null,null,null,null,null,null,null,null,null,null,null,null,null,null,null,null,null,null,269]
[null,null,null,null,null,null,null,null,null,null,null,null,null,null,null,null,null,null,null,null,270]
[null,null,null,null,null,null,null,null,null,null,null,null,null,null,null,null,null,null,null,null,271]
[null,null,null,null,null,null,null,null,null,null,null,null,null,null,null,null,null,null,null,null,272]
[null,null,null,null,null,null,null,null,null,null,null,null,null,null,null,null,null,null,null,null,273]
[null,null,null,null,null,null,null,null,null,null,null,null,null,null,null,null,null,null,null,null,274]
[null,null,null,null,null,null,null,null,null,null,null,null,null,null,null,null,null,null,null,null,275]
[null,null,null,null,null,null,null,null,null,null,null,null,null,null,null,null,null,null,null,null,276]
[null,null,null,null,null,null,null,null,null,null,null,null,null,null,null,null,null,null,null,null,277]
[null,null,null,null,null,null,null,null,null,null,null,null,null,null,null,null,null,null,null,null,278]
[null,null,null,null,null,null,null,null,null,null,null,null,null,null,null,null,null,null,null,null,279]
[null,null,null,null,null,null,null,null,null,null,null,null,null,null,null,null,null,null,null,null,280]
[null,null,null,null,null,null,null,null,null,null,null,null,null,null,null,null,null,null,null,null,281]
[null,null,null,null,null,null,null,null,null,null,null,null,null,null,null,null,null,null,null,null,282]
[null,null,null,null,null,null,null,null,null,null,null,null,null,null,null,null,null,null,null,null,283]
[null,null,null,null,null,null,null,null,null,null,null,null,null,null,null,null,null,null,null,null,284]
[null,null,null,null,null,null,null,null,null,null,null,null,null,null,null,null,null,null,null,null,285]
[null,null,null,null,null,null,null,null,null,null,null,null,null,null,null,null,null,null,null,null,286]
[null,null,null,null,null,null,null,null,null,null,null,null,null,null,null,null,null,null,null,null,287]
[null,null,null,null,null,null,null,null,null,null,null,null,null,null,null,null,null,null,null,null,288]
[null,null,null,null,null,null,null,null,null,null,null,null,null,null,null,null,null,null,null,null,289]
[null,null,null,null,null,null,null,null,null,null,null,null,null,null,null,null,null,null,null,null,290]
[null,null,null,null,null,null,null,null,null,null,null,null,null,null,null,null,null,null,null,null,291]
[null,null,null,null,null,null,null,null,null,null,null,null,null,null,null,null,null,null,null,null,292]
[null,null,null,null,null,null,null,null,null,null,null,null,null,null,null,null,null,null,null,null,293]
[null,null,null,null,null,null,null,null,null,null,null,null,null,null,null,null,null,null,null,null,294]
[null,null,null,null,null,null,null,null,null,null,null,null,null,null,null,null,null,null,null,null,295]
[null,null,null,null,null,null,null,null,null,null,null,null,null,null,null,null,null,null,null,null,296]
[null,null,null,null,null,null,null,null,null,null,null,null,null,null,null,null,null,null,null,null,297]
[null,null,null,null,null,null,null,null,null,null,null,null,null,null,null,null,null,null,null,null,298]
[null,null,null,null,null,null,null,null,null,null,null,null,null,null,null,null,null,null,null,null,299]
[null,null,null,null,null,null,null,null,null,null,null,null,null,null,null,null,null,null,null,null,300]
[null,null,null,null,null,null,null,null,null,null,null,null,null,null,null,null,null,null,null,null,301]
[null,null,null,null,null,null,null,null,null,null,null,null,null,null,null,null,null,null,null,null,302]
[null,null,null,null,null,null,null,null,null,null,null,null,null,null,null,null,null,null,null,null,303]
[null,null,null,null,null,null,null,null,null,null,null,null,null,null,null,null,null,null,null,null,304]
[null,null,null,null,null,null,null,null,null,null,null,null,null,null,null,null,null,null,null,null,305]
[null,null,null,null,null,null,null,null,null,null,null,null,null,null,null,null,null,null,null,null,306]
[null,null,null,null,null,null,null,null,null,null,null,null,null,null,null,null,null,null,null,null,307]
[null,null,null,null,null,null,null,null,null,null,null,null,null,null,null,null,null,null,null,null,308]
[null,null,null,null,null,null,null,null,null,null,null,null,null,null,null,null,null,null,null,null,309]
[null,null,null,null,null,null,null,null,null,null,null,null,null,null,null,null,null,null,null,null,310]
[null,null,null,null,null,null,null,null,null,null,null,null,null,null,null,null,null,null,null,null,311]
[null,null,null,null,null,null,null,null,null,null,null,null,null,null,null,null,null,null,null,null,312]
[null,null,null,null,null,null,null,null,null,null,null,null,null,null,null,null,null,null,null,null,313]
[null,null,null,null,null,null,null,null,null,null,null,null,null,null,null,null,null,null,null,null,314]
[null,null,null,null,null,null,null,null,null,null,null,null,null,null,null,null,null,null,null,null,315]
[null,null,null,null,null,null,null,null,null,null,null,null,null,null,null,null,null,null,null,null,316]
[null,null,null,null,null,null,null,null,null,null,null,null,null,null,null,null,null,null,null,null,317]
[null,null,null,null,null,null,null,null,null,null,null,null,null,null,null,null,null,null,null,null,318]
[null,null,null,null,null,null,null,null,null,null,null,null,null,null,null,null,null,null,null,null,319]
[null,null,null,null,null,null,null,null,null,null,null,null,null,null,null,null,null,null,null,null,320]
[null,null,null,null,null,null,null,null,null,null,null,null,null,null,null,null,null,null,null,null,321]
[null,null,null,null,null,null,null,null,null,null,null,null,null,null,null,null,null,null,null,null,322]
[null,null,null,null,null,null,null,null,null,null,null,null,null,null,null,null,null,null,null,null,323]
[null,null,null,null,null,null,null,null,null,null,null,null,null,null,null,null,null,null,null,null,324]
[null,null,null,null,null,null,null,null,null,null,null,null,null,null,null,null,null,null,null,null,325]
[null,null,null,null,null,null,null,null,null,null,null,null,null,null,null,null,null,null,null,null,326]
[null,null,null,null,null,null,null,null,null,null,null,null,null,null,null,null,null,null,null,null,327]
[null,null,null,null,null,null,null,null,null,null,null,null,null,null,null,null,null,null,null,null,328]
[null,null,null,null,null,null,null,null,null,null,null,null,null,null,null,null,null,null,null,null,329]
[null,null,null,null,null,null,null,null,null,null,null,null,null,null,null,null,null,null,null,null,330]
[null,null,null,null,null,null,null,null,null,null,null,null,null,null,null,null,null,null,null,null,331]
[null,null,null,null,null,null,null,null,null,null,null,null,null,null,null,null,null,null,null,null,332]
[null,null,null,null,null,null,null,null,null,null,null,null,null,null,null,null,null,null,null,null,333]
[null,null,null,null,null,null,null,null,null,null,null,null,null,null,null,null,null,null,null,null,334]
[null,null,null,null,null,null,null,null,null,null,null,null,null,null,null,null,null,null,null,null,335]
[null,null,null,null,null,null,null,null,null,null,null,null,null,null,null,null,null,null,null,null,336]
[null,null,null,null,null,null,null,null,null,null,null,null,null,null,null,null,null,null,null,null,337]
[null,null,null,null,null,null,null,null,null,null,null,null,null,null,null,null,null,null,null,null,338]
[null,null,null,null,null,null,null,null,null,null,null,null,null,null,null,null,null,null,null,null,339]
[null,null,null,null,null,null,null,null,null,null,null,null,null,null,null,null,null,null,null,null,340]
[null,null,null,null,null,null,null,null,null,null,null,null,null,null,null,null,null,null,null,null,341]
[null,null,null,null,null,null,null,null,null,null,null,null,null,null,null,null,null,null,null,null,342]
[null,null,null,null,null,null,null,null,null,null,null,null,null,null,null,null,null,null,null,null,343]
[null,null,null,null,null,null,null,null,null,null,null,null,null,null,null,null,null,null,null,null,344]
[null,null,null,null,null,null,null,null,null,null,null,null,null,null,null,null,null,null,null,null,345]
[null,null,null,null,null,null,null,null,null,null,null,null,null,null,null,null,null,null,null,null,346]
[null,null,null,null,null,null,null,null,null,null,null,null,null,null,null,null,null,null,null,null,347]
[null,null,null,null,null,null,null,null,null,null,null,null,null,null,null,null,null,null,null,null,348]
[null,null,null,null,null,null,null,null,null,null,null,null,null,null,null,null,null,null,null,null,349]
[null,null,null,null,null,null,null,null,null,null,null,null,null,null,null,null,null,null,null,null,350]
[null,null,null,null,null,null,null,null,null,null,null,null,null,null,null,null,null,null,null,null,351]
[null,null,null,null,null,null,null,null,null,null,null,null,null,null,null,null,null,null,null,null,352]
[null,null,null,null,null,null,null,null,null,null,null,null,null,null,null,null,null,null,null,null,353]
[null,null,null,null,null,null,null,null,null,null,null,null,null,null,null,null,null,null,null,null,354]
[null,null,null,null,null,null,null,null,null,null,null,null,null,null,null,null,null,null,null,null,355]
[null,null,null,null,null,null,null,null,null,null,null,null,null,null,null,null,null,null,null,null,356]
[null,null,null,null,null,null,null,null,null,null,null,null,null,null,null,null,null,null,null,null,357]
[null,null,null,null,null,null,null,null,null,null,null,null,null,null,null,null,null,null,null,null,358]
[null,null,null,null,null,null,null,null,null,null,null,null,null,null,null,null,null,null,null,null,359]
[null,null,null,null,null,null,null,null,null,null,null,null,null,null,null,null,null,null,null,null,360]

{"sheet":"WEB Cálculos Normas Técnicas ","index":16,"n_rows":227,"n_cols":6,"rows_kept":227,"cut":false,"hidden":true,"merged":[]}
["Atualize","www.mabjo.com.br"]
["Digite a palavra de busca no campo em amarelo, tecla enter e clicar botão buscar:",13,"www.mabjo.com.br"]
["Tipo","Título","www.mabjo.com.br","Data","Data","Data"]
["Cálculo Esforço","Cálculo Esforço Poste download: www.mabjo.com.br"]
["Cálculo Queda Tensão Loteamento","Cálculo Queda Tensão Loteamento: www.mabjo.com.br"]
["Planilha Orçamento SAP","Planilha Orçamento SAP: www.mabjo.com.br"]
["Normas Técnicas","http://www.cpfl.com.br/PublicaçõesTécnicas/tabid/1419/Default.aspx"]
["Normas Técnicas","Atendimento a Cargas Geradoras de Harmônicos em Sistemas Primários de Distribuição - GED 110 - 04-03-2002 ","814,77 KB","2009-04-15"]
["Normas Técnicas","Atendimento a Empreendimentos com Rede de Distribuição Interna Particular (GED-14070)","101,26 KB","2010-06-08"]
["Normas Técnicas","Atendimento a Pedido de Indenização por Danos Causados ao Cliente - GED 4108 - 27-07-2010","79,63 KB","2010-07-28"]
["Normas Técnicas","Aterramento Temporário de Redes Aéreas de Distribuição Primária e Secundária","302,55 KB","2009-04-15"]
["Normas Técnicas","Cancelamento de Servidão de Passagem de Linha de Transmissão - GED 590 - 10-07-2003","58,10 KB","2009-04-15"]
["Normas Técnicas","Cliente BT - Fornecimento em Tensão Secundária de Distribuição - GED 13 - 27-07-2009","2,08 MB","2010-05-03"]
["Normas Técnicas","Cliente BT - Fornecimento em Tensão Secundária de Distribuição - Ramal de Entrada Subterrâneo - GED 10126 - 09-06-2009","285,15 KB","2009-08-07"]
["Normas Técnicas","Cliente BT - Medição agrupada para fornecimento em tensão secundária de distribuição - GED 4621 - 07-05-2007","212,29 KB","2009-04-15"]
["Normas Técnicas","Cliente BT-MT - Fornecimento de Energia Elétrica a Edifícios de uso Coletivo - GED 119 - 11-05-2010","2,04 MB","2010-06-16"]
["Normas Técnicas","Cliente BT-MT - Sistema CPFL de Projetos Particulares Via Internet - Fornecimento a Edifícios de Uso Coletivo - GED 6120 - 05-10-2007","238,88 KB","2009-04-15"]
["Normas Técnicas","Cliente MT - Fornecimento em Tensão Primária 15kV e 25kV - Volume 1 - GED 2855 - 22-10-2008","581,74 KB","2009-04-15"]
["Normas Técnicas","Cliente MT - Fornecimento em Tensão Primária 15kV e 25kV - Volume 2 - Tabelas - GED 2856 - 22-10-2008 ","210,52 KB","2009-04-15"]
["Normas Técnicas","Cliente MT - Fornecimento em Tensão Primária 15kV e 25kV - Volume 3 - Anexos - GED 2858 - 22-10-2008","256,66 KB","2009-04-15"]
["Normas Técnicas","Cliente MT - Fornecimento em Tensão Primária 15kV e 25kV - Volume 4_1 - Desenhos - GED 2859 - 22-10-2008","961,20 KB","2009-04-15"]
["Normas Técnicas","Cliente MT - Fornecimento em Tensão Primária 15kV e 25kV - Volume 4_2 - Desenhos - GED 2861 - 22-10-2008","1,14 MB","2009-04-15"]
["Normas Técnicas","Cliente MT - Sistema CPFL de Projetos Particulares Via Internet - Fornecimento em Tensão Primária - GED 4732 - 11-02-2010","294,52 KB","2010-02-26"]
["Normas Técnicas","Compartilhamento de Postes de Rede Elétrica para Telecomunicações e Demais Ocupantes - GED 270 - 16-03-2007","247,00 KB","2009-04-15"]
["Normas Técnicas","Componentes do Sistema de Medição de Faturamento com Conexão ao Sistema Elétrico de Subtransmissão - GED 4311","55,19 KB","2009-04-15"]
["Normas Técnicas","Conexão aos Sistemas Elétricos de Subtransmissão da CPFL - GED 4313 - 18-12-2008","847,32 KB","2009-04-15"]
["Normas Técnicas","Construção de Redes Por Terceiros - GED 14186 - 08-09-2010","204,40 KB","2010-09-09"]
["Normas Técnicas","Critério para Atendimento a Aparelho de Raio X - GED 239 - 10-09-2003 ","93,81 KB","2009-04-15"]
["Normas Técnicas","Critério para Atendimento a Forno a Arco - GED 161 - 14-07-2000","338,19 KB","2009-04-15"]
["Normas Técnicas","Critério para Atendimento a Máquina de Solda - GED 238 - 10-08-2000","106,90 KB","2009-04-15"]
["Normas Técnicas","Critérios de Atendimento a Motores Elétricos de Indução - GED 237 - 10-08-2000","697,33 KB","2009-04-15"]
["Normas Técnicas","Diretrizes Ambientais para Empresas Contratadas GED 5656 17-03-2009 ","152,41 KB","2009-05-08"]
["Normas Técnicas","Execução de serviços em braços para iluminação pública tipo Econolite e Ribeirão Preto","10,79 KB","2009-04-15"]
["Normas Técnicas","Faseamento das Redes de Distribuição","64,04 KB","2009-04-15"]
["Normas Técnicas","Inventário Físico - Equipamentos de Medição - GED 10691 - 01-09-2006","196,79 KB","2009-04-15"]
["Normas Técnicas","Ligação de Autoprodutores em Paralelo com o Sistema de Distribuição da CPFL - GED 33 - 23-02-2007 ","293,23 KB","2009-04-15"]
["Normas Técnicas","Medida da Resistência de Aterramento - GED 709 - 06-02-2004","130,90 KB","2009-04-15"]
["Normas Técnicas","Ocupação de Faixa de Linha de Transmissão - GED 22 - 10-09-2010","1,24 MB","2010-09-10"]
["Normas Técnicas","Planejamento e Controle da Arborização na Coexistência com o Sistema Elétrico - GED 2430 - 03-01-2003","528,33 KB","2009-04-15"]
["Normas Técnicas","Processo Regular para Instalação de Medição em Unidade Consumidora de Cliente que Migra para o Mercado Livre ","156,07 KB","2009-04-15"]
["Normas Técnicas","Projeto - Alimentadores e Ramais - GED3737 - 06-03-2009","108,93 KB","2009-09-14"]
["Normas Técnicas","Projeto - Iluminação Pública - GED 3670 - 08-07-2010","216,75 KB","2010-07-28"]
["Normas Técnicas","Projeto - Ligação de Clientes - GED 3738 - 13-03-2007 ","137,63 KB","2009-04-15"]
["Normas Técnicas","Projeto - Loteamentos e Núcleos Habitacionais - GED 3735 - 28-05-2010","226,41 KB","2010-07-28"]
["Normas Técnicas","Projeto de Rede de Distribuição - Cálculo Elétrico - GED 3667 - 28-12-2009","147,72 KB","2010-05-03"]
["Normas Técnicas","Projeto de Rede de Distribuição - Cálculo Mecânico - GED 3648 - 18_-2_2-11","564,69 KB","2011-02-18"]
["Normas Técnicas","Projeto de Rede de Distribuição - Condições Gerais - GED 3650 - 14-03-2007 ","149,03 KB","2009-04-15"]
["Normas Técnicas","Projeto de Rede de Distribuição - Terminologia - GED 3668 - 23-02-2007","124,13 KB","2009-04-15"]
["Normas Técnicas","Projetos de Redes Aéreas de Distribuição Rural - GED 120 - 06-08-2009","1,05 MB","2009-11-09"]
["Normas Técnicas","Qualificação de Fornecedores - GED 3409 - 28.03.2008","155,08 KB","2009-04-15"]
["Normas Técnicas","RDS - Rede de Distribuição Subterrânea - Simbologia para Projeto - GED 4103 - 11-05-2010","146,23 KB","2010-05-18"]
["Normas Técnicas","RDS - Rede de Distribuição Subterrânea para Condomínios - Projeto Civil - GED 4102 - 11-05-2010","828,46 KB","2010-05-18"]
["Normas Técnicas","RDS - Rede de Distribuição Subterrânea para Condomínios - Projeto Elétrico - GED 4101 - 11-05-2010 ","1,27 MB","2010-05-19"]
["Normas Técnicas","Requisitos para Conexão de Cargas Potencialmente Perturbadoras ao Sistema Elétrico da CPFL - GED 10099 - 27-07-2010","559,28 KB","2010-09-03"]
["Normas Técnicas","SAR (Solicitação de Atendimento Rural) - FICHA","23,25 KB","2009-04-15"]
["Normas Técnicas","Unidade Terminal Remota de Subestação de Conexão aos Sistemas Elétricos de Subtransmissão - GED 4312 ","167,34 KB","2009-04-15"]
["Normas Técnicas","Rede Primária Condutores Nus e Compacta 15kV - Religador Whipp & Bourne - Montagem - GED 6095 - 24-02-2010","170,17 KB","2010-02-26"]
["Normas Técnicas","Rede Primária Condutores Nus e Compacta 15kV - Seccionalizador McGraw-Edison - Montagem - GED 11380 - 21-06-2007","146,17 KB","2009-04-16"]
["Normas Técnicas","Rede Primária Condutores Nus e Compacta 15kV - Seccionalizador Reyrolle - Montagem - GED 11381 - 21-06-2007","215,88 KB","2009-04-16"]
["Normas Técnicas","Rede Primária Condutores Nus e Compacta 15kV e 25kV - PTR com Religador Nulec - Montagem - GED 10235 - 24-02-2010","355,93 KB","2010-09-23"]
["Normas Técnicas","Rede Primária Condutores Nus e Compacta 15kV e 25kV - Religador Cooper - Montagem - GED 10294 - 24-02-2010","330,60 KB","2010-09-23"]
["Normas Técnicas","Rede Primária Multiplexada 15kV e 25kV - Estruturas Básicas - Montagem - GED 3959","78,39 KB","2009-04-16"]
["Normas Técnicas","Rede Primária Nua 15kV - Conjuntos Poliméricos - Estruturas Básicas - Montagem - GED 10635 - 11-07-2006","610,48 KB","2009-04-16"]
["Normas Técnicas","Rede Secundária Cabos Multiplexados Com Ramais Concêntricos - GED 5958 - 21-10-2005","191,49 KB","2009-04-16"]
["Normas Técnicas","Rede Secundária com Cabos Multiplexados - Conexões - GED 3589 - 21-10-2005","272,03 KB","2009-04-16"]
["Normas Técnicas","Rede Secundária com Cabos Multiplexados - Construção - GED 3596 - 06-08-2007","87,65 KB","2009-04-16"]
["Normas Técnicas","Rede Secundária com Cabos Multiplexados - Montagem - GED 3597 - 07-07-2009","469,27 KB","2009-09-15"]
["Normas Técnicas","Rede Secundária com Cabos Nus - Conexões - GED 3590 ","218,85 KB","2009-04-16"]
["Normas Técnicas","Rede Secundária com Cabos Nus - Montagem - GED 3602","370,15 KB","2009-04-16"]
["Normas Técnicas","Religador Whipp & Bourne - Montagem - GED 6095 - 27-06-2005","184,79 KB","2009-04-16"]
["Normas Técnicas","Tabela de Combinações para Conectores Cunha Ramal - AWG e mm - GED 3665 - 27-01-2009","38,53 KB","2009-04-16"]
["Especificação Técnica","Afastamentos Mínimos para Redes de Distribuição - GED 11836 - 15-12-2009","260,53 KB","2010-02-05"]
["Especificação Técnica","Aterramento - Montagem - GED 3613 - 12-01-2009","654,50 KB","2009-04-15"]
["Especificação Técnica","Cliente BT - Padrão de Entrada Instalado no Alto do Poste com Leitura Através de Lente - GED 5788 - 02-10-2007","218,25 KB","2009-04-15"]
["Especificação Técnica","Engastamento de Postes - GED 12752 - 25-08-2008","123,44 KB","2009-09-03"]
["Especificação Técnica","Engastamento de Postes e Estaiamentos - GED 4955","1,11 MB","2009-04-15"]
["Especificação Técnica","Equipamentos e Chaves - Conexões - GED 3587 ","360,31 KB","2009-04-16"]
["Especificação Técnica","Estruturas Padronizadas para Chave a Óleo Automatizada","949,31 KB","2009-04-16"]
["Especificação Técnica","Estruturas Padronizadas para PTR - Orteng - GED 1671 - 03-12-2001","364,64 KB","2009-04-16"]
["Especificação Técnica","Estruturas padronizadas para reguladores de tensão","2,72 MB","2009-04-16"]
["Especificação Técnica","Iluminação Pública - Conexões - GED 3523 - 30-01-2009","81,30 KB","2009-04-16"]
["Especificação Técnica","Iluminação Pública - Montagem - GED 3446 - 08-07-2010","378,60 KB","2010-07-28"]
["Especificação Técnica","Procedimento para inspeção e recebimento de obras - GED 11227 - 29-03-2007","49,19 KB","2009-04-16"]
["Especificação Técnica","Proteção de Redes Aéreas de Distribuição - Sobrecorrente ","2,42 MB","2009-04-16"]
["Especificação Técnica","Ramal de Ligação - Conexões - GED 3588 - 30-01-2009","286,08 KB","2009-09-15"]
["Especificação Técnica","Ramal de Ligação - Montagem - GED 4319 - 22-08-2007","108,91 KB","2009-04-16"]
["Especificação Técnica","RDS - Estruturas Básicas para Rede de Distribuição Subterrânea - Montagem - GED 4104 - 11-05-2010","1.001,50 KB","2010-05-18"]
["Especificação Técnica","RDS - Instalações Elétricas para Rede de Distribuição Subterrânea - Montagem - GED 4105 - 11-05-2010","808,61 KB","2010-05-18"]
["Especificação Técnica","RDS - Obras Civis para Rede de Distribuição Subterrânea - Montagem - GED 4106 - 11-05-2010","530,54 KB","2010-05-18"]
["Especificação Técnica","Rede Primária Compacta 15kV - Banco de Capacitores - Montagem - GED 4255 - 23-12-2009","492,13 KB","2010-02-05"]
["Especificação Técnica","Rede Primária Compacta 15kV - Calçadas Estreitas - GED 11325 - 04-07-2007","487,26 KB","2009-04-16"]
["Especificação Técnica","Rede Primária Compacta 15kV - Chave a Óleo - Montagem - GED 4261 - 05-04-2004","62,89 KB","2009-04-16"]
["Especificação Técnica","Rede Primária Compacta 15kV e 25kV - Amarrações - GED 4262 - 25-09-2007","122,39 KB","2009-04-16"]
["Especificação Técnica","Rede Primária Compacta 15kV e 25kV - Chave Faca - Montagem - GED 11848 - 17-08-2010","636,11 KB","2010-08-17"]
["Especificação Técnica","Rede Primária Compacta 15kV e 25kV - Chave Fusível - Montagem - GED 11849 - 17-08-2010","585,19 KB","2010-08-17"]
["Especificação Técnica","Rede Primária Compacta 15kV e 25kV - Chave Secionadora Tripolar de Operação em Carga 630A - Montagem - GED 6242 - 03-05-2010","91,81 KB","2010-07-28"]
["Especificação Técnica","Rede Primária Compacta 15kV e 25kV - Conexões - GED 3585 - 14-07-2008","1.013,84 KB","2009-04-16"]
["Especificação Técnica","Rede Primária Compacta 15kV e 25kV - Entrada de Cliente - Montagem - GED 11845 - 25-09-2007","359,13 KB","2009-04-16"]
["Especificação Técnica","Rede Primária Compacta 15kV e 25kV - Estruturas Básicas - Montagem - GED 11847 - 18-08-2009","1,09 MB","2010-06-23"]
["Especificação Técnica","Rede Primária Compacta 15kV e 25kV - Pára-raios - Montagem - GED 4268 - 23-03-2009","116,04 KB","2009-09-10"]
["Especificação Técnica","Rede Primária Compacta 15kV e 25kV - Transformador - Montagem - GED 11846 - 16-07-2009","350,23 KB","2009-09-15"]
["Especificação Técnica","Rede Primária Condutores Nus 15kV - Chave a Óleo - Montagem - GED 4687 - 05-04-2004","220,92 KB","2009-04-16"]
["Especificação Técnica","Rede Primária Condutores Nus 15kV - Entrada de Cliente - Montagem - GED 4742 - 14-03-2007","833,84 KB","2009-04-16"]
["Especificação Técnica","Rede Primária Condutores Nus 15kV - Transformador em Paralelo - Montagem - GED 4314 - 05-04-2004","413,98 KB","2009-04-16"]
["Especificação Técnica","Rede Primária Condutores Nus 15kV e 25kV - Amarrações - GED 4739 - 20-10-2008","122,68 KB","2009-09-15"]
["Especificação Técnica","Rede Primária Condutores Nus 15kV e 25kV - Banco de Capacitor - GED 10619 - 23-12-2009","1,58 MB","2010-02-05"]
["Especificação Técnica","Rede Primária Condutores Nus 15kV e 25kV - Chave Faca - Montagem - GED 10643 - 18-08-2009","354,83 KB","2009-08-24"]
["Especificação Técnica","Rede Primária Condutores Nus 15kV e 25kV - Chave Fusível - Montagem - GED 10642 - 18-08-2009","363,46 KB","2009-09-02"]
["Especificação Técnica","Rede Primária Condutores Nus 15kV e 25kV - Chave Secionadora Tripolar de Operação em carga 630A - Montagem - GED 4674 - 03-05-2010","90,30 KB","2010-09-23"]
["Especificação Técnica","Rede Primária Condutores Nus 15kV e 25kV - Conexões - GED 3586 - 01-04-2008","208,40 KB","2009-04-16"]
["Especificação Técnica","Rede Primária Condutores Nus 15kV e 25kV - Estruturas Básicas - Montagem - GED 10640 - 18-08-2009","727,82 KB","2009-09-15"]
["Especificação Técnica","Rede Primária Condutores Nus 15kV e 25kV - Pára-raios - Montagem - GED 10644 - 18-08-2009","217,57 KB","2009-08-24"]
["Especificação Técnica","Rede Primária Condutores Nus 15kV e 25kV - Transformador - Montagem - GED 10641 - 10-07-2009","819,50 KB","2009-08-14"]
["Especificação Técnica","Rede Primária Condutores Nus 15kV e 25kV - Travessias - GED 5050 - 18-08-2009","423,49 KB","2009-08-18"]
["Especificação Técnica","Rede Primária Condutores Nus 25kV - Entrada de Cliente - Montagem - GED 4345 - 11-03-2005","258,75 KB","2009-04-16"]
["Especificação Técnica","Rede Primária Condutores Nus e Compacta 15kV - Religador Brush - Montagem - GED 11376 - 21-06-2007","281,99 KB","2009-04-16"]
["Especificação Técnica","Rede Primária Condutores Nus e Compacta 15kV - Religador McGraw-Edison - Montagem - GED 11377 - 21-06-2007 ","161,50 KB","2009-04-16"]
["Especificação Técnica","Rede Primária Condutores Nus e Compacta 15kV - Religador NOJA Power - Montagem - GED 11202 - 24-02-2010","158,51 KB","2010-02-26"]
["Especificação Técnica","Rede Primária Condutores Nus e Compacta 15kV - Religador Reyrolle - Montagem - GED 11378 - 21-06-2007","428,21 KB","2009-04-16"]
["Especificação Técnica","Rede Primária Condutores Nus e Compacta 15kV - Religador Westinghouse - Montagem - GED 11379 - 21-06-2007","141,20 KB","2009-04-16"]
["Especificação Técnica","Rede Primária Condutores Nus e Compacta 15kV - Religador Whipp & Bourne - Montagem - GED 6095 - 24-02-2010","170,17 KB","2010-02-26"]
["Especificação Técnica","Rede Primária Condutores Nus e Compacta 15kV - Seccionalizador McGraw-Edison - Montagem - GED 11380 - 21-06-2007","146,17 KB","2009-04-16"]
["Especificação Técnica","Rede Primária Condutores Nus e Compacta 15kV - Seccionalizador Reyrolle - Montagem - GED 11381 - 21-06-2007","215,88 KB","2009-04-16"]
["Especificação Técnica","Rede Primária Condutores Nus e Compacta 15kV e 25kV - PTR com Religador Nulec - Montagem - GED 10235 - 24-02-2010","355,93 KB","2010-09-23"]
["Especificação Técnica","Rede Primária Condutores Nus e Compacta 15kV e 25kV - Religador Cooper - Montagem - GED 10294 - 24-02-2010","330,60 KB","2010-09-23"]
["Especificação Técnica","Rede Primária Multiplexada 15kV e 25kV - Estruturas Básicas - Montagem - GED 3959","78,39 KB","2009-04-16"]
["Especificação Técnica","Rede Primária Nua 15kV - Conjuntos Poliméricos - Estruturas Básicas - Montagem - GED 10635 - 11-07-2006","610,48 KB","2009-04-16"]
["Especificação Técnica","Rede Secundária Cabos Multiplexados Com Ramais Concêntricos - GED 5958 - 21-10-2005","191,49 KB","2009-04-16"]
["Especificação Técnica","Rede Secundária com Cabos Multiplexados - Conexões - GED 3589 - 21-10-2005","272,03 KB","2009-04-16"]
["Especificação Técnica","Rede Secundária com Cabos Multiplexados - Construção - GED 3596 - 06-08-2007","87,65 KB","2009-04-16"]
["Especificação Técnica","Rede Secundária com Cabos Multiplexados - Montagem - GED 3597 - 07-07-2009","469,27 KB","2009-09-15"]
["Especificação Técnica","Rede Secundária com Cabos Nus - Conexões - GED 3590 ","218,85 KB","2009-04-16"]
["Especificação Técnica","Rede Secundária com Cabos Nus - Montagem - GED 3602","370,15 KB","2009-04-16"]
["Especificação Técnica","Religador Whipp & Bourne - Montagem - GED 6095 - 27-06-2005","184,79 KB","2009-04-16"]
["Especificação Técnica","Tabela de Combinações para Conectores Cunha Ramal - AWG e mm - GED 3665 - 27-01-2009","38,53 KB","2009-04-16"]
["Padrões Técnicos","Afastamentos Mínimos para Redes de Distribuição - GED 11836 - 15-12-2009","260,53 KB","2010-02-05"]
["Padrões Técnicos","Aterramento - Montagem - GED 3613 - 12-01-2009","654,50 KB","2009-04-15"]
["Padrões Técnicos","Cliente BT - Padrão de Entrada Instalado no Alto do Poste com Leitura Através de Lente - GED 5788 - 02-10-2007","218,25 KB","2009-04-15"]
["Padrões Técnicos","Engastamento de Postes - GED 12752 - 25-08-2008","123,44 KB","2009-09-03"]
["Padrões Técnicos","Engastamento de Postes e Estaiamentos - GED 4955","1,11 MB","2009-04-15"]
["Padrões Técnicos","Equipamentos e Chaves - Conexões - GED 3587 ","360,31 KB","2009-04-16"]
["Padrões Técnicos","Estruturas Padronizadas para Chave a Óleo Automatizada","949,31 KB","2009-04-16"]
["Padrões Técnicos","Estruturas Padronizadas para PTR - Orteng - GED 1671 - 03-12-2001","364,64 KB","2009-04-16"]
["Padrões Técnicos","Estruturas padronizadas para reguladores de tensão","2,72 MB","2009-04-16"]
["Padrões Técnicos","Iluminação Pública - Conexões - GED 3523 - 30-01-2009","81,30 KB","2009-04-16"]
["Padrões Técnicos","Iluminação Pública - Montagem - GED 3446 - 08-07-2010","378,60 KB","2010-07-28"]
["Padrões Técnicos","Procedimento para inspeção e recebimento de obras - GED 11227 - 29-03-2007","49,19 KB","2009-04-16"]
["Padrões Técnicos","Proteção de Redes Aéreas de Distribuição - Sobrecorrente ","2,42 MB","2009-04-16"]
["Padrões Técnicos","Ramal de Ligação - Conexões - GED 3588 - 30-01-2009","286,08 KB","2009-09-15"]
["Padrões Técnicos","Ramal de Ligação - Montagem - GED 4319 - 22-08-2007","108,91 KB","2009-04-16"]
["Padrões Técnicos","RDS - Estruturas Básicas para Rede de Distribuição Subterrânea - Montagem - GED 4104 - 11-05-2010","1.001,50 KB","2010-05-18"]
["Padrões Técnicos","RDS - Instalações Elétricas para Rede de Distribuição Subterrânea - Montagem - GED 4105 - 11-05-2010","808,61 KB","2010-05-18"]
["Padrões Técnicos","RDS - Obras Civis para Rede de Distribuição Subterrânea - Montagem - GED 4106 - 11-05-2010","530,54 KB","2010-05-18"]
["Padrões Técnicos","Rede Primária Compacta 15kV - Banco de Capacitores - Montagem - GED 4255 - 23-12-2009","492,13 KB","2010-02-05"]
["Padrões Técnicos","Rede Primária Compacta 15kV - Calçadas Estreitas - GED 11325 - 04-07-2007","487,26 KB","2009-04-16"]
["Padrões Técnicos","Rede Primária Compacta 15kV - Chave a Óleo - Montagem - GED 4261 - 05-04-2004","62,89 KB","2009-04-16"]
["Padrões Técnicos","Rede Primária Compacta 15kV e 25kV - Amarrações - GED 4262 - 25-09-2007","122,39 KB","2009-04-16"]
["Padrões Técnicos","Rede Primária Compacta 15kV e 25kV - Chave Faca - Montagem - GED 11848 - 17-08-2010","636,11 KB","2010-08-17"]
["Padrões Técnicos","Rede Primária Compacta 15kV e 25kV - Chave Fusível - Montagem - GED 11849 - 17-08-2010","585,19 KB","2010-08-17"]
["Padrões Técnicos","Rede Primária Compacta 15kV e 25kV - Chave Secionadora Tripolar de Operação em Carga 630A - Montagem - GED 6242 - 03-05-2010","91,81 KB","2010-07-28"]
["Padrões Técnicos","Rede Primária Compacta 15kV e 25kV - Conexões - GED 3585 - 14-07-2008","1.013,84 KB","2009-04-16"]
["Padrões Técnicos","Rede Primária Compacta 15kV e 25kV - Entrada de Cliente - Montagem - GED 11845 - 25-09-2007","359,13 KB","2009-04-16"]
["Padrões Técnicos","Rede Primária Compacta 15kV e 25kV - Estruturas Básicas - Montagem - GED 11847 - 18-08-2009","1,09 MB","2010-06-23"]
["Padrões Técnicos","Rede Primária Compacta 15kV e 25kV - Pára-raios - Montagem - GED 4268 - 23-03-2009","116,04 KB","2009-09-10"]
["Padrões Técnicos","Rede Primária Compacta 15kV e 25kV - Transformador - Montagem - GED 11846 - 16-07-2009","350,23 KB","2009-09-15"]
["Padrões Técnicos","Rede Primária Condutores Nus 15kV - Chave a Óleo - Montagem - GED 4687 - 05-04-2004","220,92 KB","2009-04-16"]
["Padrões Técnicos","Rede Primária Condutores Nus 15kV - Entrada de Cliente - Montagem - GED 4742 - 14-03-2007","833,84 KB","2009-04-16"]
["Padrões Técnicos","Rede Primária Condutores Nus 15kV - Transformador em Paralelo - Montagem - GED 4314 - 05-04-2004","413,98 KB","2009-04-16"]
["Padrões Técnicos","Rede Primária Condutores Nus 15kV e 25kV - Amarrações - GED 4739 - 20-10-2008","122,68 KB","2009-09-15"]
["Padrões Técnicos","Rede Primária Condutores Nus 15kV e 25kV - Banco de Capacitor - GED 10619 - 23-12-2009","1,58 MB","2010-02-05"]
["Padrões Técnicos","Rede Primária Condutores Nus 15kV e 25kV - Chave Faca - Montagem - GED 10643 - 18-08-2009","354,83 KB","2009-08-24"]
["Padrões Técnicos","Rede Primária Condutores Nus 15kV e 25kV - Chave Fusível - Montagem - GED 10642 - 18-08-2009","363,46 KB","2009-09-02"]
["Padrões Técnicos","Rede Primária Condutores Nus 15kV e 25kV - Chave Secionadora Tripolar de Operação em carga 630A - Montagem - GED 4674 - 03-05-2010","90,30 KB","2010-09-23"]
["Padrões Técnicos","Rede Primária Condutores Nus 15kV e 25kV - Conexões - GED 3586 - 01-04-2008","208,40 KB","2009-04-16"]
["Padrões Técnicos","Rede Primária Condutores Nus 15kV e 25kV - Estruturas Básicas - Montagem - GED 10640 - 18-08-2009","727,82 KB","2009-09-15"]
["Padrões Técnicos","Rede Primária Condutores Nus 15kV e 25kV - Pára-raios - Montagem - GED 10644 - 18-08-2009","217,57 KB","2009-08-24"]
["Padrões Técnicos","Rede Primária Condutores Nus 15kV e 25kV - Transformador - Montagem - GED 10641 - 10-07-2009","819,50 KB","2009-08-14"]
["Padrões Técnicos","Rede Primária Condutores Nus 15kV e 25kV - Travessias - GED 5050 - 18-08-2009","423,49 KB","2009-08-18"]
["Padrões Técnicos","Rede Primária Condutores Nus 25kV - Entrada de Cliente - Montagem - GED 4345 - 11-03-2005","258,75 KB","2009-04-16"]
["Padrões Técnicos","Rede Primária Condutores Nus e Compacta 15kV - Religador Brush - Montagem - GED 11376 - 21-06-2007","281,99 KB","2009-04-16"]
["Padrões Técnicos","Rede Primária Condutores Nus e Compacta 15kV - Religador McGraw-Edison - Montagem - GED 11377 - 21-06-2007 ","161,50 KB","2009-04-16"]
["Padrões Técnicos","Rede Primária Condutores Nus e Compacta 15kV - Religador NOJA Power - Montagem - GED 11202 - 24-02-2010","158,51 KB","2010-02-26"]
["Padrões Técnicos","Rede Primária Condutores Nus e Compacta 15kV - Religador Reyrolle - Montagem - GED 11378 - 21-06-2007","428,21 KB","2009-04-16"]
["Padrões Técnicos","Rede Primária Condutores Nus e Compacta 15kV - Religador Westinghouse - Montagem - GED 11379 - 21-06-2007","141,20 KB","2009-04-16"]
["Padrões Técnicos","Rede Primária Condutores Nus e Compacta 15kV - Religador Whipp & Bourne - Montagem - GED 6095 - 24-02-2010","170,17 KB","2010-02-26"]
["Padrões Técnicos","Rede Primária Condutores Nus e Compacta 15kV - Seccionalizador McGraw-Edison - Montagem - GED 11380 - 21-06-2007","146,17 KB","2009-04-16"]
["Padrões Técnicos","Rede Primária Condutores Nus e Compacta 15kV - Seccionalizador Reyrolle - Montagem - GED 11381 - 21-06-2007","215,88 KB","2009-04-16"]
["Padrões Técnicos","Rede Primária Condutores Nus e Compacta 15kV e 25kV - PTR com Religador Nulec - Montagem - GED 10235 - 24-02-2010","355,93 KB","2010-09-23"]
["Padrões Técnicos","Rede Primária Condutores Nus e Compacta 15kV e 25kV - Religador Cooper - Montagem - GED 10294 - 24-02-2010","330,60 KB","2010-09-23"]
["Padrões Técnicos","Rede Primária Multiplexada 15kV e 25kV - Estruturas Básicas - Montagem - GED 3959","78,39 KB","2009-04-16"]
["Padrões Técnicos","Rede Primária Nua 15kV - Conjuntos Poliméricos - Estruturas Básicas - Montagem - GED 10635 - 11-07-2006","610,48 KB","2009-04-16"]
["Padrões Técnicos","Rede Secundária Cabos Multiplexados Com Ramais Concêntricos - GED 5958 - 21-10-2005","191,49 KB","2009-04-16"]
["Padrões Técnicos","Rede Secundária com Cabos Multiplexados - Conexões - GED 3589 - 21-10-2005","272,03 KB","2009-04-16"]
["Padrões Técnicos","Rede Secundária com Cabos Multiplexados - Construção - GED 3596 - 06-08-2007","87,65 KB","2009-04-16"]
["Padrões Técnicos","Rede Secundária com Cabos Multiplexados - Montagem - GED 3597 - 07-07-2009","469,27 KB","2009-09-15"]
["Padrões Técnicos","Rede Secundária com Cabos Nus - Conexões - GED 3590 ","218,85 KB","2009-04-16"]
["Padrões Técnicos","Rede Secundária com Cabos Nus - Montagem - GED 3602","370,15 KB","2009-04-16"]
["Padrões Técnicos","Religador Whipp & Bourne - Montagem - GED 6095 - 27-06-2005","184,79 KB","2009-04-16"]
["Padrões Técnicos","Tabela de Combinações para Conectores Cunha Ramal - AWG e mm - GED 3665 - 27-01-2009","38,53 KB","2009-04-16"]
["Fornecedores Aprovados","Fabricantes de materiais - Padrão entrada consumidor - GED 3412 - 10.08.2010","174,40 KB","2010-08-10"]
["Fornecedores Aprovados","Fornecedores Aprovados para Manutenção em Transformadores de Distribuição - GED 5550 - 25.06.2008 ","42,32 KB","2009-04-15"]
["Fornecedores Aprovados","Fornecedores de cabos de alumínio e cobre para redes de distribuição - GED 5363 - 24.07.2009 ","157,39 KB","2010-06-15"]
["Fornecedores Aprovados","Fornecedores de chaves e pára-raios de distribuição - GED 5152 - 22-12-2008 ","93,79 KB","2009-04-15"]
["Fornecedores Aprovados","Fornecedores de conectores para redes de distribuição - GED 5345 - 08.04.2006","158,54 KB","2010-06-15"]
["Fornecedores Aprovados","Fornecedores de cruzetas de madeira para redes de distribuição rurais - GED 10135 - 28-07-2009","31,55 KB","2009-08-25"]
["Fornecedores Aprovados","Fornecedores de cruzetas e conjuntos poliméricos para redes de distribuição - GED 10529 - 18-04-2006 ","32,20 KB","2009-04-15"]
["Fornecedores Aprovados","Fornecedores de elos fusíveis de distribuição - GED 6240 - 12-09-2005","38,95 KB","2009-04-15"]
["Fornecedores Aprovados","Fornecedores de ferragens para redes de distribuição - GED 5364 - 30.07.2008 ","337,97 KB","2009-04-15"]
["Fornecedores Aprovados","Fornecedores de Isoladores de Porcelana ou de Vidro para Redes de Distribuição - GED 5549 - 01-03-2005","49,99 KB","2009-04-15"]
["Fornecedores Aprovados","Fornecedores de Materiais de Iluminação Pública - GED 5151 - 10.12.2009","64,75 KB","2010-06-15"]
["Fornecedores Aprovados","Fornecedores de materiais e equipamentos para subestações - GED 11639 - 22.12.2009","68,39 KB","2010-06-15"]
["Fornecedores Aprovados","Fornecedores de Materiais para Redes de Distribuição Compacta - GED 4951 - 24-01-2007 ","64,76 KB","2009-04-15"]
["Fornecedores Aprovados","Fornecedores de Materiais para Redes Subterrâneas (S) - GED 5551 - 30.07.2008","135,96 KB","2009-04-15"]
["Fornecedores Aprovados","Fornecedores de placas de identificação e numeração adesiva para postos da rede de distribuição - GED 10615 - 28-06-2006","36,33 KB","2009-04-15"]
["Fornecedores Aprovados","Fornecedores de postes de concreto circular - GED 5029 - 25.06.2008","77,55 KB","2009-04-15"]
["Fornecedores Aprovados","Fornecedores de postes de concreto duplo T para redes de distribuição - GED 5362 - 25.06.2008","49,69 KB","2009-04-15"]
["Fornecedores Aprovados","Fornecedores de postes de madeira para redes de distribuição rurais - GED 5612 - 02-12-2005 ","35,13 KB","2009-04-15"]
["Fornecedores Aprovados","Fornecedores de postes duplo T para transmissão - GED 13309 - 04.09.2009 ","37,49 KB","2009-09-17"]
["Fornecedores Aprovados","Fornecedores de preformados para redes de distribuição - GED 5479 - 10.09.2004","308,26 KB","2009-04-15"]
["Fornecedores Aprovados","Fornecedores de transformadores de distribuição a seco para cabinas - GED 5716 - 03.09.2010","127,64 KB","2010-09-20"]
["Fornecedores Aprovados","Fornecedores de transformadores de distribuição para postes e cabinas - GED 5012 - 25.06.2008","49,97 KB","2009-04-15"]
["Outros","GED 12972 - Política de utilização Selo Prêmio CPFL Mais Valor","112,94 KB","Download"]
["Outros","Medição Agrupada para Fornecimento em Tensão Secundária de Distribuição","196,53 KB","Download"]
["Outros","Planilha de Auxílio a Cálculos para projetista externo","521,50 KB","Download"]
["Outros","Prêmio CPFL Mais Valor - Fornecedores de material - GED 11225 - 28.07.2009","80,96 KB","Download"]
["Outros","Prêmio CPFL Mais Valor - Fornecedores de serviço - GED 12560 - 28.07.2009","72,13 KB","Download"]
["Outros","Prêmio CPFL Mais Valor - Fornecedores de serviço - GED 12560 - 28.07.2009"]

{"sheet":"Simpli_Pre_Pta_Pir_Sta_Jag","index":17,"n_rows":55,"n_cols":28,"rows_kept":55,"cut":false,"hidden":true,"merged":[]}
[null,"ESFORÇO 1",null,null,"ESFORÇO 2",null,null,"ESFORÇO 3",null,null,"ESFORÇO 4",null,null,"ESFORÇO 5",null,null,"TOTAL"]
["LOCAL",{"$f":"Simplif_Esforço_CPPL_Paulista!J3","v":"http://www.mabjo.com.br/"},null,1,{"$f":"D2","v":1},null,{"$f":"D2","v":1},{"$f":"D2","v":1},null,1,{"$f":"G2","v":1},null,1,{"$f":"J2","v":1},null,1,{"$f":"SQRT((B18*B18)+(B19*B19))","v":771.69704525907878},"02A","URBANO"]
["POSTE",{"$f":"Simplif_Esforço_CPPL_Paulista!D3","v":11},{"$f":"B3-(B3*0.1+0.6)","v":9.3000000000000007},{"$f":"IF(B5>0,C5-(C5*B8/100),0)","v":373},{"$f":"B3","v":11},{"$f":"E3-(E3*0.1+0.6)","v":9.3000000000000007},{"$f":"IF(E5>0,F5-(F5*E8/100),0)","v":0},{"$f":"B3","v":11},{"$f":"H3-(H3*0.1+0.6)","v":9.3000000000000007},{"$f":"IF(H5>0,I5-(I5*H8/100),0)","v":648},{"$f":"E3","v":11},{"$f":"K3-(K3*0.1+0.6)","v":9.3000000000000007},{"$f":"IF(K5>0,L5-(L5*K8/100),0)","v":0},{"$f":"H3","v":11},{"$f":"N3-(N3*0.1+0.6)","v":9.3000000000000007},{"$f":"IF(N5>0,O5-(O5*N8/100),0)","v":0},null,"10A","RURAL"]
["ÂNGULO",{"$f":"Simplif_Esforço_CPPL_Paulista!Y6","v":180},{"$f":"RADIANS(B4)","v":3.1415926535897931},{"$f":"IF(B6>0,C6-(C6*B8/100),0)","v":0},{"$f":"Simplif_Esforço_CPPL_Paulista!AA6","v":290},{"$f":"RADIANS(E4)","v":5.0614548307835561},{"$f":"IF(E6>0,F6-(F6*E8/100),0)","v":0},{"$f":"Simplif_Esforço_CPPL_Paulista!AC6","v":500},{"$f":"RADIANS(H4)","v":8.7266462599716483},{"$f":"IF(H6>0,I6-(I6*H8/100),0)","v":0},{"$f":"Simplif_Esforço_CPPL_Paulista!AE6","v":410},{"$f":"RADIANS(K4)","v":7.1558499331767509},{"$f":"IF(K6>0,L6-(L6*K8/100),0)","v":0},{"$f":"Simplif_Esforço_CPPL_Paulista!AG6","v":370},{"$f":"RADIANS(N4)","v":6.457718232379019},{"$f":"IF(N6>0,O6-(O6*N8/100),0)","v":0},null,"20A"]
["PRIMÁRIA",{"$f":"Simplif_Esforço_CPPL_Paulista!D7","v":"3 E 70 mm² Vão 35m "},{"$f":"VLOOKUP(B5,Geral,2,0)","v":373},{"$f":"D3*(C3-(B9/100))/C3","v":373},{"$f":"Simplif_Esforço_CPPL_Paulista!F7","v":0},{"$f":"VLOOKUP(E5,Geral,2,0)","v":{"$error":"#N/A"}},{"$f":"G3*(F3-(E9/100))/F3","v":0},{"$f":"Simplif_Esforço_CPPL_Paulista!H7","v":"3 E 185 mm² Vão 35m "},{"$f":"VLOOKUP(H5,Geral,2,0)","v":648},{"$f":"J3*(I3-(H9/100))/I3","v":648},{"$f":"Simplif_Esforço_CPPL_Paulista!J7","v":0},{"$f":"VLOOKUP(K5,Geral,2,0)","v":{"$error":"#N/A"}},{"$f":"M3*(L3-(K9/100))/L3","v":0},{"$f":"Simplif_Esforço_CPPL_Paulista!L7","v":0},{"$f":"VLOOKUP(N5,Geral,2,0)","v":{"$error":"#N/A"}},{"$f":"P3*(O3-(N9/100))/O3","v":0},null,"40A"]
["Geral PRIMÁRIA",{"$f":"Simplif_Esforço_CPPL_Paulista!D8","v":0},{"$f":"VLOOKUP(B6,Geral,2,0)","v":{"$error":"#N/A"}},{"$f":"D4*(C3-(B9/100))/C3","v":0},{"$f":"Simplif_Esforço_CPPL_Paulista!F8","v":0},{"$f":"VLOOKUP(E6,Geral,2,0)","v":{"$error":"#N/A"}},{"$f":"G4*(F3-(E9/100))/F3","v":0},{"$f":"Simplif_Esforço_CPPL_Paulista!H8","v":0},{"$f":"VLOOKUP(H6,Geral,2,0)","v":{"$error":"#N/A"}},{"$f":"J4*(I3-(H9/100))/I3","v":0},{"$f":"Simplif_Esforço_CPPL_Paulista!J8","v":0},{"$f":"VLOOKUP(K6,Geral,2,0)","v":{"$error":"#N/A"}},{"$f":"M4*(L3-(K9/100))/L3","v":0},{"$f":"Simplif_Esforço_CPPL_Paulista!L8","v":0},{"$f":"VLOOKUP(N6,Geral,2,0)","v":{"$error":"#N/A"}},{"$f":"P4*(O3-(N9/100))/O3","v":0}]
[]
["REDUZIR T PRI",{"$f":"Simplif_Esforço_CPPL_Paulista!D9","v":0},null,null,{"$f":"Simplif_Esforço_CPPL_Paulista!F9","v":0},null,null,{"$f":"Simplif_Esforço_CPPL_Paulista!H9","v":0},null,null,{"$f":"Simplif_Esforço_CPPL_Paulista!J9","v":0},null,null,{"$f":"Simplif_Esforço_CPPL_Paulista!L9","v":0}]
["DISTÂNCIA TOPO CM",{"$f":"IF(Simplif_Esforço_CPPL_Paulista!D10>0,Simplif_Esforço_CPPL_Paulista!D10,0)","v":0},null,null,{"$f":"IF(Simplif_Esforço_CPPL_Paulista!F10>0,Simplif_Esforço_CPPL_Paulista!F10,0)","v":0},null,null,{"$f":"IF(Simplif_Esforço_CPPL_Paulista!H10>0,Simplif_Esforço_CPPL_Paulista!H10,0)","v":0},null,null,{"$f":"IF(Simplif_Esforço_CPPL_Paulista!J10>0,Simplif_Esforço_CPPL_Paulista!J10,0)","v":0},null,null,{"$f":"IF(Simplif_Esforço_CPPL_Paulista!L10>0,Simplif_Esforço_CPPL_Paulista!L10,0)","v":0}]
["Geral",{"$f":"Simplif_Esforço_CPPL_Paulista!D12","v":"1 CA 02 AWG Vão 35m "},{"$f":"VLOOKUP(B10,Geral,2,0)","v":60},{"$f":"IF(B10>0,((C10)-(C10*B13/100))*(B12/100)/C3,0)","v":46.451612903225801},{"$f":"Simplif_Esforço_CPPL_Paulista!F12","v":"1 CA 1/0 AWG Vão 35m "},{"$f":"VLOOKUP(E10,Geral,2,0)","v":96},{"$f":"IF(E10>0,((F10)-(F10*E13/100))*(E12/100)/F3,0)","v":74.322580645161295},{"$f":"Simplif_Esforço_CPPL_Paulista!H12","v":0},{"$f":"VLOOKUP(H10,Geral,2,0)","v":{"$error":"#N/A"}},{"$f":"IF(H10>0,((I10)-(I10*H13/100))*(H12/100)/I3,0)","v":0},{"$f":"Simplif_Esforço_CPPL_Paulista!J12","v":0},{"$f":"VLOOKUP(K10,Geral,2,0)","v":{"$error":"#N/A"}},{"$f":"IF(K10>0,((L10)-(L10*K13/100))*(K12/100)/L3,0)","v":0},{"$f":"Simplif_Esforço_CPPL_Paulista!L12","v":"1 CA 1/0 AWG Vão 35m "},{"$f":"VLOOKUP(N10,Geral,2,0)","v":96},{"$f":"IF(N10>0,((O10)-(O10*N13/100))*(N12/100)/O3,0)","v":74.322580645161295},null,"33A"]
["FASE",{"$f":"Simplif_Esforço_CPPL_Paulista!D11","v":"3 P 50 mm² Vão 35m "},{"$f":"VLOOKUP(B11,Geral,2,0)","v":156},{"$f":"IF(B11>0,((C11)-(C11*B13/100))*(B12/100)/C3,0)","v":120.77419354838709},{"$f":"Simplif_Esforço_CPPL_Paulista!F11","v":"3 P 70 mm² Vão 35m "},{"$f":"VLOOKUP(E11,Geral,2,0)","v":216},{"$f":"IF(E11>0,((F11)-(F11*E13/100))*(E12/100)/F3,0)","v":167.2258064516129},{"$f":"Simplif_Esforço_CPPL_Paulista!H11","v":0},{"$f":"VLOOKUP(H11,Geral,2,0)","v":{"$error":"#N/A"}},{"$f":"IF(H11>0,((I11)-(I11*H13/100))*(H12/100)/I3,0)","v":0},{"$f":"Simplif_Esforço_CPPL_Paulista!J11","v":0},{"$f":"VLOOKUP(K11,Geral,2,0)","v":{"$error":"#N/A"}},{"$f":"IF(K11>0,((L11)-(L11*K13/100))*(K12/100)/L3,0)","v":0},{"$f":"Simplif_Esforço_CPPL_Paulista!L11","v":"3 P 50 mm² Vão 35m "},{"$f":"VLOOKUP(N11,Geral,2,0)","v":156},{"$f":"IF(N11>0,((O11)-(O11*N13/100))*(N12/100)/O3,0)","v":120.77419354838709},null,"47A"]
["DISTÂNCIA SOLO CM",{"$f":"IF(Simplif_Esforço_CPPL_Paulista!D14>0,Simplif_Esforço_CPPL_Paulista!D14,720)","v":720},null,null,{"$f":"IF(Simplif_Esforço_CPPL_Paulista!F14>0,Simplif_Esforço_CPPL_Paulista!F14,720)","v":720},null,null,{"$f":"IF(Simplif_Esforço_CPPL_Paulista!H14>0,Simplif_Esforço_CPPL_Paulista!H14,720)","v":720},null,null,{"$f":"IF(Simplif_Esforço_CPPL_Paulista!J14>0,Simplif_Esforço_CPPL_Paulista!J14,720)","v":720},null,null,{"$f":"IF(Simplif_Esforço_CPPL_Paulista!L14>0,Simplif_Esforço_CPPL_Paulista!L14,720)","v":720}]
["RED TENSAO SEC",{"$f":"Simplif_Esforço_CPPL_Paulista!D13","v":0},null,null,{"$f":"Simplif_Esforço_CPPL_Paulista!F13","v":0},null,null,{"$f":"Simplif_Esforço_CPPL_Paulista!H13","v":0},null,null,{"$f":"Simplif_Esforço_CPPL_Paulista!J13","v":0},null,null,{"$f":"Simplif_Esforço_CPPL_Paulista!L13","v":0}]
["TELESP",{"$f":"Simplif_Esforço_CPPL_Paulista!D15","v":0},{"$f":"IF(D2>0,B14,0)","v":0},{"$f":"C14*(B16/100)/(C3-0.2)","v":0},{"$f":"Simplif_Esforço_CPPL_Paulista!F15","v":0},{"$f":"IF(G2>0,E14,0)","v":0},{"$f":"F14*(E16/100)/(F3-0.2)","v":0},{"$f":"Simplif_Esforço_CPPL_Paulista!H15","v":0},{"$f":"IF(J2>0,H14,0)","v":0},{"$f":"I14*(H16/100)/(I3-0.2)","v":0},{"$f":"Simplif_Esforço_CPPL_Paulista!J15","v":100},{"$f":"IF(M2>0,K14,0)","v":100},{"$f":"L14*(K16/100)/(L3-0.2)","v":60.439560439560431},{"$f":"Simplif_Esforço_CPPL_Paulista!L15","v":0},{"$f":"IF(P2>0,N14,0)","v":0},{"$f":"O14*(N16/100)/(O3-0.2)","v":0},null,"06CU"]
["CABO",{"$f":"Simplif_Esforço_CPPL_Paulista!D16","v":0},{"$f":"IF(D2>0,B15,0)","v":0},{"$f":"C15*(B16/100)/(C3-0.2)","v":0},{"$f":"Simplif_Esforço_CPPL_Paulista!F16","v":0},{"$f":"IF(G2>0,E15,0)","v":0},{"$f":"F15*(E16/100)/(F3-0.2)","v":0},{"$f":"Simplif_Esforço_CPPL_Paulista!H16","v":0},{"$f":"IF(J2>0,H15,0)","v":0},{"$f":"I15*(H16/100)/(I3-0.2)","v":0},{"$f":"Simplif_Esforço_CPPL_Paulista!J16","v":0},{"$f":"IF(M2>0,K15,0)","v":0},{"$f":"L15*(K16/100)/(L3-0.2)","v":0},{"$f":"Simplif_Esforço_CPPL_Paulista!L16","v":0},{"$f":"IF(P2>0,N15,0)","v":0},{"$f":"O15*(N16/100)/(O3-0.2)","v":0},null,"02CU"]
["DISTÂNCIA SOLO CM",{"$f":"IF(Simplif_Esforço_CPPL_Paulista!D17>0,Simplif_Esforço_CPPL_Paulista!D17,550)","v":550},null,null,{"$f":"IF(Simplif_Esforço_CPPL_Paulista!F17>0,Simplif_Esforço_CPPL_Paulista!F17,550)","v":550},{"$f":"IF(Simplif_Esforço_CPPL_Paulista!F17>0,Simplif_Esforço_CPPL_Paulista!F17,550)","v":550},null,{"$f":"IF(Simplif_Esforço_CPPL_Paulista!H17>0,Simplif_Esforço_CPPL_Paulista!H17,550)","v":550},{"$f":"IF(Simplif_Esforço_CPPL_Paulista!H17>0,Simplif_Esforço_CPPL_Paulista!H17,550)","v":550},null,{"$f":"IF(Simplif_Esforço_CPPL_Paulista!J17>0,Simplif_Esforço_CPPL_Paulista!J17,550)","v":550},{"$f":"IF(Simplif_Esforço_CPPL_Paulista!J17>0,Simplif_Esforço_CPPL_Paulista!J17,550)","v":550},null,{"$f":"IF(Simplif_Esforço_CPPL_Paulista!L17>0,Simplif_Esforço_CPPL_Paulista!L17,550)","v":550},{"$f":"IF(Simplif_Esforço_CPPL_Paulista!L17>0,Simplif_Esforço_CPPL_Paulista!L17,550)","v":550}]
["SEMI TOTAL",null,{"$f":"D17","v":540.22580645161293},{"$f":"IF(D2>0,SUM(D5:D15),0)","v":540.22580645161293},null,{"$f":"G17","v":241.54838709677421},{"$f":"IF(G2>0,SUM(G5:G15),0)","v":241.54838709677421},null,{"$f":"J17","v":648},{"$f":"IF(J2>0,SUM(J5:J15),0)","v":648},null,{"$f":"M17","v":60.439560439560431},{"$f":"IF(M2>0,SUM(M5:M15),0)","v":60.439560439560431},null,{"$f":"P17","v":195.09677419354838},{"$f":"IF(P2>0,SUM(P5:P15),0)","v":195.09677419354838},null,"10CU"]
["COSENO",{"$f":"SUM(D18:P18)","v":-723.02557521885933},null,{"$f":"COS(C4)*D17","v":-540.22580645161293},null,null,{"$f":"COS(F4)*G17","v":82.614413974922883},null,null,{"$f":"COS(I4)*J17","v":-496.39679914109797},null,null,{"$f":"COS(L4)*M17","v":38.84980058545019},null,null,{"$f":"COS(O4)*P17","v":192.13281581347854},null,"20CU"]
["SENO",{"$f":"SUM(D19:P19)","v":269.7227228859856},null,{"$f":"SIN(C4)*D17","v":6.6185681207595684E-14},null,null,{"$f":"SIN(F4)*G17","v":-226.98123691757684},null,null,{"$f":"SIN(I4)*J17","v":416.5263710768773},null,null,{"$f":"SIN(L4)*M17","v":46.299389419278874},null,null,{"$f":"SIN(O4)*P17","v":33.878199307406199},null,"40CU"]
["TOTAL",{"$f":"SQRT((B18*B18)+(B19*B19))","v":771.69704525907878},null,null,null,null,null,null,null,null,null,null,null,null,null,null,null,"04S",null,null,null,null,"ESFORÇO"]
["ÂNGULO",null,null,null,null,null,null,null,null,null,null,null,null,null,null,null,null,"02S"]
[null,null,null,null,null,null,null,null,null,null,null,null,null,null,null,null,null,"10S",null,null,null,{"$f":"V31","v":"ESFORÇO 1"},{"$f":"AA31","v":540.22580645161293}]
["OBSERVAÇÃO: ENTRAR COM DADOS SOMENTE NO CAMPO AMARELO",null,null,null,null,null,null,null,null,null,null,null,null,null,null,null,null,"40S",null,null,null,{"$f":"V33","v":"ESFORÇO 2"},{"$f":"AA33","v":241.54838709677421}]
["MAB",{"$f":"NOW()","v":"2022-07-21T04:50:22.360"},null,null,null,null,null,null,null,null,null,null,null,null,null,null,null,"33S",null,null,null,{"$f":"V35","v":"ESFORÇO 3"},{"$f":"AA35","v":648}]
[null,null,null,null,null,null,null,null,null,null,null,null,null,null,null,null,null,"47S",null,null,null,{"$f":"V37","v":"ESFORÇO 4"},{"$f":"AA37","v":60.439560439560438}]
[null,null,null,null,null,null,null,null,null,null,null,null,null,null,null,null,"ESFORÇO 1","70A",null,null,null,{"$f":"V39","v":"ESFORÇO 5"},{"$f":"AA39","v":195.09677419354838}]
[null,null,null,{"$f":"IF(B11>0,C11-(C11*B13/100),0)","v":156},null,null,null,null,null,null,null,null,null,null,null,null,"ESFORÇO 2","120A",null,null,null,{"$f":"V41","v":"TOTAL"},{"$f":"AA41","v":771.69704525907878}]
[null,null,null,{"$f":"D27*7.2/C3","v":120.77419354838709},null,null,null,null,null,null,null,null,null,null,null,null,"ESFORÇO 3","185A"]
[null,null,null,null,null,null,null,null,null,null,null,null,null,null,null,null,"ESFORÇO 4",0]
[null,null,null,null,null,null,null,null,null,null,null,null,null,null,null,null,"ESFORÇO 5",null,null,null,null,null,null,null,"X","Y"]
[null,null,null,null,null,null,null,null,null,null,null,null,null,null,null,null,"TOTAL",null,null,null,null,"ESFORÇO 1",null,null,{"$f":"D18","v":-540.22580645161293},{"$f":"D19","v":6.6185681207595684E-14},{"$f":"SQRT((Y31*Y31)+(Z31*Z31))","v":540.22580645161293},0]
[null,null,null,125,100,null,null,null,null,null,null,null,null,null,null,null,"ZERO",null,null,null,null,null,null,null,0,0]
[null,null,null,{"$f":"D32*E33/E32","v":12.5},10,null,null,null,null,null,null,null,null,null,null,null,null,null,null,null,null,"ESFORÇO 2",null,null,{"$f":"G18","v":82.614413974922883},{"$f":"G19","v":-226.98123691757684},{"$f":"SQRT((Y33*Y33)+(Z33*Z33))","v":241.54838709677421},0]
[null,null,null,{"$f":"D32-D33","v":112.5},null,null,null,null,null,null,null,null,null,null,null,null,null,null,null,null,null,null,null,null,0,0]
[null,null,null,{"$f":"D34*B12/100*C3","v":7533.0000000000009},null,null,null,null,null,null,null,null,null,null,null,null,null,null,null,null,null,"ESFORÇO 3",null,null,{"$f":"J18","v":-496.39679914109797},{"$f":"J19","v":416.5263710768773},{"$f":"SQRT((Y35*Y35)+(Z35*Z35))","v":648},0]
[null,null,null,null,null,null,null,null,null,null,null,null,null,null,null,null,null,null,null,null,null,null,null,null,0,0]
[null,null,null,null,null,null,null,null,null,null,null,null,null,null,null,null,null,null,null,null,null,"ESFORÇO 4",null,null,{"$f":"M18","v":38.84980058545019},{"$f":"M19","v":46.299389419278874},{"$f":"SQRT((Y37*Y37)+(Z37*Z37))","v":60.439560439560438},0]
[null,null,null,null,null,null,null,null,null,null,null,null,null,null,40,null,null,null,null,null,null,null,null,null,0,0]
[null,null,null,null,null,null,null,null,null,null,null,null,null,50,50,null,null,null,null,null,null,"ESFORÇO 5",null,null,{"$f":"P18","v":192.13281581347854},{"$f":"P19","v":33.878199307406199},{"$f":"SQRT((Y39*Y39)+(Z39*Z39))","v":195.09677419354838},0]
[null,null,null,null,null,null,null,null,null,null,null,null,null,0,0,null,null,null,null,null,null,null,null,null,0,0]
[null,null,null,null,null,null,null,null,null,null,null,null,null,null,null,null,null,null,null,null,null,"TOTAL",null,null,{"$f":"B18","v":-723.02557521885933},{"$f":"B19","v":269.7227228859856},{"$f":"SQRT((Y41*Y41)+(Z41*Z41))","v":771.69704525907878},0]
[null,null,null,null,null,null,null,null,null,null,null,null,null,null,null,null,null,null,null,null,null,null,null,null,0,0]
[]
[null,null,null,null,null,null,null,null,null,null,null,null,null,null,null,null,null,null,null,null,null,"ZERO",null,null,0,0,{"$f":"SQRT((Y44*Y44)+(Z44*Z44))","v":0}]
[]
[]
[]
[]
[]
[]
[]
[]
[]
[]
[null,null,{"$f":"P20","v":0},{"$f":"P21","v":0}]

{"sheet":"Pre_Pta_Pir_Sta_Jag","index":18,"n_rows":55,"n_cols":28,"rows_kept":55,"cut":false,"hidden":true,"merged":[]}
[null,"ESFORÇO 1",null,null,"ESFORÇO 2",null,null,"ESFORÇO 3",null,null,"ESFORÇO 4",null,null,"ESFORÇO 5",null,null,"TOTAL"]
["LOCAL",{"$f":"Completo_Esforço_CPFL_Paulista!J3","v":"http://www.mabjo.com.br/"},null,1,{"$f":"D2","v":1},null,{"$f":"D2","v":1},{"$f":"D2","v":1},null,1,{"$f":"G2","v":1},null,1,{"$f":"J2","v":1},null,1,{"$f":"SQRT((B18*B18)+(B19*B19))","v":771.69704525907878},"02A","URBANO"]
["POSTE",{"$f":"Completo_Esforço_CPFL_Paulista!D3","v":11},{"$f":"B3-(B3*0.1+0.6)","v":9.3000000000000007},{"$f":"IF(B5>0,C5-(C5*B8/100),0)","v":373},{"$f":"B3","v":11},{"$f":"E3-(E3*0.1+0.6)","v":9.3000000000000007},{"$f":"IF(E5>0,F5-(F5*E8/100),0)","v":0},{"$f":"B3","v":11},{"$f":"H3-(H3*0.1+0.6)","v":9.3000000000000007},{"$f":"IF(H5>0,I5-(I5*H8/100),0)","v":648},{"$f":"E3","v":11},{"$f":"K3-(K3*0.1+0.6)","v":9.3000000000000007},{"$f":"IF(K5>0,L5-(L5*K8/100),0)","v":0},{"$f":"H3","v":11},{"$f":"N3-(N3*0.1+0.6)","v":9.3000000000000007},{"$f":"IF(N5>0,O5-(O5*N8/100),0)","v":0},null,"10A","RURAL"]
["ÂNGULO",{"$f":"Completo_Esforço_CPFL_Paulista!Y6","v":180},{"$f":"RADIANS(B4)","v":3.1415926535897931},{"$f":"IF(B6>0,C6-(C6*B8/100),0)","v":0},{"$f":"Completo_Esforço_CPFL_Paulista!AA6","v":290},{"$f":"RADIANS(E4)","v":5.0614548307835561},{"$f":"IF(E6>0,F6-(F6*E8/100),0)","v":0},{"$f":"Completo_Esforço_CPFL_Paulista!AC6","v":500},{"$f":"RADIANS(H4)","v":8.7266462599716483},{"$f":"IF(H6>0,I6-(I6*H8/100),0)","v":0},{"$f":"Completo_Esforço_CPFL_Paulista!AE6","v":410},{"$f":"RADIANS(K4)","v":7.1558499331767509},{"$f":"IF(K6>0,L6-(L6*K8/100),0)","v":0},{"$f":"Completo_Esforço_CPFL_Paulista!AG6","v":370},{"$f":"RADIANS(N4)","v":6.457718232379019},{"$f":"IF(N6>0,O6-(O6*N8/100),0)","v":0},null,"20A"]
["PRIMÁRIA",{"$f":"Completo_Esforço_CPFL_Paulista!D7","v":"3 E 70 mm² Vão 35m "},{"$f":"VLOOKUP(B5,Geral,2,0)","v":373},{"$f":"D3*(C3-(B9/100))/C3","v":373},{"$f":"Completo_Esforço_CPFL_Paulista!F7","v":0},{"$f":"VLOOKUP(E5,Geral,2,0)","v":{"$error":"#N/A"}},{"$f":"G3*(F3-(E9/100))/F3","v":0},{"$f":"Completo_Esforço_CPFL_Paulista!H7","v":"3 E 185 mm² Vão 35m "},{"$f":"VLOOKUP(H5,Geral,2,0)","v":648},{"$f":"J3*(I3-(H9/100))/I3","v":648},{"$f":"Completo_Esforço_CPFL_Paulista!J7","v":0},{"$f":"VLOOKUP(K5,Geral,2,0)","v":{"$error":"#N/A"}},{"$f":"M3*(L3-(K9/100))/L3","v":0},{"$f":"Completo_Esforço_CPFL_Paulista!L7","v":0},{"$f":"VLOOKUP(N5,Geral,2,0)","v":{"$error":"#N/A"}},{"$f":"P3*(O3-(N9/100))/O3","v":0},null,"40A"]
["Geral PRIMÁRIA",{"$f":"Completo_Esforço_CPFL_Paulista!D8","v":0},{"$f":"VLOOKUP(B6,Geral,2,0)","v":{"$error":"#N/A"}},{"$f":"D4*(C3-(B9/100))/C3","v":0},{"$f":"Completo_Esforço_CPFL_Paulista!F8","v":0},{"$f":"VLOOKUP(E6,Geral,2,0)","v":{"$error":"#N/A"}},{"$f":"G4*(F3-(E9/100))/F3","v":0},{"$f":"Completo_Esforço_CPFL_Paulista!H8","v":0},{"$f":"VLOOKUP(H6,Geral,2,0)","v":{"$error":"#N/A"}},{"$f":"J4*(I3-(H9/100))/I3","v":0},{"$f":"Completo_Esforço_CPFL_Paulista!J8","v":0},{"$f":"VLOOKUP(K6,Geral,2,0)","v":{"$error":"#N/A"}},{"$f":"M4*(L3-(K9/100))/L3","v":0},{"$f":"Completo_Esforço_CPFL_Paulista!L8","v":0},{"$f":"VLOOKUP(N6,Geral,2,0)","v":{"$error":"#N/A"}},{"$f":"P4*(O3-(N9/100))/O3","v":0}]
[]
["REDUZIR T PRI",{"$f":"Completo_Esforço_CPFL_Paulista!D9","v":0},null,null,{"$f":"Completo_Esforço_CPFL_Paulista!F9","v":0},null,null,{"$f":"Completo_Esforço_CPFL_Paulista!H9","v":0},null,null,{"$f":"Completo_Esforço_CPFL_Paulista!J9","v":0},null,null,{"$f":"Completo_Esforço_CPFL_Paulista!L9","v":0}]
["DISTÂNCIA TOPO CM",{"$f":"IF(Completo_Esforço_CPFL_Paulista!D10>0,Completo_Esforço_CPFL_Paulista!D10,0)","v":0},null,null,{"$f":"IF(Completo_Esforço_CPFL_Paulista!F10>0,Completo_Esforço_CPFL_Paulista!F10,0)","v":0},null,null,{"$f":"IF(Completo_Esforço_CPFL_Paulista!H10>0,Completo_Esforço_CPFL_Paulista!H10,0)","v":0},null,null,{"$f":"IF(Completo_Esforço_CPFL_Paulista!J10>0,Completo_Esforço_CPFL_Paulista!J10,0)","v":0},null,null,{"$f":"IF(Completo_Esforço_CPFL_Paulista!L10>0,Completo_Esforço_CPFL_Paulista!L10,0)","v":0}]
["Geral",{"$f":"Completo_Esforço_CPFL_Paulista!D12","v":"1 CA 02 AWG Vão 35m "},{"$f":"VLOOKUP(B10,Geral,2,0)","v":60},{"$f":"IF(B10>0,((C10)-(C10*B13/100))*(B12/100)/C3,0)","v":46.451612903225801},{"$f":"Completo_Esforço_CPFL_Paulista!F12","v":"1 CA 1/0 AWG Vão 35m "},{"$f":"VLOOKUP(E10,Geral,2,0)","v":96},{"$f":"IF(E10>0,((F10)-(F10*E13/100))*(E12/100)/F3,0)","v":74.322580645161295},{"$f":"Completo_Esforço_CPFL_Paulista!H12","v":0},{"$f":"VLOOKUP(H10,Geral,2,0)","v":{"$error":"#N/A"}},{"$f":"IF(H10>0,((I10)-(I10*H13/100))*(H12/100)/I3,0)","v":0},{"$f":"Completo_Esforço_CPFL_Paulista!J12","v":0},{"$f":"VLOOKUP(K10,Geral,2,0)","v":{"$error":"#N/A"}},{"$f":"IF(K10>0,((L10)-(L10*K13/100))*(K12/100)/L3,0)","v":0},{"$f":"Completo_Esforço_CPFL_Paulista!L12","v":"1 CA 1/0 AWG Vão 35m "},{"$f":"VLOOKUP(N10,Geral,2,0)","v":96},{"$f":"IF(N10>0,((O10)-(O10*N13/100))*(N12/100)/O3,0)","v":74.322580645161295},null,"33A"]
["FASE",{"$f":"Completo_Esforço_CPFL_Paulista!D11","v":"3 P 50 mm² Vão 35m "},{"$f":"VLOOKUP(B11,Geral,2,0)","v":156},{"$f":"IF(B11>0,((C11)-(C11*B13/100))*(B12/100)/C3,0)","v":120.77419354838709},{"$f":"Completo_Esforço_CPFL_Paulista!F11","v":"3 P 70 mm² Vão 35m "},{"$f":"VLOOKUP(E11,Geral,2,0)","v":216},{"$f":"IF(E11>0,((F11)-(F11*E13/100))*(E12/100)/F3,0)","v":167.2258064516129},{"$f":"Completo_Esforço_CPFL_Paulista!H11","v":0},{"$f":"VLOOKUP(H11,Geral,2,0)","v":{"$error":"#N/A"}},{"$f":"IF(H11>0,((I11)-(I11*H13/100))*(H12/100)/I3,0)","v":0},{"$f":"Completo_Esforço_CPFL_Paulista!J11","v":0},{"$f":"VLOOKUP(K11,Geral,2,0)","v":{"$error":"#N/A"}},{"$f":"IF(K11>0,((L11)-(L11*K13/100))*(K12/100)/L3,0)","v":0},{"$f":"Completo_Esforço_CPFL_Paulista!L11","v":"3 P 50 mm² Vão 35m "},{"$f":"VLOOKUP(N11,Geral,2,0)","v":156},{"$f":"IF(N11>0,((O11)-(O11*N13/100))*(N12/100)/O3,0)","v":120.77419354838709},null,"47A"]
["DISTÂNCIA SOLO CM",{"$f":"IF(Completo_Esforço_CPFL_Paulista!D14>0,Completo_Esforço_CPFL_Paulista!D14,720)","v":720},null,null,{"$f":"IF(Completo_Esforço_CPFL_Paulista!F14>0,Completo_Esforço_CPFL_Paulista!F14,720)","v":720},null,null,{"$f":"IF(Completo_Esforço_CPFL_Paulista!H14>0,Completo_Esforço_CPFL_Paulista!H14,720)","v":720},null,null,{"$f":"IF(Completo_Esforço_CPFL_Paulista!J14>0,Completo_Esforço_CPFL_Paulista!J14,720)","v":720},null,null,{"$f":"IF(Completo_Esforço_CPFL_Paulista!L14>0,Completo_Esforço_CPFL_Paulista!L14,720)","v":720}]
["RED TENSAO SEC",{"$f":"Completo_Esforço_CPFL_Paulista!D13","v":0},null,null,{"$f":"Completo_Esforço_CPFL_Paulista!F13","v":0},null,null,{"$f":"Completo_Esforço_CPFL_Paulista!H13","v":0},null,null,{"$f":"Completo_Esforço_CPFL_Paulista!J13","v":0},null,null,{"$f":"Completo_Esforço_CPFL_Paulista!L13","v":0}]
["TELESP",{"$f":"Completo_Esforço_CPFL_Paulista!D15","v":0},{"$f":"IF(D2>0,B14,0)","v":0},{"$f":"C14*(B16/100)/(C3-0.2)","v":0},{"$f":"Completo_Esforço_CPFL_Paulista!F15","v":0},{"$f":"IF(G2>0,E14,0)","v":0},{"$f":"F14*(E16/100)/(F3-0.2)","v":0},{"$f":"Completo_Esforço_CPFL_Paulista!H15","v":0},{"$f":"IF(J2>0,H14,0)","v":0},{"$f":"I14*(H16/100)/(I3-0.2)","v":0},{"$f":"Completo_Esforço_CPFL_Paulista!J15","v":100},{"$f":"IF(M2>0,K14,0)","v":100},{"$f":"L14*(K16/100)/(L3-0.2)","v":60.439560439560431},{"$f":"Completo_Esforço_CPFL_Paulista!L15","v":0},{"$f":"IF(P2>0,N14,0)","v":0},{"$f":"O14*(N16/100)/(O3-0.2)","v":0},null,"06CU"]
["CABO",{"$f":"Completo_Esforço_CPFL_Paulista!D16","v":0},{"$f":"IF(D2>0,B15,0)","v":0},{"$f":"C15*(B16/100)/(C3-0.2)","v":0},{"$f":"Completo_Esforço_CPFL_Paulista!F16","v":0},{"$f":"IF(G2>0,E15,0)","v":0},{"$f":"F15*(E16/100)/(F3-0.2)","v":0},{"$f":"Completo_Esforço_CPFL_Paulista!H16","v":0},{"$f":"IF(J2>0,H15,0)","v":0},{"$f":"I15*(H16/100)/(I3-0.2)","v":0},{"$f":"Completo_Esforço_CPFL_Paulista!J16","v":0},{"$f":"IF(M2>0,K15,0)","v":0},{"$f":"L15*(K16/100)/(L3-0.2)","v":0},{"$f":"Completo_Esforço_CPFL_Paulista!L16","v":0},{"$f":"IF(P2>0,N15,0)","v":0},{"$f":"O15*(N16/100)/(O3-0.2)","v":0},null,"02CU"]
["DISTÂNCIA SOLO CM",{"$f":"IF(Completo_Esforço_CPFL_Paulista!D17>0,Completo_Esforço_CPFL_Paulista!D17,550)","v":550},null,null,{"$f":"IF(Completo_Esforço_CPFL_Paulista!F17>0,Completo_Esforço_CPFL_Paulista!F17,550)","v":550},{"$f":"IF(Completo_Esforço_CPFL_Paulista!F17>0,Completo_Esforço_CPFL_Paulista!F17,550)","v":550},null,{"$f":"IF(Completo_Esforço_CPFL_Paulista!H17>0,Completo_Esforço_CPFL_Paulista!H17,550)","v":550},{"$f":"IF(Completo_Esforço_CPFL_Paulista!H17>0,Completo_Esforço_CPFL_Paulista!H17,550)","v":550},null,{"$f":"IF(Completo_Esforço_CPFL_Paulista!J17>0,Completo_Esforço_CPFL_Paulista!J17,550)","v":550},{"$f":"IF(Completo_Esforço_CPFL_Paulista!J17>0,Completo_Esforço_CPFL_Paulista!J17,550)","v":550},null,{"$f":"IF(Completo_Esforço_CPFL_Paulista!L17>0,Completo_Esforço_CPFL_Paulista!L17,550)","v":550},{"$f":"IF(Completo_Esforço_CPFL_Paulista!L17>0,Completo_Esforço_CPFL_Paulista!L17,550)","v":550}]
["SEMI TOTAL",null,{"$f":"D17","v":540.22580645161293},{"$f":"IF(D2>0,SUM(D5:D15),0)","v":540.22580645161293},null,{"$f":"G17","v":241.54838709677421},{"$f":"IF(G2>0,SUM(G5:G15),0)","v":241.54838709677421},null,{"$f":"J17","v":648},{"$f":"IF(J2>0,SUM(J5:J15),0)","v":648},null,{"$f":"M17","v":60.439560439560431},{"$f":"IF(M2>0,SUM(M5:M15),0)","v":60.439560439560431},null,{"$f":"P17","v":195.09677419354838},{"$f":"IF(P2>0,SUM(P5:P15),0)","v":195.09677419354838},null,"10CU"]
["COSENO",{"$f":"SUM(D18:P18)","v":-723.02557521885933},null,{"$f":"COS(C4)*D17","v":-540.22580645161293},null,null,{"$f":"COS(F4)*G17","v":82.614413974922883},null,null,{"$f":"COS(I4)*J17","v":-496.39679914109797},null,null,{"$f":"COS(L4)*M17","v":38.84980058545019},null,null,{"$f":"COS(O4)*P17","v":192.13281581347854},null,"20CU"]
["SENO",{"$f":"SUM(D19:P19)","v":269.7227228859856},null,{"$f":"SIN(C4)*D17","v":6.6185681207595684E-14},null,null,{"$f":"SIN(F4)*G17","v":-226.98123691757684},null,null,{"$f":"SIN(I4)*J17","v":416.5263710768773},null,null,{"$f":"SIN(L4)*M17","v":46.299389419278874},null,null,{"$f":"SIN(O4)*P17","v":33.878199307406199},null,"40CU"]
["TOTAL",{"$f":"SQRT((B18*B18)+(B19*B19))","v":771.69704525907878},null,null,null,null,null,null,null,null,null,null,null,null,null,null,null,"04S",null,null,null,null,"ESFORÇO"]
["ÂNGULO",null,null,null,null,null,null,null,null,null,null,null,null,null,null,null,null,"02S"]
[null,null,null,null,null,null,null,null,null,null,null,null,null,null,null,null,null,"10S",null,null,null,{"$f":"V31","v":"ESFORÇO 1"},{"$f":"AA31","v":540.22580645161293}]
["OBSERVAÇÃO: ENTRAR COM DADOS SOMENTE NO CAMPO AMARELO",null,null,null,null,null,null,null,null,null,null,null,null,null,null,null,null,"40S",null,null,null,{"$f":"V33","v":"ESFORÇO 2"},{"$f":"AA33","v":241.54838709677421}]
["MAB",{"$f":"NOW()","v":"2022-07-21T04:50:22.360"},null,null,null,null,null,null,null,null,null,null,null,null,null,null,null,"33S",null,null,null,{"$f":"V35","v":"ESFORÇO 3"},{"$f":"AA35","v":648}]
[null,null,null,null,null,null,null,null,null,null,null,null,null,null,null,null,null,"47S",null,null,null,{"$f":"V37","v":"ESFORÇO 4"},{"$f":"AA37","v":60.439560439560438}]
[null,null,null,null,null,null,null,null,null,null,null,null,null,null,null,null,"ESFORÇO 1","70A",null,null,null,{"$f":"V39","v":"ESFORÇO 5"},{"$f":"AA39","v":195.09677419354838}]
[null,null,null,{"$f":"IF(B11>0,C11-(C11*B13/100),0)","v":156},null,null,null,null,null,null,null,null,null,null,null,null,"ESFORÇO 2","120A",null,null,null,{"$f":"V41","v":"TOTAL"},{"$f":"AA41","v":771.69704525907878}]
[null,null,null,{"$f":"D27*7.2/C3","v":120.77419354838709},null,null,null,null,null,null,null,null,null,null,null,null,"ESFORÇO 3","185A"]
[null,null,null,null,null,null,null,null,null,null,null,null,null,null,null,null,"ESFORÇO 4",0]
[null,null,null,null,null,null,null,null,null,null,null,null,null,null,null,null,"ESFORÇO 5",null,null,null,null,null,null,null,"X","Y"]
[null,null,null,null,null,null,null,null,null,null,null,null,null,null,null,null,"TOTAL",null,null,null,null,"ESFORÇO 1",null,null,{"$f":"D18","v":-540.22580645161293},{"$f":"D19","v":6.6185681207595684E-14},{"$f":"SQRT((Y31*Y31)+(Z31*Z31))","v":540.22580645161293},0]
[null,null,null,125,100,null,null,null,null,null,null,null,null,null,null,null,"ZERO",null,null,null,null,null,null,null,0,0]
[null,null,null,{"$f":"D32*E33/E32","v":12.5},10,null,null,null,null,null,null,null,null,null,null,null,null,null,null,null,null,"ESFORÇO 2",null,null,{"$f":"G18","v":82.614413974922883},{"$f":"G19","v":-226.98123691757684},{"$f":"SQRT((Y33*Y33)+(Z33*Z33))","v":241.54838709677421},0]
[null,null,null,{"$f":"D32-D33","v":112.5},null,null,null,null,null,null,null,null,null,null,null,null,null,null,null,null,null,null,null,null,0,0]
[null,null,null,{"$f":"D34*B12/100*C3","v":7533.0000000000009},null,null,null,null,null,null,null,null,null,null,null,null,null,null,null,null,null,"ESFORÇO 3",null,null,{"$f":"J18","v":-496.39679914109797},{"$f":"J19","v":416.5263710768773},{"$f":"SQRT((Y35*Y35)+(Z35*Z35))","v":648},0]
[null,null,null,null,null,null,null,null,null,null,null,null,null,null,null,null,null,null,null,null,null,null,null,null,0,0]
[null,null,null,null,null,null,null,null,null,null,null,null,null,null,null,null,null,null,null,null,null,"ESFORÇO 4",null,null,{"$f":"M18","v":38.84980058545019},{"$f":"M19","v":46.299389419278874},{"$f":"SQRT((Y37*Y37)+(Z37*Z37))","v":60.439560439560438},0]
[null,null,null,null,null,null,null,null,null,null,null,null,null,null,40,null,null,null,null,null,null,null,null,null,0,0]
[null,null,null,null,null,null,null,null,null,null,null,null,null,50,50,null,null,null,null,null,null,"ESFORÇO 5",null,null,{"$f":"P18","v":192.13281581347854},{"$f":"P19","v":33.878199307406199},{"$f":"SQRT((Y39*Y39)+(Z39*Z39))","v":195.09677419354838},0]
[null,null,null,null,null,null,null,null,null,null,null,null,null,0,0,null,null,null,null,null,null,null,null,null,0,0]
[null,null,null,null,null,null,null,null,null,null,null,null,null,null,null,null,null,null,null,null,null,"TOTAL",null,null,{"$f":"B18","v":-723.02557521885933},{"$f":"B19","v":269.7227228859856},{"$f":"SQRT((Y41*Y41)+(Z41*Z41))","v":771.69704525907878},0]
[null,null,null,null,null,null,null,null,null,null,null,null,null,null,null,null,null,null,null,null,null,null,null,null,0,0]
[]
[null,null,null,null,null,null,null,null,null,null,null,null,null,null,null,null,null,null,null,null,null,"ZERO",null,null,0,0,{"$f":"SQRT((Y44*Y44)+(Z44*Z44))","v":0}]
[]
[]
[]
[]
[]
[]
[]
[]
[]
[]
[null,null,{"$f":"P20","v":0},{"$f":"P21","v":0}]

{"sheet":"Simpli_Pre_Rge","index":19,"n_rows":55,"n_cols":28,"rows_kept":55,"cut":false,"hidden":true,"merged":[]}
[null,"ESFORÇO 1",null,null,"ESFORÇO 2",null,null,"ESFORÇO 3",null,null,"ESFORÇO 4",null,null,"ESFORÇO 5",null,null,"TOTAL"]
["LOCAL",{"$f":"Simplif_Esforço_CPFL_RGE!J3","v":"http://www.mabjo.com.br/"},null,1,{"$f":"D2","v":1},null,{"$f":"D2","v":1},{"$f":"D2","v":1},null,1,{"$f":"G2","v":1},null,1,{"$f":"J2","v":1},null,1,{"$f":"SQRT((B18*B18)+(B19*B19))","v":736.16760188139278},"02A","URBANO"]
["POSTE",{"$f":"Simplif_Esforço_CPFL_RGE!D3","v":11},{"$f":"B3-(B3*0.1+0.6)","v":9.3000000000000007},{"$f":"IF(B5>0,C5-(C5*B8/100),0)","v":373},{"$f":"B3","v":11},{"$f":"E3-(E3*0.1+0.6)","v":9.3000000000000007},{"$f":"IF(E5>0,F5-(F5*E8/100),0)","v":0},{"$f":"B3","v":11},{"$f":"H3-(H3*0.1+0.6)","v":9.3000000000000007},{"$f":"IF(H5>0,I5-(I5*H8/100),0)","v":632},{"$f":"E3","v":11},{"$f":"K3-(K3*0.1+0.6)","v":9.3000000000000007},{"$f":"IF(K5>0,L5-(L5*K8/100),0)","v":0},{"$f":"H3","v":11},{"$f":"N3-(N3*0.1+0.6)","v":9.3000000000000007},{"$f":"IF(N5>0,O5-(O5*N8/100),0)","v":0},null,"10A","RURAL"]
["ÂNGULO",{"$f":"Simplif_Esforço_CPFL_RGE!Y6","v":180},{"$f":"RADIANS(B4)","v":3.1415926535897931},{"$f":"IF(B6>0,C6-(C6*B8/100),0)","v":0},{"$f":"Simplif_Esforço_CPFL_RGE!AA6","v":290},{"$f":"RADIANS(E4)","v":5.0614548307835561},{"$f":"IF(E6>0,F6-(F6*E8/100),0)","v":0},{"$f":"Simplif_Esforço_CPFL_RGE!AC6","v":500},{"$f":"RADIANS(H4)","v":8.7266462599716483},{"$f":"IF(H6>0,I6-(I6*H8/100),0)","v":0},{"$f":"Simplif_Esforço_CPFL_RGE!AE6","v":410},{"$f":"RADIANS(K4)","v":7.1558499331767509},{"$f":"IF(K6>0,L6-(L6*K8/100),0)","v":0},{"$f":"Simplif_Esforço_CPFL_RGE!AG6","v":370},{"$f":"RADIANS(N4)","v":6.457718232379019},{"$f":"IF(N6>0,O6-(O6*N8/100),0)","v":0},null,"20A"]
["PRIMÁRIA",{"$f":"Simplif_Esforço_CPFL_RGE!D7","v":"3 E 70 mm² Vão 35m RGE"},{"$f":"VLOOKUP(B5,Geral,2,0)","v":373},{"$f":"D3*(C3-(B9/100))/C3","v":373},{"$f":"Simplif_Esforço_CPFL_RGE!F7","v":0},{"$f":"VLOOKUP(E5,Geral,2,0)","v":{"$error":"#N/A"}},{"$f":"G3*(F3-(E9/100))/F3","v":0},{"$f":"Simplif_Esforço_CPFL_RGE!H7","v":"3 E 185 mm² Vão 35m RGE"},{"$f":"VLOOKUP(H5,Geral,2,0)","v":632},{"$f":"J3*(I3-(H9/100))/I3","v":632},{"$f":"Simplif_Esforço_CPFL_RGE!J7","v":0},{"$f":"VLOOKUP(K5,Geral,2,0)","v":{"$error":"#N/A"}},{"$f":"M3*(L3-(K9/100))/L3","v":0},{"$f":"Simplif_Esforço_CPFL_RGE!L7","v":0},{"$f":"VLOOKUP(N5,Geral,2,0)","v":{"$error":"#N/A"}},{"$f":"P3*(O3-(N9/100))/O3","v":0},null,"40A"]
["Geral PRIMÁRIA",{"$f":"Simplif_Esforço_CPFL_RGE!D8","v":0},{"$f":"VLOOKUP(B6,Geral,2,0)","v":{"$error":"#N/A"}},{"$f":"D4*(C3-(B9/100))/C3","v":0},{"$f":"Simplif_Esforço_CPFL_RGE!F8","v":0},{"$f":"VLOOKUP(E6,Geral,2,0)","v":{"$error":"#N/A"}},{"$f":"G4*(F3-(E9/100))/F3","v":0},{"$f":"Simplif_Esforço_CPFL_RGE!H8","v":0},{"$f":"VLOOKUP(H6,Geral,2,0)","v":{"$error":"#N/A"}},{"$f":"J4*(I3-(H9/100))/I3","v":0},{"$f":"Simplif_Esforço_CPFL_RGE!J8","v":0},{"$f":"VLOOKUP(K6,Geral,2,0)","v":{"$error":"#N/A"}},{"$f":"M4*(L3-(K9/100))/L3","v":0},{"$f":"Simplif_Esforço_CPFL_RGE!L8","v":0},{"$f":"VLOOKUP(N6,Geral,2,0)","v":{"$error":"#N/A"}},{"$f":"P4*(O3-(N9/100))/O3","v":0}]
[]
["REDUZIR T PRI",{"$f":"Simplif_Esforço_CPFL_RGE!D9","v":0},null,null,{"$f":"Simplif_Esforço_CPFL_RGE!F9","v":0},null,null,{"$f":"Simplif_Esforço_CPFL_RGE!H9","v":0},null,null,{"$f":"Simplif_Esforço_CPFL_RGE!J9","v":0},null,null,{"$f":"Simplif_Esforço_CPFL_RGE!L9","v":0}]
["DISTÂNCIA TOPO CM",{"$f":"IF(Simplif_Esforço_CPFL_RGE!D10>0,Simplif_Esforço_CPFL_RGE!D10,0)","v":0},null,null,{"$f":"IF(Simplif_Esforço_CPFL_RGE!F10>0,Simplif_Esforço_CPFL_RGE!F10,0)","v":0},null,null,{"$f":"IF(Simplif_Esforço_CPFL_RGE!H10>0,Simplif_Esforço_CPFL_RGE!H10,0)","v":0},null,null,{"$f":"IF(Simplif_Esforço_CPFL_RGE!J10>0,Simplif_Esforço_CPFL_RGE!J10,0)","v":0},null,null,{"$f":"IF(Simplif_Esforço_CPFL_RGE!L10>0,Simplif_Esforço_CPFL_RGE!L10,0)","v":0}]
["Geral",{"$f":"Simplif_Esforço_CPFL_RGE!D12","v":"1 CA 02 AWG Vão 35m RGE"},{"$f":"VLOOKUP(B10,Geral,2,0)","v":75},{"$f":"IF(B10>0,((C10)-(C10*B13/100))*(B12/100)/C3,0)","v":58.064516129032256},{"$f":"Simplif_Esforço_CPFL_RGE!F12","v":"1 CA 1/0 AWG Vão 35m RGE"},{"$f":"VLOOKUP(E10,Geral,2,0)","v":119},{"$f":"IF(E10>0,((F10)-(F10*E13/100))*(E12/100)/F3,0)","v":92.129032258064512},{"$f":"Simplif_Esforço_CPFL_RGE!H12","v":0},{"$f":"VLOOKUP(H10,Geral,2,0)","v":{"$error":"#N/A"}},{"$f":"IF(H10>0,((I10)-(I10*H13/100))*(H12/100)/I3,0)","v":0},{"$f":"Simplif_Esforço_CPFL_RGE!J12","v":0},{"$f":"VLOOKUP(K10,Geral,2,0)","v":{"$error":"#N/A"}},{"$f":"IF(K10>0,((L10)-(L10*K13/100))*(K12/100)/L3,0)","v":0},{"$f":"Simplif_Esforço_CPFL_RGE!L12","v":"1 CA 1/0 AWG Vão 35m RGE"},{"$f":"VLOOKUP(N10,Geral,2,0)","v":119},{"$f":"IF(N10>0,((O10)-(O10*N13/100))*(N12/100)/O3,0)","v":92.129032258064512},null,"33A"]
["FASE",{"$f":"Simplif_Esforço_CPFL_RGE!D11","v":"3 P 50 mm² Vão 35m RGE"},{"$f":"VLOOKUP(B11,Geral,2,0)","v":162},{"$f":"IF(B11>0,((C11)-(C11*B13/100))*(B12/100)/C3,0)","v":125.41935483870968},{"$f":"Simplif_Esforço_CPFL_RGE!F11","v":"3 P 70 mm² Vão 35m RGE"},{"$f":"VLOOKUP(E11,Geral,2,0)","v":226},{"$f":"IF(E11>0,((F11)-(F11*E13/100))*(E12/100)/F3,0)","v":174.96774193548387},{"$f":"Simplif_Esforço_CPFL_RGE!H11","v":0},{"$f":"VLOOKUP(H11,Geral,2,0)","v":{"$error":"#N/A"}},{"$f":"IF(H11>0,((I11)-(I11*H13/100))*(H12/100)/I3,0)","v":0},{"$f":"Simplif_Esforço_CPFL_RGE!J11","v":0},{"$f":"VLOOKUP(K11,Geral,2,0)","v":{"$error":"#N/A"}},{"$f":"IF(K11>0,((L11)-(L11*K13/100))*(K12/100)/L3,0)","v":0},{"$f":"Simplif_Esforço_CPFL_RGE!L11","v":"3 P 50 mm² Vão 35m RGE"},{"$f":"VLOOKUP(N11,Geral,2,0)","v":162},{"$f":"IF(N11>0,((O11)-(O11*N13/100))*(N12/100)/O3,0)","v":125.41935483870968},null,"47A"]
["DISTÂNCIA SOLO CM",{"$f":"IF(Simplif_Esforço_CPFL_RGE!D14>0,Simplif_Esforço_CPFL_RGE!D14,720)","v":720},null,null,{"$f":"IF(Simplif_Esforço_CPFL_RGE!F14>0,Simplif_Esforço_CPFL_RGE!F14,720)","v":720},null,null,{"$f":"IF(Simplif_Esforço_CPFL_RGE!H14>0,Simplif_Esforço_CPFL_RGE!H14,720)","v":720},null,null,{"$f":"IF(Simplif_Esforço_CPFL_RGE!J14>0,Simplif_Esforço_CPFL_RGE!J14,720)","v":720},null,null,{"$f":"IF(Simplif_Esforço_CPFL_RGE!L14>0,Simplif_Esforço_CPFL_RGE!L14,720)","v":720}]
["RED TENSAO SEC",{"$f":"Simplif_Esforço_CPFL_RGE!D13","v":0},null,null,{"$f":"Simplif_Esforço_CPFL_RGE!F13","v":0},null,null,{"$f":"Simplif_Esforço_CPFL_RGE!H13","v":0},null,null,{"$f":"Simplif_Esforço_CPFL_RGE!J13","v":0},null,null,{"$f":"Simplif_Esforço_CPFL_RGE!L13","v":0}]
["TELESP",{"$f":"Simplif_Esforço_CPFL_RGE!D15","v":0},{"$f":"IF(D2>0,B14,0)","v":0},{"$f":"C14*(B16/100)/(C3-0.2)","v":0},{"$f":"Simplif_Esforço_CPFL_RGE!F15","v":0},{"$f":"IF(G2>0,E14,0)","v":0},{"$f":"F14*(E16/100)/(F3-0.2)","v":0},{"$f":"Simplif_Esforço_CPFL_RGE!H15","v":0},{"$f":"IF(J2>0,H14,0)","v":0},{"$f":"I14*(H16/100)/(I3-0.2)","v":0},{"$f":"Simplif_Esforço_CPFL_RGE!J15","v":100},{"$f":"IF(M2>0,K14,0)","v":100},{"$f":"L14*(K16/100)/(L3-0.2)","v":60.439560439560431},{"$f":"Simplif_Esforço_CPFL_RGE!L15","v":0},{"$f":"IF(P2>0,N14,0)","v":0},{"$f":"O14*(N16/100)/(O3-0.2)","v":0},null,"06CU"]
["CABO",{"$f":"Simplif_Esforço_CPFL_RGE!D16","v":0},{"$f":"IF(D2>0,B15,0)","v":0},{"$f":"C15*(B16/100)/(C3-0.2)","v":0},{"$f":"Simplif_Esforço_CPFL_RGE!F16","v":0},{"$f":"IF(G2>0,E15,0)","v":0},{"$f":"F15*(E16/100)/(F3-0.2)","v":0},{"$f":"Simplif_Esforço_CPFL_RGE!H16","v":0},{"$f":"IF(J2>0,H15,0)","v":0},{"$f":"I15*(H16/100)/(I3-0.2)","v":0},{"$f":"Simplif_Esforço_CPFL_RGE!J16","v":0},{"$f":"IF(M2>0,K15,0)","v":0},{"$f":"L15*(K16/100)/(L3-0.2)","v":0},{"$f":"Simplif_Esforço_CPFL_RGE!L16","v":0},{"$f":"IF(P2>0,N15,0)","v":0},{"$f":"O15*(N16/100)/(O3-0.2)","v":0},null,"02CU"]
["DISTÂNCIA SOLO CM",{"$f":"IF(Simplif_Esforço_CPFL_RGE!D17>0,Simplif_Esforço_CPFL_RGE!D17,550)","v":550},null,null,{"$f":"IF(Simplif_Esforço_CPFL_RGE!F17>0,Simplif_Esforço_CPFL_RGE!F17,550)","v":550},{"$f":"IF(Simplif_Esforço_CPFL_RGE!F17>0,Simplif_Esforço_CPFL_RGE!F17,550)","v":550},null,{"$f":"IF(Simplif_Esforço_CPFL_RGE!H17>0,Simplif_Esforço_CPFL_RGE!H17,550)","v":550},{"$f":"IF(Simplif_Esforço_CPFL_RGE!H17>0,Simplif_Esforço_CPFL_RGE!H17,550)","v":550},null,{"$f":"IF(Simplif_Esforço_CPFL_RGE!J17>0,Simplif_Esforço_CPFL_RGE!J17,550)","v":550},{"$f":"IF(Simplif_Esforço_CPFL_RGE!J17>0,Simplif_Esforço_CPFL_RGE!J17,550)","v":550},null,{"$f":"IF(Simplif_Esforço_CPFL_RGE!L17>0,Simplif_Esforço_CPFL_RGE!L17,550)","v":550},{"$f":"IF(Simplif_Esforço_CPFL_RGE!L17>0,Simplif_Esforço_CPFL_RGE!L17,550)","v":550}]
["SEMI TOTAL",null,{"$f":"D17","v":556.48387096774195},{"$f":"IF(D2>0,SUM(D5:D15),0)","v":556.48387096774195},null,{"$f":"G17","v":267.09677419354841},{"$f":"IF(G2>0,SUM(G5:G15),0)","v":267.09677419354841},null,{"$f":"J17","v":632},{"$f":"IF(J2>0,SUM(J5:J15),0)","v":632},null,{"$f":"M17","v":60.439560439560431},{"$f":"IF(M2>0,SUM(M5:M15),0)","v":60.439560439560431},null,{"$f":"P17","v":217.54838709677421},{"$f":"IF(P2>0,SUM(P5:P15),0)","v":217.54838709677421},null,"10CU"]
["COSENO",{"$f":"SUM(D18:P18)","v":-696.17834317378049},null,{"$f":"COS(C4)*D17","v":-556.48387096774195},null,null,{"$f":"COS(F4)*G17","v":91.352476991501277},null,null,{"$f":"COS(I4)*J17","v":-484.14008805119431},null,null,{"$f":"COS(L4)*M17","v":38.84980058545019},null,null,{"$f":"COS(O4)*P17","v":214.24333826820427},null,"20CU"]
["SENO",{"$f":"SUM(D19:P19)","v":239.32917196950882},null,{"$f":"SIN(C4)*D17","v":6.8177535469769687E-14},null,null,{"$f":"SIN(F4)*G17","v":-250.98886774539747},null,null,{"$f":"SIN(I4)*J17","v":406.24176932189266},null,null,{"$f":"SIN(L4)*M17","v":46.299389419278874},null,null,{"$f":"SIN(O4)*P17","v":37.776880973734691},null,"40CU"]
["TOTAL",{"$f":"SQRT((B18*B18)+(B19*B19))","v":736.16760188139278},null,null,null,null,null,null,null,null,null,null,null,null,null,null,null,"04S",null,null,null,null,"ESFORÇO"]
["ÂNGULO",null,null,null,null,null,null,null,null,null,null,null,null,null,null,null,null,"02S"]
[null,null,null,null,null,null,null,null,null,null,null,null,null,null,null,null,null,"10S",null,null,null,{"$f":"V31","v":"ESFORÇO 1"},{"$f":"AA31","v":556.48387096774195}]
["OBSERVAÇÃO: ENTRAR COM DADOS SOMENTE NO CAMPO AMARELO",null,null,null,null,null,null,null,null,null,null,null,null,null,null,null,null,"40S",null,null,null,{"$f":"V33","v":"ESFORÇO 2"},{"$f":"AA33","v":267.09677419354841}]
["MAB",{"$f":"NOW()","v":44763.201647685186},null,null,null,null,null,null,null,null,null,null,null,null,null,null,null,"33S",null,null,null,{"$f":"V35","v":"ESFORÇO 3"},{"$f":"AA35","v":632}]
[null,null,null,null,null,null,null,null,null,null,null,null,null,null,null,null,null,"47S",null,null,null,{"$f":"V37","v":"ESFORÇO 4"},{"$f":"AA37","v":60.439560439560438}]
[null,null,null,null,null,null,null,null,null,null,null,null,null,null,null,null,"ESFORÇO 1","70A",null,null,null,{"$f":"V39","v":"ESFORÇO 5"},{"$f":"AA39","v":217.54838709677421}]
[null,null,null,{"$f":"IF(B11>0,C11-(C11*B13/100),0)","v":162},null,null,null,null,null,null,null,null,null,null,null,null,"ESFORÇO 2","120A",null,null,null,{"$f":"V41","v":"TOTAL"},{"$f":"AA41","v":736.16760188139278}]
[null,null,null,{"$f":"D27*7.2/C3","v":125.41935483870968},null,null,null,null,null,null,null,null,null,null,null,null,"ESFORÇO 3","185A"]
[null,null,null,null,null,null,null,null,null,null,null,null,null,null,null,null,"ESFORÇO 4",0]
[null,null,null,null,null,null,null,null,null,null,null,null,null,null,null,null,"ESFORÇO 5",null,null,null,null,null,null,null,"X","Y"]
[null,null,null,null,null,null,null,null,null,null,null,null,null,null,null,null,"TOTAL",null,null,null,null,"ESFORÇO 1",null,null,{"$f":"D18","v":-556.48387096774195},{"$f":"D19","v":6.8177535469769687E-14},{"$f":"SQRT((Y31*Y31)+(Z31*Z31))","v":556.48387096774195},0]
[null,null,null,125,100,null,null,null,null,null,null,null,null,null,null,null,"ZERO",null,null,null,null,null,null,null,0,0]
[null,null,null,{"$f":"D32*E33/E32","v":12.5},10,null,null,null,null,null,null,null,null,null,null,null,null,null,null,null,null,"ESFORÇO 2",null,null,{"$f":"G18","v":91.352476991501277},{"$f":"G19","v":-250.98886774539747},{"$f":"SQRT((Y33*Y33)+(Z33*Z33))","v":267.09677419354841},0]
[null,null,null,{"$f":"D32-D33","v":112.5},null,null,null,null,null,null,null,null,null,null,null,null,null,null,null,null,null,null,null,null,0,0]
[null,null,null,{"$f":"D34*B12/100*C3","v":7533.0000000000009},null,null,null,null,null,null,null,null,null,null,null,null,null,null,null,null,null,"ESFORÇO 3",null,null,{"$f":"J18","v":-484.14008805119431},{"$f":"J19","v":406.24176932189266},{"$f":"SQRT((Y35*Y35)+(Z35*Z35))","v":632},0]
[null,null,null,null,null,null,null,null,null,null,null,null,null,null,null,null,null,null,null,null,null,null,null,null,0,0]
[null,null,null,null,null,null,null,null,null,null,null,null,null,null,null,null,null,null,null,null,null,"ESFORÇO 4",null,null,{"$f":"M18","v":38.84980058545019},{"$f":"M19","v":46.299389419278874},{"$f":"SQRT((Y37*Y37)+(Z37*Z37))","v":60.439560439560438},0]
[null,null,null,null,null,null,null,null,null,null,null,null,null,null,40,null,null,null,null,null,null,null,null,null,0,0]
[null,null,null,null,null,null,null,null,null,null,null,null,null,50,50,null,null,null,null,null,null,"ESFORÇO 5",null,null,{"$f":"P18","v":214.24333826820427},{"$f":"P19","v":37.776880973734691},{"$f":"SQRT((Y39*Y39)+(Z39*Z39))","v":217.54838709677421},0]
[null,null,null,null,null,null,null,null,null,null,null,null,null,0,0,null,null,null,null,null,null,null,null,null,0,0]
[null,null,null,null,null,null,null,null,null,null,null,null,null,null,null,null,null,null,null,null,null,"TOTAL",null,null,{"$f":"B18","v":-696.17834317378049},{"$f":"B19","v":239.32917196950882},{"$f":"SQRT((Y41*Y41)+(Z41*Z41))","v":736.16760188139278},0]
[null,null,null,null,null,null,null,null,null,null,null,null,null,null,null,null,null,null,null,null,null,null,null,null,0,0]
[]
[null,null,null,null,null,null,null,null,null,null,null,null,null,null,null,null,null,null,null,null,null,"ZERO",null,null,0,0,{"$f":"SQRT((Y44*Y44)+(Z44*Z44))","v":0}]
[]
[]
[]
[]
[]
[]
[]
[]
[]
[]
[null,null,{"$f":"P20","v":0},{"$f":"P21","v":0}]

{"sheet":"Pre_Rge","index":20,"n_rows":55,"n_cols":28,"rows_kept":55,"cut":false,"hidden":true,"merged":[]}
[null,"ESFORÇO 1",null,null,"ESFORÇO 2",null,null,"ESFORÇO 3",null,null,"ESFORÇO 4",null,null,"ESFORÇO 5",null,null,"TOTAL"]
["LOCAL",{"$f":"Completo_Esforço_CPFL_Rge!J3","v":"http://www.mabjo.com.br/"},null,1,{"$f":"D2","v":1},null,{"$f":"D2","v":1},{"$f":"D2","v":1},null,1,{"$f":"G2","v":1},null,1,{"$f":"J2","v":1},null,1,{"$f":"SQRT((B18*B18)+(B19*B19))","v":736.16760188139278},"02A","URBANO"]
["POSTE",{"$f":"Completo_Esforço_CPFL_Rge!D3","v":11},{"$f":"B3-(B3*0.1+0.6)","v":9.3000000000000007},{"$f":"IF(B5>0,C5-(C5*B8/100),0)","v":373},{"$f":"B3","v":11},{"$f":"E3-(E3*0.1+0.6)","v":9.3000000000000007},{"$f":"IF(E5>0,F5-(F5*E8/100),0)","v":0},{"$f":"B3","v":11},{"$f":"H3-(H3*0.1+0.6)","v":9.3000000000000007},{"$f":"IF(H5>0,I5-(I5*H8/100),0)","v":632},{"$f":"E3","v":11},{"$f":"K3-(K3*0.1+0.6)","v":9.3000000000000007},{"$f":"IF(K5>0,L5-(L5*K8/100),0)","v":0},{"$f":"H3","v":11},{"$f":"N3-(N3*0.1+0.6)","v":9.3000000000000007},{"$f":"IF(N5>0,O5-(O5*N8/100),0)","v":0},null,"10A","RURAL"]
["ÂNGULO",{"$f":"Completo_Esforço_CPFL_Rge!Y6","v":180},{"$f":"RADIANS(B4)","v":3.1415926535897931},{"$f":"IF(B6>0,C6-(C6*B8/100),0)","v":0},{"$f":"Completo_Esforço_CPFL_Rge!AA6","v":290},{"$f":"RADIANS(E4)","v":5.0614548307835561},{"$f":"IF(E6>0,F6-(F6*E8/100),0)","v":0},{"$f":"Completo_Esforço_CPFL_Rge!AC6","v":500},{"$f":"RADIANS(H4)","v":8.7266462599716483},{"$f":"IF(H6>0,I6-(I6*H8/100),0)","v":0},{"$f":"Completo_Esforço_CPFL_Rge!AE6","v":410},{"$f":"RADIANS(K4)","v":7.1558499331767509},{"$f":"IF(K6>0,L6-(L6*K8/100),0)","v":0},{"$f":"Completo_Esforço_CPFL_Rge!AG6","v":370},{"$f":"RADIANS(N4)","v":6.457718232379019},{"$f":"IF(N6>0,O6-(O6*N8/100),0)","v":0},null,"20A"]
["PRIMÁRIA",{"$f":"Completo_Esforço_CPFL_Rge!D7","v":"3 E 70 mm² Vão 35m RGE"},{"$f":"VLOOKUP(B5,Geral,2,0)","v":373},{"$f":"D3*(C3-(B9/100))/C3","v":373},{"$f":"Completo_Esforço_CPFL_Rge!F7","v":0},{"$f":"VLOOKUP(E5,Geral,2,0)","v":{"$error":"#N/A"}},{"$f":"G3*(F3-(E9/100))/F3","v":0},{"$f":"Completo_Esforço_CPFL_Rge!H7","v":"3 E 185 mm² Vão 35m RGE"},{"$f":"VLOOKUP(H5,Geral,2,0)","v":632},{"$f":"J3*(I3-(H9/100))/I3","v":632},{"$f":"Completo_Esforço_CPFL_Rge!J7","v":0},{"$f":"VLOOKUP(K5,Geral,2,0)","v":{"$error":"#N/A"}},{"$f":"M3*(L3-(K9/100))/L3","v":0},{"$f":"Completo_Esforço_CPFL_Rge!L7","v":0},{"$f":"VLOOKUP(N5,Geral,2,0)","v":{"$error":"#N/A"}},{"$f":"P3*(O3-(N9/100))/O3","v":0},null,"40A"]
["Geral PRIMÁRIA",{"$f":"Completo_Esforço_CPFL_Rge!D8","v":0},{"$f":"VLOOKUP(B6,Geral,2,0)","v":{"$error":"#N/A"}},{"$f":"D4*(C3-(B9/100))/C3","v":0},{"$f":"Completo_Esforço_CPFL_Rge!F8","v":0},{"$f":"VLOOKUP(E6,Geral,2,0)","v":{"$error":"#N/A"}},{"$f":"G4*(F3-(E9/100))/F3","v":0},{"$f":"Completo_Esforço_CPFL_Rge!H8","v":0},{"$f":"VLOOKUP(H6,Geral,2,0)","v":{"$error":"#N/A"}},{"$f":"J4*(I3-(H9/100))/I3","v":0},{"$f":"Completo_Esforço_CPFL_Rge!J8","v":0},{"$f":"VLOOKUP(K6,Geral,2,0)","v":{"$error":"#N/A"}},{"$f":"M4*(L3-(K9/100))/L3","v":0},{"$f":"Completo_Esforço_CPFL_Rge!L8","v":0},{"$f":"VLOOKUP(N6,Geral,2,0)","v":{"$error":"#N/A"}},{"$f":"P4*(O3-(N9/100))/O3","v":0}]
[]
["REDUZIR T PRI",{"$f":"Completo_Esforço_CPFL_Rge!D9","v":0},null,null,{"$f":"Completo_Esforço_CPFL_Rge!F9","v":0},null,null,{"$f":"Completo_Esforço_CPFL_Rge!H9","v":0},null,null,{"$f":"Completo_Esforço_CPFL_Rge!J9","v":0},null,null,{"$f":"Completo_Esforço_CPFL_Rge!L9","v":0}]
["DISTÂNCIA TOPO CM",{"$f":"IF(Completo_Esforço_CPFL_Rge!D10>0,Completo_Esforço_CPFL_Rge!D10,0)","v":0},null,null,{"$f":"IF(Completo_Esforço_CPFL_Rge!F10>0,Completo_Esforço_CPFL_Rge!F10,0)","v":0},null,null,{"$f":"IF(Completo_Esforço_CPFL_Rge!H10>0,Completo_Esforço_CPFL_Rge!H10,0)","v":0},null,null,{"$f":"IF(Completo_Esforço_CPFL_Rge!J10>0,Completo_Esforço_CPFL_Rge!J10,0)","v":0},null,null,{"$f":"IF(Completo_Esforço_CPFL_Rge!L10>0,Completo_Esforço_CPFL_Rge!L10,0)","v":0}]
["Geral",{"$f":"Completo_Esforço_CPFL_Rge!D12","v":"1 CA 02 AWG Vão 35m RGE"},{"$f":"VLOOKUP(B10,Geral,2,0)","v":75},{"$f":"IF(B10>0,((C10)-(C10*B13/100))*(B12/100)/C3,0)","v":58.064516129032256},{"$f":"Completo_Esforço_CPFL_Rge!F12","v":"1 CA 1/0 AWG Vão 35m RGE"},{"$f":"VLOOKUP(E10,Geral,2,0)","v":119},{"$f":"IF(E10>0,((F10)-(F10*E13/100))*(E12/100)/F3,0)","v":92.129032258064512},{"$f":"Completo_Esforço_CPFL_Rge!H12","v":0},{"$f":"VLOOKUP(H10,Geral,2,0)","v":{"$error":"#N/A"}},{"$f":"IF(H10>0,((I10)-(I10*H13/100))*(H12/100)/I3,0)","v":0},{"$f":"Completo_Esforço_CPFL_Rge!J12","v":0},{"$f":"VLOOKUP(K10,Geral,2,0)","v":{"$error":"#N/A"}},{"$f":"IF(K10>0,((L10)-(L10*K13/100))*(K12/100)/L3,0)","v":0},{"$f":"Completo_Esforço_CPFL_Rge!L12","v":"1 CA 1/0 AWG Vão 35m RGE"},{"$f":"VLOOKUP(N10,Geral,2,0)","v":119},{"$f":"IF(N10>0,((O10)-(O10*N13/100))*(N12/100)/O3,0)","v":92.129032258064512},null,"33A"]
["FASE",{"$f":"Completo_Esforço_CPFL_Rge!D11","v":"3 P 50 mm² Vão 35m RGE"},{"$f":"VLOOKUP(B11,Geral,2,0)","v":162},{"$f":"IF(B11>0,((C11)-(C11*B13/100))*(B12/100)/C3,0)","v":125.41935483870968},{"$f":"Completo_Esforço_CPFL_Rge!F11","v":"3 P 70 mm² Vão 35m RGE"},{"$f":"VLOOKUP(E11,Geral,2,0)","v":226},{"$f":"IF(E11>0,((F11)-(F11*E13/100))*(E12/100)/F3,0)","v":174.96774193548387},{"$f":"Completo_Esforço_CPFL_Rge!H11","v":0},{"$f":"VLOOKUP(H11,Geral,2,0)","v":{"$error":"#N/A"}},{"$f":"IF(H11>0,((I11)-(I11*H13/100))*(H12/100)/I3,0)","v":0},{"$f":"Completo_Esforço_CPFL_Rge!J11","v":0},{"$f":"VLOOKUP(K11,Geral,2,0)","v":{"$error":"#N/A"}},{"$f":"IF(K11>0,((L11)-(L11*K13/100))*(K12/100)/L3,0)","v":0},{"$f":"Completo_Esforço_CPFL_Rge!L11","v":"3 P 50 mm² Vão 35m RGE"},{"$f":"VLOOKUP(N11,Geral,2,0)","v":162},{"$f":"IF(N11>0,((O11)-(O11*N13/100))*(N12/100)/O3,0)","v":125.41935483870968},null,"47A"]
["DISTÂNCIA SOLO CM",{"$f":"IF(Completo_Esforço_CPFL_Rge!D14>0,Completo_Esforço_CPFL_Rge!D14,720)","v":720},null,null,{"$f":"IF(Completo_Esforço_CPFL_Rge!F14>0,Completo_Esforço_CPFL_Rge!F14,720)","v":720},null,null,{"$f":"IF(Completo_Esforço_CPFL_Rge!H14>0,Completo_Esforço_CPFL_Rge!H14,720)","v":720},null,null,{"$f":"IF(Completo_Esforço_CPFL_Rge!J14>0,Completo_Esforço_CPFL_Rge!J14,720)","v":720},null,null,{"$f":"IF(Completo_Esforço_CPFL_Rge!L14>0,Completo_Esforço_CPFL_Rge!L14,720)","v":720}]
["RED TENSAO SEC",{"$f":"Completo_Esforço_CPFL_Rge!D13","v":0},null,null,{"$f":"Completo_Esforço_CPFL_Rge!F13","v":0},null,null,{"$f":"Completo_Esforço_CPFL_Rge!H13","v":0},null,null,{"$f":"Completo_Esforço_CPFL_Rge!J13","v":0},null,null,{"$f":"Completo_Esforço_CPFL_Rge!L13","v":0}]
["TELESP",{"$f":"Completo_Esforço_CPFL_Rge!D15","v":0},{"$f":"IF(D2>0,B14,0)","v":0},{"$f":"C14*(B16/100)/(C3-0.2)","v":0},{"$f":"Completo_Esforço_CPFL_Rge!F15","v":0},{"$f":"IF(G2>0,E14,0)","v":0},{"$f":"F14*(E16/100)/(F3-0.2)","v":0},{"$f":"Completo_Esforço_CPFL_Rge!H15","v":0},{"$f":"IF(J2>0,H14,0)","v":0},{"$f":"I14*(H16/100)/(I3-0.2)","v":0},{"$f":"Completo_Esforço_CPFL_Rge!J15","v":100},{"$f":"IF(M2>0,K14,0)","v":100},{"$f":"L14*(K16/100)/(L3-0.2)","v":60.439560439560431},{"$f":"Completo_Esforço_CPFL_Rge!L15","v":0},{"$f":"IF(P2>0,N14,0)","v":0},{"$f":"O14*(N16/100)/(O3-0.2)","v":0},null,"06CU"]
["CABO",{"$f":"Completo_Esforço_CPFL_Rge!D16","v":0},{"$f":"IF(D2>0,B15,0)","v":0},{"$f":"C15*(B16/100)/(C3-0.2)","v":0},{"$f":"Completo_Esforço_CPFL_Rge!F16","v":0},{"$f":"IF(G2>0,E15,0)","v":0},{"$f":"F15*(E16/100)/(F3-0.2)","v":0},{"$f":"Completo_Esforço_CPFL_Rge!H16","v":0},{"$f":"IF(J2>0,H15,0)","v":0},{"$f":"I15*(H16/100)/(I3-0.2)","v":0},{"$f":"Completo_Esforço_CPFL_Rge!J16","v":0},{"$f":"IF(M2>0,K15,0)","v":0},{"$f":"L15*(K16/100)/(L3-0.2)","v":0},{"$f":"Completo_Esforço_CPFL_Rge!L16","v":0},{"$f":"IF(P2>0,N15,0)","v":0},{"$f":"O15*(N16/100)/(O3-0.2)","v":0},null,"02CU"]
["DISTÂNCIA SOLO CM",{"$f":"IF(Completo_Esforço_CPFL_Rge!D17>0,Completo_Esforço_CPFL_Rge!D17,550)","v":550},null,null,{"$f":"IF(Completo_Esforço_CPFL_Rge!F17>0,Completo_Esforço_CPFL_Rge!F17,550)","v":550},{"$f":"IF(Completo_Esforço_CPFL_Rge!F17>0,Completo_Esforço_CPFL_Rge!F17,550)","v":550},null,{"$f":"IF(Completo_Esforço_CPFL_Rge!H17>0,Completo_Esforço_CPFL_Rge!H17,550)","v":550},{"$f":"IF(Completo_Esforço_CPFL_Rge!H17>0,Completo_Esforço_CPFL_Rge!H17,550)","v":550},null,{"$f":"IF(Completo_Esforço_CPFL_Rge!J17>0,Completo_Esforço_CPFL_Rge!J17,550)","v":550},{"$f":"IF(Completo_Esforço_CPFL_Rge!J17>0,Completo_Esforço_CPFL_Rge!J17,550)","v":550},null,{"$f":"IF(Completo_Esforço_CPFL_Rge!L17>0,Completo_Esforço_CPFL_Rge!L17,550)","v":550},{"$f":"IF(Completo_Esforço_CPFL_Rge!L17>0,Completo_Esforço_CPFL_Rge!L17,550)","v":550}]
["SEMI TOTAL",null,{"$f":"D17","v":556.48387096774195},{"$f":"IF(D2>0,SUM(D5:D15),0)","v":556.48387096774195},null,{"$f":"G17","v":267.09677419354841},{"$f":"IF(G2>0,SUM(G5:G15),0)","v":267.09677419354841},null,{"$f":"J17","v":632},{"$f":"IF(J2>0,SUM(J5:J15),0)","v":632},null,{"$f":"M17","v":60.439560439560431},{"$f":"IF(M2>0,SUM(M5:M15),0)","v":60.439560439560431},null,{"$f":"P17","v":217.54838709677421},{"$f":"IF(P2>0,SUM(P5:P15),0)","v":217.54838709677421},null,"10CU"]
["COSENO",{"$f":"SUM(D18:P18)","v":-696.17834317378049},null,{"$f":"COS(C4)*D17","v":-556.48387096774195},null,null,{"$f":"COS(F4)*G17","v":91.352476991501277},null,null,{"$f":"COS(I4)*J17","v":-484.14008805119431},null,null,{"$f":"COS(L4)*M17","v":38.84980058545019},null,null,{"$f":"COS(O4)*P17","v":214.24333826820427},null,"20CU"]
["SENO",{"$f":"SUM(D19:P19)","v":239.32917196950882},null,{"$f":"SIN(C4)*D17","v":6.8177535469769687E-14},null,null,{"$f":"SIN(F4)*G17","v":-250.98886774539747},null,null,{"$f":"SIN(I4)*J17","v":406.24176932189266},null,null,{"$f":"SIN(L4)*M17","v":46.299389419278874},null,null,{"$f":"SIN(O4)*P17","v":37.776880973734691},null,"40CU"]
["TOTAL",{"$f":"SQRT((B18*B18)+(B19*B19))","v":736.16760188139278},null,null,null,null,null,null,null,null,null,null,null,null,null,null,null,"04S",null,null,null,null,"ESFORÇO"]
["ÂNGULO",null,null,null,null,null,null,null,null,null,null,null,null,null,null,null,null,"02S"]
[null,null,null,null,null,null,null,null,null,null,null,null,null,null,null,null,null,"10S",null,null,null,{"$f":"V31","v":"ESFORÇO 1"},{"$f":"AA31","v":556.48387096774195}]
["OBSERVAÇÃO: ENTRAR COM DADOS SOMENTE NO CAMPO AMARELO",null,null,null,null,null,null,null,null,null,null,null,null,null,null,null,null,"40S",null,null,null,{"$f":"V33","v":"ESFORÇO 2"},{"$f":"AA33","v":267.09677419354841}]
["MAB",{"$f":"NOW()","v":44763.201647685186},null,null,null,null,null,null,null,null,null,null,null,null,null,null,null,"33S",null,null,null,{"$f":"V35","v":"ESFORÇO 3"},{"$f":"AA35","v":632}]
[null,null,null,null,null,null,null,null,null,null,null,null,null,null,null,null,null,"47S",null,null,null,{"$f":"V37","v":"ESFORÇO 4"},{"$f":"AA37","v":60.439560439560438}]
[null,null,null,null,null,null,null,null,null,null,null,null,null,null,null,null,"ESFORÇO 1","70A",null,null,null,{"$f":"V39","v":"ESFORÇO 5"},{"$f":"AA39","v":217.54838709677421}]
[null,null,null,{"$f":"IF(B11>0,C11-(C11*B13/100),0)","v":162},null,null,null,null,null,null,null,null,null,null,null,null,"ESFORÇO 2","120A",null,null,null,{"$f":"V41","v":"TOTAL"},{"$f":"AA41","v":736.16760188139278}]
[null,null,null,{"$f":"D27*7.2/C3","v":125.41935483870968},null,null,null,null,null,null,null,null,null,null,null,null,"ESFORÇO 3","185A"]
[null,null,null,null,null,null,null,null,null,null,null,null,null,null,null,null,"ESFORÇO 4",0]
[null,null,null,null,null,null,null,null,null,null,null,null,null,null,null,null,"ESFORÇO 5",null,null,null,null,null,null,null,"X","Y"]
[null,null,null,null,null,null,null,null,null,null,null,null,null,null,null,null,"TOTAL",null,null,null,null,"ESFORÇO 1",null,null,{"$f":"D18","v":-556.48387096774195},{"$f":"D19","v":6.8177535469769687E-14},{"$f":"SQRT((Y31*Y31)+(Z31*Z31))","v":556.48387096774195},0]
[null,null,null,125,100,null,null,null,null,null,null,null,null,null,null,null,"ZERO",null,null,null,null,null,null,null,0,0]
[null,null,null,{"$f":"D32*E33/E32","v":12.5},10,null,null,null,null,null,null,null,null,null,null,null,null,null,null,null,null,"ESFORÇO 2",null,null,{"$f":"G18","v":91.352476991501277},{"$f":"G19","v":-250.98886774539747},{"$f":"SQRT((Y33*Y33)+(Z33*Z33))","v":267.09677419354841},0]
[null,null,null,{"$f":"D32-D33","v":112.5},null,null,null,null,null,null,null,null,null,null,null,null,null,null,null,null,null,null,null,null,0,0]
[null,null,null,{"$f":"D34*B12/100*C3","v":7533.0000000000009},null,null,null,null,null,null,null,null,null,null,null,null,null,null,null,null,null,"ESFORÇO 3",null,null,{"$f":"J18","v":-484.14008805119431},{"$f":"J19","v":406.24176932189266},{"$f":"SQRT((Y35*Y35)+(Z35*Z35))","v":632},0]
[null,null,null,null,null,null,null,null,null,null,null,null,null,null,null,null,null,null,null,null,null,null,null,null,0,0]
[null,null,null,null,null,null,null,null,null,null,null,null,null,null,null,null,null,null,null,null,null,"ESFORÇO 4",null,null,{"$f":"M18","v":38.84980058545019},{"$f":"M19","v":46.299389419278874},{"$f":"SQRT((Y37*Y37)+(Z37*Z37))","v":60.439560439560438},0]
[null,null,null,null,null,null,null,null,null,null,null,null,null,null,40,null,null,null,null,null,null,null,null,null,0,0]
[null,null,null,null,null,null,null,null,null,null,null,null,null,50,50,null,null,null,null,null,null,"ESFORÇO 5",null,null,{"$f":"P18","v":214.24333826820427},{"$f":"P19","v":37.776880973734691},{"$f":"SQRT((Y39*Y39)+(Z39*Z39))","v":217.54838709677421},0]
[null,null,null,null,null,null,null,null,null,null,null,null,null,0,0,null,null,null,null,null,null,null,null,null,0,0]
[null,null,null,null,null,null,null,null,null,null,null,null,null,null,null,null,null,null,null,null,null,"TOTAL",null,null,{"$f":"B18","v":-696.17834317378049},{"$f":"B19","v":239.32917196950882},{"$f":"SQRT((Y41*Y41)+(Z41*Z41))","v":736.16760188139278},0]
[null,null,null,null,null,null,null,null,null,null,null,null,null,null,null,null,null,null,null,null,null,null,null,null,0,0]
[]
[null,null,null,null,null,null,null,null,null,null,null,null,null,null,null,null,null,null,null,null,null,"ZERO",null,null,0,0,{"$f":"SQRT((Y44*Y44)+(Z44*Z44))","v":0}]
[]
[]
[]
[]
[]
[]
[]
[]
[]
[]
[null,null,{"$f":"P20","v":0},{"$f":"P21","v":0}]

{"sheet":"Folha2","index":21,"n_rows":22,"n_cols":5,"rows_kept":22,"cut":false,"hidden":true,"merged":[]}
["SECUNDÁRIA","URBANO POR FASE","RURAL POR FASE","URBANO 3 FASES","RURAL 3 FASES"]
["A02",95,95,285,285]
["A10",125,125,375,375]
["A20",135,135,485,485]
["A40",183,183,550,550]
["A33",258,258,780,780]
["A47",348,348,1050,1050]
["CU06",56,56,170,170]
["CU02",141,141,423,423]
["CU10",208,208,624,624]
["CU20",257,257,770,770]
["CU40",396,396,1190,1190]
["S04",220,220]
["S02",350,350]
["S10",550,550]
["S40",1082,1082]
["S33",null,1900]
["S47",null,2600]
["P35",null,null,135,135]
["P50",null,null,160,160]
["P70",null,null,240,240]
["P120",null,null,366,366]

{"sheet":"Folha3","index":22,"n_rows":5,"n_cols":2,"rows_kept":5,"cut":false,"hidden":true,"merged":[]}
[]
[]
[]
["URBANO","URBANO"]
["RURAL","RURAL"]

{"sheet":"Folha4","index":23,"n_rows":20,"n_cols":7,"rows_kept":20,"cut":false,"hidden":true,"merged":[]}
["PRIMÁRIA","URBANO POR FASE","RURAL POR FASE","URBANO 3 FASES","RURAL 3 FASES"]
["A02",95,204,285,615,9.1999999999999998E-2,138]
["A10",125,325,375,975,0.14799999999999999,184]
["A20",135,null,485,null,0.185,234]
["A40",183,600,550,1800,0.29299999999999998,293]
["A33",258,900,780,2700,0.46800000000000003,395]
["A47",348,1262,1050,3790,0.66400000000000003,485]
["CU06",56,null,170,null,0.11799999999999999,97]
["CU02",141,null,423,null,0.30399999999999999,188]
["CU10",208,null,624]
["CU20",257,null,770,null,0.61099999999999999,281]
["CU40",396,null,1190]
["S04",null,220,660,660,8.5000000000000006E-2,114]
["S02",null,350,1050,1050,0.13500000000000001,152]
["S10",null,550,1650,1650,0.216,200]
["S40",null,1082,3246,3246,0.432,308]
["S33",null,1900,5700,5700,0.68799999999999994,410]
["S47",null,2600,7800,7800,0.97499999999999998,485]
["E70",null,null,386,null,null,266]
["E185",null,null,652,null,null,510]